Workbook
Name _ftn1: '1. NOTE PRESENTATION'!#REF!
Name _ftnref1: '1. NOTE PRESENTATION'!#REF!
Name Nature_contrôle: [1]Listes!$C$2:$C$5

Sheet NOTICE

Sheet 1. NOTE PRESENTATION
A1: Note de présentation du projet en vue de la création, de la modification ou du renouvellement d’une formation d’établissement diplômante
A3: Intitulé de la formation : Préparation à l'agrégation externe de lettres classiques
A4: Objet du projet de formation : | B4: Renouvellement
A5: Composante : | B5: EUR CREATES
A6: Secteur disciplinaire : | B6: 18 - LANGUES ET LITTÉRATURES ANCIENNES
A7: Responsable de la formation (Nom Prénom) : LAFOND MURIEL
A8: Fonction : enseignante-chercheuse Grade : MCF
A9: Téléphone : 06 70 67 70 38 Mail : muriel.lafond@univ-cotedazur.fr
A10: Etude du marché / Opportunité économique et/ou pédagogique de l’action de formation (Contexte et enjeux de la formation, besoin et identification de la demande du marché, ancrage territorial, offres concurrentes…)² en 3 lignes maximum : Offrir la possibilité aux étudiantes et étudiants d'UniCA ayant validé le master et ne pouvant donc redoubler de repasser l'agrégation externe de lettres classiques + proposer une solide préparation à ce concours à des extérieurs.
A11: Public visé : titulaires d'un master, extérieurs ou non à UniCA
A12: Cycle du diplôme | B12: Autre (précisez)
A13: Niveau d'entrée minimal (bac, bac+1, bac+2 …) : | B13: Bac+5
A14: Niveau estimé de sortie bac, bac+1, bac+2 ...) :
A15: Prérequis :
A16: Objectif pédagogique exprimé en compétences/métiers : obtention du concours de l'agrégation externe de lettres classiques
A17: Modalités pédagogiques (Synchrone/asychrone) | B17: Synchrone
A18: Modalités pédagogiques (Présentiel/Distanciel/Hybride) | B18: Présentiel
A19: Aspect formation continue² :
A20: *- Souhait d’ouvrir la formation à la formation continue :
A21: *- Souhait d’enregistrer la formation au RNCP ou RSCH :
A22: Logistique (lieu de la formation, capacité salle, spécificités salles) : campus Carlone. Cours entièrement mutualisés avec le master"Recherche, création, agrégation. Lettres classiques et modernes".
A23: Langue(s) d’enseignement : français
A24: Nombre visé de participants par session : 15
A25: Nombre de sessions par an et périodes de l’année :
A26: Durée de la formation
A27: Rythme de la formation (journée, soir, samedi, alternance, séquences de cours groupés, cours du soir, séance de regroupement…) : journée
A28: Stage
A29: Durée du stage :
A30: Partenariat public ou privé financier :
... A41: *Ne pas écrire dans les lignes colorées en gris - sélectionner une valeur dans le menu déroulant au bout de la ligne*

Sheet 2.DESCRIPTION FORMATION
A1: 2. DESCRIPTION DE LA FORMATION
A2: 2.1. Objectifs de la formation/compétences attendues
A3: Indiquez : - les objectifs spécifiques de la formation - les connaissances et compétences attendues des étudiants à l’issue de la formation (sous forme d’une fiche RNCP pour les formations souhaitant bénéficier des fonds de la formation professionnelle et continue).
A4: L'objectif de cette préparation est de permettre aux candidates et candidats à l'agrégation externe de lettres classiques de bénéficier de cours de qualité pour l'entraînement à la version latine ou grecque, la remédiation en langue latine ou grecque et l'étude des auteurs au programme, latins ou grecs.
A17: 2.2. Organisation pédagogique
A18: • Commentaires explicitant la cohérence des contenus, l’articulation des unités d’enseignements et le choix de l’équipe pédagogique au regard des objectifs. • La maquette des enseignements ainsi que la liste des intervenants seront fournis dans le feuillet 5 "Maquette" et le feuillet 3
A19: Les épreuves de l'agrégation externe de lettres classiques sont au nombre de cinq pour les épreuves écrites d'admissibilité (une dissertation française, une version latine, une version grecque, un thème latin et un thème grec ) et de cinq pour les épreuves orales d'admission (une leçon sur les oeuvres au programme de littérature française et littérature ancienne ; une explication sur l'une des oeuvres au programme de littérature française suivi d'un exposé de grammaire ; une explication d'un texte ancien ou médiéval, une explication d'un texte de littérature latine, une explication d'un texte de littérature grecque). La préparation à l'agrégation externe de lettres classiques offrira les cours nécessaires pour la préparation à l'ensemble de ces épreuves,tous mutualisés et portés par le master "Recherche, création, agrégation. Lettres classiques et modernes". Ils sont pris en charge pour les enseignants et enseignantes titulaires de lettres classiques.
A32: 2.3. Positionnement dans la stratégie de la composante et de l'établissement
A33: • Le positionnement et la valeur ajoutée de la formation au sein de la composante et de l'établissement
A34: Cette préparation à l'agrégation s'inscrit pleinement dans la politique de l'université qui a vocation à préparer les concours de l'enseignement.
A47: 2.4. Public visé et effectifs attendus
A48: Indiquez le public visé, les effectifs attendus pour chacun de ces publics et si nécessaire la mise en place de tarifs préférentiels
... A63: • Préciser si des subventions ou conventions sont prévues pour ce diplôme
B64: Financeur | C64: Montant (en €) | D64: Elements de preuves (joints au dossier) + état d'avancement
A65: Subvention / convention 1
A66: Subvention / convention 2
A67: Subvention / convention 3
A68: Subvention / convention 4
A69: Subvention / convention 5
A70: Total | C70: =SUM(C65:C69) -> 0

Sheet 3. ETUDE MARCHE PRIX
A1: 3. ETUDE DE MARCHE ET DU PRIX
A2: A renseigner par le porteur de projet (onglet vérifié par la Direction de la Formation continue)
A3: 3.1. Qualification du besoin du marché visé :
A4: Indiquez :
A5: Cette préparation externe de lettres classiques s'adresse aux étudiantes et étudiants qui ont échoué au concours de l'agrégation, mais ont ovtenu le master, ce qui en leur permet pas de redoubler. La préparation est également ouverte aux personnes extérieures à UniCA titulaires d'un master et souhaitant préparer le concours.
A18: 3.2. Analyse concurrentielle portant sur l'étude des caractéristiques d'actions de formation analogues réalisées par des offreurs concurrents privés et publics
A19: (La zone géographique visée : France ou international) sur la base d'étude des offres sur internet et sur le site du CPF, et leur comparaison)
A20: La préparation externe de lettres classiques est proposée de façon très variable sur le territoire français. Elle répond à un besoin dans la région, car les candidates et candidats ne peuvent que se tourner vers l'enseignement à distance dispensé par le CNED et quelques universités comme Paris-Nanterre, par exemple.
A33: 3.3. Analyse concurrentielle des prix de vente et proposition de positionnement
A35: Formation | C35: Etablissement | E35: Privé/public | G35: Nb d'heures de la formation | I35: Prix de la formation | K35: Coût horaire | M35: Présentiel /à distance | O35: Répartition TP/ CM | Q35: Financement CPF | S35: Financement DPC (médical) | T35: Financement FIFPL (médical) | U35: Autre infos
A46: Commentaires de la Direction Formation continue :

Sheet 4. EQUIPE PEDAGOGIQUE
A1: 4. EQUIPE PEDAGOGIQUE
A2: ENSEIGNANTS (y compris d’autres établissements d’enseignement supérieur) | G2: INTERVENANTS PROFESSIONNELS (vacations)
A3: Nom Prénom | B3: Statut | C3: Établissement de rattachement | D3: Coordonnées (y compris courriel) | E3: Volume horaire assuré | G3: Nom Prénom | H3: Profession | I3: Organisme de rattachement | J3: Coordonnées (y compris courriel) | K3: Volume horaire assuré | L3: Apports au regard des objectifs de la formation
A4: Bertrand Nicolas | B4: E/C | C4: UniCA | D4: nicolas.bertrand@univ-cotedazur.fr | E4: variable selon les années et le programme
A5: Garre Matilde | B5: E/C | C5: UniCA | D5: matilde.garre@univ-cotedazur.fr
A6: Lafond Muriel | B6: E/C | C6: UniCA | D6: muriel.lafond@univ-cotedazur.fr
A7: Olivi Marie-Catherine | B7: E | C7: UniCA | D7: marie.catherine.olivi@univ-cotedazur.fr
A8: Scafoglio Giampiero | B8: E/C | C8: UniCA | D8: giampiero.scafoglio@univ-cotedazur.fr
A9: Zucker Arnaud | B9: E/C | C9: UniCA | D9: arnaud.zucker@univ-cotedazur.fr

Sheet 5. SELECTION
A1: 5. SELECTION
A2: Date d'ouverture de la campagne : | B2: mai
A3: Date de fermeture de la campagne : | B3: septembre
A4: Date prévsionnelle de la commission de sélection : | B4: au fil de l'eau
A5: Capacité d'accueil : | B5: 15
A6: PIECES CONSTITUTIVES DU DOSSIER | C6: CRITERES D'APPRECIATION
A7: Relevé de notes du baccalauréat : | B7: Oui | C7: Matières examinées :
A8: Relevé de notes des études supérieures : | B8: Non | C8: Matières examinées :
A9: Lettre de motivation et descriptif du projet professionnel : | B9: Non | C9: Cohérence entre le diplôme envisagé et le descriptif du projet professionnel. Qualité rédactionnelle (orthographe, défaut de structure ou de syntaxe). Cohérence de la réflexion (développement de l’argumentaire).
A10: Curriculum Vitae détaillé : | B10: Non | C10: Elément de synthèse permettant de découvrir les compétences utiles acquises dans le cadre d’expériences précédentes et de cerner des éléments de personnalité du candidat.
A11: Lettres de recommandation : | B11: Non | C11: Facultatif | D11: Ne rentre pas dans les critères de sélection mais permet d’apporter un soutien à la candidature.
A12: Niveau de langue en français pour les candidats titulaires d'un diplôme étranger : | B12: Non | C12: Facultatif | D12: Niveau CECRL attendu :
A13: Niveau de langue en anglais : | B13: Non | C13: Facultatif | D13: Niveau CECRL attendu :
A14: Productions personnelles (dossier, bibliographie, mémoire, etc.) | B14: Non | C14: Facultatif | D14: Elément permettant d’évaluer la pertinence des travaux effectués au regard du diplôme souhaité.
A15: Justificatifs d'expérience professionnelle : | B15: Non | C15: Facultatif | D15: Elément permettant d’apprécier l’adaptation du profil aux exigences du diplôme souhaité.
A16: Document attestant d'une compétence complémentaire : | B16: Non | C16: Facultatif | D16: Préciser les critères :
A17: Autre document (précisez): | B17: Non | C17: Facultatif | D17: Préciser les critères :
A18: Entretien Oral : | B18: Non | C18: L’entretien oral fait suite à une phase de présélection sur dossier. Il permet d’apprécier les qualités du candidat sur leur savoir être, l'expression, la clarté et la cohérence d'un raisonnement, le degré de motivation du candidat et la pertinence des réponses supposant une préparation à cet entretien.

Sheet 6. MAQUETTE
A1: 6.MAQUETTE
A2: Semestre 1/ou annualisé
A3: UE DISCIPLINAIRES | B3: Nombre à choisir par l'étudiant :
A4: Nature ELP | B4: Libellé ELP (précisez si obligatoire) | C4: ECTS | D4: Code APOGEE (ELP) | E4: Formation Porteuse | F4: Code CNU | G4: Nombre d'heures CM | H4: Nombre d'heures TD | I4: Nombre d'heures TP (+ projets tutorés et suivi de stages) | J4: Mutualisées ou non mutualisées | K4: En présentiel, En distanciel, Délocalisé | L4: Total Heures UE en HETD | M4: Heures à valoriser | N4: Valorisation coût indirect | O4: Valorisation coût indirect que TP/TD
A5: Unité d'enseignement | B5: Préparation à l'agrégation externe de Lettres Classiques | D5: nouveau | L5: =G5*1.5+H5+I5*2/3 -> 0 | M5: =IF(K5="Délocalisé prof autre univ",0,IF(J5="Mutualisée",0,L5)) -> 0 | N5: =IF(K5="en présentiel",M5*133,IF(K5="En distanciel",M5*56,IF(K5="Délocalisé prof UniCA",M5*56,IF(K5="Délocalisée prof autre univ",0,0)))) -> 0 | O5: =IF(J5="Non mutualisée",IF(K5="en présentiel",(H5+I5*2/3)*133,IF(K5="En distanciel",(H5+I5*2/3)*56,IF(K5="Délocalisé prof UniCA",(H5+I5*2/3)*56,IF(K5="Délocalisée prof autre univ",0,0)))),0) -> 0
A6: Elément constitutif d'une UE | B6: Littérature française 1 (cours XVIe-XVIIe s) | D6: HMELML1 | E6: master lettres classiques et modernes | F6: 9 | G6: 47 | H6: 21 | J6: Mutualisée | K6: En présentiel | L6: =G6*1.5+H6+I6*2/3 -> 91.5 | M6: =IF(K6="Délocalisé prof autre univ",0,IF(J6="Mutualisée",0,L6)) -> 0 | N6: =IF(K6="en présentiel",M6*133,IF(K6="En distanciel",M6*56,IF(K6="Délocalisé prof UniCA",M6*56,IF(K6="Délocalisée prof autre univ",0,0)))) -> 0 | O6: =IF(J6="Non mutualisée",IF(K6="en présentiel",(H6+I6*2/3)*133,IF(K6="En distanciel",(H6+I6*2/3)*56,IF(K6="Délocalisé prof UniCA",(H6+I6*2/3)*56,IF(K6="Délocalisée prof autre univ",0,0)))),0) -> 0
A7: Elément constitutif d'une UE | B7: Aspects de la langue 1 (cours littérature Moyen âge) | D7: HMELMF1 | E7: master lettres classiques et modernes | F7: 9 | G7: 24 | H7: 12 | J7: Mutualisée | K7: En présentiel | L7: =G7*1.5+H7+I7*2/3 -> 48 | M7: =IF(K7="Délocalisé prof autre univ",0,IF(J7="Mutualisée",0,L7)) -> 0 | N7: =IF(K7="en présentiel",M7*133,IF(K7="En distanciel",M7*56,IF(K7="Délocalisé prof UniCA",M7*56,IF(K7="Délocalisée prof autre univ",0,0)))) -> 0 | O7: =IF(J7="Non mutualisée",IF(K7="en présentiel",(H7+I7*2/3)*133,IF(K7="En distanciel",(H7+I7*2/3)*56,IF(K7="Délocalisé prof UniCA",(H7+I7*2/3)*56,IF(K7="Délocalisée prof autre univ",0,0)))),0) -> 0
A8: Elément constitutif d'une UE | B8: Littérature française 2 (cours XVIIIe-XIXe s) | D8: HMELML3 | E8: master lettres classiques et modernes | F8: 9 | G8: 40 | H8: 26 | J8: Mutualisée | K8: En présentiel | L8: =G8*1.5+H8+I8*2/3 -> 86 | M8: =IF(K8="Délocalisé prof autre univ",0,IF(J8="Mutualisée",0,L8)) -> 0 | N8: =IF(K8="en présentiel",M8*133,IF(K8="En distanciel",M8*56,IF(K8="Délocalisé prof UniCA",M8*56,IF(K8="Délocalisée prof autre univ",0,0)))) -> 0 | O8: =IF(J8="Non mutualisée",IF(K8="en présentiel",(H8+I8*2/3)*133,IF(K8="En distanciel",(H8+I8*2/3)*56,IF(K8="Délocalisé prof UniCA",(H8+I8*2/3)*56,IF(K8="Délocalisée prof autre univ",0,0)))),0) -> 0
A9: Elément constitutif d'une UE | B9: Problématiques littéraires 2 (cours ancien auteur latin 1 et 2 + thème latin) | D9: HMELMP3 | E9: master lettres classiques et modernes | F9: 8 | H9: 30 | J9: Mutualisée | K9: En présentiel | L9: =G9*1.5+H9+I9*2/3 -> 30 | M9: =IF(K9="Délocalisé prof autre univ",0,IF(J9="Mutualisée",0,L9)) -> 0 | N9: =IF(K9="en présentiel",M9*133,IF(K9="En distanciel",M9*56,IF(K9="Délocalisé prof UniCA",M9*56,IF(K9="Délocalisée prof autre univ",0,0)))) -> 0 | O9: =IF(K9="en présentiel",(H9+I9*2/3)*133,IF(K9="En distanciel",(H9+I9*2/3)*56,IF(K9="Délocalisé prof UniCA",(H9+I9*2/3)*56,IF(K9="Délocalisée prof autre univ",0,0)))) -> 3990
A10: Elément constitutif d'une UE | B10: Formes et représentations littéraires 1 (cours nouvel auteur latin grec 1 et 2 + cours improvisé latin et grec) | D10: HMELMR1 | E10: master lettres classiques et modernes | F10: 8 | G10: 43 | H10: 33 | J10: Mutualisée | K10: En présentiel | L10: =G10*1.5+H10+I10*2/3 -> 97.5 | M10: =IF(K10="Délocalisé prof autre univ",0,IF(J10="Mutualisée",0,L10)) -> 0 | N10: =IF(K10="en présentiel",M10*133,IF(K10="En distanciel",M10*56,IF(K10="Délocalisé prof UniCA",M10*56,IF(K10="Délocalisée prof autre univ",0,0)))) -> 0 | O10: =IF(K10="en présentiel",(H10+I10*2/3)*133,IF(K10="En distanciel",(H10+I10*2/3)*56,IF(K10="Délocalisé prof UniCA",(H10+I10*2/3)*56,IF(K10="Délocalisée prof autre univ",0,0)))) -> 4389
A11: Elément constitutif d'une UE | B11: Aspects de la langue 2 (thème grec + ancien auteur grec 1 et 2) | D11: HMELADS3 | E11: master lettres classiques et modernes | F11: 9 | G11: 30 | J11: Mutualisée | K11: En présentiel | L11: =G11*1.5+H11+I11*2/3 -> 45 | M11: =IF(K11="Délocalisé prof autre univ",0,IF(J11="Mutualisée",0,L11)) -> 0 | N11: =IF(K11="en présentiel",M11*133,IF(K11="En distanciel",M11*56,IF(K11="Délocalisé prof UniCA",M11*56,IF(K11="Délocalisée prof autre univ",0,0)))) -> 0 | O11: =IF(K11="en présentiel",(H11+I11*2/3)*133,IF(K11="En distanciel",(H11+I11*2/3)*56,IF(K11="Délocalisé prof UniCA",(H11+I11*2/3)*56,IF(K11="Délocalisée prof autre univ",0,0)))) -> 0
A12: Elément constitutif d'une UE | B12: Langue et écriture 1 (version latine et langue latine) | D12: HMELME1 | E12: master lettres classiques et modernes | F12: 8 | H12: 30 | J12: Mutualisée | K12: En présentiel | L12: =G12*1.5+H12+I12*2/3 -> 30 | M12: =IF(K12="Délocalisé prof autre univ",0,IF(J12="Mutualisée",0,L12)) -> 0 | N12: =IF(K12="en présentiel",M12*133,IF(K12="En distanciel",M12*56,IF(K12="Délocalisé prof UniCA",M12*56,IF(K12="Délocalisée prof autre univ",0,0)))) -> 0 | O12: =IF(K12="en présentiel",(H12+I12*2/3)*133,IF(K12="En distanciel",(H12+I12*2/3)*56,IF(K12="Délocalisé prof UniCA",(H12+I12*2/3)*56,IF(K12="Délocalisée prof autre univ",0,0)))) -> 3990
A13: Elément constitutif d'une UE | B13: Langue et écriture 2 (cours version grecque et langue grecque) | D13: HMELME3 | E13: master lettres classiques et modernes | F13: 8 | H13: 30 | J13: Mutualisée | K13: En présentiel | L13: =G13*1.5+H13+I13*2/3 -> 30 | M13: =IF(K13="Délocalisé prof autre univ",0,IF(J13="Mutualisée",0,L13)) -> 0 | N13: =IF(K13="en présentiel",M13*133,IF(K13="En distanciel",M13*56,IF(K13="Délocalisé prof UniCA",M13*56,IF(K13="Délocalisée prof autre univ",0,0)))) -> 0 | O13: =IF(K13="en présentiel",(H13+I13*2/3)*133,IF(K13="En distanciel",(H13+I13*2/3)*56,IF(K13="Délocalisé prof UniCA",(H13+I13*2/3)*56,IF(K13="Délocalisée prof autre univ",0,0)))) -> 3990
A14: Elément constitutif d'une UE | B14: Littératures et civilisation (littérature XXe s) | D14: HMULML4 | E14: master lettres classiques et modernes | F14: 9 | G14: 24 | H14: 12 | J14: Mutualisée | K14: En présentiel | L14: =G14*1.5+H14+I14*2/3 -> 48 | M14: =IF(K14="Délocalisé prof autre univ",0,IF(J14="Mutualisée",0,L14)) -> 0 | N14: =IF(K14="en présentiel",M14*133,IF(K14="En distanciel",M14*56,IF(K14="Délocalisé prof UniCA",M14*56,IF(K14="Délocalisée prof autre univ",0,0)))) -> 0 | O14: =IF(K14="en présentiel",(H14+I14*2/3)*133,IF(K14="En distanciel",(H14+I14*2/3)*56,IF(K14="Délocalisé prof UniCA",(H14+I14*2/3)*56,IF(K14="Délocalisée prof autre univ",0,0)))) -> 1596
L15: =G15*1.5+H15+I15*2/3 -> 0 | M15: =IF(K15="Délocalisé prof autre univ",0,IF(J15="Mutualisée",0,L15)) -> 0 | N15: =IF(K15="en présentiel",M15*133,IF(K15="En distanciel",M15*56,IF(K15="Délocalisé prof UniCA",M15*56,IF(K15="Délocalisée prof autre univ",0,0)))) -> 0 | O15: =IF(K15="en présentiel",(H15+I15*2/3)*133,IF(K15="En distanciel",(H15+I15*2/3)*56,IF(K15="Délocalisé prof UniCA",(H15+I15*2/3)*56,IF(K15="Délocalisée prof autre univ",0,0)))) -> 0
L16: =G16*1.5+H16+I16*2/3 -> 0 | M16: =IF(K16="Délocalisé prof autre univ",0,IF(J16="Mutualisée",0,L16)) -> 0 | N16: =IF(K16="en présentiel",M16*133,IF(K16="En distanciel",M16*56,IF(K16="Délocalisé prof UniCA",M16*56,IF(K16="Délocalisée prof autre univ",0,0)))) -> 0 | O16: =IF(K16="en présentiel",(H16+I16*2/3)*133,IF(K16="En distanciel",(H16+I16*2/3)*56,IF(K16="Délocalisé prof UniCA",(H16+I16*2/3)*56,IF(K16="Délocalisée prof autre univ",0,0)))) -> 0
L17: =G17*1.5+H17+I17*2/3 -> 0 | M17: =IF(K17="Délocalisé prof autre univ",0,IF(J17="Mutualisée",0,L17)) -> 0 | N17: =IF(K17="en présentiel",M17*133,IF(K17="En distanciel",M17*56,IF(K17="Délocalisé prof UniCA",M17*56,IF(K17="Délocalisée prof autre univ",0,0)))) -> 0 | O17: =IF(K17="en présentiel",(H17+I17*2/3)*133,IF(K17="En distanciel",(H17+I17*2/3)*56,IF(K17="Délocalisé prof UniCA",(H17+I17*2/3)*56,IF(K17="Délocalisée prof autre univ",0,0)))) -> 0
L18: =G18*1.5+H18+I18*2/3 -> 0 | M18: =IF(K18="Délocalisé prof autre univ",0,IF(J18="Mutualisée",0,L18)) -> 0 | N18: =IF(K18="en présentiel",M18*133,IF(K18="En distanciel",M18*56,IF(K18="Délocalisé prof UniCA",M18*56,IF(K18="Délocalisée prof autre univ",0,0)))) -> 0 | O18: =IF(K18="en présentiel",(H18+I18*2/3)*133,IF(K18="En distanciel",(H18+I18*2/3)*56,IF(K18="Délocalisé prof UniCA",(H18+I18*2/3)*56,IF(K18="Délocalisée prof autre univ",0,0)))) -> 0
L19: =G19*1.5+H19+I19*2/3 -> 0 | M19: =IF(K19="Délocalisé prof autre univ",0,IF(J19="Mutualisée",0,L19)) -> 0 | N19: =IF(K19="en présentiel",M19*133,IF(K19="En distanciel",M19*56,IF(K19="Délocalisé prof UniCA",M19*56,IF(K19="Délocalisée prof autre univ",0,0)))) -> 0 | O19: =IF(K19="en présentiel",(H19+I19*2/3)*133,IF(K19="En distanciel",(H19+I19*2/3)*56,IF(K19="Délocalisé prof UniCA",(H19+I19*2/3)*56,IF(K19="Délocalisée prof autre univ",0,0)))) -> 0
L20: =G20*1.5+H20+I20*2/3 -> 0 | M20: =IF(K20="Délocalisé prof autre univ",0,IF(J20="Mutualisée",0,L20)) -> 0 | N20: =IF(K20="en présentiel",M20*133,IF(K20="En distanciel",M20*56,IF(K20="Délocalisé prof UniCA",M20*56,IF(K20="Délocalisée prof autre univ",0,0)))) -> 0 | O20: =IF(K20="en présentiel",(H20+I20*2/3)*133,IF(K20="En distanciel",(H20+I20*2/3)*56,IF(K20="Délocalisé prof UniCA",(H20+I20*2/3)*56,IF(K20="Délocalisée prof autre univ",0,0)))) -> 0
L21: =G21*1.5+H21+I21*2/3 -> 0 | M21: =IF(K21="Délocalisé prof autre univ",0,IF(J21="Mutualisée",0,L21)) -> 0 | N21: =IF(K21="en présentiel",M21*133,IF(K21="En distanciel",M21*56,IF(K21="Délocalisé prof UniCA",M21*56,IF(K21="Délocalisée prof autre univ",0,0)))) -> 0 | O21: =IF(K21="en présentiel",(H21+I21*2/3)*133,IF(K21="En distanciel",(H21+I21*2/3)*56,IF(K21="Délocalisé prof UniCA",(H21+I21*2/3)*56,IF(K21="Délocalisée prof autre univ",0,0)))) -> 0
L22: =G22*1.5+H22+I22*2/3 -> 0 | M22: =IF(K22="Délocalisé prof autre univ",0,IF(J22="Mutualisée",0,L22)) -> 0 | N22: =IF(K22="en présentiel",M22*133,IF(K22="En distanciel",M22*56,IF(K22="Délocalisé prof UniCA",M22*56,IF(K22="Délocalisée prof autre univ",0,0)))) -> 0 | O22: =IF(K22="en présentiel",(H22+I22*2/3)*133,IF(K22="En distanciel",(H22+I22*2/3)*56,IF(K22="Délocalisé prof UniCA",(H22+I22*2/3)*56,IF(K22="Délocalisée prof autre univ",0,0)))) -> 0
L23: =G23*1.5+H23+I23*2/3 -> 0 | M23: =IF(K23="Délocalisé prof autre univ",0,IF(J23="Mutualisée",0,L23)) -> 0 | N23: =IF(K23="en présentiel",M23*133,IF(K23="En distanciel",M23*56,IF(K23="Délocalisé prof UniCA",M23*56,IF(K23="Délocalisée prof autre univ",0,0)))) -> 0 | O23: =IF(K23="en présentiel",(H23+I23*2/3)*133,IF(K23="En distanciel",(H23+I23*2/3)*56,IF(K23="Délocalisé prof UniCA",(H23+I23*2/3)*56,IF(K23="Délocalisée prof autre univ",0,0)))) -> 0
L24: =G24*1.5+H24+I24*2/3 -> 0 | M24: =IF(K24="Délocalisé prof autre univ",0,IF(J24="Mutualisée",0,L24)) -> 0 | N24: =IF(K24="en présentiel",M24*133,IF(K24="En distanciel",M24*56,IF(K24="Délocalisé prof UniCA",M24*56,IF(K24="Délocalisée prof autre univ",0,0)))) -> 0 | O24: =IF(K24="en présentiel",(H24+I24*2/3)*133,IF(K24="En distanciel",(H24+I24*2/3)*56,IF(K24="Délocalisé prof UniCA",(H24+I24*2/3)*56,IF(K24="Délocalisée prof autre univ",0,0)))) -> 0
L25: =G25*1.5+H25+I25*2/3 -> 0 | M25: =IF(K25="Délocalisé prof autre univ",0,IF(J25="Mutualisée",0,L25)) -> 0 | N25: =IF(K25="en présentiel",M25*133,IF(K25="En distanciel",M25*56,IF(K25="Délocalisé prof UniCA",M25*56,IF(K25="Délocalisée prof autre univ",0,0)))) -> 0 | O25: =IF(K25="en présentiel",(H25+I25*2/3)*133,IF(K25="En distanciel",(H25+I25*2/3)*56,IF(K25="Délocalisé prof UniCA",(H25+I25*2/3)*56,IF(K25="Délocalisée prof autre univ",0,0)))) -> 0
L26: =G26*1.5+H26+I26*2/3 -> 0 | M26: =IF(K26="Délocalisé prof autre univ",0,IF(J26="Mutualisée",0,L26)) -> 0 | N26: =IF(K26="en présentiel",M26*133,IF(K26="En distanciel",M26*56,IF(K26="Délocalisé prof UniCA",M26*56,IF(K26="Délocalisée prof autre univ",0,0)))) -> 0 | O26: =IF(K26="en présentiel",(H26+I26*2/3)*133,IF(K26="En distanciel",(H26+I26*2/3)*56,IF(K26="Délocalisé prof UniCA",(H26+I26*2/3)*56,IF(K26="Délocalisée prof autre univ",0,0)))) -> 0
... L34: =G34*1.5+H34+I34*2/3 -> 0 | M34: =IF(K34="Délocalisé prof autre univ",0,IF(J34="Mutualisée",0,L34)) -> 0 | N34: =IF(K34="en présentiel",M34*133,IF(K34="En distanciel",M34*56,IF(K34="Délocalisé prof UniCA",M34*56,IF(K34="Délocalisée prof autre univ",0,0)))) -> 0 | O34: =IF(K34="en présentiel",(H34+I34*2/3)*133,IF(K34="En distanciel",(H34+I34*2/3)*56,IF(K34="Délocalisé prof UniCA",(H34+I34*2/3)*56,IF(K34="Délocalisée prof autre univ",0,0)))) -> 0
D35: total | G35: =SUM(G5:G34) -> 208 | H35: =SUM(H5:H34) -> 194 | I35: =SUM(I5:I34) -> 0 | L35: =SUM(L5:L34) -> 506 | M35: =SUM(M5:M34) -> 0 | N35: =SUM(N5:N34) -> 0 | O35: =SUM(O5:O34) -> 17955
A37: Semestre 2 (le cas échéant)
A38: UE DISCIPLINAIRES | B38: Nombre à choisir par l'étudiant :
A39: Nature ELP | B39: Libellé ELP | C39: ECTS | D39: Code APOGEE (ELP) | E39: Formation Porteuse | F39: Code CNU | G39: Nombre d'heures CM | H39: Nombre d'heures TD | I39: Nombre d'heures TP (+ projets tutorés et suivi de stages) | J39: Mutualisées ou non mutualisées | K39: En présentiel, En distanciel, Délocalisé | L39: Total Heures UE en HETD | M39: Heures à valoriser | N39: Valorisation coût indirect | O39: Valorisation coût indirect que TP/TD
L43: =IF(H43="CM",G43*1.5,IF(H43="TD",G43,IF(H43="Tp",G43*2/3,0))) -> 0 | M43: =IF(K43="Délocalisé prof autre univ",0,IF(J43="Mutualisée",0,L43)) -> 0 | N43: =IF(K43="en présentiel",M43*133,IF(K43="En distanciel",M43*56,IF(K43="Délocalisé prof UniCA",M43*56,IF(K43="Délocalisée prof autre univ",0,0)))) -> 0 | O43: =IF(J43="Non mutualisée",IF(K43="en présentiel",(H43+I43*2/3)*133,IF(K43="En distanciel",(H43+I43*2/3)*56,IF(K43="Délocalisé prof UniCA",(H43+I43*2/3)*56,IF(K43="Délocalisée prof autre univ",0,0)))),0) -> 0
L44: =IF(H44="CM",G44*1.5,IF(H44="TD",G44,IF(H44="Tp",G44*2/3,0))) -> 0 | M44: =IF(K44="Délocalisé prof autre univ",0,IF(J44="Mutualisée",0,L44)) -> 0 | N44: =IF(K44="en présentiel",M44*133,IF(K44="En distanciel",M44*56,IF(K44="Délocalisé prof UniCA",M44*56,IF(K44="Délocalisée prof autre univ",0,0)))) -> 0 | O44: =IF(J44="Non mutualisée",IF(K44="en présentiel",(H44+I44*2/3)*133,IF(K44="En distanciel",(H44+I44*2/3)*56,IF(K44="Délocalisé prof UniCA",(H44+I44*2/3)*56,IF(K44="Délocalisée prof autre univ",0,0)))),0) -> 0
L45: =IF(H45="CM",G45*1.5,IF(H45="TD",G45,IF(H45="Tp",G45*2/3,0))) -> 0 | M45: =IF(K45="Délocalisé prof autre univ",0,IF(J45="Mutualisée",0,L45)) -> 0 | N45: =IF(K45="en présentiel",M45*133,IF(K45="En distanciel",M45*56,IF(K45="Délocalisé prof UniCA",M45*56,IF(K45="Délocalisée prof autre univ",0,0)))) -> 0 | O45: =IF(K45="en présentiel",(H45+I45*2/3)*133,IF(K45="En distanciel",(H45+I45*2/3)*56,IF(K45="Délocalisé prof UniCA",(H45+I45*2/3)*56,IF(K45="Délocalisée prof autre univ",0,0)))) -> 0
L46: =IF(H46="CM",G46*1.5,IF(H46="TD",G46,IF(H46="Tp",G46*2/3,0))) -> 0 | M46: =IF(K46="Délocalisé prof autre univ",0,IF(J46="Mutualisée",0,L46)) -> 0 | N46: =IF(K46="en présentiel",M46*133,IF(K46="En distanciel",M46*56,IF(K46="Délocalisé prof UniCA",M46*56,IF(K46="Délocalisée prof autre univ",0,0)))) -> 0 | O46: =IF(K46="en présentiel",(H46+I46*2/3)*133,IF(K46="En distanciel",(H46+I46*2/3)*56,IF(K46="Délocalisé prof UniCA",(H46+I46*2/3)*56,IF(K46="Délocalisée prof autre univ",0,0)))) -> 0
L47: =IF(H47="CM",G47*1.5,IF(H47="TD",G47,IF(H47="Tp",G47*2/3,0))) -> 0 | M47: =IF(K47="Délocalisé prof autre univ",0,IF(J47="Mutualisée",0,L47)) -> 0 | N47: =IF(K47="en présentiel",M47*133,IF(K47="En distanciel",M47*56,IF(K47="Délocalisé prof UniCA",M47*56,IF(K47="Délocalisée prof autre univ",0,0)))) -> 0 | O47: =IF(K47="en présentiel",(H47+I47*2/3)*133,IF(K47="En distanciel",(H47+I47*2/3)*56,IF(K47="Délocalisé prof UniCA",(H47+I47*2/3)*56,IF(K47="Délocalisée prof autre univ",0,0)))) -> 0
L48: =IF(H48="CM",G48*1.5,IF(H48="TD",G48,IF(H48="Tp",G48*2/3,0))) -> 0 | M48: =IF(K48="Délocalisé prof autre univ",0,IF(J48="Mutualisée",0,L48)) -> 0 | N48: =IF(K48="en présentiel",M48*133,IF(K48="En distanciel",M48*56,IF(K48="Délocalisé prof UniCA",M48*56,IF(K48="Délocalisée prof autre univ",0,0)))) -> 0 | O48: =IF(K48="en présentiel",(H48+I48*2/3)*133,IF(K48="En distanciel",(H48+I48*2/3)*56,IF(K48="Délocalisé prof UniCA",(H48+I48*2/3)*56,IF(K48="Délocalisée prof autre univ",0,0)))) -> 0
L49: =IF(H49="CM",G49*1.5,IF(H49="TD",G49,IF(H49="Tp",G49*2/3,0))) -> 0 | M49: =IF(K49="Délocalisé prof autre univ",0,IF(J49="Mutualisée",0,L49)) -> 0 | N49: =IF(K49="en présentiel",M49*133,IF(K49="En distanciel",M49*56,IF(K49="Délocalisé prof UniCA",M49*56,IF(K49="Délocalisée prof autre univ",0,0)))) -> 0 | O49: =IF(K49="en présentiel",(H49+I49*2/3)*133,IF(K49="En distanciel",(H49+I49*2/3)*56,IF(K49="Délocalisé prof UniCA",(H49+I49*2/3)*56,IF(K49="Délocalisée prof autre univ",0,0)))) -> 0
L50: =IF(H50="CM",G50*1.5,IF(H50="TD",G50,IF(H50="Tp",G50*2/3,0))) -> 0 | M50: =IF(K50="Délocalisé prof autre univ",0,IF(J50="Mutualisée",0,L50)) -> 0 | N50: =IF(K50="en présentiel",M50*133,IF(K50="En distanciel",M50*56,IF(K50="Délocalisé prof UniCA",M50*56,IF(K50="Délocalisée prof autre univ",0,0)))) -> 0 | O50: =IF(K50="en présentiel",(H50+I50*2/3)*133,IF(K50="En distanciel",(H50+I50*2/3)*56,IF(K50="Délocalisé prof UniCA",(H50+I50*2/3)*56,IF(K50="Délocalisée prof autre univ",0,0)))) -> 0
L51: =IF(H51="CM",G51*1.5,IF(H51="TD",G51,IF(H51="Tp",G51*2/3,0))) -> 0 | M51: =IF(K51="Délocalisé prof autre univ",0,IF(J51="Mutualisée",0,L51)) -> 0 | N51: =IF(K51="en présentiel",M51*133,IF(K51="En distanciel",M51*56,IF(K51="Délocalisé prof UniCA",M51*56,IF(K51="Délocalisée prof autre univ",0,0)))) -> 0 | O51: =IF(K51="en présentiel",(H51+I51*2/3)*133,IF(K51="En distanciel",(H51+I51*2/3)*56,IF(K51="Délocalisé prof UniCA",(H51+I51*2/3)*56,IF(K51="Délocalisée prof autre univ",0,0)))) -> 0
...

Sheet MCC
A1: Type de session : | B1: Session unique
A2: COMPENSATION
A3: Les MCC déterminent le mode de compensation entre UE, semestre et année ainsi que la possibilité d'une note éliminatoire.
A4: Obtention des UE
A5: Pas de MCC : il s'agit d'une préparation, il n'y a pas de note
A7: Obtention du Semestre
A8: Pas de MCC : il s'agit d'une préparation, il n'y a pas de note
A10: Obtention de l'Année
A11: Pas de MCC : il s'agit d'une préparation, il n'y a pas de note
A13: Note éliminatoire
A14: Pas de MCC : il s'agit d'une préparation, il n'y a pas de note
A16: REDOUBLEMENT
A17: Autorisé
A19: Semestre 1/ou annualisé
J20: Contrôle Continu | K20: CT pour les dispensés
A21: Nature ELP | B21: Libellé ELP | C21: ECTS | D21: Coeff. des ECUE | E21: Code APOGEE (ELP) | F21: Capitalisable | G21: Compensation | H21: Type Contrôle | I21: Si CC&CT coef du CT | J21: Nombre d'évaluation minimum | K21: Nature | L21: Durée
A22: =IF('[2]6. MAQUETTE'!A5<>"",'[2]6. MAQUETTE'!A5,"") -> Unité d'enseignement | B22: =IF('[2]6. MAQUETTE'!B5<>"",'[2]6. MAQUETTE'!B5,"") -> Littérature française1 | C22: =IF('[2]6. MAQUETTE'!C5<>"",'[2]6. MAQUETTE'!C5,"") | E22: =IF('[2]6. MAQUETTE'!D5<>"",'[2]6. MAQUETTE'!D5,"") -> HMULC101
A23: =IF('[2]6. MAQUETTE'!A6<>"",'[2]6. MAQUETTE'!A6,"") -> Unité d'enseignement | B23: =IF('[2]6. MAQUETTE'!B6<>"",'[2]6. MAQUETTE'!B6,"") -> Version | C23: =IF('[2]6. MAQUETTE'!C6<>"",'[2]6. MAQUETTE'!C6,"") | E23: =IF('[2]6. MAQUETTE'!D6<>"",'[2]6. MAQUETTE'!D6,"") -> HMULC115
A24: =IF('[2]6. MAQUETTE'!A7<>"",'[2]6. MAQUETTE'!A7,"") -> Unité d'enseignement | B24: =IF('[2]6. MAQUETTE'!B7<>"",'[2]6. MAQUETTE'!B7,"") -> Langue française 1 | C24: =IF('[2]6. MAQUETTE'!C7<>"",'[2]6. MAQUETTE'!C7,"") | E24: =IF('[2]6. MAQUETTE'!D7<>"",'[2]6. MAQUETTE'!D7,"") -> HMULC100
A25: =IF('[2]6. MAQUETTE'!A8<>"",'[2]6. MAQUETTE'!A8,"") -> Unité d'enseignement | B25: =IF('[2]6. MAQUETTE'!B8<>"",'[2]6. MAQUETTE'!B8,"") -> LGC 1 | C25: =IF('[2]6. MAQUETTE'!C8<>"",'[2]6. MAQUETTE'!C8,"") | E25: =IF('[2]6. MAQUETTE'!D8<>"",'[2]6. MAQUETTE'!D8,"") -> HMULC111
A26: =IF('[2]6. MAQUETTE'!A9<>"",'[2]6. MAQUETTE'!A9,"") -> Unité d'enseignement | B26: =IF('[2]6. MAQUETTE'!B9<>"",'[2]6. MAQUETTE'!B9,"") -> Littérature française2 | C26: =IF('[2]6. MAQUETTE'!C9<>"",'[2]6. MAQUETTE'!C9,"") | E26: =IF('[2]6. MAQUETTE'!D9<>"",'[2]6. MAQUETTE'!D9,"") -> HMULC102
A27: =IF('[2]6. MAQUETTE'!A10<>"",'[2]6. MAQUETTE'!A10,"") -> Unité d'enseignement | B27: =IF('[2]6. MAQUETTE'!B10<>"",'[2]6. MAQUETTE'!B10,"") -> Langue française 2 | C27: =IF('[2]6. MAQUETTE'!C10<>"",'[2]6. MAQUETTE'!C10,"") | E27: =IF('[2]6. MAQUETTE'!D10<>"",'[2]6. MAQUETTE'!D10,"") -> HMULC300
A28: =IF('[2]6. MAQUETTE'!A11<>"",'[2]6. MAQUETTE'!A11,"") -> Unité d'enseignement | B28: =IF('[2]6. MAQUETTE'!B11<>"",'[2]6. MAQUETTE'!B11,"") -> LGC2 | C28: =IF('[2]6. MAQUETTE'!C11<>"",'[2]6. MAQUETTE'!C11,"") | E28: =IF('[2]6. MAQUETTE'!D11<>"",'[2]6. MAQUETTE'!D11,"") -> HMULC103
A29: =IF('[2]6. MAQUETTE'!A12<>"",'[2]6. MAQUETTE'!A12,"") | B29: =IF('[2]6. MAQUETTE'!B12<>"",'[2]6. MAQUETTE'!B12,"") | C29: =IF('[2]6. MAQUETTE'!C12<>"",'[2]6. MAQUETTE'!C12,"") | E29: =IF('[2]6. MAQUETTE'!D12<>"",'[2]6. MAQUETTE'!D12,"")
A30: =IF('[2]6. MAQUETTE'!A13<>"",'[2]6. MAQUETTE'!A13,"") | B30: =IF('[2]6. MAQUETTE'!B13<>"",'[2]6. MAQUETTE'!B13,"") | C30: =IF('[2]6. MAQUETTE'!C13<>"",'[2]6. MAQUETTE'!C13,"") | E30: =IF('[2]6. MAQUETTE'!D13<>"",'[2]6. MAQUETTE'!D13,"")
A31: =IF('[2]6. MAQUETTE'!A14<>"",'[2]6. MAQUETTE'!A14,"") | B31: =IF('[2]6. MAQUETTE'!B14<>"",'[2]6. MAQUETTE'!B14,"") | C31: =IF('[2]6. MAQUETTE'!C14<>"",'[2]6. MAQUETTE'!C14,"") | E31: =IF('[2]6. MAQUETTE'!D14<>"",'[2]6. MAQUETTE'!D14,"")
A32: =IF('[2]6. MAQUETTE'!A15<>"",'[2]6. MAQUETTE'!A15,"") | B32: =IF('[2]6. MAQUETTE'!B15<>"",'[2]6. MAQUETTE'!B15,"") | C32: =IF('[2]6. MAQUETTE'!C15<>"",'[2]6. MAQUETTE'!C15,"") | E32: =IF('[2]6. MAQUETTE'!D15<>"",'[2]6. MAQUETTE'!D15,"")
A33: =IF('[2]6. MAQUETTE'!A16<>"",'[2]6. MAQUETTE'!A16,"") | B33: =IF('[2]6. MAQUETTE'!B16<>"",'[2]6. MAQUETTE'!B16,"") | C33: =IF('[2]6. MAQUETTE'!C16<>"",'[2]6. MAQUETTE'!C16,"") | E33: =IF('[2]6. MAQUETTE'!D16<>"",'[2]6. MAQUETTE'!D16,"")
... A52: =IF('[2]6. MAQUETTE'!A35<>"",'[2]6. MAQUETTE'!A35,"") | B52: =IF('[2]6. MAQUETTE'!B35<>"",'[2]6. MAQUETTE'!B35,"") | C52: =IF('[2]6. MAQUETTE'!C35<>"",'[2]6. MAQUETTE'!C35,"") | E52: =IF('[2]6. MAQUETTE'!D35<>"",'[2]6. MAQUETTE'!D35,"")
A54: Semestre 2 (le cas échéant)
J55: Contrôle Continu | K55: CT pour les dispensés
A56: Nature ELP | B56: Libellé ELP | C56: ECTS | D56: Coeff. des ECUE | E56: Code APOGEE (ELP) | F56: Capitalisable | G56: Compensation | H56: Type Contrôle | I56: Si CC&CT coef du CT | J56: Nombre d'évaluation minimum | K56: Nature | L56: Durée
A57: =IF('[2]6. MAQUETTE'!A41<>"",'[2]6. MAQUETTE'!A41,"") | B57: =IF('[2]6. MAQUETTE'!B41<>"",'[2]6. MAQUETTE'!B41,"") | C57: =IF('[2]6. MAQUETTE'!C41<>"",'[2]6. MAQUETTE'!C41,"") | E57: =IF('[2]6. MAQUETTE'!D41<>"",'[2]6. MAQUETTE'!D41,"")
A58: =IF('[2]6. MAQUETTE'!A42<>"",'[2]6. MAQUETTE'!A42,"") | B58: =IF('[2]6. MAQUETTE'!B42<>"",'[2]6. MAQUETTE'!B42,"") | C58: =IF('[2]6. MAQUETTE'!C42<>"",'[2]6. MAQUETTE'!C42,"") | E58: =IF('[2]6. MAQUETTE'!D42<>"",'[2]6. MAQUETTE'!D42,"")
A59: =IF('[2]6. MAQUETTE'!A43<>"",'[2]6. MAQUETTE'!A43,"") | B59: =IF('[2]6. MAQUETTE'!B43<>"",'[2]6. MAQUETTE'!B43,"") | C59: =IF('[2]6. MAQUETTE'!C43<>"",'[2]6. MAQUETTE'!C43,"") | E59: =IF('[2]6. MAQUETTE'!D43<>"",'[2]6. MAQUETTE'!D43,"")
A60: =IF('[2]6. MAQUETTE'!A44<>"",'[2]6. MAQUETTE'!A44,"") | B60: =IF('[2]6. MAQUETTE'!B44<>"",'[2]6. MAQUETTE'!B44,"") | C60: =IF('[2]6. MAQUETTE'!C44<>"",'[2]6. MAQUETTE'!C44,"") | E60: =IF('[2]6. MAQUETTE'!D44<>"",'[2]6. MAQUETTE'!D44,"")
A61: =IF('[2]6. MAQUETTE'!A45<>"",'[2]6. MAQUETTE'!A45,"") | B61: =IF('[2]6. MAQUETTE'!B45<>"",'[2]6. MAQUETTE'!B45,"") | C61: =IF('[2]6. MAQUETTE'!C45<>"",'[2]6. MAQUETTE'!C45,"") | E61: =IF('[2]6. MAQUETTE'!D45<>"",'[2]6. MAQUETTE'!D45,"")
A62: =IF('[2]6. MAQUETTE'!A46<>"",'[2]6. MAQUETTE'!A46,"") | B62: =IF('[2]6. MAQUETTE'!B46<>"",'[2]6. MAQUETTE'!B46,"") | C62: =IF('[2]6. MAQUETTE'!C46<>"",'[2]6. MAQUETTE'!C46,"") | E62: =IF('[2]6. MAQUETTE'!D46<>"",'[2]6. MAQUETTE'!D46,"")
A63: =IF('[2]6. MAQUETTE'!A47<>"",'[2]6. MAQUETTE'!A47,"") | B63: =IF('[2]6. MAQUETTE'!B47<>"",'[2]6. MAQUETTE'!B47,"") | C63: =IF('[2]6. MAQUETTE'!C47<>"",'[2]6. MAQUETTE'!C47,"") | E63: =IF('[2]6. MAQUETTE'!D47<>"",'[2]6. MAQUETTE'!D47,"")
A64: =IF('[2]6. MAQUETTE'!A48<>"",'[2]6. MAQUETTE'!A48,"") | B64: =IF('[2]6. MAQUETTE'!B48<>"",'[2]6. MAQUETTE'!B48,"") | C64: =IF('[2]6. MAQUETTE'!C48<>"",'[2]6. MAQUETTE'!C48,"") | E64: =IF('[2]6. MAQUETTE'!D48<>"",'[2]6. MAQUETTE'!D48,"")
...

Sheet 7. SOUTENABILITE FIN
A1: 7. SOUTENABILITE FINANCIERE DE LA FORMATION | N1: ! Seules les cases jaunes sont à remplir !
A2: Détermination des droits d'inscription | C2: Nombre d'apprenants | D2: Recettes prévisionnelles | N2: Cases obligatoires
A3: Droit d'inscription plein tarif n°1 : | B3: 400 | C3: 3 | D3: =B3*C3 -> 1200 | E3: Droits d'inscription moyen équilibre pour 15 étudiants : | H3: =H27/15+(H25/15)+(H32/15) -> 0 | N3: C'est le tarif moyen par étudiant pour garantir l'équilibre du DU : si le groupe était complet (15 étudiants), il faudrait en théorie que chacun des étudiants paient ce montant pour couvrir les dépenses.
A4: Droit d'inscription n°2 (DI 2): | B4: 300 | C4: 4 | D4: =B4*C4 -> 1200 | E4: Précisez pour quels types d'apprenants cela s'applique : | H4: Double inscription UniCA
A5: Droit d'inscription n°3 (DI 3): | D5: =B5*C5 -> 0 | E5: Précisez pour quels types d'apprenants cela s'applique :
A6: Droit d'inscription n°4 (DI 4): | D6: =B6*C6 -> 0 | E6: Précisez pour quels types d'apprenants cela s'applique :
A7: Droit d'inscription n°5 (DI 5): | D7: =B7*C7 -> 0 | E7: Précisez pour quels types d'apprenants cela s'applique :
A8: Droit d'inscription n°6 (DI 6): | D8: =B8*C8 -> 0 | E8: Précisez pour quels types d'apprenants cela s'applique :
A9: Droit d'inscription n°7 (DI 7): | D9: =B9*C9 -> 0 | E9: Précisez pour quels types d'apprenants cela s'applique : | N9: Cela implique de fixer un tarif d'inscription plein tarif supérieur à ce montant, afin de : - garantir la rentabilité du DU avec un nombre d'étudiants inscrits < 15 ; - permettre les inscriptions d'étudiants exonérés ou en tarifs réduits
A10: Droits systématiques : | B10: 57 | C10: Indiqué pour information. Ne rentrent pas dans le calcul d'autofinancement de la formation car recette fléchée pour la bibliothèque et l'université lors de l'inscription
B12: Total prévisionnel : Apprenants & Recettes | C12: =SUM(C3:C9) -> 7 | D12: =SUM(D3:D9) -> 2400 | F12: Pour modifier le nombre de groupes, l'indiquer ci-dessous ainsi que les raisons pour lesquelles vous souhaitez le modifier :
B13: Nbre de groupes pour les TD et TP : | C13: =IF(C12/15<=0,"0",IF(C12/15<=1,1,IF(C12/15<=2,2,IF(C12/15<=3,3,IF(C12/15<=4,4,IF(C12/15<=5,5,IF(C12/15<=6,6,IF(C12/15<=7,7,IF(C12/15<=8,8,ROUNDUP(C12/15,0)))))))))) -> 1
A14: /!\ le coût lié à l'enseignement est multiplié par le nombre de groupe ! (pour les TD et TP)
A15: Ex : si le DU excède 15 étudiants, il sera considéré que les heures de cours doivent être enseignées 2 fois (2 groupes d'étudiants). | F15: Nombre de groupes à retenir après modification :
A17: Equilibre financier
C18: CM (en HETD) | D18: TD | E18: TP (en HETD) | F18: TOTAL DU (en HETD) | G18: dont heures non mutualisées | H18: Coût affecté TD pour 1 groupe | I18: =CONCATENATE("Coût affecté TD pour ",IF(I15<>"",I15,C13)," groupe(s)") -> Coût affecté TD pour 1 groupe(s) | K18: Simulation Résultat net (dépenses- recettes)
A19: Coût de l'enseignement (Valorisation des heures non mutualisées au coût moyen d'une vacation) | B19: semestre 1 | C19: =SUM('6. MAQUETTE'!G5:G34)*1.5 -> 312 | D19: =SUM('6. MAQUETTE'!H5:H34) -> 194 | E19: =SUM('6. MAQUETTE'!I5:I34)*2/3 -> 0 | F19: =C19+D19+E19 -> 506 | G19: ='6. MAQUETTE'!M35 -> 0 | H19: =G19*53.99 -> 0 | I19: =IF(C12=0,0,(SUMIFS('6. MAQUETTE'!H5:H34,'6. MAQUETTE'!J5:J34,"Non Mutualisée")*IF(I15<>"",I15,C13)+(SUMIFS('6. MAQUETTE'!I5:I34,'6. MAQUETTE'!J5:J34,"Non Mutualisée")*IF(I15<>"",I15,C13)+(SUMIFS('6. MAQUETTE'!G5:G34,'6. MAQUETTE'!J5:J34,"Non mutualisée"))))*53.99) -> 0 | K19: Dépenses | L19: Dépenses enseignement | M19: =I26 -> 0
B20: semestre 2 | C20: =SUM('6. MAQUETTE'!G40:G70)*1.5 -> 0 | D20: =SUM('6. MAQUETTE'!H40:H70) -> 0 | E20: =SUM('6. MAQUETTE'!I40:I70)*2/3 -> 0 | F20: =C20+D20+E20 -> 0 | G20: ='6. MAQUETTE'!M71 -> 0 | H20: =G20*53.99 -> 0 | I20: =IF(C12=0,0,(SUMIFS('6. MAQUETTE'!H40:H70,'6. MAQUETTE'!J40:J70,"Non mutualisée")*IF(I15<>"",I15,C13)+(SUMIFS('6. MAQUETTE'!I40:I70,'6. MAQUETTE'!J40:J70,"Non mutualisée")*IF(I15<>"",I15,C13)+(SUMIFS('6. MAQUETTE'!G40:G70,'6. MAQUETTE'!I40:I70,"Non mutualisée"))))*53.99) -> 0 | L20: Dépenses indirectes | M20: =I27 -> 0
B21: semestre 3 | C21: =SUM('6. MAQUETTE'!G76:G106)*1.5 -> 0 | D21: =SUM('6. MAQUETTE'!H76:H106) -> 0 | E21: =SUM('6. MAQUETTE'!I76:I106)*2/3 -> 0 | F21: =C21+D21+E21 -> 0 | G21: ='6. MAQUETTE'!M107 -> 0 | H21: =G21*53.99 -> 0 | I21: =IF(C12=0,0,(SUMIFS('6. MAQUETTE'!H76:H106,'6. MAQUETTE'!J76:J106,"Non mutualisée")*IF(I15<>"",I15,C13)+(SUMIFS('6. MAQUETTE'!I76:I106,'6. MAQUETTE'!J76:J106,"Non mutualisée")*IF(I15<>"",I15,C13)+(SUMIFS('6. MAQUETTE'!G76:G106,'6. MAQUETTE'!J76:J106,"Non mutualisée"))))*53.99) -> 0 | L21: Dépenses de fonctionnement | M21: =H32 -> 0
B22: semestre 4 | C22: =SUM('6. MAQUETTE'!G112:G142)*1.5 -> 0 | D22: =SUM('6. MAQUETTE'!H112:H142) -> 0 | E22: =SUM('6. MAQUETTE'!I112:I142)*2/3 -> 0 | F22: =C22+D22+E22 -> 0 | G22: ='6. MAQUETTE'!M143 -> 0 | H22: =G22*53.99 -> 0 | I22: =IF(C12=0,0,(SUMIFS('6. MAQUETTE'!H112:H142,'6. MAQUETTE'!J112:J142,"Non mutualisée")*IF(I15<>"",I15,C13)+(SUMIFS('6. MAQUETTE'!I112:I142,'6. MAQUETTE'!J112:J142,"Non mutualisée")*IF(I15<>"",I15,C13)+(SUMIFS('6. MAQUETTE'!G112:G142,'6. MAQUETTE'!J112:J142,"Non mutualisée"))))*53.99) -> 0 | L22: Total dépenses | M22: =M19+M20+M21 -> 0
B23: semestre 5 | C23: =SUM('6. MAQUETTE'!G148:G178)*1.5 -> 0 | D23: =SUM('6. MAQUETTE'!H148:H178) -> 0 | E23: =SUM('6. MAQUETTE'!I148:I178)*2/3 -> 0 | F23: =C23+D23+E23 -> 0 | G23: ='6. MAQUETTE'!M179 -> 0 | H23: =G23*53.99 -> 0 | I23: =IF(C12=0,0,(SUMIFS('6. MAQUETTE'!H148:H178,'6. MAQUETTE'!J148:J178,"Non mutualisée")*IF(I15<>"",I15,C13)+(SUMIFS('6. MAQUETTE'!I148:I178,'6. MAQUETTE'!J148:J178,"Non mutualisée")*IF(I15<>"",I15,C13)+(SUMIFS('6. MAQUETTE'!G148:G178,'6. MAQUETTE'!J148:J178,"Non mutualisée"))))*53.99) -> 0 | L23: Coût moyen par étudiant | M23: =IFERROR(M22/C12,"0 €") -> 0
B24: semestre 6 | C24: =SUM('6. MAQUETTE'!G184:G214)*1.5 -> 0 | D24: =SUM('6. MAQUETTE'!H184:H214) -> 0 | E24: =SUM('6. MAQUETTE'!I184:I214)*2/3 -> 0 | F24: =C24+D24+E24 -> 0 | G24: ='6. MAQUETTE'!M215 -> 0 | H24: =G24*53.99 -> 0 | I24: =(SUMIFS('6. MAQUETTE'!H184:H214,'6. MAQUETTE'!J184:J214,"Non mutualisée")*IF(I15<>"",I15,C13)+(SUMIFS('6. MAQUETTE'!I184:I214,'6. MAQUETTE'!J184:J214,"Non mutualisée")*IF(I15<>"",I15,C13)+(SUMIFS('6. MAQUETTE'!G184:G214,'6. MAQUETTE'!J184:J214,"Non mutualisée"))))*53.99 -> 0 | K24: Recettes | L24: Total Recettes | M24: =D12 -> 2400
B25: TOTAL Heures de formation (en HETD) pour 1 groupe | C25: =SUM(C19:C24) -> 312 | D25: =SUM(D19:D24) -> 194 | E25: =SUM(E19:E24) -> 0 | F25: =SUM(F19:F24) -> 506 | G25: =SUM(G19:G24) -> 0 | H25: =G25*53.99 -> 0 | L25: Recette moyenne par étudiant | M25: =IFERROR(M24/C12,"0 €") -> 342.85714
B26: =CONCATENATE("TOTAL Heures de formation (en HETD) pour ",IF(I15<>"",I15,C13)," groupe(s)") -> TOTAL Heures de formation (en HETD) pour 1 groupe(s) | C26: =IF(C12=0,0,C25) -> 312 | D26: =IF(I15<>"",I15,C13)*D25 -> 194 | E26: =IF(I15<>"",I15,C13)*E25 -> 0 | F26: =SUM(C26:E26) -> 506 | G26: =IF(C12=0,0,(SUMIFS('6. MAQUETTE'!H5:H34,'6. MAQUETTE'!J5:J34,"Non Mutualisée")+SUMIFS('6. MAQUETTE'!H76:H106,'6. MAQUETTE'!J76:J106,"Non Mutualisée")+SUMIFS('6. MAQUETTE'!H40:H70,'6. MAQUETTE'!J40:J70,"Non Mutualisée")+SUMIFS('6. MAQUETTE'!H112:H142,'6. MAQUETTE'!J112:J142,"Non Mutualisée")+SUMIFS('6. MAQUETTE'!H148:H178,'6. MAQUETTE'!J148:J178,"Non Mutualisée")+SUMIFS('6. MAQUETTE'!H184:H214,'6. MAQUETTE'!J184:J214,"Non Mutualisée"))*IF(I15<>"",I15,C13)+(SUMIFS('6. MAQUETTE'!I5:I34,'6. MAQUETTE'!J5:J34,"Non Mutualisée")+SUMIFS('6. MAQUETTE'!I76:I106,'6. MAQUETTE'!J76:J106,"Non Mutualisée")+SUMIFS('6. MAQUETTE'!I40:I70,'6. MAQUETTE'!J40:J70,"Non Mutualisée")+SUMIFS('6. MAQUETTE'!I112:I142,'6. MAQUETTE'!J112:J142,"Non Mutualisée")+SUMIFS('6. MAQUETTE'!I148:I178,'6. MAQUETTE'!J148:J178,"Non Mutualisée")+SUMIFS('6. MAQUETTE'!I184:I214,'6. MAQUETTE'!J184:J214,"Non Mutualisée"))*IF(I15<>"",I15,C13)*2/3+(SUMIFS('6. MAQUETTE'!G5:G34,'6. MAQUETTE'!J5:J34,"Non Mutualisée")+SUMIFS('6. MAQUETTE'!G76:G106,'6. MAQUETTE'!J76:J106,"Non Mutualisée")+SUMIFS('6. MAQUETTE'!G40:G70,'6. MAQUETTE'!J40:J70,"Non Mutualisée")+SUMIFS('6. MAQUETTE'!G112:G142,'6. MAQUETTE'!J112:J142,"Non Mutualisée")+SUMIFS('6. MAQUETTE'!G148:G178,'6. MAQUETTE'!J148:J178,"Non Mutualisée")+SUMIFS('6. MAQUETTE'!G184:G214,'6. MAQUETTE'!J184:J214,"Non Mutualisée"))*1.5) -> 0 | I26: =IF(C12=0,0,G26*53.99) -> 0 | K26: Résultat net DU (avant subv) | L26: RESULTAT NET | M26: =M24-M22 -> 2400 | N26: =IF(M26=0,"autofinancé",IF(M26<0,"déficitaire avant subvention","excédentaire avant subvention")) -> excédentaire avant subvention
A27: Coût indirect | B27: Coût indirect par heure liquidée (133€/h non mutualisée en présentiel et 56€/h non mutualisée en distanciel) (gestion administrative / utilisation des infrastructures) | H27: ='6. MAQUETTE'!N35+'6. MAQUETTE'!N71+'6. MAQUETTE'!N107+'6. MAQUETTE'!N143+'6. MAQUETTE'!N179+'6. MAQUETTE'!N215 -> 0 | I27: =IF(C12=0,0,('6. MAQUETTE'!N35+'6. MAQUETTE'!N71+'6. MAQUETTE'!N107+'6. MAQUETTE'!N143+'6. MAQUETTE'!N179+'6. MAQUETTE'!N215)+('6. MAQUETTE'!O35+'6. MAQUETTE'!O71+'6. MAQUETTE'!O107+'6. MAQUETTE'!O143+'6. MAQUETTE'!O179+'6. MAQUETTE'!O215)*IF(I15<>"",I15-1,C13-1)) -> 0 | L27: RESULTAT NET PAR ETUDIANT | M27: =M25-M23 -> 342.85714
A28: Coût de fonctionnement spécifique | B28: Fournitures spécifiques diverses | K28: Montant des subventions ou conventions (onglet 2) : | M28: ='2.DESCRIPTION FORMATION'!C70 -> 0
B29: déplacements des intervenants | K29: Résultat net DU après subvention | L29: RESULTAT NET | M29: =M28+M24-M22 -> 2400 | N29: =IF(M29=0,"autofinancé",IF(M29<0,"déficitaire après subvention","excédentaire après subvention")) -> excédentaire après subvention
B30: Frais de réception | L30: RESULTAT NET PAR ETUDIANT | M30: =IFERROR(M29/C12,0) -> 342.85714
B31: Autres prestations / Reversement à un partenaire
B32: TOTAL dépenses de fonctionnement | H32: =SUM(H28:H31) -> 0

Sheet 8. Suivi du processus
A1: 8. SUIVI DU PROCESSUS
A2: Merci de renseigner les visas et avis et dates des différentes étapes du porcessus d'instruction
A3: Vu par le service de scolarité : | C3: en date du: | E3: Nom de l'agent :
A4: Vu par le SPOF : | C4: en date du: | E4: Nom de l'agent :
A5: Avis du COSUP DE | C5: en date du: | E5: Commentaires :
A6: Avis du COSP (ou autre comité de gestion) de la composante : | C6: en date du: | E6: Commentaires :
A7: DECISION :
A8: Avis du conseil académique : | C8: en date du: | E8: Commentaires :
A9: Décision du conseil d'administration : | C9: en date du: | E9: Commentaires :
A10: Ne rien écrire dans les zones orangées

Sheet 9. SOUTENABILITE RH
A1: 9. SOUTENABILITE RH DE LA FORMATION
A2: A renseigner par la direction des Ressources Humaines
A3: FICHE DE SOUTENABILITE Enseignement
B4: Statutaire | C4: Complementaire
A5: Nombre heures d'enseignement sur la discipline
A6: Masse salariale heures enseignement sur la discpline | B6: 0 | C6: 0
A7: Ratio sur la MS des heures d'enseignement
A8: potentiel enseignant sur la disicpline
A9: Nombre d'enseignants en sous service sur la discpline
A10: Nombre d'enseignants en sur service sur la discpline
A11: Taux de pression de la discipline
A12: Potentiel enseignant sur la composante
A13: Nombre d'enseignants en sous service sur la composante
A14: Nombre d'enseignants en sur service sur la composante
A15: Taux de pression de la composante
A20: Avis DRH (commentaires) :

Sheet Données
A1: Cycle | D1: Composante | F1: Niveau | G1: Secteur disciplinaire | H1: Nature | I1: Objet demande | J1: Durée formation | K1: FOAD | L1: Session
A2: Licence | B2: Oui | C2: Obligatoire | D2: EUR CREATES | E2: BSS | F2: Bac/Niveau bac | G2: 01 - MATHÉMATIQUES | H2: UE | I2: Création | J2: < 6 mois | K2: NON | L2: session unique
A3: Master | B3: Non | C3: Facultatif | D3: EUR DS4H | E3: DSPEG | F3: Bac+1 | G3: 02 - PHYSIQUE | H3: MODULE | I3: Modification | J3: < 1 an | K3: OUI - Partiellement | L3: 2 sessions
A4: Doctorat | D4: EUR ELMI | E4: EEF | F4: Bac+2 | G4: 03 - CHIMIE | H4: ECUE | I4: Renouvellement | J4: 1 an | K4: OUI - Entièrement
A5: Autre (précisez) | B5: Favorable | D5: EUR HEALTHY | E5: LLAC | F5: Bac+3 | G5: 04 - MATHÉMATIQUES APPLIQUÉES AUX SCIENCES SOCIALES (MASS) | H5: UF | J5: 2 ans
B6: Défavorable | D6: EUR LEX@Société | E6: SHS | F6: Bac+4 | G6: 05 - SCIENCES DE L'UNIVERS, DE LA TERRE, DE L'ESPACE | J6: 3 ans
B7: Favorable sous réserve | D7: EUR LIFE | E7: SITE | F7: Bac+5 | G7: 06 - SCIENCES DE LA VIE, BIOLOGIE, SANTÉ | J7: > 3 ans
D8: EUR ODYSSEE | E8: Inter-champ | F8: Bac+6 et plus | G8: 07 - MÉDECINE
D9: EUR SPECTRUM | G9: 08 - ODONTOLOGIE
D10: IAE | G10: 10 - STAPS
D11: IDPD | G11: 11 - MÉCANIQUE, GÉNIE MÉCANIQUE, INGÉNIERIE MÉCANIQUE
D12: INSPE | G12: 12 - GÉNIE CIVIL
D13: IUT | G13: 13 - GÉNIE DES PROCÉDÉS, MATÉRIAUX
D14: Médecine | G14: 14 - INFORMATIQUE
D15: Odontologie | G15: 15 - ÉLECTRONIQUE, GÉNIE ÉLECTRIQUE, EEA
D16: POLYTECH | G16: 16 - SCIENCES ET TECHNOLOGIES INDUSTRIELLES
D17: Service de Formation Continue | G17: 17 - SCIENCES DU LANGAGE - LINGUISTIQUE
D18: UCA IDEX | G18: 18 - LANGUES ET LITTÉRATURES ANCIENNES
D19: IMREDD | G19: 19 - LANGUES ET LITTÉRATURES FRANCAISES
G20: 20 - LITTÉRATURE GÉNÉRALE ET COMPARÉE
G21: 21 - ARTS
G22: 22 - Français LANGUE ÉTRANGÈRE
G23: 23 - LANGUES ET LITTÉRATURES ÉTRANGÈRES
G24: 24 - LANGUES ET LITTÉRATURES APPLIQUÉES
G25: 25 - CULTURES ET LANGUES RÉGIONALES
G26: 26 - PHILOSOPHIE, ÉPISTÉMIOLOGIE
G27: 27 - HISTOIRE
G28: 28 - GÉOGRAPHIE
G29: 29 - AMÉNAGEMENT
G30: 30 - ARCHÉOLOGIE, ETHNO, PRÉHISTOIRE, ANTHROPOLOGIE
G31: 31 - SCIENCES RELIGIEUSES
... G53: 71 - PLURI SANTÉ
