Workbook
Name list_cmp: [1]Listes!$A$32:$G$32
Name list_cmp: [1]Listes!$A$32:$G$32
Name list_cmp: [1]Listes!$A$32:$G$32
Name list_cmp: [1]Listes!$A$32:$G$32
Name list_cmp: Listes!$A$32:$G$32
Name List_CNU: [1]Listes!$A$40:$A$96
Name List_CNU: [1]Listes!$A$40:$A$96
Name List_CNU: [1]Listes!$A$40:$A$96
Name List_CNU: [1]Listes!$A$40:$A$96
Name List_CNU: Listes!$A$40:$A$96
Name List_Controle: [1]Listes!$B$2:$B$6
Name List_Controle: [1]Listes!$B$2:$B$6
Name List_Controle: [1]Listes!$B$2:$B$6
Name List_Controle: [1]Listes!$B$2:$B$6
Name List_Controle: Listes!$B$2:$B$6
Name List_Controle2: [1]Listes!$A$2:$A$4
Name List_Controle2: [1]Listes!$A$2:$A$4
Name List_Controle2: [1]Listes!$A$2:$A$4
Name List_Controle2: [1]Listes!$A$2:$A$4
Name List_Controle2: Listes!$A$2:$A$4
Name List_Mutualisation: [1]Listes!$E$2:$E$3
Name List_Mutualisation: [1]Listes!$E$2:$E$3
Name List_Mutualisation: [1]Listes!$E$2:$E$3
Name List_Mutualisation: [1]Listes!$E$2:$E$3
Name List_Mutualisation: Listes!$E$2:$E$3
Name List_NatureELP: Listes!$D$2:$D$6
Name List_RegimeInscription: [1]Listes!$C$2:$C$3
Name List_RegimeInscription: [1]Listes!$C$2:$C$3
Name List_RegimeInscription: [1]Listes!$C$2:$C$3
Name List_RegimeInscription: [1]Listes!$C$2:$C$3
Name List_RegimeInscription: Listes!$C$2:$C$3
Name List_Statut: [1]Listes!$F$2:$F$4
Name List_Statut: [1]Listes!$F$2:$F$4
Name List_Statut: [1]Listes!$F$2:$F$4
Name List_Statut: [1]Listes!$F$2:$F$4
Name List_Statut: Listes!$F$2:$F$4
Name List_Type: [1]Listes!$G$2:$G$3
Name List_Type: [1]Listes!$G$2:$G$3
Name List_Type: [1]Listes!$G$2:$G$3
Name List_Type: [1]Listes!$G$2:$G$3
Name List_Type: Listes!$G$2:$G$3
Name list_typedip: [1]Listes!$H$2:$H$3
Name list_typedip: [1]Listes!$H$2:$H$3
Name list_typedip: [1]Listes!$H$2:$H$3
Name list_typedip: [1]Listes!$H$2:$H$3
Name list_typedip: Listes!$H$2:$H$3
Name liste_cmp: #REF!
Name liste_cmp: #REF!
Name liste_cmp: #REF!
Name liste_cmp: #REF!
Name liste_cmp: #REF!
Name liste_cmp: #REF!
Name liste_cmp: #REF!
Name liste_cmp: #REF!
Name liste_mention: #REF!
Name liste_mention: #REF!
Name liste_mention: #REF!
Name liste_mention: #REF!
Name liste_mention: #REF!
Name liste_mention: #REF!

Sheet Listes
A1: Type contrôle | B1: Nature contrôle | C1: Régime d'inscription | D1: Nature ELP | E1: Mutualisation | F1: Statut | G1: Type | H1: Diplômes
A2: CCI (CC Intégral) | B2: Écrit | C2: Initiale Hors-Apprentissage / Formation Continue / Formation Permanente | D2: UE | E2: Porteuse | F2: Création | G2: Facultatif | H2: Portail
A3: CT (Contrôle terminal) | B3: Oral | C3: Contrat d'Apprentissage/ Contrat de Professionnalisation | D3: ECUE | E3: Portée | F3: Modification | G3: Complémentaire | H3: Double Portail
A4: CC&CT | B4: Écrit/Pratique | D4: BLOC | F4: Fermeture
B5: Rapport/Mémoire | D5: OPTION
B6: Pratique sportive | D6: Parcours Pédagogique
A8: Mention | B8: Codage Diplôme
A9: Sciences et technologie | B9: SPSIT18
A10: Sciences de l'Homme et de la Société | B10: HPSHS18
A11: Lettres Langues Arts et Communication | B11: HPLAC18
A12: Droit | B12: DPDRT18
A13: Économie et gestion | B13: IPECG18
A14: Sciences de la Vie | B14: SPVIE18
A15: STAPS | B15: PPSTA18
A16: Psychologie | B16: HPPSY18
A17: Humanités | B17: HPUMA18
A18: Économie-Sociologie | B18: IPSOE18
A19: Philosophie-Droit | B19: HPPHD18
... A28: Bio-Geo-Sciences | B28: SPBGS18
A32: Portail_EG | B32: Portail_Droit | C32: Portail_SHS | D32: Portail_LLAC | E32: Portail_ST | F32: Portail_SV | G32: Portail_STAPS
A33: Économie et gestion | B33: Droit | C33: Sciences de l'Homme et de la Société | D33: Lettres Langues Arts et Communication | E33: Sciences et technologie | F33: Sciences de la vie | G33: STAPS
A34: Économie-Sociologie | B34: Capacaité en Droit | C34: Psychologie | D34: Histoire-Lettres | E34: Mathématiques-Sciences de la vie | F34: Chimie-Sciences de la vie
C35: Humanités | D35: Musicologie - Science de l'homme, anthropologie, ethnologie | E35: Mathématiques-Physique | F35: Bio-Geo-Sciences
C36: Philosophie-Droit | E36: Mathématiques-Informatique
C37: Philosophie-Psychologie | E37: Sciences de la terre-Physique
A39: CNU
A40: 01-Droit privé et sciences criminelles
A41: 02-Droit public
A42: 03-Histoire du droit et des institutions
A43: 04-Science politique
A44: 05-Sciences économiques
A45: 06-Sciences de gestion
A46: 07-Sciences du langage : linguistique et phonétique générales
A47: 08-Langues et littératures anciennes
A48: 09-Langue et littérature françaises
A49: 10-Littératures comparées
A50: 11-Langues et littératures anglaises et anglo-saxonnes
... A96: 87-Sciences biologiques pharmaceutiques

Sheet Calcul
A1: Heure Pédagogique | AA1: Heure CM
A3: Semestre 1 | D3: Semestre 2 | G3: Semestre 3 | J3: Semestre 4 | AA3: Semestre 1 | AB3: Semestre 2 | AC3: Semestre 3 | AD3: Semestre 4
A4: Heure CM | B4: Heure TD | C4: Heure TP | D4: Heure CM | E4: Heure TD | F4: Heure TP | G4: Heure CM | H4: Heure TD | I4: Heure TP | J4: Heure CM | K4: Heure TD | L4: Heure TP | AA4: ='S1 Maquette'!I19*1.5 -> 0 | AB4: ='S2 Maquette'!I19*1.5 -> 0 | AC4: ='S3 Maquette'!I19*1.5 -> 0 | AD4: ='S4 Maquette'!I19*1.5 -> 0
A5: =SUM(AA4:AA291) -> 49.5 | B5: =SUM('S1 Maquette'!J19:J302) -> 99 | C5: =SUM('S1 Maquette'!K19:K302) -> 22 | D5: =SUM(AB4:AB291) -> 54 | E5: =SUM('S2 Maquette'!J19:J301) -> 108 | F5: =SUM('S2 Maquette'!K19:K301) -> 24 | G5: =SUM(AC4:AC291) -> 90 | H5: =SUM('S3 Maquette'!J19:J302) -> 126 | I5: =SUM('S3 Maquette'!K19:K302) -> 24 | J5: =SUM(AD4:AD291) -> 90 | K5: =SUM('S4 Maquette'!J19:J302) -> 126 | L5: =SUM('S4 Maquette'!K19:K302) -> 24 | AA5: ='S1 Maquette'!I20*1.5 -> 0 | AB5: ='S2 Maquette'!I20*1.5 -> 0 | AC5: ='S3 Maquette'!I20*1.5 -> 0 | AD5: ='S4 Maquette'!I20*1.5 -> 0
A6: Total | D6: Total | G6: Total | J6: Total | AA6: ='S1 Maquette'!I21*1.5 -> 0 | AB6: ='S2 Maquette'!I21*1.5 -> 0 | AC6: ='S3 Maquette'!I21*1.5 -> 0 | AD6: ='S4 Maquette'!I21*1.5 -> 0
A7: =SUM(A5,B5,C5) -> 170.5 | D7: =SUM(D5,E5,F5) -> 186 | G7: =SUM(G5,H5,I5) -> 240 | J7: =SUM(J5,K5,L5) -> 240 | AA7: ='S1 Maquette'!I22*1.5 -> 0 | AB7: ='S2 Maquette'!I22*1.5 -> 0 | AC7: ='S3 Maquette'!I22*1.5 -> 0 | AD7: ='S4 Maquette'!I22*1.5 -> 0
A8: Total | G8: Total | AA8: ='S1 Maquette'!I23*1.5 -> 0 | AB8: ='S2 Maquette'!I23*1.5 -> 0 | AC8: ='S3 Maquette'!I23*1.5 -> 0 | AD8: ='S4 Maquette'!I23*1.5 -> 0
AA9: ='S1 Maquette'!I24*1.5 -> 0 | AB9: ='S2 Maquette'!I24*1.5 -> 0 | AC9: ='S3 Maquette'!I24*1.5 -> 0 | AD9: ='S4 Maquette'!I24*1.5 -> 0
A10: =SUM(A7,D7) -> 356.5 | G10: =SUM(G7,J7) -> 480 | AA10: ='S1 Maquette'!I25*1.5 -> 0 | AB10: ='S2 Maquette'!I25*1.5 -> 0 | AC10: ='S3 Maquette'!I25*1.5 -> 0 | AD10: ='S4 Maquette'!I25*1.5 -> 0
AA11: ='S1 Maquette'!I26*1.5 -> 0 | AB11: ='S2 Maquette'!I26*1.5 -> 0 | AC11: ='S3 Maquette'!I26*1.5 -> 0 | AD11: ='S4 Maquette'!I26*1.5 -> 0
AA12: ='S1 Maquette'!I27*1.5 -> 0 | AB12: ='S2 Maquette'!I27*1.5 -> 0 | AC12: ='S3 Maquette'!I27*1.5 -> 0 | AD12: ='S4 Maquette'!I27*1.5 -> 0
AA13: ='S1 Maquette'!I28*1.5 -> 0 | AB13: ='S2 Maquette'!I28*1.5 -> 0 | AC13: ='S3 Maquette'!I28*1.5 -> 0 | AD13: ='S4 Maquette'!I28*1.5 -> 0
A14: Heure Porté par la maquette | N14: Mutualisation Porteuse | AA14: ='S1 Maquette'!I29*1.5 -> 0 | AB14: ='S2 Maquette'!I29*1.5 -> 0 | AC14: ='S3 Maquette'!I29*1.5 -> 0 | AD14: ='S4 Maquette'!I29*1.5 -> 0
AA15: ='S1 Maquette'!I30*1.5 -> 0 | AB15: ='S2 Maquette'!I30*1.5 -> 0 | AC15: ='S3 Maquette'!I30*1.5 -> 0 | AD15: ='S4 Maquette'!I30*1.5 -> 0
A16: Semestre 1 | D16: Semestre 2 | G16: Semestre 3 | J16: Semestre 4 | N16: Semestre 1 | Q16: Semestre 2 | T16: Semestre 3 | W16: Semestre 4 | AA16: ='S1 Maquette'!I31*1.5 -> 0 | AB16: ='S2 Maquette'!I31*1.5 -> 0 | AC16: ='S3 Maquette'!I31*1.5 -> 0 | AD16: ='S4 Maquette'!I31*1.5 -> 0
A17: Heure CM | B17: Heure TD | C17: Heure TP | D17: Heure CM | E17: Heure TD | F17: Heure TP | G17: Heure CM | H17: Heure TD | I17: Heure TP | J17: Heure CM | K17: Heure TD | L17: Heure TP | N17: Heure CM | O17: Heure TD | P17: Heure TP | Q17: Heure CM | R17: Heure TD | S17: Heure TP | T17: Heure CM | U17: Heure TD | V17: Heure TP | W17: Heure CM | X17: Heure TD | Y17: Heure TP | AA17: ='S1 Maquette'!I32*1.5 -> 16.5 | AB17: ='S2 Maquette'!I32*1.5 -> 18 | AC17: ='S3 Maquette'!I32*1.5 -> 0 | AD17: ='S4 Maquette'!I32*1.5 -> 0
A18: =A5-N18 -> 49.5 | B18: =B5-O18 -> 99 | C18: =C5-P18 -> 22 | D18: =D5-Q18 -> 54 | E18: =E5-R18 -> 108 | F18: =F5-S18 -> 24 | G18: =G5-T18 -> 90 | H18: =H5-U18 -> 126 | ... L18: =L5-Y18 -> 24 | N18: =SUMIF('S1 Maquette'!M19:M302,"Portée",'S1 Maquette'!I19:I302)*1.5 -> 0 | O18: =SUMIF('S1 Maquette'!M19:M302,"Portée",'S1 Maquette'!J19:J302) -> 0 | P18: =SUMIF('S1 Maquette'!M19:M302,"Portée",'S1 Maquette'!K19:K302) -> 0 | Q18: =SUMIF('S2 Maquette'!M19:M301,"Portée",'S2 Maquette'!I19:I301)*1.5 -> 0 | R18: =SUMIF('S2 Maquette'!M19:M301,"Portée",'S2 Maquette'!J19:J301) -> 0 | S18: =SUMIF('S2 Maquette'!M9:M301,"Portée",'S2 Maquette'!K19:K301) -> 0 | T18: =SUMIF('S3 Maquette'!M19:M302,"Portée",'S3 Maquette'!I19:I302)*1.5 -> 0 | U18: =SUMIF('S3 Maquette'!M19:M302,"Portée",'S3 Maquette'!J19:J302) -> 0 | V18: =SUMIF('S3 Maquette'!M19:M302,"Portée",'S3 Maquette'!K19:K302) -> 0 | W18: =SUMIF('S4 Maquette'!M19:M302,"Portée",'S4 Maquette'!I19:I302)*1.5 -> 0 | X18: =SUMIF('S4 Maquette'!M19:M302,"Portée",'S4 Maquette'!J19:J302) -> 0 | Y18: =SUMIF('S4 Maquette'!M19:M302,"Portée",'S4 Maquette'!K19:K302) -> 0 | AA18: ='S1 Maquette'!I33*1.5 -> 0 | AB18: ='S2 Maquette'!I33*1.5 -> 0 | AC18: ='S3 Maquette'!I33*1.5 -> 18 | AD18: ='S4 Maquette'!I33*1.5 -> 18
A19: Total | D19: Total | G19: Total | J19: Total | AA19: ='S1 Maquette'!I34*1.5 -> 0 | AB19: ='S2 Maquette'!I34*1.5 -> 0 | AC19: ='S3 Maquette'!I34*1.5 -> 18 | AD19: ='S4 Maquette'!I34*1.5 -> 18
A20: =SUM(A18,B18,C18) -> 170.5 | D20: =SUM(D18,E18,F18) -> 186 | G20: =SUM(G18,H18,I18) -> 240 | J20: =SUM(J18,K18,L18) -> 240 | AA20: ='S1 Maquette'!I35*1.5 -> 16.5 | AB20: ='S2 Maquette'!I35*1.5 -> 18 | AC20: ='S3 Maquette'!I35*1.5 -> 0 | AD20: ='S4 Maquette'!I35*1.5 -> 0
A21: Total | G21: Total | AA21: ='S1 Maquette'!I36*1.5 -> 0 | AB21: ='S2 Maquette'!I36*1.5 -> 0 | AC21: ='S3 Maquette'!I36*1.5 -> 18 | AD21: ='S4 Maquette'!I36*1.5 -> 18
A22: =SUM(A20,D20) -> 356.5 | G22: =SUM(G20,J20) -> 480 | AA22: ='S1 Maquette'!I38*1.5 -> 0 | AB22: ='S2 Maquette'!I38*1.5 -> 0 | AC22: ='S3 Maquette'!I37*1.5 -> 18 | AD22: ='S4 Maquette'!I37*1.5 -> 18
AA23: ='S1 Maquette'!I39*1.5 -> 16.5 | AB23: ='S2 Maquette'!I39*1.5 -> 18 | AC23: ='S3 Maquette'!I38*1.5 -> 0 | AD23: ='S4 Maquette'!I39*1.5 -> 0
AA24: ='S1 Maquette'!I40*1.5 -> 0 | AB24: ='S2 Maquette'!I40*1.5 -> 0 | AC24: ='S3 Maquette'!I40*1.5 -> 18 | AD24: ='S4 Maquette'!I40*1.5 -> 18
AA25: ='S1 Maquette'!I42*1.5 -> 0 | AB25: ='S2 Maquette'!I41*1.5 -> 0 | AC25: ='S3 Maquette'!I41*1.5 -> 0 | AD25: ='S4 Maquette'!I41*1.5 -> 0
AA26: ='S1 Maquette'!I43*1.5 -> 0 | AB26: ='S2 Maquette'!I42*1.5 -> 0 | AC26: ='S3 Maquette'!I43*1.5 -> 0 | AD26: ='S4 Maquette'!I43*1.5 -> 0
AA27: ='S1 Maquette'!I44*1.5 -> 0 | AB27: ='S2 Maquette'!I43*1.5 -> 0 | AC27: ='S3 Maquette'!I44*1.5 -> 0 | AD27: ='S4 Maquette'!I44*1.5 -> 0
AA28: ='S1 Maquette'!I45*1.5 -> 0 | AB28: ='S2 Maquette'!I44*1.5 -> 0 | AC28: ='S3 Maquette'!I45*1.5 -> 0 | AD28: ='S4 Maquette'!I45*1.5 -> 0
AA29: ='S1 Maquette'!I46*1.5 -> 0 | AB29: ='S2 Maquette'!I45*1.5 -> 0 | AC29: ='S3 Maquette'!I46*1.5 -> 0 | AD29: ='S4 Maquette'!I46*1.5 -> 0
AA30: ='S1 Maquette'!I47*1.5 -> 0 | AB30: ='S2 Maquette'!I46*1.5 -> 0 | AC30: ='S3 Maquette'!I47*1.5 -> 0 | AD30: ='S4 Maquette'!I47*1.5 -> 0
AA31: ='S1 Maquette'!I48*1.5 -> 0 | AB31: ='S2 Maquette'!I47*1.5 -> 0 | AC31: ='S3 Maquette'!I48*1.5 -> 0 | AD31: ='S4 Maquette'!I48*1.5 -> 0
AA32: ='S1 Maquette'!I49*1.5 -> 0 | AB32: ='S2 Maquette'!I48*1.5 -> 0 | AC32: ='S3 Maquette'!I49*1.5 -> 0 | AD32: ='S4 Maquette'!I49*1.5 -> 0
AA33: ='S1 Maquette'!I50*1.5 -> 0 | AB33: ='S2 Maquette'!I49*1.5 -> 0 | AC33: ='S3 Maquette'!I50*1.5 -> 0 | AD33: ='S4 Maquette'!I50*1.5 -> 0
AA34: ='S1 Maquette'!I51*1.5 -> 0 | AB34: ='S2 Maquette'!I50*1.5 -> 0 | AC34: ='S3 Maquette'!I51*1.5 -> 0 | AD34: ='S4 Maquette'!I51*1.5 -> 0
AA35: ='S1 Maquette'!I52*1.5 -> 0 | AB35: ='S2 Maquette'!I51*1.5 -> 0 | AC35: ='S3 Maquette'!I52*1.5 -> 0 | AD35: ='S4 Maquette'!I52*1.5 -> 0
AA36: ='S1 Maquette'!I53*1.5 -> 0 | AB36: ='S2 Maquette'!I52*1.5 -> 0 | AC36: ='S3 Maquette'!I53*1.5 -> 0 | AD36: ='S4 Maquette'!I53*1.5 -> 0
AA37: ='S1 Maquette'!I54*1.5 -> 0 | AB37: ='S2 Maquette'!I53*1.5 -> 0 | AC37: ='S3 Maquette'!I54*1.5 -> 0 | AD37: ='S4 Maquette'!I54*1.5 -> 0
... AA291: ='S1 Maquette'!I308*1.5 -> 0 | AB291: ='S2 Maquette'!I307*1.5 -> 0 | AC291: ='S3 Maquette'!I308*1.5 -> 0 | AD291: ='S4 Maquette'!I308*1.5 -> 0

Sheet Fiche Générale
A1: Type Diplôme : Portail & Double Portail
A2: Types Diplômes | B2: Portail
A3: COMPOSANTE | B3: Portail_LLAC
A4: MENTION
A5: CODE DIPLÔME | B5: =IFERROR(VLOOKUP(B4,tab_code_dip,2,FALSE),"-") -> -
A6: Régime d'inscription
A8: Parcours Type Portail
A9: Parcours Type | B9: LLCER Anglais
A13: Heures Maquette Année 1 | B13: Heures Valorisées Année 1 | C13: Heures Maquette Année 2 | D13: Heures Valorisées Année 2
A19: COMPENSATION
A20: Les MCC déterminent le mode de compensation entre UE, semestre et année ainsi que la possibilité d’une note éliminatoire.
A21: Obtention des UE
A22: Compensation entre ECUE - Une note inférieure à 7 aux ECUE invalide seulement l'UE supérieure.
A25: Obtention du Semestre
A26: Compensation entre les UE, mais pas de compensation pour l'UE compétences transversales. Une note inférieure à 7 aux UE (UE Ouverture et CT non incluses) invalide semestre et année.
A29: Obtention de l'Année
A30: Moyenne générale à 10/20 - compensation entre les semestres. Une note inférieure à 7 aux UE (UE Ouverture et CT non incluses) invalide année.
A33: Note éliminatoire/ Note seuil
A34: pas de seuil de compensation en L1. Seuil de compensation à 07/20 en L2
A37: REDOUBLEMENT
A38: Passage en L2 si au moins 6 UE disciplinaires sur les 8 de la L1 ont été validées (toutes les UE sont disciplinaires, sauf les compétences transversales) Limitation du nombre de redoublements : 2 fois en L1 ; 1 fois en L2 ; 1 fois en L3 ; au-delà, à titre dérogatoire. Le redoublement n’étant pas de droit, lorsqu’un ou une étudiante obtient entre 0 et 5 de moyenne annuelle, le jury est souverain pour décider d’un redoublement ou non, en tenant compte de sa situation personnelle (maladie, décès d’un proche, etc.).
... A45: soutien L1 s1 : Tout étudiant ayant une note inférieure à 10 /20 au test de positionnement réalisé à la pré-rentrée devra obligatoirement suivre les cours de soutien en Langue (oral et ou écrit) soutien L1 s2 : «Tout étudiant ayant obtenu une note inférieure à 10/20 à l’issue du semestre 1 en : - HPECAT1 ( traduction) Et/ou Une note inférieure à 07/20 en : - HPECAX1 Littérature ( TD textes) - HPECAD1 : Étude de documents civilisationnels (TD) devra obligatoirement suivre les cours de soutien. soutien L2 s3 : Tout étudiant ayant obtenu une note inférieure à 10/20 à l’issue de la LLCER1 en : - HPECAT2 : ( traduction L1) - HPECAA2 : Compétences langagières Et/ou Une note inférieure à 08/20 en - HPECAX2 Littérature ( TD textes) - HPECAD1 : Étude de documents civilisationnels (TD) devra obligatoirement suivre les cours de soutien. soutien L2 s4 : Tout étudiant ayant obtenu une note inférieure à 10/20 à l’issue du S3 en : - HPECAH3 Thème /HPECAV3 version - HPECAE3 expression orale devra obligatoirement suivre les cours de soutien. Une note inférieure à 07/20 en - UE 2 HPUCAL3 (Littératures, cultures et sociétés) - UE 3 HPUCAC3 (Civilisations et arts) devra obligatoirement suivre les cours de soutien.

Sheet S1 Maquette
A7: Composante | B7: ='Fiche Générale'!B3 -> Portail_LLAC | C7: Diplôme | E7: ='Fiche Générale'!B4 -> 0 | G7: Code diplôme | H7: ='Fiche Générale'!B5 -> -
C10: Parcours type | E10: ='Fiche Générale'!B9 -> LLCER Anglais
A13: Année | B13: 1ère année de Portail | C13: Code année | G13: Heure Maquette | H13: =Calcul!A7 -> 170.5
A15: Semestre | B15: Semestre 1 | C15: Code semestre | G15: Heure Valorisées | H15: =Calcul!A20 -> 170.5
A18: Niveau | B18: Libellé ELP | C18: Nature ELP | D18: ECTS | E18: Type | F18: Statut | G18: Code Apogée | H18: CNU | I18: Heure CM | J18: Heure TD | K18: Heure TP | L18: Langues | M18: Mutualisation | N18: Formation Porteuse | O18: Observations / Remarques ex: Intervention à titre gracieux / Capacité d'accueil max
A19: 0 | B19: Compétences transversales S1 | C19: UE | D19: 6
A20: 0.1 | B20: Compétences écrites 1 | C20: ECUE
A21: 0.2 | B21: Compétences informationnelles | C21: ECUE
A22: 0.3 | B22: Langue Vivante-1 | C22: ECUE
B23: Min 1 Max 1 | C23: OPTION
A24: 0.3.1 | B24: Anglais 1 | C24: ECUE
A25: 0.3.2 | B25: Espagnol | C25: ECUE
A26: 0.3.3 | B26: Italien | C26: ECUE
A27: 1 | B27: UE1 Langue - Anglais | C27: UE | D27: 6
B28: Grammaire et thème grammatical - Anglais | C28: ECUE | J28: 22 | M28: Porteuse
B29: Traduction - Anglais | C29: ECUE | J29: 22 | M29: Porteuse
B30: Expression orale | C30: ECUE | K30: 22 | M30: Porteuse
A31: 2 | B31: UE2 Littératures - Anglais | C31: UE | D31: 6
B32: Littérature - Anglais | C32: ECUE | I32: 11 | M32: Porteuse
B33: Textes et atelier d'écriture - Anglais | C33: ECUE | J33: 22 | M33: Porteuse
A34: 3 | B34: UE3 Civilisation- Anglais | C34: UE | D34: 6
B35: Civilisation - Anglais | C35: ECUE | I35: 11 | M35: Porteuse
B36: Études de documents civilisation - Anglais | C36: ECUE | J36: 22 | M36: Porteuse
B37: UE 4 : 1 UE Au choix | C37: OPTION
A38: 4 | B38: UE4 Pratiques culturelles- Anglais | C38: UE | D38: 6
B39: Cultures - Anglais | C39: ECUE | I39: 11 | M39: Porteuse
B40: Pratiques et documents culturels - Anglais | C40: ECUE | J40: 11 | M40: Porteuse
A41: 4 | B41: UE4 Ouverture (au choix parmi portail LLAC) | C41: UE | D41: 6
A42: 5 | B42: UE5 Mineure | C42: UE | D42: 6

Sheet S1 MCC
A7: Composante | B7: ='Fiche Générale'!B3 -> Portail_LLAC | C7: Diplôme | E7: ='Fiche Générale'!B4 -> 0 | G7: Code diplôme | H7: ='Fiche Générale'!B5 -> -
C10: Parcours type | E10: ='Fiche Générale'!B9 -> LLCER Anglais
M12: 1ère session | P12: Seconde Chance
A13: Année | B13: ='S1 Maquette'!B13 -> 1ère année de Portail | D13: Code Année | E13: ='S1 Maquette'!E13 -> 0
M14: Contrôle continu | N14: Contrôle Terminal
A15: Semestre | B15: ='S1 Maquette'!B15 -> Semestre 1 | D15: Code Semestre | E15: ='S1 Maquette'!E15:F16 -> 0
A18: Libellé | B18: Nature | C18: Statut | D18: Coefficient | E18: Notes attendues | F18: Résultat attendu: (ACQ/AJ) | G18: Conservation note | H18: Capitalisable | I18: Compensable | J18: Seuil de compensation /20 | K18: Type de contrôle | L18: Si CC&CT coef du CT | M18: Nbre d'évalution minimum | N18: Nature | O18: Durée | P18: Format d'évaluation | Q18: Nature | R18: Durée | S18: Modalités de mise en œuvre | T18: Commentaires
A19: ='S1 Maquette'!B19 -> Compétences transversales S1 | B19: ='S1 Maquette'!C19 -> UE | C19: ='S1 Maquette'!F19 -> 0
A20: ='S1 Maquette'!B20 -> Compétences écrites 1 | B20: ='S1 Maquette'!C20 -> ECUE | C20: ='S1 Maquette'!F20 -> 0
A21: ='S1 Maquette'!B21 -> Compétences informationnelles | B21: ='S1 Maquette'!C21 -> ECUE | C21: ='S1 Maquette'!F21 -> 0
A22: ='S1 Maquette'!B22 -> Langue Vivante-1 | B22: ='S1 Maquette'!C22 -> ECUE | C22: ='S1 Maquette'!F22 -> 0
A23: ='S1 Maquette'!B23 -> Min 1 Max 1 | B23: ='S1 Maquette'!C23 -> OPTION | C23: ='S1 Maquette'!F23 -> 0
A24: ='S1 Maquette'!B24 -> Anglais 1 | B24: ='S1 Maquette'!C24 -> ECUE | C24: ='S1 Maquette'!F24 -> 0
A25: ='S1 Maquette'!B25 -> Espagnol | B25: ='S1 Maquette'!C25 -> ECUE
A26: ='S1 Maquette'!B26 -> Italien | B26: ='S1 Maquette'!C26 -> ECUE | C26: ='S1 Maquette'!F26 -> 0
A27: ='S1 Maquette'!B27 -> UE1 Langue - Anglais | B27: ='S1 Maquette'!C27 -> UE | C27: ='S1 Maquette'!F27 -> 0 | D27: 1 | E27: OUI | F27: OUI | G27: OUI | H27: OUI | I27: OUI | P27: Autres | S27: recalcul à l'UE : Multiplier par 2 la meilleure ECUE
A28: ='S1 Maquette'!B28 -> Grammaire et thème grammatical - Anglais | B28: ='S1 Maquette'!C28 -> ECUE | C28: ='S1 Maquette'!F28 -> 0 | D28: 1 | E28: OUI | F28: OUI | G28: OUI | H28: OUI | I28: OUI | K28: CCI (CC Intégral) | M28: 2 | P28: Autres
A29: ='S1 Maquette'!B29 -> Traduction - Anglais | B29: ='S1 Maquette'!C29 -> ECUE | C29: ='S1 Maquette'!F29 -> 0 | D29: 1 | E29: OUI | F29: OUI | G29: OUI | H29: OUI | I29: OUI | K29: CCI (CC Intégral) | M29: 2 | P29: Autres
A30: ='S1 Maquette'!B30 -> Expression orale | B30: ='S1 Maquette'!C30 -> ECUE | C30: ='S1 Maquette'!F30 -> 0 | D30: 1 | E30: OUI | F30: OUI | G30: OUI | H30: OUI | I30: OUI | K30: CCI (CC Intégral) | M30: 1 | P30: Autres
A31: ='S1 Maquette'!B31 -> UE2 Littératures - Anglais | B31: ='S1 Maquette'!C31 -> UE | C31: ='S1 Maquette'!F31 -> 0 | D31: 1 | E31: OUI | F31: OUI | G31: OUI | H31: OUI | I31: OUI | P31: Autres | S31: recalcul à l'UE : Multiplier par 2 la meilleure ECUE
A32: ='S1 Maquette'!B32 -> Littérature - Anglais | B32: ='S1 Maquette'!C32 -> ECUE | C32: ='S1 Maquette'!F32 -> 0 | D32: 1 | E32: OUI | F32: OUI | G32: OUI | H32: OUI | I32: OUI | K32: CCI (CC Intégral) | M32: 2 | P32: Autres
A33: ='S1 Maquette'!B33 -> Textes et atelier d'écriture - Anglais | B33: ='S1 Maquette'!C33 -> ECUE | C33: ='S1 Maquette'!F33 -> 0 | D33: 1 | E33: OUI | F33: OUI | G33: OUI | H33: OUI | I33: OUI | K33: CCI (CC Intégral) | M33: 2 | P33: Autres
A34: ='S1 Maquette'!B34 -> UE3 Civilisation- Anglais | B34: ='S1 Maquette'!C34 -> UE | C34: ='S1 Maquette'!F34 -> 0 | D34: 1 | E34: OUI | F34: OUI | G34: OUI | H34: OUI | I34: OUI | P34: Autres | S34: recalcul à l'UE : Multiplier par 2 la meilleure ECUE
A35: ='S1 Maquette'!B35 -> Civilisation - Anglais | B35: ='S1 Maquette'!C35 -> ECUE | C35: ='S1 Maquette'!F35 -> 0 | D35: 1 | E35: OUI | F35: OUI | G35: OUI | H35: OUI | I35: OUI | K35: CCI (CC Intégral) | M35: 2 | P35: Autres
A36: ='S1 Maquette'!B36 -> Études de documents civilisation - Anglais | B36: ='S1 Maquette'!C36 -> ECUE | C36: ='S1 Maquette'!F36 -> 0 | D36: 1 | E36: OUI | F36: OUI | G36: OUI | H36: OUI | I36: OUI | K36: CCI (CC Intégral) | M36: 2 | P36: Autres
A37: ='S1 Maquette'!B37 -> UE 4 : 1 UE Au choix | B37: OPTION
A38: ='S1 Maquette'!B38 -> UE4 Pratiques culturelles- Anglais | B38: ='S1 Maquette'!C38 -> UE | C38: ='S1 Maquette'!F38 -> 0 | D38: 1 | E38: OUI | F38: OUI | G38: OUI | H38: OUI | I38: OUI | P38: Autres | S38: recalcul à l'UE : Multiplier par 2 la meilleure ECUE
A39: ='S1 Maquette'!B39 -> Cultures - Anglais | B39: ='S1 Maquette'!C39 -> ECUE | C39: ='S1 Maquette'!F39 -> 0 | D39: 1 | E39: OUI | F39: OUI | G39: OUI | H39: OUI | I39: OUI | K39: CCI (CC Intégral) | M39: 2 | P39: Autres
A40: ='S1 Maquette'!B40 -> Pratiques et documents culturels - Anglais | B40: ='S1 Maquette'!C40 -> ECUE | C40: ='S1 Maquette'!F40 -> 0 | D40: 1 | E40: OUI | F40: OUI | G40: OUI | H40: OUI | I40: OUI | K40: CCI (CC Intégral) | M40: 2 | P40: Autres
A41: ='S1 Maquette'!B41 -> UE4 Ouverture (au choix parmi portail LLAC) | B41: ='S1 Maquette'!C41 -> UE | D41: 1 | E41: OUI | F41: OUI | G41: OUI | H41: OUI | I41: OUI | K41: CCI (CC Intégral)
A42: ='S1 Maquette'!B42 -> UE5 Mineure | B42: ='S1 Maquette'!C42 -> UE | C42: ='S1 Maquette'!F42 -> 0 | D42: 1 | E42: OUI | F42: OUI | G42: OUI | H42: OUI | I42: NON | J42: NON | K42: CCI (CC Intégral)
A43: ='S1 Maquette'!B43 -> 0 | B43: ='S1 Maquette'!C43 -> 0 | C43: ='S1 Maquette'!F43 -> 0
B44: ='S1 Maquette'!C44 -> 0 | C44: ='S1 Maquette'!F44 -> 0
A45: ='S1 Maquette'!B45 -> 0 | B45: ='S1 Maquette'!C45 -> 0 | C45: ='S1 Maquette'!F45 -> 0
A46: ='S1 Maquette'!B46 -> 0 | B46: ='S1 Maquette'!C46 -> 0 | C46: ='S1 Maquette'!F46 -> 0
A47: ='S1 Maquette'!B47 -> 0 | B47: ='S1 Maquette'!C47 -> 0 | C47: ='S1 Maquette'!F47 -> 0
A48: ='S1 Maquette'!B48 -> 0 | B48: ='S1 Maquette'!C48 -> 0 | C48: ='S1 Maquette'!F48 -> 0
A49: ='S1 Maquette'!B49 -> 0 | B49: ='S1 Maquette'!C49 -> 0 | C49: ='S1 Maquette'!F49 -> 0
A50: ='S1 Maquette'!B50 -> 0 | B50: ='S1 Maquette'!C50 -> 0 | C50: ='S1 Maquette'!F50 -> 0
A51: ='S1 Maquette'!B51 -> 0 | B51: ='S1 Maquette'!C51 -> 0 | C51: ='S1 Maquette'!F51 -> 0
A52: ='S1 Maquette'!B52 -> 0 | B52: ='S1 Maquette'!C52 -> 0 | C52: ='S1 Maquette'!F52 -> 0
A53: ='S1 Maquette'!B53 -> 0 | B53: ='S1 Maquette'!C53 -> 0 | C53: ='S1 Maquette'!F53 -> 0
A54: ='S1 Maquette'!B54 -> 0 | B54: ='S1 Maquette'!C54 -> 0 | C54: ='S1 Maquette'!F54 -> 0
A55: ='S1 Maquette'!B55 -> 0 | B55: ='S1 Maquette'!C55 -> 0 | C55: ='S1 Maquette'!F55 -> 0
A56: ='S1 Maquette'!B56 -> 0 | B56: ='S1 Maquette'!C56 -> 0 | C56: ='S1 Maquette'!F56 -> 0
... A302: ='S1 Maquette'!B302 -> 0 | B302: ='S1 Maquette'!C302 -> 0 | C302: ='S1 Maquette'!F302 -> 0

Sheet S1 MCC NA
A7: Composante | B7: ='[1]Fiche Générale'!B3 -> Portail_LLAC | C7: Diplôme | E7: ='[1]Fiche Générale'!B4 -> 0 | G7: Code diplôme | H7: ='[1]Fiche Générale'!B5 -> -
C10: Parcours type | E10: ='[1]Fiche Générale'!B9 -> LLCER Anglais
M12: 1ère session | P12: Seconde Chance
A13: Année | B13: ='[1]S1 Maquette'!B13 -> 1ère année de Portail | D13: Code Année | E13: ='[1]S1 Maquette'!E13 -> 0
M14: Contrôle continu | N14: Contrôle Terminal
A15: Semestre | B15: ='[1]S1 Maquette'!B15 -> Semestre 1 | D15: Code Semestre | E15: ='[1]S1 Maquette'!E15:F16 -> 0
A18: Libellé | B18: Nature | C18: Statut | D18: Coefficient | E18: Notes attendues | F18: Résultat attendu: (ACQ/AJ) | G18: Conservation note | H18: Capitalisable | I18: Compensable | J18: Seuil de compensation /20 | K18: Type de contrôle | L18: Si CC&CT coef du CT | M18: Nbre d'évalution minimum | N18: Nature | O18: Durée | P18: Format d'évaluation | Q18: Nature | R18: Durée | S18: Modalités de mise en œuvre | T18: Commentaires
A19: ='[1]S1 Maquette'!B19 -> Compétences transversales S1 | B19: ='[1]S1 Maquette'!C19 -> UE | C19: ='[1]S1 Maquette'!F19 -> 0
A20: ='[1]S1 Maquette'!B20 -> Compétences écrites 1 | B20: ='[1]S1 Maquette'!C20 -> ECUE | C20: ='[1]S1 Maquette'!F20 -> 0
A21: ='[1]S1 Maquette'!B21 -> Compétences informationnelles | B21: ='[1]S1 Maquette'!C21 -> ECUE | C21: ='[1]S1 Maquette'!F21 -> 0
A22: ='[1]S1 Maquette'!B22 -> Langue Vivante-1 | B22: ='[1]S1 Maquette'!C22 -> ECUE | C22: ='[1]S1 Maquette'!F22 -> 0
A23: ='[1]S1 Maquette'!B23 -> Min 1 Max 1 | B23: ='[1]S1 Maquette'!C23 -> OPTION | C23: ='[1]S1 Maquette'!F23 -> 0
A24: ='[1]S1 Maquette'!B24 -> Anglais 1 | B24: ='[1]S1 Maquette'!C24 -> ECUE | C24: ='[1]S1 Maquette'!F24 -> 0
A25: ='[1]S1 Maquette'!B25 -> Espagnol | B25: ='[1]S1 Maquette'!C25 -> ECUE
A26: ='[1]S1 Maquette'!B26 -> Italien | B26: ='[1]S1 Maquette'!C26 -> ECUE | C26: ='[1]S1 Maquette'!F26 -> 0
A27: ='S1 Maquette'!B27 -> UE1 Langue - Anglais | B27: ='S1 Maquette'!C27 -> UE | C27: ='[1]S1 Maquette'!F27 -> 0 | D27: 1 | E27: OUI | F27: OUI | G27: OUI | H27: OUI | I27: OUI | P27: Autres | S27: recalcul à l'UE : Multiplier par 2 la meilleure ECUE
A28: ='S1 Maquette'!B28 -> Grammaire et thème grammatical - Anglais | B28: ='S1 Maquette'!C28 -> ECUE | C28: ='[1]S1 Maquette'!F28 -> 0 | D28: 1 | E28: OUI | F28: OUI | G28: OUI | H28: OUI | I28: OUI | K28: CCI (CC Intégral) | M28: 1 | P28: Autres | S28: 1 écrit ( grammaire)
A29: ='S1 Maquette'!B29 -> Traduction - Anglais | B29: ='S1 Maquette'!C29 -> ECUE | C29: ='[1]S1 Maquette'!F29 -> 0 | D29: 1 | E29: OUI | F29: OUI | G29: OUI | H29: OUI | I29: OUI | K29: CCI (CC Intégral) | M29: 2 | P29: Autres | S29: 2 écrits (Theme et version)
A30: ='S1 Maquette'!B30 -> Expression orale | B30: ='S1 Maquette'!C30 -> ECUE | C30: ='[1]S1 Maquette'!F30 -> 0 | D30: 1 | E30: OUI | F30: OUI | G30: OUI | H30: OUI | I30: OUI | K30: CCI (CC Intégral) | M30: 1 | P30: Autres | S30: 1 oral
A31: ='S1 Maquette'!B31 -> UE2 Littératures - Anglais | B31: ='S1 Maquette'!C31 -> UE | C31: ='[1]S1 Maquette'!F31 -> 0 | D31: 1 | E31: OUI | F31: OUI | G31: OUI | H31: OUI | I31: OUI | P31: Autres | S31: recalcul à l'UE : Multiplier par 2 la meilleure ECUE
A32: ='S1 Maquette'!B32 -> Littérature - Anglais | B32: ='S1 Maquette'!C32 -> ECUE | C32: ='[1]S1 Maquette'!F32 -> 0 | D32: 1 | E32: OUI | F32: OUI | G32: OUI | H32: OUI | I32: OUI | K32: CCI (CC Intégral) | M32: 1 | P32: Autres | S32: 1 écrit
A33: ='S1 Maquette'!B33 -> Textes et atelier d'écriture - Anglais | B33: ='S1 Maquette'!C33 -> ECUE | C33: ='[1]S1 Maquette'!F33 -> 0 | D33: 1 | E33: OUI | F33: OUI | G33: OUI | H33: OUI | I33: OUI | K33: CCI (CC Intégral) | M33: 1 | P33: Autres | S33: 1 écrit (TD textes)
A34: ='S1 Maquette'!B34 -> UE3 Civilisation- Anglais | B34: ='S1 Maquette'!C34 -> UE | C34: ='[1]S1 Maquette'!F34 -> 0 | D34: 1 | E34: OUI | F34: OUI | G34: OUI | H34: OUI | I34: OUI | P34: Autres | S34: recalcul à l'UE : Multiplier par 2 la meilleure ECUE
A35: ='S1 Maquette'!B35 -> Civilisation - Anglais | B35: ='S1 Maquette'!C35 -> ECUE | C35: ='[1]S1 Maquette'!F35 -> 0 | D35: 1 | E35: OUI | F35: OUI | G35: OUI | H35: OUI | I35: OUI | K35: CCI (CC Intégral) | M35: 1 | P35: Autres | S35: 1 écrit
A36: ='S1 Maquette'!B36 -> Études de documents civilisation - Anglais | B36: ='S1 Maquette'!C36 -> ECUE | C36: ='[1]S1 Maquette'!F36 -> 0 | D36: 1 | E36: OUI | F36: OUI | G36: OUI | H36: OUI | I36: OUI | K36: CCI (CC Intégral) | M36: 1 | P36: Autres | S36: 1 écrit ( TD analyse de documents)
A37: ='S1 Maquette'!B37 -> UE 4 : 1 UE Au choix | B37: ='S1 Maquette'!C37 -> OPTION
A38: ='S1 Maquette'!B38 -> UE4 Pratiques culturelles- Anglais | B38: ='S1 Maquette'!C38 -> UE | C38: ='[1]S1 Maquette'!F37 -> 0 | D38: 1 | E38: OUI | F38: OUI | G38: OUI | H38: OUI | I38: OUI | P38: Autres | S38: recalcul à l'UE : Multiplier par 2 la meilleure ECUE
A39: ='S1 Maquette'!B39 -> Cultures - Anglais | B39: ='S1 Maquette'!C39 -> ECUE | C39: ='[1]S1 Maquette'!F38 -> 0 | D39: 1 | E39: OUI | F39: OUI | G39: OUI | H39: OUI | I39: OUI | K39: CCI (CC Intégral) | M39: 1 | P39: Autres | S39: 1 écrit
A40: ='S1 Maquette'!B40 -> Pratiques et documents culturels - Anglais | B40: ='S1 Maquette'!C40 -> ECUE | C40: ='[1]S1 Maquette'!F39 -> 0 | D40: 1 | E40: OUI | F40: OUI | G40: OUI | H40: OUI | I40: OUI | K40: CCI (CC Intégral) | M40: 1 | P40: Autres | S40: 1 écrit (TD pratique de document)
A41: ='S1 Maquette'!B41 -> UE4 Ouverture (au choix parmi portail LLAC) | B41: ='S1 Maquette'!C41 -> UE | D41: 1 | E41: OUI | F41: OUI | G41: OUI | H41: OUI | I41: OUI | K41: CCI (CC Intégral)
A42: ='S1 Maquette'!B42 -> UE5 Mineure | B42: ='S1 Maquette'!C42 -> UE | C42: ='[1]S1 Maquette'!F40 -> 0 | D42: 1 | E42: OUI | F42: OUI | G42: OUI | H42: OUI | I42: NON | J42: NON | K42: CCI (CC Intégral)
A43: ='[1]S1 Maquette'!B41 -> 0 | B43: ='[1]S1 Maquette'!C41 -> 0 | C43: ='[1]S1 Maquette'!F41 -> 0
B44: ='[1]S1 Maquette'!C42 -> 0 | C44: ='[1]S1 Maquette'!F42 -> 0
A45: ='[1]S1 Maquette'!B43 -> 0 | B45: ='[1]S1 Maquette'!C43 -> 0 | C45: ='[1]S1 Maquette'!F43 -> 0
A46: ='[1]S1 Maquette'!B44 -> 0 | B46: ='[1]S1 Maquette'!C44 -> 0 | C46: ='[1]S1 Maquette'!F44 -> 0
A47: ='[1]S1 Maquette'!B45 -> 0 | B47: ='[1]S1 Maquette'!C45 -> 0 | C47: ='[1]S1 Maquette'!F45 -> 0
A48: ='[1]S1 Maquette'!B46 -> 0 | B48: ='[1]S1 Maquette'!C46 -> 0 | C48: ='[1]S1 Maquette'!F46 -> 0
A49: ='[1]S1 Maquette'!B47 -> 0 | B49: ='[1]S1 Maquette'!C47 -> 0 | C49: ='[1]S1 Maquette'!F47 -> 0
A50: ='[1]S1 Maquette'!B48 -> 0 | B50: ='[1]S1 Maquette'!C48 -> 0 | C50: ='[1]S1 Maquette'!F48 -> 0
A51: ='[1]S1 Maquette'!B49 -> 0 | B51: ='[1]S1 Maquette'!C49 -> 0 | C51: ='[1]S1 Maquette'!F49 -> 0
A52: ='[1]S1 Maquette'!B50 -> 0 | B52: ='[1]S1 Maquette'!C50 -> 0 | C52: ='[1]S1 Maquette'!F50 -> 0
A53: ='[1]S1 Maquette'!B51 -> 0 | B53: ='[1]S1 Maquette'!C51 -> 0 | C53: ='[1]S1 Maquette'!F51 -> 0
A54: ='[1]S1 Maquette'!B52 -> 0 | B54: ='[1]S1 Maquette'!C52 -> 0 | C54: ='[1]S1 Maquette'!F52 -> 0
A55: ='[1]S1 Maquette'!B53 -> 0 | B55: ='[1]S1 Maquette'!C53 -> 0 | C55: ='[1]S1 Maquette'!F53 -> 0
A56: ='[1]S1 Maquette'!B54 -> 0 | B56: ='[1]S1 Maquette'!C54 -> 0 | C56: ='[1]S1 Maquette'!F54 -> 0
... A302: ='[1]S1 Maquette'!B300 -> 0 | B302: ='[1]S1 Maquette'!C300 -> 0 | C302: ='[1]S1 Maquette'!F300 -> 0

Sheet S2 Maquette
A7: Composante | B7: ='Fiche Générale'!B3 -> Portail_LLAC | C7: Diplôme | E7: ='Fiche Générale'!B4 -> 0 | G7: Code diplôme | H7: ='Fiche Générale'!B5 -> -
C10: Parcours type | E10: ='Fiche Générale'!B9 -> LLCER Anglais
A13: Année | B13: ='S1 Maquette'!B13 -> 1ère année de Portail | C13: Code année | E13: ='S1 Maquette'!E13 -> 0 | G13: Heures Maquettes | H13: =Calcul!D7 -> 186
A15: Semestre | B15: Semestre 2 | C15: Code semestre | G15: Heures Valorisées | H15: =Calcul!D20 -> 186
A18: Niveau | B18: Libellé ELP | C18: Nature ELP | D18: ECTS | E18: Type | F18: Statut | G18: Code Apogée | H18: CNU | I18: Heure CM | J18: Heure TD | K18: Heure TP | L18: Langues | M18: Mutualisation | N18: Formation Porteuse | O18: Observations / Remarques ex: Intervention à titre gracieux / Capacité d'accueil max
A19: 0 | B19: Compétences transversales S2 | C19: UE | D19: 6
A20: 0.1 | B20: Compétences numériques 1 | C20: ECUE
A21: 0.2 | B21: Compétences pré-professionnalisation 1 | C21: ECUE
A22: 0.3 | B22: Langue Vivante-2 | C22: ECUE
B23: Min 1 Max 1 | C23: OPTION
A24: 0.3.1 | B24: Anglais 2 | C24: ECUE
A25: 0.3.2 | B25: Espagnol | C25: ECUE
A26: 0.3.3 | B26: Italien | C26: ECUE
A27: 1 | B27: UE1 Langue - Anglais | C27: UE | D27: 6
B28: Grammaire - Anglais | C28: ECUE | J28: 24 | M28: Porteuse
B29: Traduction - Anglais | C29: ECUE | J29: 24 | M29: Porteuse
B30: Expression orale | C30: ECUE | K30: 12 | M30: Porteuse
A31: 2 | B31: UE2 Littératures - Anglais | C31: UE | D31: 6
B32: Littérature - Anglais | C32: ECUE | I32: 12 | M32: Porteuse
B33: Textes et atelier d'écriture - Anglais | C33: ECUE | J33: 24 | M33: Porteuse
A34: 3 | B34: UE3 Civilisation - Anglais | C34: UE | D34: 6
B35: Civilisation - Anglais | C35: ECUE | I35: 12 | M35: Porteuse
B36: Études de documents civilisation - Anglais | C36: ECUE | J36: 24 | M36: Porteuse
B37: UE 4 : 1 UE Au choix | C37: OPTION
A38: 4 | B38: UE4 Pratiques culturelles- Anglais | C38: UE | D38: 6
B39: Cultures - Anglais | C39: ECUE | I39: 12 | M39: Porteuse
B40: Pratiques et documents culturels - Anglais | C40: ECUE | J40: 12 | K40: 12 | M40: Porteuse
A41: 4 | B41: UE4 Ouverture (au choix parmi portail LLAC) | C41: UE | D41: 6
A42: 5 | B42: UE5 Mineure | C42: UE | D42: 6

Sheet S2 MCC
A7: Composante | B7: ='Fiche Générale'!B3 -> Portail_LLAC | C7: Diplôme | E7: ='Fiche Générale'!B4 -> 0 | G7: Code diplôme | H7: ='Fiche Générale'!B5 -> -
C10: Parcours type | E10: ='Fiche Générale'!B9 -> LLCER Anglais
M12: 1ère session | P12: Seconde Chance
A13: Année | B13: ='S2 Maquette'!B13 -> 1ère année de Portail | D13: Code Année | E13: ='S2 Maquette'!E13 -> 0
M14: Contrôle continu | N14: Contrôle Terminal
A15: Semestre | B15: ='S2 Maquette'!B15 -> Semestre 2 | D15: Code Semestre | E15: ='S2 Maquette'!E15:F16 -> 0
A18: Libellé | B18: Nature | C18: Statut | D18: Coefficient | E18: Notes attendues | F18: Résultat attendu: (ACQ/AJ) | G18: Conservation note | H18: Capitalisable | I18: Compensable | J18: Seuil de compensation /20 | K18: Type de contrôle | L18: Si CC&CT coef du CT | M18: Nbre d'évalution minimum | N18: Nature | O18: Durée | P18: Format d'évaluation | Q18: Nature | R18: Durée | S18: Modalités de mise en œuvre | T18: Commentaires
A19: ='S2 Maquette'!B19 -> Compétences transversales S2 | B19: ='S2 Maquette'!C19 -> UE | C19: ='S2 Maquette'!F19 -> 0
A20: ='S2 Maquette'!B20 -> Compétences numériques 1 | B20: ='S2 Maquette'!C20 -> ECUE | C20: ='S2 Maquette'!F20 -> 0
A21: ='S2 Maquette'!B21 -> Compétences pré-professionnalisation 1 | B21: ='S2 Maquette'!C21 -> ECUE | C21: ='S2 Maquette'!F21 -> 0
A22: ='S2 Maquette'!B22 -> Langue Vivante-2 | B22: ='S2 Maquette'!C22 -> ECUE | C22: ='S2 Maquette'!F22 -> 0
A23: ='S2 Maquette'!B23 -> Min 1 Max 1 | B23: ='S2 Maquette'!C23 -> OPTION | C23: ='S2 Maquette'!F23 -> 0
A24: ='S2 Maquette'!B24 -> Anglais 2 | B24: ='S2 Maquette'!C24 -> ECUE | C24: ='S2 Maquette'!F24 -> 0
A25: ='S2 Maquette'!B25 -> Espagnol | B25: ='S2 Maquette'!C25 -> ECUE | C25: ='S2 Maquette'!F25 -> 0
A26: ='S2 Maquette'!B26 -> Italien | B26: ='S2 Maquette'!C26 -> ECUE | C26: ='S2 Maquette'!F26 -> 0
A27: ='S2 Maquette'!B27 -> UE1 Langue - Anglais | B27: ='S2 Maquette'!C27 -> UE | C27: ='S2 Maquette'!F27 -> 0 | D27: 1 | E27: OUI | F27: OUI | G27: OUI | H27: OUI | I27: OUI | P27: Autres | S27: recalcul à l'UE : Multiplier par 2 la meilleure ECUE
A28: ='S2 Maquette'!B28 -> Grammaire - Anglais | B28: ='S2 Maquette'!C28 -> ECUE | C28: ='S2 Maquette'!F28 -> 0 | D28: 1 | E28: OUI | F28: OUI | G28: OUI | H28: OUI | I28: OUI | K28: CCI (CC Intégral) | M28: 2 | P28: Autres
A29: ='S2 Maquette'!B29 -> Traduction - Anglais | B29: ='S2 Maquette'!C29 -> ECUE | C29: ='S2 Maquette'!F29 -> 0 | D29: 1 | E29: OUI | F29: OUI | G29: OUI | H29: OUI | I29: OUI | K29: CCI (CC Intégral) | M29: 2 | P29: Autres
A30: ='S2 Maquette'!B30 -> Expression orale | B30: ='S2 Maquette'!C30 -> ECUE | C30: ='S2 Maquette'!F30 -> 0 | D30: 1 | E30: OUI | F30: OUI | G30: OUI | H30: OUI | I30: OUI | K30: CCI (CC Intégral) | M30: 1 | P30: Autres
A31: ='S2 Maquette'!B31 -> UE2 Littératures - Anglais | B31: ='S2 Maquette'!C31 -> UE | C31: ='S2 Maquette'!F31 -> 0 | D31: 1 | E31: OUI | F31: OUI | G31: OUI | H31: OUI | I31: OUI | P31: Autres | S31: recalcul à l'UE : Multiplier par 2 la meilleure ECUE
A32: ='S2 Maquette'!B32 -> Littérature - Anglais | B32: ='S2 Maquette'!C32 -> ECUE | C32: ='S2 Maquette'!F32 -> 0 | D32: 1 | E32: OUI | F32: OUI | G32: OUI | H32: OUI | I32: OUI | K32: CCI (CC Intégral) | M32: 2 | P32: Autres
A33: ='S2 Maquette'!B33 -> Textes et atelier d'écriture - Anglais | B33: ='S2 Maquette'!C33 -> ECUE | C33: ='S2 Maquette'!F33 -> 0 | D33: 1 | E33: OUI | F33: OUI | G33: OUI | H33: OUI | I33: OUI | K33: CCI (CC Intégral) | M33: 2 | P33: Autres
A34: ='S2 Maquette'!B34 -> UE3 Civilisation - Anglais | B34: ='S2 Maquette'!C34 -> UE | C34: ='S2 Maquette'!F34 -> 0 | D34: 1 | E34: OUI | F34: OUI | G34: OUI | H34: OUI | I34: OUI | P34: Autres | S34: recalcul à l'UE : Multiplier par 2 la meilleure ECUE
A35: ='S2 Maquette'!B35 -> Civilisation - Anglais | B35: ='S2 Maquette'!C35 -> ECUE | C35: ='S2 Maquette'!F35 -> 0 | D35: 1 | E35: OUI | F35: OUI | G35: OUI | H35: OUI | I35: OUI | K35: CCI (CC Intégral) | M35: 2 | P35: Autres
A36: ='S2 Maquette'!B36 -> Études de documents civilisation - Anglais | B36: ='S2 Maquette'!C36 -> ECUE | C36: ='S2 Maquette'!F36 -> 0 | D36: 1 | E36: OUI | F36: OUI | G36: OUI | H36: OUI | I36: OUI | K36: CCI (CC Intégral) | M36: 2 | P36: Autres
A37: ='S1 Maquette'!B37 -> UE 4 : 1 UE Au choix | B37: OPTION
A38: ='S2 Maquette'!B38 -> UE4 Pratiques culturelles- Anglais | B38: ='S2 Maquette'!C38 -> UE | C38: ='S2 Maquette'!F38 -> 0 | D38: 1 | E38: OUI | F38: OUI | G38: OUI | H38: OUI | I38: OUI | P38: Autres | S38: recalcul à l'UE : Multiplier par 2 la meilleure ECUE
A39: ='S2 Maquette'!B39 -> Cultures - Anglais | B39: ='S2 Maquette'!C39 -> ECUE | C39: ='S2 Maquette'!F39 -> 0 | D39: 1 | E39: OUI | F39: OUI | G39: OUI | H39: OUI | I39: OUI | K39: CCI (CC Intégral) | M39: 2 | P39: Autres
A40: ='S2 Maquette'!B40 -> Pratiques et documents culturels - Anglais | B40: ='S2 Maquette'!C40 -> ECUE | C40: ='S2 Maquette'!F40 -> 0 | D40: 1 | E40: OUI | F40: OUI | G40: OUI | H40: OUI | I40: OUI | K40: CCI (CC Intégral) | M40: 2 | P40: Autres
A41: ='S2 Maquette'!B41 -> UE4 Ouverture (au choix parmi portail LLAC) | B41: ='S2 Maquette'!C41 -> UE | C41: ='S2 Maquette'!F41 -> 0 | D41: 1 | E41: OUI | F41: OUI | G41: OUI | H41: OUI | I41: OUI | K41: CCI (CC Intégral)
A42: ='S2 Maquette'!B42 -> UE5 Mineure | B42: ='S2 Maquette'!C42 -> UE | C42: ='S2 Maquette'!F42 -> 0 | D42: 1 | E42: OUI | F42: OUI | G42: OUI | H42: OUI | I42: NON
B43: ='S2 Maquette'!C43 -> 0 | C43: ='S2 Maquette'!F43 -> 0
A44: ='S2 Maquette'!B44 -> 0 | B44: ='S2 Maquette'!C44 -> 0 | C44: ='S2 Maquette'!F44 -> 0
A45: ='S2 Maquette'!B45 -> 0 | B45: ='S2 Maquette'!C45 -> 0 | C45: ='S2 Maquette'!F45 -> 0
A46: ='S2 Maquette'!B46 -> 0 | B46: ='S2 Maquette'!C46 -> 0 | C46: ='S2 Maquette'!F46 -> 0
A47: ='S2 Maquette'!B47 -> 0 | B47: ='S2 Maquette'!C47 -> 0 | C47: ='S2 Maquette'!F47 -> 0
A48: ='S2 Maquette'!B48 -> 0 | B48: ='S2 Maquette'!C48 -> 0 | C48: ='S2 Maquette'!F48 -> 0
A49: ='S2 Maquette'!B49 -> 0 | B49: ='S2 Maquette'!C49 -> 0 | C49: ='S2 Maquette'!F49 -> 0
A50: ='S2 Maquette'!B50 -> 0 | B50: ='S2 Maquette'!C50 -> 0 | C50: ='S2 Maquette'!F50 -> 0
A51: ='S2 Maquette'!B51 -> 0 | B51: ='S2 Maquette'!C51 -> 0 | C51: ='S2 Maquette'!F51 -> 0
A52: ='S2 Maquette'!B52 -> 0 | B52: ='S2 Maquette'!C52 -> 0 | C52: ='S2 Maquette'!F52 -> 0
A53: ='S2 Maquette'!B53 -> 0 | B53: ='S2 Maquette'!C53 -> 0 | C53: ='S2 Maquette'!F53 -> 0
A54: ='S2 Maquette'!B54 -> 0 | B54: ='S2 Maquette'!C54 -> 0 | C54: ='S2 Maquette'!F54 -> 0
A55: ='S2 Maquette'!B55 -> 0 | B55: ='S2 Maquette'!C55 -> 0 | C55: ='S2 Maquette'!F55 -> 0
... A301: ='S2 Maquette'!B301 -> 0 | B301: ='S2 Maquette'!C301 -> 0 | C301: ='S2 Maquette'!F301 -> 0

Sheet S2 MCC NA
A7: Composante | B7: ='[1]Fiche Générale'!B3 -> Portail_LLAC | C7: Diplôme | E7: ='[1]Fiche Générale'!B4 -> 0 | G7: Code diplôme | H7: ='[1]Fiche Générale'!B5 -> -
C10: Parcours type | E10: ='[1]Fiche Générale'!B9 -> LLCER Anglais
M12: 1ère session | P12: Seconde Chance
A13: Année | B13: ='[1]S2 Maquette'!B13 -> 1ère année de Portail | D13: Code Année | E13: ='[1]S2 Maquette'!E13 -> 0
M14: Contrôle continu | N14: Contrôle Terminal
A15: Semestre | B15: ='[1]S2 Maquette'!B15 -> Semestre 2 | D15: Code Semestre | E15: ='[1]S2 Maquette'!E15:F16 -> 0
A18: Libellé | B18: Nature | C18: Statut | D18: Coefficient | E18: Notes attendues | F18: Résultat attendu: (ACQ/AJ) | G18: Conservation note | H18: Capitalisable | I18: Compensable | J18: Seuil de compensation /20 | K18: Type de contrôle | L18: Si CC&CT coef du CT | M18: Nbre d'évalution minimum | N18: Nature | O18: Durée | P18: Format d'évaluation | Q18: Nature | R18: Durée | S18: Modalités de mise en œuvre | T18: Commentaires
A19: ='[1]S2 Maquette'!B19 -> Compétences transversales S2 | B19: ='[1]S2 Maquette'!C19 -> UE | C19: ='[1]S2 Maquette'!F19 -> 0
A20: ='[1]S2 Maquette'!B20 -> Compétences numériques 1 | B20: ='[1]S2 Maquette'!C20 -> ECUE | C20: ='[1]S2 Maquette'!F20 -> 0
A21: ='[1]S2 Maquette'!B21 -> Compétences pré-professionnalisation 1 | B21: ='[1]S2 Maquette'!C21 -> ECUE | C21: ='[1]S2 Maquette'!F21 -> 0
A22: ='[1]S2 Maquette'!B22 -> Langue Vivante-2 | B22: ='[1]S2 Maquette'!C22 -> ECUE | C22: ='[1]S2 Maquette'!F22 -> 0
A23: ='[1]S2 Maquette'!B23 -> Min 1 Max 1 | B23: ='[1]S2 Maquette'!C23 -> OPTION | C23: ='[1]S2 Maquette'!F23 -> 0
A24: ='[1]S2 Maquette'!B24 -> Anglais 2 | B24: ='[1]S2 Maquette'!C24 -> ECUE | C24: ='[1]S2 Maquette'!F24 -> 0
A25: ='[1]S2 Maquette'!B25 -> Espagnol | B25: ='[1]S2 Maquette'!C25 -> ECUE | C25: ='[1]S2 Maquette'!F25 -> 0
A26: ='[1]S2 Maquette'!B26 -> Italien | B26: ='[1]S2 Maquette'!C26 -> ECUE | C26: ='[1]S2 Maquette'!F26 -> 0
A27: ='S2 Maquette'!B27 -> UE1 Langue - Anglais | B27: ='S2 Maquette'!C27 -> UE | C27: ='[1]S2 Maquette'!F27 -> 0 | D27: 1 | E27: OUI | F27: OUI | G27: OUI | H27: OUI | I27: OUI | P27: Autres | S27: recalcul à l'UE : Multiplier par 2 la meilleure ECUE
A28: ='S2 Maquette'!B28 -> Grammaire - Anglais | B28: ='S2 Maquette'!C28 -> ECUE | C28: ='[1]S2 Maquette'!F28 -> 0 | D28: 1 | E28: OUI | F28: OUI | G28: OUI | H28: OUI | I28: OUI | K28: CCI (CC Intégral) | M28: 1 | P28: Autres | S28: 1 écrit ( grammaire)
A29: ='S2 Maquette'!B29 -> Traduction - Anglais | B29: ='S2 Maquette'!C29 -> ECUE | C29: ='[1]S2 Maquette'!F29 -> 0 | D29: 1 | E29: OUI | F29: OUI | G29: OUI | H29: OUI | I29: OUI | K29: CCI (CC Intégral) | M29: 2 | P29: Autres | T29: 2 écrits (Theme et version)
A30: ='S2 Maquette'!B30 -> Expression orale | B30: ='S2 Maquette'!C30 -> ECUE | C30: ='[1]S2 Maquette'!F30 -> 0 | D30: 1 | E30: OUI | F30: OUI | G30: OUI | H30: OUI | I30: OUI | K30: CCI (CC Intégral) | M30: 1 | P30: Autres | S30: 1 oral
A31: ='S2 Maquette'!B31 -> UE2 Littératures - Anglais | B31: ='S2 Maquette'!C31 -> UE | C31: ='[1]S2 Maquette'!F31 -> 0 | D31: 1 | E31: OUI | F31: OUI | G31: OUI | H31: OUI | I31: OUI | P31: Autres | S31: recalcul à l'UE : Multiplier par 2 la meilleure ECUE
A32: ='S2 Maquette'!B32 -> Littérature - Anglais | B32: ='S2 Maquette'!C32 -> ECUE | C32: ='[1]S2 Maquette'!F32 -> 0 | D32: 1 | E32: OUI | F32: OUI | G32: OUI | H32: OUI | I32: OUI | K32: CCI (CC Intégral) | M32: 1 | P32: Autres | S32: 1 écrit
A33: ='S2 Maquette'!B33 -> Textes et atelier d'écriture - Anglais | B33: ='S2 Maquette'!C33 -> ECUE | C33: ='[1]S2 Maquette'!F33 -> 0 | D33: 1 | E33: OUI | F33: OUI | G33: OUI | H33: OUI | I33: OUI | K33: CCI (CC Intégral) | M33: 1 | P33: Autres | S33: 1 écrit (TD textes)
A34: ='S2 Maquette'!B34 -> UE3 Civilisation - Anglais | B34: ='S2 Maquette'!C34 -> UE | C34: ='[1]S2 Maquette'!F34 -> 0 | D34: 1 | E34: OUI | F34: OUI | G34: OUI | H34: OUI | I34: OUI | P34: Autres | S34: recalcul à l'UE : Multiplier par 2 la meilleure ECUE
A35: ='S2 Maquette'!B35 -> Civilisation - Anglais | B35: ='S2 Maquette'!C35 -> ECUE | C35: ='[1]S2 Maquette'!F35 -> 0 | D35: 1 | E35: OUI | F35: OUI | G35: OUI | H35: OUI | I35: OUI | K35: CCI (CC Intégral) | M35: 1 | P35: Autres | S35: 1 écrit
A36: ='S2 Maquette'!B36 -> Études de documents civilisation - Anglais | B36: ='S2 Maquette'!C36 -> ECUE | C36: ='[1]S2 Maquette'!F36 -> 0 | D36: 1 | E36: OUI | F36: OUI | G36: OUI | H36: OUI | I36: OUI | K36: CCI (CC Intégral) | M36: 1 | P36: Autres | S36: 1 écrit ( TD analyse de documents)
A37: ='S2 Maquette'!B37 -> UE 4 : 1 UE Au choix | B37: ='S2 Maquette'!C37 -> OPTION
A38: ='S2 Maquette'!B38 -> UE4 Pratiques culturelles- Anglais | B38: ='S2 Maquette'!C38 -> UE | C38: ='[1]S2 Maquette'!F37 -> 0 | D38: 1 | E38: OUI | F38: OUI | G38: OUI | H38: OUI | I38: OUI | P38: Autres | S38: recalcul à l'UE : Multiplier par 2 la meilleure ECUE
A39: ='S2 Maquette'!B39 -> Cultures - Anglais | B39: ='S2 Maquette'!C39 -> ECUE | C39: ='[1]S2 Maquette'!F38 -> 0 | D39: 1 | E39: OUI | F39: OUI | G39: OUI | H39: OUI | I39: OUI | K39: CCI (CC Intégral) | M39: 1 | P39: Autres | S39: 1 écrit
A40: ='S2 Maquette'!B40 -> Pratiques et documents culturels - Anglais | B40: ='S2 Maquette'!C40 -> ECUE | C40: ='[1]S2 Maquette'!F39 -> 0 | D40: 1 | E40: OUI | F40: OUI | G40: OUI | H40: OUI | I40: OUI | K40: CCI (CC Intégral) | M40: 1 | P40: Autres | S40: 1 écrit (TD pratique de document)
A41: ='S2 Maquette'!B41 -> UE4 Ouverture (au choix parmi portail LLAC) | B41: ='S2 Maquette'!C41 -> UE | D41: 1 | E41: OUI | F41: OUI | G41: OUI | H41: OUI | I41: OUI | K41: CCI (CC Intégral)
A42: ='S2 Maquette'!B42 -> UE5 Mineure | B42: ='S2 Maquette'!C42 -> UE | C42: ='[1]S2 Maquette'!F40 -> 0 | D42: 1 | E42: OUI | F42: OUI | G42: OUI | H42: OUI | I42: NON | J42: NON | K42: CCI (CC Intégral)
A43: ='[1]S2 Maquette'!B41 -> 0 | B43: ='[1]S2 Maquette'!C41 -> 0 | C43: ='[1]S2 Maquette'!F41 -> 0
B44: ='[1]S2 Maquette'!C42 -> 0 | C44: ='[1]S2 Maquette'!F42 -> 0
A45: ='[1]S2 Maquette'!B43 -> 0 | B45: ='[1]S2 Maquette'!C43 -> 0 | C45: ='[1]S2 Maquette'!F43 -> 0
A46: ='[1]S2 Maquette'!B44 -> 0 | B46: ='[1]S2 Maquette'!C44 -> 0 | C46: ='[1]S2 Maquette'!F44 -> 0
A47: ='[1]S2 Maquette'!B45 -> 0 | B47: ='[1]S2 Maquette'!C45 -> 0 | C47: ='[1]S2 Maquette'!F45 -> 0
A48: ='[1]S2 Maquette'!B46 -> 0 | B48: ='[1]S2 Maquette'!C46 -> 0 | C48: ='[1]S2 Maquette'!F46 -> 0
A49: ='[1]S2 Maquette'!B47 -> 0 | B49: ='[1]S2 Maquette'!C47 -> 0 | C49: ='[1]S2 Maquette'!F47 -> 0
A50: ='[1]S2 Maquette'!B48 -> 0 | B50: ='[1]S2 Maquette'!C48 -> 0 | C50: ='[1]S2 Maquette'!F48 -> 0
A51: ='[1]S2 Maquette'!B49 -> 0 | B51: ='[1]S2 Maquette'!C49 -> 0 | C51: ='[1]S2 Maquette'!F49 -> 0
A52: ='[1]S2 Maquette'!B50 -> 0 | B52: ='[1]S2 Maquette'!C50 -> 0 | C52: ='[1]S2 Maquette'!F50 -> 0
A53: ='[1]S2 Maquette'!B51 -> 0 | B53: ='[1]S2 Maquette'!C51 -> 0 | C53: ='[1]S2 Maquette'!F51 -> 0
A54: ='[1]S2 Maquette'!B52 -> 0 | B54: ='[1]S2 Maquette'!C52 -> 0 | C54: ='[1]S2 Maquette'!F52 -> 0
A55: ='[1]S2 Maquette'!B53 -> 0 | B55: ='[1]S2 Maquette'!C53 -> 0 | C55: ='[1]S2 Maquette'!F53 -> 0
A56: ='[1]S2 Maquette'!B54 -> 0 | B56: ='[1]S2 Maquette'!C54 -> 0 | C56: ='[1]S2 Maquette'!F54 -> 0
... A302: ='[1]S2 Maquette'!B300 -> 0 | B302: ='[1]S2 Maquette'!C300 -> 0 | C302: ='[1]S2 Maquette'!F300 -> 0

Sheet S3 Maquette
A7: Composante | B7: ='Fiche Générale'!B3 -> Portail_LLAC | C7: Diplôme | E7: ='Fiche Générale'!B4 -> 0 | G7: Code diplôme | H7: ='Fiche Générale'!B5 -> -
C10: Parcours type | E10: ='Fiche Générale'!B9 -> LLCER Anglais
A13: Année | B13: 2ème année de Portail | C13: Code année | G13: Heures Maquette | H13: =Calcul!G7 -> 240
A15: Semestre | B15: Semestre 3 | C15: Code semestre | G15: Heures Valorisées | H15: =Calcul!G20 -> 240
A18: Niveau | B18: Libellé ELP | C18: Nature ELP | D18: ECTS | E18: Type | F18: Statut | G18: Code Apogée | H18: CNU | I18: Heure CM | J18: Heure TD | K18: Heure TP | L18: Langues | M18: Mutualisation | N18: Formation Porteuse | O18: Observations / Remarques ex: Intervention à titre gracieux / Capacité d'accueil max
A19: 0 | B19: Compétences transversales S3 | C19: UE | D19: 6
A20: 0.1 | B20: Compétences informationnelles 2 | C20: ECUE
A21: 0.2 | B21: Compétences pré-professionnalisation 2 | C21: ECUE
A22: 0.3 | B22: Langue Vivante-3 | C22: ECUE
B23: Min 1 Max 1 | C23: OPTION
A24: 0.3.1 | B24: Anglais 3 | C24: ECUE
A25: 0.3.2 | B25: Espagnol | C25: ECUE
A26: 0.3.3 | B26: Italien | C26: ECUE
A27: 1 | B27: UE1 Langue - Anglais | C27: UE | D27: 6
B28: Thème - Anglais | C28: ECUE | J28: 12 | M28: Porteuse
B29: Version - Anglais | C29: ECUE | J29: 12 | M29: Porteuse
B30: Grammaire et linguistique - Anglais | C30: ECUE | J30: 18 | M30: Porteuse
B31: Atelier d'écriture et expression orale - Anglais | C31: ECUE | K31: 24 | M31: Porteuse
A32: 2 | B32: UE2 Littératures, cultures et sociétés - Anglais | C32: UE | D32: 6
B33: Littératures, cultures et sociétés A - Anglais | C33: ECUE | I33: 12 | J33: 18 | M33: Porteuse
B34: Littératures, cultures et sociétés B - Anglais | C34: ECUE | I34: 12 | J34: 18 | M34: Porteuse
A35: 3 | B35: UE3 Civilisation et arts - Anglais | C35: UE | D35: 6
B36: Civilisations et arts A - Anglais | C36: ECUE | I36: 12 | J36: 18 | M36: Porteuse
B37: Civilisations et arts B - Anglais | C37: ECUE | I37: 12 | J37: 18 | M37: Porteuse
B38: UE 4 : 1 UE au choix | C38: OPTION
A39: 4 | B39: UE 4 approfondissement - Anglais | C39: UE | D39: 6
B40: Cultures- Anglais | C40: ECUE | I40: 12 | M40: Porteuse
B41: Pratiques et documents- Anglais | C41: ECUE | J41: 12 | M41: Porteuse
A42: 4 | B42: UE 4 Ouverture (au choix parmi portail LLAC) | C42: UE | D42: 6
A43: 5 | B43: UE5 Mineure | C43: UE | D43: 6

Sheet S3 MCC
A7: Composante | B7: ='Fiche Générale'!B3 -> Portail_LLAC | C7: Diplôme | E7: ='Fiche Générale'!B4 -> 0 | G7: Code diplôme | H7: ='Fiche Générale'!B5 -> -
C10: Parcours type | E10: ='Fiche Générale'!B9 -> LLCER Anglais
M12: 1ère session | P12: Seconde Chance
A13: Année | B13: ='S3 Maquette'!B13 -> 2ème année de Portail | D13: Code Année | E13: ='S3 Maquette'!E13 -> 0
M14: Contrôle continu | N14: Contrôle Terminal
A15: Semestre | B15: ='S3 Maquette'!B15 -> Semestre 3 | D15: Code Semestre | E15: ='S3 Maquette'!E15:F16 -> 0
A18: Libellé | B18: Nature | C18: Statut | D18: Coefficient | E18: Notes attendues | F18: Résultat attendu: (ACQ/AJ) | G18: Conservation note | H18: Capitalisable | I18: Compensable | J18: Seuil de compensation /20 | K18: Type de contrôle | L18: Si CC&CT coef du CT | M18: Nbre d'évalution minimum | N18: Nature | O18: Durée | P18: Format d'évaluation | Q18: Nature | R18: Durée | S18: Modalités de mise en œuvre | T18: Commentaires
A19: ='S3 Maquette'!B19 -> Compétences transversales S3 | B19: ='S3 Maquette'!C19 -> UE | C19: ='S3 Maquette'!F19 -> 0
A20: ='S3 Maquette'!B20 -> Compétences informationnelles 2 | B20: ='S3 Maquette'!C20 -> ECUE | C20: ='S3 Maquette'!F20 -> 0
A21: ='S3 Maquette'!B21 -> Compétences pré-professionnalisation 2 | B21: ='S3 Maquette'!C21 -> ECUE | C21: ='S3 Maquette'!F21 -> 0
A22: ='S3 Maquette'!B22 -> Langue Vivante-3 | B22: ='S3 Maquette'!C22 -> ECUE | C22: ='S3 Maquette'!F22 -> 0
A23: ='S3 Maquette'!B23 -> Min 1 Max 1 | B23: ='S3 Maquette'!C23 -> OPTION | C23: ='S3 Maquette'!F23 -> 0
A24: ='S3 Maquette'!B24 -> Anglais 3 | B24: ='S3 Maquette'!C24 -> ECUE | C24: ='S3 Maquette'!F24 -> 0
A25: ='S3 Maquette'!B25 -> Espagnol | B25: ='S3 Maquette'!C25 -> ECUE | C25: ='S3 Maquette'!F25 -> 0
A26: ='S3 Maquette'!B26 -> Italien | B26: ='S3 Maquette'!C26 -> ECUE | C26: ='S3 Maquette'!F26 -> 0
A27: ='S3 Maquette'!B27 -> UE1 Langue - Anglais | B27: ='S3 Maquette'!C27 -> UE | C27: ='S3 Maquette'!F27 -> 0 | D27: 1 | E27: OUI | F27: OUI | G27: OUI | H27: OUI | I27: OUI | J27: 7 | P27: Autres | S27: recalcul à l'UE : Multiplier par 2 la meilleure ECUE
A28: ='S3 Maquette'!B28 -> Thème - Anglais | B28: ='S3 Maquette'!C28 -> ECUE | C28: ='S3 Maquette'!F28 -> 0 | D28: 1 | E28: OUI | F28: OUI | G28: OUI | H28: OUI | I28: OUI | J28: aucun | K28: CCI (CC Intégral) | M28: 1 | P28: Autres
A29: ='S3 Maquette'!B29 -> Version - Anglais | B29: ='S3 Maquette'!C29 -> ECUE | C29: ='S3 Maquette'!F29 -> 0 | D29: 1 | E29: OUI | F29: OUI | G29: OUI | H29: OUI | I29: OUI | J29: aucun | K29: CCI (CC Intégral) | M29: 1 | P29: Autres
A30: ='S3 Maquette'!B30 -> Grammaire et linguistique - Anglais | B30: ='S3 Maquette'!C30 -> ECUE | C30: ='S3 Maquette'!F30 -> 0 | D30: 1 | E30: OUI | F30: OUI | G30: OUI | H30: OUI | I30: OUI | J30: aucun | K30: CCI (CC Intégral) | M30: 2 | P30: Autres
A31: ='S3 Maquette'!B31 -> Atelier d'écriture et expression orale - Anglais | B31: ='S3 Maquette'!C31 -> ECUE | C31: ='S3 Maquette'!F31 -> 0 | D31: 1 | E31: OUI | F31: OUI | G31: OUI | H31: OUI | I31: OUI | J31: aucun | K31: CCI (CC Intégral) | M31: 1 | P31: Autres
A32: ='S3 Maquette'!B32 -> UE2 Littératures, cultures et sociétés - Anglais | B32: ='S3 Maquette'!C32 -> UE | C32: ='S3 Maquette'!F32 -> 0 | D32: 1 | E32: OUI | F32: OUI | G32: OUI | H32: OUI | I32: OUI | J32: 7 | K32: CCI (CC Intégral) | M32: 4 | P32: Autres | S32: recalcul à l'UE : Multiplier par 2 la meilleure ECUE
A33: ='S3 Maquette'!B33 -> Littératures, cultures et sociétés A - Anglais | B33: ='S3 Maquette'!C33 -> ECUE | C33: ='S3 Maquette'!F33 -> 0 | D33: 1 | E33: OUI | F33: OUI | G33: OUI | H33: OUI | I33: OUI | J33: aucun | K33: CCI (CC Intégral) | M33: 2 | P33: Autres
A34: ='S3 Maquette'!B34 -> Littératures, cultures et sociétés B - Anglais | B34: ='S3 Maquette'!C34 -> ECUE | C34: ='S3 Maquette'!F34 -> 0 | D34: 1 | E34: OUI | F34: OUI | G34: OUI | H34: OUI | I34: OUI | J34: aucun | K34: CCI (CC Intégral) | M34: 2 | P34: Autres
A35: ='S3 Maquette'!B35 -> UE3 Civilisation et arts - Anglais | B35: ='S3 Maquette'!C35 -> UE | C35: ='S3 Maquette'!F35 -> 0 | D35: 1 | E35: OUI | F35: OUI | G35: OUI | H35: OUI | I35: OUI | J35: 7 | P35: Autres | S35: recalcul à l'UE : Multiplier par 2 la meilleure ECUE
A36: ='S3 Maquette'!B36 -> Civilisations et arts A - Anglais | B36: ='S3 Maquette'!C36 -> ECUE | C36: ='S3 Maquette'!F36 -> 0 | D36: 1 | E36: OUI | F36: OUI | G36: OUI | H36: OUI | I36: OUI | J36: aucun | K36: CCI (CC Intégral) | M36: 2 | P36: Autres
A37: ='S3 Maquette'!B37 -> Civilisations et arts B - Anglais | B37: ='S3 Maquette'!C37 -> ECUE | C37: ='S3 Maquette'!F37 -> 0 | D37: 1 | E37: OUI | F37: OUI | G37: OUI | H37: OUI | I37: OUI | J37: aucun | K37: CCI (CC Intégral) | M37: 2 | P37: Autres
A38: ='S3 Maquette'!B38 -> UE 4 : 1 UE au choix | B38: ='S3 Maquette'!C38 -> OPTION | C38: ='S3 Maquette'!F38 -> 0 | M38: 3 | P38: Autres | S38: recalcul à l'UE : éliminer la pire des notes. Multiplier par 2 la meilleure ECUE
A39: =+'S3 Maquette'!B39 -> UE 4 approfondissement - Anglais | B39: =+'S3 Maquette'!C39 -> UE | J39: 7 | S39: recalcul à l'UE : Multiplier par 2 la meilleure ECUE
A40: ='S3 Maquette'!B40 -> Cultures- Anglais | B40: ='S3 Maquette'!C40 -> ECUE | C40: ='S3 Maquette'!F40 -> 0 | D40: 1 | E40: OUI | F40: OUI | G40: OUI | H40: OUI | I40: OUI | J40: aucun | K40: CCI (CC Intégral) | M40: 1 | P40: Autres
A41: ='S3 Maquette'!B41 -> Pratiques et documents- Anglais | B41: ='S3 Maquette'!C41 -> ECUE | C41: ='S3 Maquette'!F41 -> 0 | D41: 1 | E41: OUI | F41: OUI | G41: OUI | H41: OUI | I41: OUI | J41: aucun | K41: CCI (CC Intégral) | M41: 2 | P41: Autres
A42: =+'S3 Maquette'!B42 -> UE 4 Ouverture (au choix parmi portail LLAC) | B42: =+'S3 Maquette'!C42 -> UE | D42: 1 | E42: OUI | F42: OUI | G42: OUI | H42: OUI | I42: OUI | J42: aucun | K42: CCI (CC Intégral)
A43: ='S3 Maquette'!B43 -> UE5 Mineure | B43: ='S3 Maquette'!C43 -> UE | C43: ='S3 Maquette'!F43 -> 0 | D43: 1 | E43: OUI | F43: OUI | G43: OUI | H43: OUI | I43: NON
B44: ='S3 Maquette'!C44 -> 0 | C44: ='S3 Maquette'!F44 -> 0
A45: ='S3 Maquette'!B45 -> 0 | B45: ='S3 Maquette'!C45 -> 0 | C45: ='S3 Maquette'!F45 -> 0
A46: ='S3 Maquette'!B46 -> 0 | B46: ='S3 Maquette'!C46 -> 0 | C46: ='S3 Maquette'!F46 -> 0
A47: ='S3 Maquette'!B47 -> 0 | B47: ='S3 Maquette'!C47 -> 0 | C47: ='S3 Maquette'!F47 -> 0
A48: ='S3 Maquette'!B48 -> 0 | B48: ='S3 Maquette'!C48 -> 0 | C48: ='S3 Maquette'!F48 -> 0
A49: ='S3 Maquette'!B49 -> 0 | B49: ='S3 Maquette'!C49 -> 0 | C49: ='S3 Maquette'!F49 -> 0
A50: ='S3 Maquette'!B50 -> 0 | B50: ='S3 Maquette'!C50 -> 0 | C50: ='S3 Maquette'!F50 -> 0
A51: ='S3 Maquette'!B51 -> 0 | B51: ='S3 Maquette'!C51 -> 0 | C51: ='S3 Maquette'!F51 -> 0
A52: ='S3 Maquette'!B52 -> 0 | B52: ='S3 Maquette'!C52 -> 0 | C52: ='S3 Maquette'!F52 -> 0
A53: ='S3 Maquette'!B53 -> 0 | B53: ='S3 Maquette'!C53 -> 0 | C53: ='S3 Maquette'!F53 -> 0
A54: ='S3 Maquette'!B54 -> 0 | B54: ='S3 Maquette'!C54 -> 0 | C54: ='S3 Maquette'!F54 -> 0
A55: ='S3 Maquette'!B55 -> 0 | B55: ='S3 Maquette'!C55 -> 0 | C55: ='S3 Maquette'!F55 -> 0
A56: ='S3 Maquette'!B56 -> 0 | B56: ='S3 Maquette'!C56 -> 0 | C56: ='S3 Maquette'!F56 -> 0
... A302: ='S3 Maquette'!B302 -> 0 | B302: ='S3 Maquette'!C302 -> 0 | C302: ='S3 Maquette'!F302 -> 0

Sheet S3 MCC NA
A7: Composante | B7: ='[1]Fiche Générale'!B3 -> Portail_LLAC | C7: Diplôme | E7: ='[1]Fiche Générale'!B4 -> 0 | G7: Code diplôme | H7: ='[1]Fiche Générale'!B5 -> -
C10: Parcours type | E10: ='[1]Fiche Générale'!B9 -> LLCER Anglais
M12: 1ère session | P12: Seconde Chance
A13: Année | B13: ='[1]S3 Maquette'!B13 -> 2ème année de Portail | D13: Code Année | E13: ='[1]S3 Maquette'!E13 -> 0
M14: Contrôle continu | N14: Contrôle Terminal
A15: Semestre | B15: ='[1]S3 Maquette'!B15 -> Semestre 3 | D15: Code Semestre | E15: ='[1]S3 Maquette'!E15:F16 -> 0
A18: Libellé | B18: Nature | C18: Statut | D18: Coefficient | E18: Notes attendues | F18: Résultat attendu: (ACQ/AJ) | G18: Conservation note | H18: Capitalisable | I18: Compensable | J18: Seuil de compensation /20 | K18: Type de contrôle | L18: Si CC&CT coef du CT | M18: Nbre d'évalution minimum | N18: Nature | O18: Durée | P18: Format d'évaluation | Q18: Nature | R18: Durée | S18: Modalités de mise en œuvre | T18: Commentaires
A19: ='[1]S3 Maquette'!B19 -> Compétences transversales S3 | B19: ='[1]S3 Maquette'!C19 -> UE | C19: ='[1]S3 Maquette'!F19 -> 0
A20: ='[1]S3 Maquette'!B20 -> Compétences informationnelles 2 | B20: ='[1]S3 Maquette'!C20 -> ECUE | C20: ='[1]S3 Maquette'!F20 -> 0
A21: ='[1]S3 Maquette'!B21 -> Compétences pré-professionnalisation 2 | B21: ='[1]S3 Maquette'!C21 -> ECUE | C21: ='[1]S3 Maquette'!F21 -> 0
A22: ='[1]S3 Maquette'!B22 -> Langue Vivante-3 | B22: ='[1]S3 Maquette'!C22 -> ECUE | C22: ='[1]S3 Maquette'!F22 -> 0
A23: ='[1]S3 Maquette'!B23 -> Min 1 Max 1 | B23: ='[1]S3 Maquette'!C23 -> OPTION | C23: ='[1]S3 Maquette'!F23 -> 0
A24: ='[1]S3 Maquette'!B24 -> Anglais 3 | B24: ='[1]S3 Maquette'!C24 -> ECUE | C24: ='[1]S3 Maquette'!F24 -> 0
A25: ='[1]S3 Maquette'!B25 -> Espagnol | B25: ='[1]S3 Maquette'!C25 -> ECUE | C25: ='[1]S3 Maquette'!F25 -> 0
A26: ='[1]S3 Maquette'!B26 -> Italien | B26: ='[1]S3 Maquette'!C26 -> ECUE | C26: ='[1]S3 Maquette'!F26 -> 0
A27: ='S3 Maquette'!B27 -> UE1 Langue - Anglais | B27: ='S3 Maquette'!C27 -> UE | C27: ='[1]S3 Maquette'!F27 -> 0 | D27: 1 | E27: OUI | F27: OUI | G27: OUI | H27: OUI | I27: OUI | J27: 7 | M27: 2 | P27: Autres | S27: recalcul à l'UE : Multiplier par 2 la meilleure ECUE
A28: ='S3 Maquette'!B28 -> Thème - Anglais | B28: ='S3 Maquette'!C28 -> ECUE | C28: ='[1]S3 Maquette'!F28 -> 0 | D28: 1 | E28: OUI | F28: OUI | G28: OUI | H28: OUI | I28: OUI | J28: aucun | K28: CCI (CC Intégral) | M28: 1 | P28: Autres | S28: 1 écrit
A29: ='S3 Maquette'!B29 -> Version - Anglais | B29: ='S3 Maquette'!C29 -> ECUE | C29: ='[1]S3 Maquette'!F29 -> 0 | D29: 1 | E29: OUI | F29: OUI | G29: OUI | H29: OUI | I29: OUI | J29: aucun | K29: CCI (CC Intégral) | M29: 1 | P29: Autres | S29: 1 écrit
A30: ='S3 Maquette'!B30 -> Grammaire et linguistique - Anglais | B30: ='S3 Maquette'!C30 -> ECUE | C30: ='[1]S3 Maquette'!F30 -> 0 | D30: 1 | E30: OUI | F30: OUI | G30: OUI | H30: OUI | I30: OUI | J30: aucun | K30: CCI (CC Intégral) | M30: 1 | P30: Autres | S30: 1 écrit (grammaire)
A31: ='S3 Maquette'!B31 -> Atelier d'écriture et expression orale - Anglais | B31: ='S3 Maquette'!C31 -> ECUE | C31: ='[1]S3 Maquette'!F31 -> 0 | D31: 1 | E31: OUI | F31: OUI | G31: OUI | H31: OUI | I31: OUI | J31: aucun | K31: CCI (CC Intégral) | M31: 1 | P31: Autres | S31: 1 oral
A32: ='S3 Maquette'!B32 -> UE2 Littératures, cultures et sociétés - Anglais | B32: ='S3 Maquette'!C32 -> UE | C32: ='[1]S3 Maquette'!F32 -> 0 | D32: 1 | E32: OUI | F32: OUI | G32: OUI | H32: OUI | I32: OUI | J32: 7 | K32: CCI (CC Intégral) | M32: 2 | P32: Autres | S32: recalcul à l'UE : Multiplier par 2 la meilleure ECUE
A33: ='S3 Maquette'!B33 -> Littératures, cultures et sociétés A - Anglais | B33: ='S3 Maquette'!C33 -> ECUE | C33: ='[1]S3 Maquette'!F33 -> 0 | D33: 1 | E33: OUI | F33: OUI | G33: OUI | H33: OUI | I33: OUI | J33: aucun | K33: CCI (CC Intégral) | M33: 1 | P33: Autres | S33: 1 écrit (partie TD)
A34: ='S3 Maquette'!B34 -> Littératures, cultures et sociétés B - Anglais | B34: ='S3 Maquette'!C34 -> ECUE | C34: ='[1]S3 Maquette'!F34 -> 0 | D34: 1 | E34: OUI | F34: OUI | G34: OUI | H34: OUI | I34: OUI | J34: aucun | K34: CCI (CC Intégral) | M34: 1 | P34: Autres | S34: 1 écrit (partie TD)
A35: ='S3 Maquette'!B35 -> UE3 Civilisation et arts - Anglais | B35: ='S3 Maquette'!C35 -> UE | C35: ='[1]S3 Maquette'!F35 -> 0 | D35: 1 | E35: OUI | F35: OUI | G35: OUI | H35: OUI | I35: OUI | J35: 7 | K35: CCI (CC Intégral) | M35: 2 | P35: Autres | S35: recalcul à l'UE : Multiplier par 2 la meilleure ECUE
A36: ='S3 Maquette'!B36 -> Civilisations et arts A - Anglais | B36: ='S3 Maquette'!C36 -> ECUE | C36: ='[1]S3 Maquette'!F36 -> 0 | D36: 1 | E36: OUI | F36: OUI | G36: OUI | H36: OUI | I36: OUI | J36: aucun | K36: CCI (CC Intégral) | M36: 1 | P36: Autres | S36: 1 écrit (partie TD)
A37: ='S3 Maquette'!B37 -> Civilisations et arts B - Anglais | B37: ='S3 Maquette'!C37 -> ECUE | C37: ='[1]S3 Maquette'!F37 -> 0 | D37: 1 | E37: OUI | F37: OUI | G37: OUI | H37: OUI | I37: OUI | J37: aucun | K37: CCI (CC Intégral) | M37: 1 | P37: Autres | S37: 1 écrit (partie TD)
A38: ='S3 Maquette'!B38 -> UE 4 : 1 UE au choix | B38: ='S3 Maquette'!C38 -> OPTION | C38: ='S3 Maquette'!F38 -> 0
A39: ='S3 Maquette'!B39 -> UE 4 approfondissement - Anglais | B39: ='S3 Maquette'!C39 -> UE | C39: ='[1]S3 Maquette'!F38 -> 0 | D39: 1 | E39: OUI | F39: OUI | G39: OUI | H39: OUI | I39: OUI | J39: 7 | K39: CCI (CC Intégral) | M39: 2 | P39: Autres | S39: recalcul à l'UE : Multiplier par 2 la meilleure ECUE
A40: ='S3 Maquette'!B40 -> Cultures- Anglais | B40: ='S3 Maquette'!C40 -> ECUE | C40: ='[1]S3 Maquette'!F39 -> 0 | D40: 1 | E40: OUI | F40: OUI | G40: OUI | H40: OUI | I40: OUI | J40: aucun | K40: CCI (CC Intégral) | M40: 1 | P40: Autres | S40: 1 écrit
A41: ='S3 Maquette'!B41 -> Pratiques et documents- Anglais | B41: ='S3 Maquette'!C41 -> ECUE | C41: ='[1]S3 Maquette'!F40 -> 0 | D41: 1 | E41: OUI | F41: OUI | G41: OUI | H41: OUI | I41: OUI | J41: aucun | K41: CCI (CC Intégral) | M41: 1 | P41: Autres | S41: 1 écrit (partie TD)
A42: ='S3 Maquette'!B42 -> UE 4 Ouverture (au choix parmi portail LLAC) | B42: ='S3 Maquette'!C42 -> UE | D42: 1 | E42: OUI | F42: OUI | G42: OUI | H42: OUI | I42: OUI | J42: aucun | K42: CCI (CC Intégral)
A43: ='S3 Maquette'!B43 -> UE5 Mineure | B43: ='S3 Maquette'!C43 -> UE | C43: ='[1]S3 Maquette'!F41 -> 0 | D43: 1 | E43: OUI | F43: OUI | G43: OUI | H43: OUI | I43: NON
B44: ='[1]S3 Maquette'!C42 -> 0 | C44: ='[1]S3 Maquette'!F42 -> 0
A45: ='[1]S3 Maquette'!B43 -> 0 | B45: ='[1]S3 Maquette'!C43 -> 0 | C45: ='[1]S3 Maquette'!F43 -> 0
A46: ='[1]S3 Maquette'!B44 -> 0 | B46: ='[1]S3 Maquette'!C44 -> 0 | C46: ='[1]S3 Maquette'!F44 -> 0
A47: ='[1]S3 Maquette'!B45 -> 0 | B47: ='[1]S3 Maquette'!C45 -> 0 | C47: ='[1]S3 Maquette'!F45 -> 0
A48: ='[1]S3 Maquette'!B46 -> 0 | B48: ='[1]S3 Maquette'!C46 -> 0 | C48: ='[1]S3 Maquette'!F46 -> 0
A49: ='[1]S3 Maquette'!B47 -> 0 | B49: ='[1]S3 Maquette'!C47 -> 0 | C49: ='[1]S3 Maquette'!F47 -> 0
A50: ='[1]S3 Maquette'!B48 -> 0 | B50: ='[1]S3 Maquette'!C48 -> 0 | C50: ='[1]S3 Maquette'!F48 -> 0
A51: ='[1]S3 Maquette'!B49 -> 0 | B51: ='[1]S3 Maquette'!C49 -> 0 | C51: ='[1]S3 Maquette'!F49 -> 0
A52: ='[1]S3 Maquette'!B50 -> 0 | B52: ='[1]S3 Maquette'!C50 -> 0 | C52: ='[1]S3 Maquette'!F50 -> 0
A53: ='[1]S3 Maquette'!B51 -> 0 | B53: ='[1]S3 Maquette'!C51 -> 0 | C53: ='[1]S3 Maquette'!F51 -> 0
A54: ='[1]S3 Maquette'!B52 -> 0 | B54: ='[1]S3 Maquette'!C52 -> 0 | C54: ='[1]S3 Maquette'!F52 -> 0
A55: ='[1]S3 Maquette'!B53 -> 0 | B55: ='[1]S3 Maquette'!C53 -> 0 | C55: ='[1]S3 Maquette'!F53 -> 0
A56: ='[1]S3 Maquette'!B54 -> 0 | B56: ='[1]S3 Maquette'!C54 -> 0 | C56: ='[1]S3 Maquette'!F54 -> 0
... A302: ='[1]S3 Maquette'!B300 -> 0 | B302: ='[1]S3 Maquette'!C300 -> 0 | C302: ='[1]S3 Maquette'!F300 -> 0

Sheet S4 Maquette
A7: Composante | B7: ='Fiche Générale'!B3 -> Portail_LLAC | C7: Diplôme | E7: ='Fiche Générale'!B4 -> 0 | G7: Code diplôme | H7: ='Fiche Générale'!B5 -> -
C10: Parcours type | E10: ='Fiche Générale'!B9 -> LLCER Anglais
A13: Année | B13: ='S3 Maquette'!B13 -> 2ème année de Portail | C13: Code année | E13: ='S3 Maquette'!E13 -> 0 | G13: Heures Maquette | H13: =Calcul!J7 -> 240
A15: Semestre | B15: Semestre 4 | C15: Code semestre | G15: Heures Valorisées | H15: =Calcul!J20 -> 240
A18: Niveau | B18: Libellé ELP | C18: Nature ELP | D18: ECTS | E18: Type | F18: Statut | G18: Code Apogée | H18: CNU | I18: Heure CM | J18: Heure TD | K18: Heure TP | L18: Langues | M18: Mutualisation | N18: Formation Porteuse | O18: Observations / Remarques ex: Intervention à titre gracieux / Capacité d'accueil max
A19: 0 | B19: Compétences transversales S4 | C19: UE | D19: 6
A20: 0.1 | B20: Compétences écrites 2 | C20: ECUE
A21: 0.2 | B21: Compétences numériques 2 | C21: ECUE
A22: 0.3 | B22: Langue Vivante-4 | C22: ECUE
B23: Min 1 Max 1 | C23: OPTION
A24: 0.3.1 | B24: Anglais 4 | C24: ECUE
A25: 0.3.2 | B25: Espagnol | C25: ECUE
A26: 0.3.3 | B26: Italien | C26: ECUE
A27: 1 | B27: UE1 Langue - Anglais | C27: UE | D27: 6
B28: Thème - Anglais | C28: ECUE | J28: 12 | M28: Porteuse
B29: Version - Anglais | C29: ECUE | J29: 12 | M29: Porteuse
B30: Linguistique et grammaire - Anglais | C30: ECUE | J30: 18 | M30: Porteuse
B31: Atelier écriture et expression orale - Anglais | C31: ECUE | K31: 24 | M31: Porteuse
A32: 2 | B32: UE2 Littératures, cultures et sociétés - Anglais | C32: UE | D32: 6
B33: Littératures, cultures et sociétés A - Anglais | C33: ECUE | I33: 12 | J33: 18 | M33: Porteuse
B34: Littératures, cultures et sociétés B - Anglais | C34: ECUE | I34: 12 | J34: 18 | M34: Porteuse
A35: 3 | B35: UE3 Civilisation et Arts - Anglais | C35: UE | D35: 6
B36: Civilisations et arts A - Anglais | C36: ECUE | I36: 12 | J36: 18 | M36: Porteuse
B37: Civilisations et arts B - Anglais | C37: ECUE | I37: 12 | J37: 18 | M37: Porteuse
B38: UE 4 : 1 UE au choix | C38: OPTION
A39: 4 | B39: UE 4 approfondissement - Anglais | C39: UE | D39: 6
B40: Cultures - Anglais | C40: ECUE | I40: 12 | M40: Porteuse
B41: Pratiques et documents - Anglais | C41: ECUE | J41: 12 | M41: Porteuse
A42: 4 | B42: UE 4 Ouverture (au choix parmi portail LLAC) | C42: UE | D42: 6
A43: 5 | B43: UE5 Mineure | C43: UE | D43: 6

Sheet S4 MCC
A7: Composante | B7: ='Fiche Générale'!B3 -> Portail_LLAC | C7: Diplôme | E7: ='Fiche Générale'!B4 -> 0 | G7: Code diplôme | H7: ='Fiche Générale'!B5 -> -
C10: Parcours type | E10: ='Fiche Générale'!B9 -> LLCER Anglais
M12: 1ère session | P12: Seconde Chance
A13: Année | B13: ='S4 Maquette'!B13 -> 2ème année de Portail | D13: Code Année | E13: ='S4 Maquette'!E13 -> 0
M14: Contrôle continu | N14: Contrôle Terminal
A15: Semestre | B15: ='S4 Maquette'!B15 -> Semestre 4 | D15: Code Semestre | E15: ='S4 Maquette'!E15:F16 -> 0
A18: Libellé | B18: Nature | C18: Statut | D18: Coefficient | E18: Notes attendues | F18: Résultat attendu: (ACQ/AJ) | G18: Conservation note | H18: Capitalisable | I18: Compensable | J18: Seuil de compensation / 20 | K18: Type de contrôle | L18: Si CC&CT coef du CT | M18: Nbre d'évalution minimum | N18: Nature | O18: Durée | P18: Format d'évaluation | Q18: Nature | R18: Durée | S18: Modalités de mise en œuvre | T18: Commentaires
A19: ='S4 Maquette'!B19 -> Compétences transversales S4 | B19: ='S4 Maquette'!C19 -> UE | C19: ='S4 Maquette'!F19 -> 0
A20: ='S4 Maquette'!B20 -> Compétences écrites 2 | B20: ='S4 Maquette'!C20 -> ECUE | C20: ='S4 Maquette'!F20 -> 0
A21: ='S4 Maquette'!B21 -> Compétences numériques 2 | B21: ='S4 Maquette'!C21 -> ECUE | C21: ='S4 Maquette'!F21 -> 0
A22: ='S4 Maquette'!B22 -> Langue Vivante-4 | B22: ='S4 Maquette'!C22 -> ECUE | C22: ='S4 Maquette'!F22 -> 0
A23: ='S4 Maquette'!B23 -> Min 1 Max 1 | B23: ='S4 Maquette'!C23 -> OPTION | C23: ='S4 Maquette'!F23 -> 0
A24: ='S4 Maquette'!B24 -> Anglais 4 | B24: ='S4 Maquette'!C24 -> ECUE | C24: ='S4 Maquette'!F24 -> 0
A25: ='S4 Maquette'!B25 -> Espagnol | B25: ='S4 Maquette'!C25 -> ECUE | C25: ='S4 Maquette'!F25 -> 0
A26: ='S4 Maquette'!B26 -> Italien | B26: ='S4 Maquette'!C26 -> ECUE | C26: ='S4 Maquette'!F26 -> 0
A27: ='S4 Maquette'!B27 -> UE1 Langue - Anglais | B27: ='S4 Maquette'!C27 -> UE | C27: ='S4 Maquette'!F27 -> 0 | D27: 1 | E27: OUI | F27: OUI | G27: OUI | H27: OUI | I27: OUI | J27: 7 | P27: Autres | S27: recalcul à l'UE : Multiplier par 2 la meilleure ECUE
A28: ='S4 Maquette'!B28 -> Thème - Anglais | B28: ='S4 Maquette'!C28 -> ECUE | C28: ='S4 Maquette'!F28 -> 0 | D28: 1 | E28: OUI | F28: OUI | G28: OUI | H28: OUI | I28: OUI | J28: aucun | K28: CCI (CC Intégral) | M28: 2 | P28: Autres | S28: 1 épreuve supplémentaire pour les assidus
A29: ='S4 Maquette'!B29 -> Version - Anglais | B29: ='S4 Maquette'!C29 -> ECUE | C29: ='S4 Maquette'!F29 -> 0 | D29: 1 | E29: OUI | F29: OUI | G29: OUI | H29: OUI | I29: OUI | J29: aucun | K29: CCI (CC Intégral) | M29: 2 | P29: Autres
A30: ='S4 Maquette'!B30 -> Linguistique et grammaire - Anglais | B30: ='S4 Maquette'!C30 -> ECUE | C30: ='S4 Maquette'!F30 -> 0 | D30: 1 | E30: OUI | F30: OUI | G30: OUI | H30: OUI | I30: OUI | J30: aucun | K30: CCI (CC Intégral) | M30: 2 | P30: Autres
A31: ='S4 Maquette'!B31 -> Atelier écriture et expression orale - Anglais | B31: ='S4 Maquette'!C31 -> ECUE | C31: ='S4 Maquette'!F31 -> 0 | D31: 1 | E31: OUI | F31: OUI | G31: OUI | H31: OUI | I31: OUI | J31: aucun | K31: CCI (CC Intégral) | M31: 2 | P31: Autres
A32: ='S4 Maquette'!B32 -> UE2 Littératures, cultures et sociétés - Anglais | B32: ='S4 Maquette'!C32 -> UE | C32: ='S4 Maquette'!F32 -> 0 | D32: 1 | E32: OUI | F32: OUI | G32: OUI | H32: OUI | I32: OUI | J32: 7 | P32: Autres | S32: recalcul à l'UE : Multiplier par 2 la meilleure ECUE
A33: ='S4 Maquette'!B33 -> Littératures, cultures et sociétés A - Anglais | B33: ='S4 Maquette'!C33 -> ECUE | C33: ='S4 Maquette'!F33 -> 0 | D33: 1 | E33: OUI | F33: OUI | G33: OUI | H33: OUI | I33: OUI | J33: aucun | K33: CCI (CC Intégral) | M33: 2 | P33: Autres
A34: ='S4 Maquette'!B34 -> Littératures, cultures et sociétés B - Anglais | B34: ='S4 Maquette'!C34 -> ECUE | C34: ='S4 Maquette'!F34 -> 0 | D34: 1 | E34: OUI | F34: OUI | G34: OUI | H34: OUI | I34: OUI | J34: aucun | K34: CCI (CC Intégral) | M34: 2 | P34: Autres
A35: ='S4 Maquette'!B35 -> UE3 Civilisation et Arts - Anglais | B35: ='S4 Maquette'!C35 -> UE | C35: ='S4 Maquette'!F35 -> 0 | D35: 1 | E35: OUI | F35: OUI | G35: OUI | H35: OUI | I35: OUI | J35: 7 | P35: Autres | S35: recalcul à l'UE : Multiplier par 2 la meilleure ECUE
A36: ='S4 Maquette'!B36 -> Civilisations et arts A - Anglais | B36: ='S4 Maquette'!C36 -> ECUE | C36: ='S4 Maquette'!F36 -> 0 | D36: 1 | E36: OUI | F36: OUI | G36: OUI | H36: OUI | I36: OUI | J36: aucun | K36: CCI (CC Intégral) | M36: 2 | P36: Autres
A37: ='S4 Maquette'!B37 -> Civilisations et arts B - Anglais | B37: ='S4 Maquette'!C37 -> ECUE | C37: ='S4 Maquette'!F37 -> 0 | D37: 1 | E37: OUI | F37: OUI | G37: OUI | H37: OUI | I37: OUI | J37: aucun | K37: CCI (CC Intégral) | M37: 2 | P37: Autres
A38: ='S3 Maquette'!B38 -> UE 4 : 1 UE au choix | B38: ='S3 Maquette'!C38 -> OPTION | C38: ='S3 Maquette'!F38 -> 0 | F38: OUI | M38: 3 | P38: Autres
A39: ='S4 Maquette'!B39 -> UE 4 approfondissement - Anglais | B39: ='S4 Maquette'!C39 -> UE | C39: ='S4 Maquette'!F39 -> 0 | D39: 1 | E39: OUI | F39: OUI | G39: OUI | H39: OUI | I39: OUI | J39: 7 | P39: Autres | S39: recalcul à l'UE : Multiplier par 2 la meilleure ECUE
A40: ='S4 Maquette'!B40 -> Cultures - Anglais | B40: ='S4 Maquette'!C40 -> ECUE | C40: ='S4 Maquette'!F40 -> 0 | D40: 1 | E40: OUI | F40: OUI | G40: OUI | H40: OUI | I40: OUI | J40: aucun | K40: CCI (CC Intégral) | M40: 2 | P40: Autres
A41: ='S4 Maquette'!B41 -> Pratiques et documents - Anglais | B41: ='S4 Maquette'!C41 -> ECUE | C41: ='S4 Maquette'!F41 -> 0 | D41: 1 | E41: OUI | F41: OUI | G41: OUI | H41: OUI | I41: OUI | J41: aucun | K41: CCI (CC Intégral) | M41: 2 | P41: Autres
A42: =+'S3 Maquette'!B42 -> UE 4 Ouverture (au choix parmi portail LLAC) | B42: =+'S3 Maquette'!C42 -> UE | D42: 1 | E42: OUI | F42: OUI | G42: OUI | H42: OUI | I42: OUI | J42: aucun | K42: CCI (CC Intégral)
A43: ='S3 Maquette'!B43 -> UE5 Mineure | B43: ='S3 Maquette'!C43 -> UE | C43: ='S3 Maquette'!F43 -> 0 | D43: 1 | E43: OUI | F43: OUI | G43: OUI | H43: OUI | I43: NON
B44: ='S4 Maquette'!C44 -> 0 | C44: ='S4 Maquette'!F44 -> 0
A45: ='S4 Maquette'!B45 -> 0 | B45: ='S4 Maquette'!C45 -> 0 | C45: ='S4 Maquette'!F45 -> 0
A46: ='S4 Maquette'!B46 -> 0 | B46: ='S4 Maquette'!C46 -> 0 | C46: ='S4 Maquette'!F46 -> 0
A47: ='S4 Maquette'!B47 -> 0 | B47: ='S4 Maquette'!C47 -> 0 | C47: ='S4 Maquette'!F47 -> 0
A48: ='S4 Maquette'!B48 -> 0 | B48: ='S4 Maquette'!C48 -> 0 | C48: ='S4 Maquette'!F48 -> 0
A49: ='S4 Maquette'!B49 -> 0 | B49: ='S4 Maquette'!C49 -> 0 | C49: ='S4 Maquette'!F49 -> 0
A50: ='S4 Maquette'!B50 -> 0 | B50: ='S4 Maquette'!C50 -> 0 | C50: ='S4 Maquette'!F50 -> 0
A51: ='S4 Maquette'!B51 -> 0 | B51: ='S4 Maquette'!C51 -> 0 | C51: ='S4 Maquette'!F51 -> 0
A52: ='S4 Maquette'!B52 -> 0 | B52: ='S4 Maquette'!C52 -> 0 | C52: ='S4 Maquette'!F52 -> 0
A53: ='S4 Maquette'!B53 -> 0 | B53: ='S4 Maquette'!C53 -> 0 | C53: ='S4 Maquette'!F53 -> 0
A54: ='S4 Maquette'!B54 -> 0 | B54: ='S4 Maquette'!C54 -> 0 | C54: ='S4 Maquette'!F54 -> 0
A55: ='S4 Maquette'!B55 -> 0 | B55: ='S4 Maquette'!C55 -> 0 | C55: ='S4 Maquette'!F55 -> 0
A56: ='S4 Maquette'!B56 -> 0 | B56: ='S4 Maquette'!C56 -> 0 | C56: ='S4 Maquette'!F56 -> 0
... A302: ='S4 Maquette'!B302 -> 0 | B302: ='S4 Maquette'!C302 -> 0 | C302: ='S4 Maquette'!F302 -> 0

Sheet S4 MCC NA
A7: Composante | B7: ='[1]Fiche Générale'!B3 -> Portail_LLAC | C7: Diplôme | E7: ='[1]Fiche Générale'!B4 -> 0 | G7: Code diplôme | H7: ='[1]Fiche Générale'!B5 -> -
C10: Parcours type | E10: ='[1]Fiche Générale'!B9 -> LLCER Anglais
M12: 1ère session | P12: Seconde Chance
A13: Année | B13: ='[1]S4 Maquette'!B13 -> 2ème année de Portail | D13: Code Année | E13: ='[1]S4 Maquette'!E13 -> 0
M14: Contrôle continu | N14: Contrôle Terminal
A15: Semestre | B15: ='[1]S4 Maquette'!B15 -> Semestre 4 | D15: Code Semestre | E15: ='[1]S4 Maquette'!E15:F16 -> 0
A18: Libellé | B18: Nature | C18: Statut | D18: Coefficient | E18: Notes attendues | F18: Résultat attendu: (ACQ/AJ) | G18: Conservation note | H18: Capitalisable | I18: Compensable | J18: Seuil de compensation / 20 | K18: Type de contrôle | L18: Si CC&CT coef du CT | M18: Nbre d'évalution minimum | N18: Nature | O18: Durée | P18: Format d'évaluation | Q18: Nature | R18: Durée | S18: Modalités de mise en œuvre | T18: Commentaires
A19: ='[1]S4 Maquette'!B19 -> Compétences transversales S4 | B19: ='[1]S4 Maquette'!C19 -> UE | C19: ='[1]S4 Maquette'!F19 -> 0
A20: ='[1]S4 Maquette'!B20 -> Compétences écrites 2 | B20: ='[1]S4 Maquette'!C20 -> ECUE | C20: ='[1]S4 Maquette'!F20 -> 0
A21: ='[1]S4 Maquette'!B21 -> Compétences numériques 2 | B21: ='[1]S4 Maquette'!C21 -> ECUE | C21: ='[1]S4 Maquette'!F21 -> 0
A22: ='[1]S4 Maquette'!B22 -> Langue Vivante-4 | B22: ='[1]S4 Maquette'!C22 -> ECUE | C22: ='[1]S4 Maquette'!F22 -> 0
A23: ='[1]S4 Maquette'!B23 -> Min 1 Max 1 | B23: ='[1]S4 Maquette'!C23 -> OPTION | C23: ='[1]S4 Maquette'!F23 -> 0
A24: ='[1]S4 Maquette'!B24 -> Anglais 4 | B24: ='[1]S4 Maquette'!C24 -> ECUE | C24: ='[1]S4 Maquette'!F24 -> 0
A25: ='[1]S4 Maquette'!B25 -> Espagnol | B25: ='[1]S4 Maquette'!C25 -> ECUE | C25: ='[1]S4 Maquette'!F25 -> 0
A26: ='[1]S4 Maquette'!B26 -> Italien | B26: ='[1]S4 Maquette'!C26 -> ECUE | C26: ='[1]S4 Maquette'!F26 -> 0
A27: ='S4 Maquette'!B27 -> UE1 Langue - Anglais | B27: ='S4 Maquette'!C27 -> UE | C27: ='[1]S4 Maquette'!F27 -> 0 | D27: 1 | E27: OUI | F27: OUI | G27: OUI | H27: OUI | I27: OUI | J27: 7 | P27: Autres | S27: recalcul à l'UE : Multiplier par 2 la meilleure ECUE
A28: ='S4 Maquette'!B28 -> Thème - Anglais | B28: ='S4 Maquette'!C28 -> ECUE | C28: ='[1]S4 Maquette'!F28 -> 0 | D28: 1 | E28: OUI | F28: OUI | G28: OUI | H28: OUI | I28: OUI | J28: aucun | K28: CCI (CC Intégral) | M28: 1 | P28: Autres | S28: 1 écrit
A29: ='S4 Maquette'!B29 -> Version - Anglais | B29: ='S4 Maquette'!C29 -> ECUE | C29: ='[1]S4 Maquette'!F29 -> 0 | D29: 1 | E29: OUI | F29: OUI | G29: OUI | H29: OUI | I29: OUI | J29: aucun | K29: CCI (CC Intégral) | M29: 1 | P29: Autres | S29: 1 écrit
A30: ='S4 Maquette'!B30 -> Linguistique et grammaire - Anglais | B30: ='S4 Maquette'!C30 -> ECUE | C30: ='[1]S4 Maquette'!F30 -> 0 | D30: 1 | E30: OUI | F30: OUI | G30: OUI | H30: OUI | I30: OUI | J30: aucun | K30: CCI (CC Intégral) | M30: 1 | P30: Autres | S30: 1 écrit (grammaire)
A31: ='S4 Maquette'!B31 -> Atelier écriture et expression orale - Anglais | B31: ='S4 Maquette'!C31 -> ECUE | C31: ='[1]S4 Maquette'!F31 -> 0 | D31: 1 | E31: OUI | F31: OUI | G31: OUI | H31: OUI | I31: OUI | J31: aucun | K31: CCI (CC Intégral) | M31: 1 | P31: Autres | S31: 1 oral
A32: ='S4 Maquette'!B32 -> UE2 Littératures, cultures et sociétés - Anglais | B32: ='S4 Maquette'!C32 -> UE | C32: ='[1]S4 Maquette'!F32 -> 0 | D32: 1 | E32: OUI | F32: OUI | G32: OUI | H32: OUI | I32: OUI | J32: 7 | K32: CCI (CC Intégral) | M32: 2 | P32: Autres | S32: recalcul à l'UE : Multiplier par 2 la meilleure ECUE
A33: ='S4 Maquette'!B33 -> Littératures, cultures et sociétés A - Anglais | B33: ='S4 Maquette'!C33 -> ECUE | C33: ='[1]S4 Maquette'!F33 -> 0 | D33: 1 | E33: OUI | F33: OUI | G33: OUI | H33: OUI | I33: OUI | J33: aucun | K33: CCI (CC Intégral) | M33: 1 | P33: Autres | S33: 1 écrit (partie TD)
A34: ='S4 Maquette'!B34 -> Littératures, cultures et sociétés B - Anglais | B34: ='S4 Maquette'!C34 -> ECUE | C34: ='[1]S4 Maquette'!F34 -> 0 | D34: 1 | E34: OUI | F34: OUI | G34: OUI | H34: OUI | I34: OUI | J34: aucun | K34: CCI (CC Intégral) | M34: 1 | P34: Autres | S34: 1 écrit (partie TD)
A35: ='S4 Maquette'!B35 -> UE3 Civilisation et Arts - Anglais | B35: ='S4 Maquette'!C35 -> UE | C35: ='[1]S4 Maquette'!F35 -> 0 | D35: 1 | E35: OUI | F35: OUI | G35: OUI | H35: OUI | I35: OUI | J35: 7 | K35: CCI (CC Intégral) | M35: 2 | P35: Autres | S35: recalcul à l'UE : Multiplier par 2 la meilleure ECUE
A36: ='S4 Maquette'!B36 -> Civilisations et arts A - Anglais | B36: ='S4 Maquette'!C36 -> ECUE | C36: ='[1]S4 Maquette'!F36 -> 0 | D36: 1 | E36: OUI | F36: OUI | G36: OUI | H36: OUI | I36: OUI | J36: aucun | K36: CCI (CC Intégral) | M36: 1 | P36: Autres | S36: 1 écrit (partie TD)
A37: ='S4 Maquette'!B37 -> Civilisations et arts B - Anglais | B37: ='S4 Maquette'!C37 -> ECUE | C37: ='[1]S4 Maquette'!F37 -> 0 | D37: 1 | E37: OUI | F37: OUI | G37: OUI | H37: OUI | I37: OUI | J37: aucun | K37: CCI (CC Intégral) | M37: 1 | P37: Autres | S37: 1 écrit (partie TD)
A38: ='S4 Maquette'!B38 -> UE 4 : 1 UE au choix | B38: ='S4 Maquette'!C38 -> OPTION
A39: ='S4 Maquette'!B39 -> UE 4 approfondissement - Anglais | B39: ='S4 Maquette'!C39 -> UE | C39: ='[1]S4 Maquette'!F38 -> 0 | D39: 1 | E39: OUI | F39: OUI | G39: OUI | H39: OUI | I39: OUI | J39: 7 | K39: CCI (CC Intégral) | M39: 2 | P39: Autres | S39: recalcul à l'UE : Multiplier par 2 la meilleure ECUE
A40: ='S4 Maquette'!B40 -> Cultures - Anglais | B40: ='S4 Maquette'!C40 -> ECUE | C40: ='[1]S4 Maquette'!F39 -> 0 | D40: 1 | E40: OUI | F40: OUI | G40: OUI | H40: OUI | I40: OUI | J40: aucun | K40: CCI (CC Intégral) | M40: 1 | P40: Autres | S40: 1 écrit
A41: ='S4 Maquette'!B41 -> Pratiques et documents - Anglais | B41: ='S4 Maquette'!C41 -> ECUE | C41: ='[1]S4 Maquette'!F40 -> 0 | D41: 1 | E41: OUI | F41: OUI | G41: OUI | H41: OUI | I41: OUI | J41: aucun | K41: CCI (CC Intégral) | M41: 1 | P41: Autres | S41: 1 écrit (partie TD)
A42: ='S4 Maquette'!B42 -> UE 4 Ouverture (au choix parmi portail LLAC) | B42: ='S4 Maquette'!C42 -> UE | C42: ='S3 Maquette'!F41 -> 0 | D42: 1 | E42: OUI | F42: OUI | G42: OUI | H42: OUI | I42: OUI | J42: aucun
A43: ='S4 Maquette'!B43 -> UE5 Mineure | B43: ='S4 Maquette'!C43 -> UE | C43: ='[1]S4 Maquette'!F42 -> 0
A44: ='[1]S4 Maquette'!B43 -> 0 | B44: ='[1]S4 Maquette'!C43 -> 0 | C44: ='[1]S4 Maquette'!F43 -> 0
A45: ='[1]S4 Maquette'!B44 -> 0 | B45: ='[1]S4 Maquette'!C44 -> 0 | C45: ='[1]S4 Maquette'!F44 -> 0
A46: ='[1]S4 Maquette'!B45 -> 0 | B46: ='[1]S4 Maquette'!C45 -> 0 | C46: ='[1]S4 Maquette'!F45 -> 0
A47: ='[1]S4 Maquette'!B46 -> 0 | B47: ='[1]S4 Maquette'!C46 -> 0 | C47: ='[1]S4 Maquette'!F46 -> 0
A48: ='[1]S4 Maquette'!B47 -> 0 | B48: ='[1]S4 Maquette'!C47 -> 0 | C48: ='[1]S4 Maquette'!F47 -> 0
A49: ='[1]S4 Maquette'!B48 -> 0 | B49: ='[1]S4 Maquette'!C48 -> 0 | C49: ='[1]S4 Maquette'!F48 -> 0
A50: ='[1]S4 Maquette'!B49 -> 0 | B50: ='[1]S4 Maquette'!C49 -> 0 | C50: ='[1]S4 Maquette'!F49 -> 0
A51: ='[1]S4 Maquette'!B50 -> 0 | B51: ='[1]S4 Maquette'!C50 -> 0 | C51: ='[1]S4 Maquette'!F50 -> 0
A52: ='[1]S4 Maquette'!B51 -> 0 | B52: ='[1]S4 Maquette'!C51 -> 0 | C52: ='[1]S4 Maquette'!F51 -> 0
A53: ='[1]S4 Maquette'!B52 -> 0 | B53: ='[1]S4 Maquette'!C52 -> 0 | C53: ='[1]S4 Maquette'!F52 -> 0
A54: ='[1]S4 Maquette'!B53 -> 0 | B54: ='[1]S4 Maquette'!C53 -> 0 | C54: ='[1]S4 Maquette'!F53 -> 0
A55: ='[1]S4 Maquette'!B54 -> 0 | B55: ='[1]S4 Maquette'!C54 -> 0 | C55: ='[1]S4 Maquette'!F54 -> 0
... A301: ='[1]S4 Maquette'!B300 -> 0 | B301: ='[1]S4 Maquette'!C300 -> 0 | C301: ='[1]S4 Maquette'!F300 -> 0

Sheet S1 Maj-Min
A7: Composante | B7: ='Fiche Générale'!B3 -> Portail_LLAC | C7: Diplôme | E7: ='Fiche Générale'!B4 -> 0 | G7: Code diplôme | H7: ='Fiche Générale'!B5 -> -
C10: Parcours type | E10: ='Fiche Générale'!B9 -> LLCER Anglais
A13: Année | B13: 1ère année de Portail | C13: Code année | G13: Heure Maquette | H13: =Calcul!A7 -> 170.5
A15: Semestre | B15: Semestre 1 | C15: Code semestre | G15: Heure Valorisées | H15: =Calcul!A20 -> 170.5
A18: Niveau | B18: Libellé ELP | C18: Nature ELP | D18: ECTS | E18: Type | F18: Statut | G18: Code Apogée | H18: CNU | I18: Heure CM | J18: Heure TD | K18: Heure TP | L18: Langues | M18: Mutualisation | N18: Formation Porteuse | O18: Observations / Remarques ex: Intervention à titre gracieux / Capacité d'accueil max
A19: 0 | B19: Compétences transversales S1 | C19: UE | D19: 6
A20: 0.1 | B20: Compétences écrites 1 | C20: ECUE
A21: 0.2 | B21: Compétences informationnelles | C21: ECUE
A22: 0.3 | B22: Langue Vivante-1 | C22: ECUE
B23: Min 1 Max 1 | C23: OPTION
A24: 0.3.1 | B24: Anglais 1 | C24: ECUE
A25: 0.3.2 | B25: Espagnol | C25: ECUE
A26: 0.3.3 | B26: Italien | C26: ECUE
B27: BLOC MAJEURE - LLCER | C27: BLOC
B28: UE1 Langue - Anglais | C28: UE | D28: 6
B29: Grammaire et thème grammatical - Anglais | C29: ECUE | J29: 22
B30: Traduction - Anglais | C30: ECUE | J30: 22
B31: Compétences langagières - Anglais | C31: ECUE | K31: 22
B32: UE2 Littératures - Anglais | C32: UE | D32: 6
B33: Littérature - Anglais | C33: ECUE | I33: 11
B34: Textes et atelier d'écriture - Anglais | C34: ECUE | J34: 22
B35: UE3 Civilisation- Anglais | C35: UE | D35: 6
B36: Civilisation - Anglais | C36: ECUE | I36: 11
B37: Études de documents civilisation - Anglais | C37: ECUE | J37: 22
B39: 1 BLOC MINEURE AU CHOIX | C39: OPTION
B40: MINEURE ESPAGNOL | C40: BLOC
B41: UE 4 AU CHOIX : | C41: UE | D41: 6
B42: 1 UE au choix | C42: OPTION
B43: UE Littératures - Espagnol | C43: UE | D43: 6
B44: Littérature - Espagnol | C44: ECUE | I44: 11
B45: Textes et atelier d'écriture - Espagnol | C45: ECUE | J45: 22
B46: UE Civilisation- Espagnol | C46: UE | D46: 6
B47: Civilisation - Espagnol | C47: ECUE | I47: 11
B48: Études de documents civilisation - Espagnol | C48: ECUE | J48: 22
B49: UE 5 LANGUE | C49: UE | D49: 6
B50: Grammaire et thème grammatical - Espagnol | C50: ECUE | J50: 22
B51: Traduction - Espagnol | C51: ECUE | J51: 22
B52: Compétences langagières - Espagnol | C52: ECUE | K52: 22
B53: UE 6 OPTIONNELLE | C53: UE | D53: 6
B54: 1 UE au choix : Possibilité de prendre l'UE qui n'a pas été choisie en UE4 | C54: OPTION
B55: UE Littératures - Espagnol | C55: UE | D55: 6
B56: Littérature - Espagnol | C56: ECUE | I56: 11
B57: Textes et atelier d'écriture - Espagnol | C57: ECUE | J57: 22
B58: UE Civilisation- Espagnol | C58: UE | D58: 6
B59: Civilisation - Espagnol | C59: ECUE | I59: 11
B60: Études de documents civilisation - Espagnol | C60: ECUE | J60: 22
B62: MINEURE ITALIEN | C62: BLOC
B63: UE 4 AU CHOIX : | C63: UE | D63: 6
B64: 1 UE au choix | C64: OPTION
B65: UE Littératures - Italien | C65: UE | D65: 6
B66: Littérature - Italien | C66: ECUE | I66: 11
B67: Textes et atelier d'écriture - Italien | C67: ECUE | J67: 22
B68: UE Civilisation- Italien | C68: UE | D68: 6
B69: Civilisation - Italien | C69: ECUE | I69: 11
B70: Études de documents civilisation - Italien | C70: ECUE | J70: 22
B71: UE 5 LANGUE | C71: UE | D71: 6
B72: Grammaire et thème grammatical - Italien | C72: ECUE | J72: 22
B73: Traduction - Italien | C73: ECUE | J73: 22
B74: Compétences langagières - Italien | C74: ECUE | K74: 22
B75: UE 6 OPTIONNELLE | C75: UE | D75: 6
B76: 1 UE au choix : Possibilité de prendre l'UE qui n'a pas été choisie en UE4 | C76: OPTION
B77: UE Littératures - Italien | C77: UE | D77: 6
B78: Littérature - Italien | C78: ECUE | I78: 11
B79: Textes et atelier d'écriture - Italien | C79: ECUE | J79: 22
B80: UE Civilisation- Italien | C80: UE | D80: 6
B81: Civilisation - Italien | C81: ECUE | I81: 11
B82: Études de documents civilisation - Italien | C82: ECUE | J82: 22

Sheet S1 MCC Maj-Min
A7: Composante | B7: ='Fiche Générale'!B3 -> Portail_LLAC | C7: Diplôme | E7: ='Fiche Générale'!B4 -> 0 | G7: Code diplôme | H7: ='Fiche Générale'!B5 -> -
C10: Parcours type | E10: ='Fiche Générale'!B9 -> LLCER Anglais
M12: 1ère session | P12: Seconde Chance
A13: Année | B13: ='S1 Maquette'!B13 -> 1ère année de Portail | D13: Code Année | E13: ='S1 Maquette'!E13 -> 0
M14: Contrôle continu | N14: Contrôle Terminal
A15: Semestre | B15: ='S1 Maquette'!B15 -> Semestre 1 | D15: Code Semestre | E15: ='S1 Maquette'!E15:F16 -> 0
A18: Libellé | B18: Nature | C18: Statut | D18: Coefficient | E18: Notes attendues | F18: Résultat attendu: (ACQ/AJ) | G18: Conservation note | H18: Capitalisable | I18: Compensable | J18: Seuil de compensation /20 | K18: Type de contrôle | L18: Si CC&CT coef du CT | M18: Nbre d'évalution minimum | N18: Nature | O18: Durée | P18: Format d'évaluation | Q18: Nature | R18: Durée | S18: Modalités de mise en œuvre | T18: Commentaires
A19: ='S1 Maquette'!B19 -> Compétences transversales S1 | B19: ='S1 Maquette'!C19 -> UE | C19: ='S1 Maquette'!F19 -> 0
A20: ='S1 Maquette'!B20 -> Compétences écrites 1 | B20: ='S1 Maquette'!C20 -> ECUE | C20: ='S1 Maquette'!F20 -> 0
A21: ='S1 Maquette'!B21 -> Compétences informationnelles | B21: ='S1 Maquette'!C21 -> ECUE | C21: ='S1 Maquette'!F21 -> 0
A22: ='S1 Maquette'!B22 -> Langue Vivante-1 | B22: ='S1 Maquette'!C22 -> ECUE | C22: ='S1 Maquette'!F22 -> 0
A23: ='S1 Maquette'!B23 -> Min 1 Max 1 | B23: ='S1 Maquette'!C23 -> OPTION | C23: ='S1 Maquette'!F23 -> 0
A24: ='S1 Maquette'!B24 -> Anglais 1 | B24: ='S1 Maquette'!C24 -> ECUE | C24: ='S1 Maquette'!F24 -> 0
A25: ='S1 Maquette'!B25 -> Espagnol | B25: ='S1 Maquette'!C25 -> ECUE
A26: ='S1 Maquette'!B26 -> Italien | B26: ='S1 Maquette'!C26 -> ECUE | C26: ='S1 Maquette'!F26 -> 0
A27: BLOC MAJEURE - LLCER | B27: BLOC
A28: UE1 Langue - Anglais | B28: UE
A29: Grammaire et thème grammatical - Anglais | B29: ECUE
A30: Traduction - Anglais | B30: ECUE
A31: Compétences langagières - Anglais | B31: ECUE
A32: UE2 Littératures - Anglais | B32: UE
A33: Littérature - Anglais | B33: ECUE
A34: Textes et atelier d'écriture - Anglais | B34: ECUE
A35: UE3 Civilisation- Anglais | B35: UE
A36: Civilisation - Anglais | B36: ECUE
A37: Études de documents civilisation - Anglais | B37: ECUE
A39: 1 BLOC MINEURE AU CHOIX | B39: OPTION
A40: MINEURE ESPAGNOL | B40: BLOC
A41: UE 4 AU CHOIX : | B41: UE | C41: ='S1 Maquette'!F43 -> 0
A42: 1 UE au choix | B42: OPTION | C42: ='S1 Maquette'!F44 -> 0
A43: UE Littératures - Espagnol | B43: UE | C43: ='S1 Maquette'!F45 -> 0
A44: Littérature - Espagnol | B44: ECUE | C44: ='S1 Maquette'!F46 -> 0
A45: Textes et atelier d'écriture - Espagnol | B45: ECUE | C45: ='S1 Maquette'!F47 -> 0
A46: UE Civilisation- Espagnol | B46: UE | C46: ='S1 Maquette'!F48 -> 0
A47: Civilisation - Espagnol | B47: ECUE | C47: ='S1 Maquette'!F49 -> 0
A48: Études de documents civilisation - Espagnol | B48: ECUE | C48: ='S1 Maquette'!F50 -> 0
A49: UE 5 LANGUE | B49: UE | C49: ='S1 Maquette'!F51 -> 0
A50: Grammaire et thème grammatical - Espagnol | B50: ECUE | C50: ='S1 Maquette'!F52 -> 0
A51: Traduction - Espagnol | B51: ECUE | C51: ='S1 Maquette'!F53 -> 0
A52: Compétences langagières - Espagnol | B52: ECUE | C52: ='S1 Maquette'!F54 -> 0
... A60: Études de documents civilisation - Espagnol | B60: ECUE | C60: ='S1 Maquette'!F62 -> 0
C61: ='S1 Maquette'!F63 -> 0
A62: MINEURE ITALIEN | B62: BLOC | C62: ='S1 Maquette'!F64 -> 0
A63: UE 4 AU CHOIX : | B63: UE | C63: ='S1 Maquette'!F65 -> 0
A64: 1 UE au choix | B64: OPTION | C64: ='S1 Maquette'!F66 -> 0
A65: UE Littératures - Italien | B65: UE | C65: ='S1 Maquette'!F67 -> 0
A66: Littérature - Italien | B66: ECUE | C66: ='S1 Maquette'!F68 -> 0
A67: Textes et atelier d'écriture - Italien | B67: ECUE | C67: ='S1 Maquette'!F69 -> 0
A68: UE Civilisation- Italien | B68: UE | C68: ='S1 Maquette'!F70 -> 0
A69: Civilisation - Italien | B69: ECUE | C69: ='S1 Maquette'!F71 -> 0
A70: Études de documents civilisation - Italien | B70: ECUE | C70: ='S1 Maquette'!F72 -> 0
A71: UE 5 LANGUE | B71: UE | C71: ='S1 Maquette'!F73 -> 0
A72: Grammaire et thème grammatical - Italien | B72: ECUE | C72: ='S1 Maquette'!F74 -> 0
A73: Traduction - Italien | B73: ECUE | C73: ='S1 Maquette'!F75 -> 0
... A82: Études de documents civilisation - Italien | B82: ECUE | C82: ='S1 Maquette'!F84 -> 0
A83: ='S1 Maquette'!B85 -> 0 | B83: ='S1 Maquette'!C85 -> 0 | C83: ='S1 Maquette'!F85 -> 0
A84: ='S1 Maquette'!B86 -> 0 | B84: ='S1 Maquette'!C86 -> 0 | C84: ='S1 Maquette'!F86 -> 0
A85: ='S1 Maquette'!B87 -> 0 | B85: ='S1 Maquette'!C87 -> 0 | C85: ='S1 Maquette'!F87 -> 0
A86: ='S1 Maquette'!B88 -> 0 | B86: ='S1 Maquette'!C88 -> 0 | C86: ='S1 Maquette'!F88 -> 0
A87: ='S1 Maquette'!B89 -> 0 | B87: ='S1 Maquette'!C89 -> 0 | C87: ='S1 Maquette'!F89 -> 0
A88: ='S1 Maquette'!B90 -> 0 | B88: ='S1 Maquette'!C90 -> 0 | C88: ='S1 Maquette'!F90 -> 0
A89: ='S1 Maquette'!B91 -> 0 | B89: ='S1 Maquette'!C91 -> 0 | C89: ='S1 Maquette'!F91 -> 0
A90: ='S1 Maquette'!B92 -> 0 | B90: ='S1 Maquette'!C92 -> 0 | C90: ='S1 Maquette'!F92 -> 0
A91: ='S1 Maquette'!B93 -> 0 | B91: ='S1 Maquette'!C93 -> 0 | C91: ='S1 Maquette'!F93 -> 0
A92: ='S1 Maquette'!B94 -> 0 | B92: ='S1 Maquette'!C94 -> 0 | C92: ='S1 Maquette'!F94 -> 0
A93: ='S1 Maquette'!B95 -> 0 | B93: ='S1 Maquette'!C95 -> 0 | C93: ='S1 Maquette'!F95 -> 0
A94: ='S1 Maquette'!B96 -> 0 | B94: ='S1 Maquette'!C96 -> 0 | C94: ='S1 Maquette'!F96 -> 0
... A300: ='S1 Maquette'!B302 -> 0 | B300: ='S1 Maquette'!C302 -> 0 | C300: ='S1 Maquette'!F302 -> 0

Sheet S2 Maj-Min
A7: Composante | B7: ='Fiche Générale'!B3 -> Portail_LLAC | C7: Diplôme | E7: ='Fiche Générale'!B4 -> 0 | G7: Code diplôme | H7: ='Fiche Générale'!B5 -> -
C10: Parcours type | E10: ='Fiche Générale'!B9 -> LLCER Anglais
A13: Année | B13: ='S1 Maquette'!B13 -> 1ère année de Portail | C13: Code année | E13: ='S1 Maquette'!E13 -> 0 | G13: Heures Maquettes | H13: =Calcul!D7 -> 186
A15: Semestre | B15: Semestre 2 | C15: Code semestre | G15: Heures Valorisées | H15: =Calcul!D20 -> 186
A18: Niveau | B18: Libellé ELP | C18: Nature ELP | D18: ECTS | E18: Type | F18: Statut | G18: Code Apogée | H18: CNU | I18: Heure CM | J18: Heure TD | K18: Heure TP | L18: Langues | M18: Mutualisation | N18: Formation Porteuse | O18: Observations / Remarques ex: Intervention à titre gracieux / Capacité d'accueil max
A19: 0 | B19: Compétences transversales S2 | C19: UE | D19: 6
A20: 0.1 | B20: Compétences numériques 1 | C20: ECUE
A21: 0.2 | B21: Compétences pré-professionnalisation 1 | C21: ECUE
A22: 0.3 | B22: Langue Vivante-2 | C22: ECUE
B23: Min 1 Max 1 | C23: OPTION
A24: 0.3.1 | B24: Anglais 2 | C24: ECUE
A25: 0.3.2 | B25: Espagnol | C25: ECUE
A26: 0.3.3 | B26: Italien | C26: ECUE
B27: BLOC MAJEURE - LLCER | C27: BLOC
B28: UE1 Langue - Anglais | C28: UE | D28: 6
B29: Grammaire et thème grammatical - Anglais | C29: ECUE | J29: 22
B30: Traduction - Anglais | C30: ECUE | J30: 22
B31: Compétences langagières - Anglais | C31: ECUE | K31: 22
B32: UE2 Littératures - Anglais | C32: UE | D32: 6
B33: Littérature - Anglais | C33: ECUE | I33: 11
B34: Textes et atelier d'écriture - Anglais | C34: ECUE | J34: 22
B35: UE3 Civilisation- Anglais | C35: UE | D35: 6
B36: Civilisation - Anglais | C36: ECUE | I36: 11
B37: Études de documents civilisation - Anglais | C37: ECUE | J37: 22
B39: 1 BLOC MINEURE AU CHOIX | C39: OPTION
B40: MINEURE ESPAGNOL | C40: BLOC
B41: UE 4 AU CHOIX : | C41: UE | D41: 6
B42: 1 UE au choix | C42: OPTION
B43: UE Littératures - Espagnol | C43: UE | D43: 6
B44: Littérature - Espagnol | C44: ECUE | I44: 11
B45: Textes et atelier d'écriture - Espagnol | C45: ECUE | J45: 22
B46: UE Civilisation- Espagnol | C46: UE | D46: 6
B47: Civilisation - Espagnol | C47: ECUE | I47: 11
B48: Études de documents civilisation - Espagnol | C48: ECUE | J48: 22
B49: UE 5 LANGUE | C49: UE | D49: 6
B50: Grammaire et thème grammatical - Espagnol | C50: ECUE | J50: 22
B51: Traduction - Espagnol | C51: ECUE | J51: 22
B52: Compétences langagières - Espagnol | C52: ECUE | K52: 22
B53: UE 6 OPTIONNELLE | C53: UE | D53: 6
B54: Possibilité de prendre l'UE qui n'a pas été choisie en UE4 | C54: OPTION
B55: UE Littératures - Espagnol | C55: UE | D55: 6
B56: Littérature - Espagnol | C56: ECUE | I56: 11
B57: Textes et atelier d'écriture - Espagnol | C57: ECUE | J57: 22
B58: UE Civilisation- Espagnol | C58: UE | D58: 6
B59: Civilisation - Espagnol | C59: ECUE | I59: 11
B60: Études de documents civilisation - Espagnol | C60: ECUE | J60: 22
B62: MINEURE ITALIEN | C62: BLOC
B63: UE 4 AU CHOIX : | C63: UE | D63: 6
B64: 1 UE au choix | C64: OPTION
B65: UE Littératures - Italien | C65: UE | D65: 6
B66: Littérature - Italien | C66: ECUE | I66: 11
B67: Textes et atelier d'écriture - Italien | C67: ECUE | J67: 22
B68: UE Civilisation- Italien | C68: UE | D68: 6
B69: Civilisation - Italien | C69: ECUE | I69: 11
B70: Études de documents civilisation - Italien | C70: ECUE | J70: 22
B71: UE 5 LANGUE | C71: UE | D71: 6
B72: Grammaire et thème grammatical - Italien | C72: ECUE | J72: 22
B73: Traduction - Italien | C73: ECUE | J73: 22
B74: Compétences langagières - Italien | C74: ECUE | K74: 22
B75: UE 6 OPTIONNELLE | C75: UE | D75: 6
B76: 1 UE au choix : Possibilité de prendre l'UE qui n'a pas été choisie en UE4 | C76: OPTION
B77: UE Littératures - Italien | C77: UE | D77: 6
B78: Littérature - Italien | C78: ECUE | I78: 11
B79: Textes et atelier d'écriture - Italien | C79: ECUE | J79: 22
B80: UE Civilisation- Italien | C80: UE | D80: 6
B81: Civilisation - Italien | C81: ECUE | I81: 11
B82: Études de documents civilisation - Italien | C82: ECUE | J82: 22

Sheet S2 MCC Maj-Min
A7: Composante | B7: ='Fiche Générale'!B3 -> Portail_LLAC | C7: Diplôme | E7: ='Fiche Générale'!B4 -> 0 | G7: Code diplôme | H7: ='Fiche Générale'!B5 -> -
C10: Parcours type | E10: ='Fiche Générale'!B9 -> LLCER Anglais
M12: 1ère session | P12: Seconde Chance
A13: Année | B13: ='S2 Maquette'!B13 -> 1ère année de Portail | D13: Code Année | E13: ='S2 Maquette'!E13 -> 0
M14: Contrôle continu | N14: Contrôle Terminal
A15: Semestre | B15: ='S2 Maquette'!B15 -> Semestre 2 | D15: Code Semestre | E15: ='S2 Maquette'!E15:F16 -> 0
A18: Libellé | B18: Nature | C18: Statut | D18: Coefficient | E18: Notes attendues | F18: Résultat attendu: (ACQ/AJ) | G18: Conservation note | H18: Capitalisable | I18: Compensable | J18: Seuil de compensation /20 | K18: Type de contrôle | L18: Si CC&CT coef du CT | M18: Nbre d'évalution minimum | N18: Nature | O18: Durée | P18: Format d'évaluation | Q18: Nature | R18: Durée | S18: Modalités de mise en œuvre | T18: Commentaires
A19: ='S2 Maquette'!B19 -> Compétences transversales S2 | B19: ='S2 Maquette'!C19 -> UE | C19: ='S2 Maquette'!F19 -> 0
A20: ='S2 Maquette'!B20 -> Compétences numériques 1 | B20: ='S2 Maquette'!C20 -> ECUE | C20: ='S2 Maquette'!F20 -> 0
A21: ='S2 Maquette'!B21 -> Compétences pré-professionnalisation 1 | B21: ='S2 Maquette'!C21 -> ECUE | C21: ='S2 Maquette'!F21 -> 0
A22: ='S2 Maquette'!B22 -> Langue Vivante-2 | B22: ='S2 Maquette'!C22 -> ECUE | C22: ='S2 Maquette'!F22 -> 0
A23: ='S2 Maquette'!B23 -> Min 1 Max 1 | B23: ='S2 Maquette'!C23 -> OPTION | C23: ='S2 Maquette'!F23 -> 0
A24: ='S2 Maquette'!B24 -> Anglais 2 | B24: ='S2 Maquette'!C24 -> ECUE | C24: ='S2 Maquette'!F24 -> 0
A25: ='S2 Maquette'!B25 -> Espagnol | B25: ='S2 Maquette'!C25 -> ECUE | C25: ='S2 Maquette'!F25 -> 0
A26: ='S2 Maquette'!B26 -> Italien | B26: ='S2 Maquette'!C26 -> ECUE | C26: ='S2 Maquette'!F26 -> 0
A27: BLOC MAJEURE - LLCER | B27: BLOC
A28: UE1 Langue - Anglais | B28: UE
A29: Grammaire et thème grammatical - Anglais | B29: ECUE
A30: Traduction - Anglais | B30: ECUE
A31: Compétences langagières - Anglais | B31: ECUE
A32: UE2 Littératures - Anglais | B32: UE
A33: Littérature - Anglais | B33: ECUE
A34: Textes et atelier d'écriture - Anglais | B34: ECUE
A35: UE3 Civilisation- Anglais | B35: UE
A36: Civilisation - Anglais | B36: ECUE
A37: Études de documents civilisation - Anglais | B37: ECUE
A39: 1 BLOC MINEURE AU CHOIX | B39: OPTION
... A41: UE 4 AU CHOIX : | B41: UE
A42: 1 UE au choix | B42: OPTION | C42: ='S2 Maquette'!F43 -> 0
A43: UE Littératures - Espagnol | B43: UE | C43: ='S2 Maquette'!F44 -> 0
A44: Littérature - Espagnol | B44: ECUE | C44: ='S2 Maquette'!F45 -> 0
A45: Textes et atelier d'écriture - Espagnol | B45: ECUE | C45: ='S2 Maquette'!F46 -> 0
A46: UE Civilisation- Espagnol | B46: UE | C46: ='S2 Maquette'!F47 -> 0
A47: Civilisation - Espagnol | B47: ECUE | C47: ='S2 Maquette'!F48 -> 0
A48: Études de documents civilisation - Espagnol | B48: ECUE | C48: ='S2 Maquette'!F49 -> 0
A49: UE 5 LANGUE | B49: UE | C49: ='S2 Maquette'!F50 -> 0
A50: Grammaire et thème grammatical - Espagnol | B50: ECUE | C50: ='S2 Maquette'!F51 -> 0
A51: Traduction - Espagnol | B51: ECUE | C51: ='S2 Maquette'!F52 -> 0
A52: Compétences langagières - Espagnol | B52: ECUE | C52: ='S2 Maquette'!F53 -> 0
A53: UE 6 OPTIONNELLE | B53: UE | C53: ='S2 Maquette'!F54 -> 0
... A60: Études de documents civilisation - Espagnol | B60: ECUE | C60: ='S2 Maquette'!F61 -> 0
C61: ='S2 Maquette'!F62 -> 0
A62: MINEURE ITALIEN | B62: BLOC | C62: ='S2 Maquette'!F63 -> 0
A63: UE 4 AU CHOIX : | B63: UE | C63: ='S2 Maquette'!F64 -> 0
A64: 1 UE au choix | B64: OPTION | C64: ='S2 Maquette'!F65 -> 0
A65: UE Littératures - Italien | B65: UE | C65: ='S2 Maquette'!F66 -> 0
A66: Littérature - Italien | B66: ECUE | C66: ='S2 Maquette'!F67 -> 0
A67: Textes et atelier d'écriture - Italien | B67: ECUE | C67: ='S2 Maquette'!F68 -> 0
A68: UE Civilisation- Italien | B68: UE | C68: ='S2 Maquette'!F69 -> 0
A69: Civilisation - Italien | B69: ECUE | C69: ='S2 Maquette'!F70 -> 0
A70: Études de documents civilisation - Italien | B70: ECUE | C70: ='S2 Maquette'!F71 -> 0
A71: UE 5 LANGUE | B71: UE | C71: ='S2 Maquette'!F72 -> 0
A72: Grammaire et thème grammatical - Italien | B72: ECUE | C72: ='S2 Maquette'!F73 -> 0
A73: Traduction - Italien | B73: ECUE | C73: ='S2 Maquette'!F74 -> 0
... A82: Études de documents civilisation - Italien | B82: ECUE | C82: ='S2 Maquette'!F83 -> 0
A83: ='S2 Maquette'!B84 -> 0 | B83: ='S2 Maquette'!C84 -> 0 | C83: ='S2 Maquette'!F84 -> 0
A84: ='S2 Maquette'!B85 -> 0 | B84: ='S2 Maquette'!C85 -> 0 | C84: ='S2 Maquette'!F85 -> 0
A85: ='S2 Maquette'!B86 -> 0 | B85: ='S2 Maquette'!C86 -> 0 | C85: ='S2 Maquette'!F86 -> 0
A86: ='S2 Maquette'!B87 -> 0 | B86: ='S2 Maquette'!C87 -> 0 | C86: ='S2 Maquette'!F87 -> 0
A87: ='S2 Maquette'!B88 -> 0 | B87: ='S2 Maquette'!C88 -> 0 | C87: ='S2 Maquette'!F88 -> 0
A88: ='S2 Maquette'!B89 -> 0 | B88: ='S2 Maquette'!C89 -> 0 | C88: ='S2 Maquette'!F89 -> 0
A89: ='S2 Maquette'!B90 -> 0 | B89: ='S2 Maquette'!C90 -> 0 | C89: ='S2 Maquette'!F90 -> 0
A90: ='S2 Maquette'!B91 -> 0 | B90: ='S2 Maquette'!C91 -> 0 | C90: ='S2 Maquette'!F91 -> 0
A91: ='S2 Maquette'!B92 -> 0 | B91: ='S2 Maquette'!C92 -> 0 | C91: ='S2 Maquette'!F92 -> 0
A92: ='S2 Maquette'!B93 -> 0 | B92: ='S2 Maquette'!C93 -> 0 | C92: ='S2 Maquette'!F93 -> 0
A93: ='S2 Maquette'!B94 -> 0 | B93: ='S2 Maquette'!C94 -> 0 | C93: ='S2 Maquette'!F94 -> 0
A94: ='S2 Maquette'!B95 -> 0 | B94: ='S2 Maquette'!C95 -> 0 | C94: ='S2 Maquette'!F95 -> 0
... A300: ='S2 Maquette'!B301 -> 0 | B300: ='S2 Maquette'!C301 -> 0 | C300: ='S2 Maquette'!F301 -> 0

Sheet S3 Maj-Min
A7: Composante | B7: ='Fiche Générale'!B3 -> Portail_LLAC | C7: Diplôme | E7: ='Fiche Générale'!B4 -> 0 | G7: Code diplôme | H7: ='Fiche Générale'!B5 -> -
C10: Parcours type | E10: ='Fiche Générale'!B9 -> LLCER Anglais
A13: Année | B13: 2ème année de Portail | C13: Code année | G13: Heures Maquette | H13: =Calcul!G7 -> 240
A15: Semestre | B15: Semestre 3 | C15: Code semestre | G15: Heures Valorisées | H15: =Calcul!G20 -> 240
A18: Niveau | B18: Libellé ELP | C18: Nature ELP | D18: ECTS | E18: Type | F18: Statut | G18: Code Apogée | H18: CNU | I18: Heure CM | J18: Heure TD | K18: Heure TP | L18: Langues | M18: Mutualisation | N18: Formation Porteuse | O18: Observations / Remarques ex: Intervention à titre gracieux / Capacité d'accueil max
A19: 0 | B19: Compétences transversales S3 | C19: UE | D19: 6
A20: 0.1 | B20: Compétences informationnelles 2 | C20: ECUE
A21: 0.2 | B21: Compétences pré-professionnalisation 2 | C21: ECUE
A22: 0.3 | B22: Langue Vivante-3 | C22: ECUE
B23: Min 1 Max 1 | C23: OPTION
A24: 0.3.1 | B24: Anglais 3 | C24: ECUE
A25: 0.3.2 | B25: Espagnol | C25: ECUE
A26: 0.3.3 | B26: Italien | C26: ECUE
B27: BLOC MAJEURE - LLCER | C27: BLOC
B28: UE1 Langue - Anglais | C28: UE | D28: 6
B29: Thème - Anglais | C29: ECUE | J29: 12
B30: Version - Anglais | C30: ECUE | J30: 12
B31: Grammaire et linguistique - Anglais | C31: ECUE | J31: 18
B32: Atelier d'écriture et expression orale - Anglais | C32: ECUE | K32: 24
B33: UE2 Littératures, cultures et sociétés - Anglais | C33: UE | D33: 6
B34: Littératures, cultures et sociétés A - Anglais | C34: ECUE | I34: 12 | J34: 18
B35: Littératures, cultures et sociétés B - Anglais | C35: ECUE | I35: 12 | J35: 18
B36: UE3 Civilisation et arts - Anglais | C36: UE | D36: 6
B37: Civilisations et arts A - Anglais | C37: ECUE | I37: 12 | J37: 18
B38: Civilisations et arts B - Anglais | C38: ECUE | I38: 12 | J38: 18
B40: 1 BLOC MINEURE AU CHOIX | C40: OPTION
B41: MINEURE ESPAGNOL | C41: BLOC
B42: UE 4 AU CHOIX : | C42: UE | D42: 6
B43: 1 UE au choix | C43: OPTION
B44: UE Littératures, cultures et sociétés - Espagnol | C44: UE | D44: 6
B45: Littératures, cultures et sociétés A - Espagnol | C45: ECUE | I45: 12 | J45: 18
B46: Littératures, cultures et sociétés B - Espagnol | C46: ECUE | I46: 12 | J46: 18
B47: UE Civilisation et arts - Espagnol | C47: UE | D47: 6
B48: Civilisations et arts A - Espagnol | C48: ECUE | I48: 12 | J48: 18
B49: Civilisations et arts B - Espagnol | C49: ECUE | I49: 12 | J49: 18
B50: UE 5 LANGUE - Espagnol | C50: UE | D50: 6
B51: Thème - Espagnol | C51: ECUE | J51: 12
B52: Version - Espagnol | C52: ECUE | J52: 12
B53: Grammaire et linguistique - Espagnol | C53: ECUE | J53: 18
B54: Atelier d'écriture et expression orale - Espagnol | C54: ECUE | K54: 24
B55: UE 6 OPTIONNELLE | C55: UE | D55: 6
B56: 1 UE au choix : Possibilité de prendre l'UE qui n'a pas été choisie en UE4 | C56: OPTION
B57: UE Littératures, cultures et sociétés - Espagnol | C57: UE | D57: 6
B58: Littératures, cultures et sociétés A - Espagnol | C58: ECUE | I58: 12 | J58: 18
B59: Littératures, cultures et sociétés B - Espagnol | C59: ECUE | I59: 12 | J59: 18
B60: UE Civilisation et arts - Espagnol | C60: UE | D60: 6
B61: Civilisations et arts A - Espagnol | C61: ECUE | I61: 12 | J61: 18
B62: Civilisations et arts B - Espagnol | C62: ECUE | I62: 12 | J62: 18
B64: MINEURE ITALIEN | C64: BLOC
B65: UE 4 AU CHOIX : | C65: UE | D65: 6
B66: 1 UE au choix | C66: OPTION
B67: UE Littératures, cultures et sociétés - Italien | C67: UE | D67: 6
B68: Littératures, cultures et sociétés A - Italien | C68: ECUE | I68: 12 | J68: 6
B69: Littératures, cultures et sociétés B - Italien | C69: ECUE | I69: 12 | J69: 6
B70: Études de textes | C70: ECUE | J70: 24
B71: UE Civilisation et arts - Italien | C71: UE | D71: 6
B72: Civilisations et arts A - Italien | C72: ECUE | I72: 12 | J72: 6
B73: Civilisations et arts B - Italien | C73: ECUE | I73: 12 | J73: 6
B74: Études de documents | C74: ECUE | J74: 24
B75: UE5 LANGUE - Italien | C75: UE | D75: 6
B76: Thème - Italien | C76: ECUE | J76: 12
B77: Version - Italien | C77: ECUE | J77: 12
B78: Grammaire et linguistique - Italien | C78: ECUE | J78: 18
B79: Atelier d'écriture et expression orale - Italien | C79: ECUE | K79: 24
B80: UE 6 OPTIONNELLE | C80: UE | D80: 6
B81: 1 UE au choix : Possibilité de prendre l'UE qui n'a pas été choisie en UE4 | C81: OPTION
B82: UE Littératures, cultures et sociétés - Italien | C82: UE | D82: 6
B83: Littératures, cultures et sociétés A - Italien | C83: ECUE | I83: 12 | J83: 6
B84: Littératures, cultures et sociétés B - Italien | C84: ECUE | I84: 12 | J84: 6
B85: Études de textes | C85: ECUE | J85: 24
B86: UE Civilisation et arts - Italien | C86: UE | D86: 6
B87: Civilisations et arts A - Italien | C87: ECUE | I87: 12 | J87: 6
B88: Civilisations et arts B - Italien | C88: ECUE | I88: 12 | J88: 6
B89: Études de documents | C89: ECUE | J89: 24

Sheet S3 MCC Maj-Min
A7: Composante | B7: ='Fiche Générale'!B3 -> Portail_LLAC | C7: Diplôme | E7: ='Fiche Générale'!B4 -> 0 | G7: Code diplôme | H7: ='Fiche Générale'!B5 -> -
C10: Parcours type | E10: ='Fiche Générale'!B9 -> LLCER Anglais
M12: 1ère session | P12: Seconde Chance
A13: Année | B13: ='S3 Maquette'!B13 -> 2ème année de Portail | D13: Code Année | E13: ='S3 Maquette'!E13 -> 0
M14: Contrôle continu | N14: Contrôle Terminal
A15: Semestre | B15: ='S3 Maquette'!B15 -> Semestre 3 | D15: Code Semestre | E15: ='S3 Maquette'!E15:F16 -> 0
A18: Libellé | B18: Nature | C18: Statut | D18: Coefficient | E18: Notes attendues | F18: Résultat attendu: (ACQ/AJ) | G18: Conservation note | H18: Capitalisable | I18: Compensable | J18: Seuil de compensation /20 | K18: Type de contrôle | L18: Si CC&CT coef du CT | M18: Nbre d'évalution minimum | N18: Nature | O18: Durée | P18: Format d'évaluation | Q18: Nature | R18: Durée | S18: Modalités de mise en œuvre | T18: Commentaires
A19: ='S3 Maquette'!B19 -> Compétences transversales S3 | B19: ='S3 Maquette'!C19 -> UE | C19: ='S3 Maquette'!F19 -> 0
A20: ='S3 Maquette'!B20 -> Compétences informationnelles 2 | B20: ='S3 Maquette'!C20 -> ECUE | C20: ='S3 Maquette'!F20 -> 0
A21: ='S3 Maquette'!B21 -> Compétences pré-professionnalisation 2 | B21: ='S3 Maquette'!C21 -> ECUE | C21: ='S3 Maquette'!F21 -> 0
A22: ='S3 Maquette'!B22 -> Langue Vivante-3 | B22: ='S3 Maquette'!C22 -> ECUE | C22: ='S3 Maquette'!F22 -> 0
A23: ='S3 Maquette'!B23 -> Min 1 Max 1 | B23: ='S3 Maquette'!C23 -> OPTION | C23: ='S3 Maquette'!F23 -> 0
A24: ='S3 Maquette'!B24 -> Anglais 3 | B24: ='S3 Maquette'!C24 -> ECUE | C24: ='S3 Maquette'!F24 -> 0
A25: ='S3 Maquette'!B25 -> Espagnol | B25: ='S3 Maquette'!C25 -> ECUE | C25: ='S3 Maquette'!F25 -> 0
A26: ='S3 Maquette'!B26 -> Italien | B26: ='S3 Maquette'!C26 -> ECUE | C26: ='S3 Maquette'!F26 -> 0
A27: BLOC MAJEURE - LLCER | B27: BLOC
A28: UE1 Langue - Anglais | B28: UE
A29: Thème - Anglais | B29: ECUE
A30: Version - Anglais | B30: ECUE
A31: Grammaire et linguistique - Anglais | B31: ECUE
A32: Atelier d'écriture et expression orale - Anglais | B32: ECUE
A33: UE2 Littératures, cultures et sociétés - Anglais | B33: UE
A34: Littératures, cultures et sociétés A - Anglais | B34: ECUE
A35: Littératures, cultures et sociétés B - Anglais | B35: ECUE
A36: UE3 Civilisation et arts - Anglais | B36: UE
A37: Civilisations et arts A - Anglais | B37: ECUE
A38: Civilisations et arts B - Anglais | B38: ECUE
... A41: MINEURE ESPAGNOL | B41: BLOC
A42: UE 4 AU CHOIX : | B42: UE | C42: ='S3 Maquette'!F44 -> 0
A43: 1 UE au choix | B43: OPTION | C43: ='S3 Maquette'!F45 -> 0
A44: UE Littératures, cultures et sociétés - Espagnol | B44: UE | C44: ='S3 Maquette'!F46 -> 0
A45: Littératures, cultures et sociétés A - Espagnol | B45: ECUE | C45: ='S3 Maquette'!F47 -> 0
A46: Littératures, cultures et sociétés B - Espagnol | B46: ECUE | C46: ='S3 Maquette'!F48 -> 0
A47: UE Civilisation et arts - Espagnol | B47: UE | C47: ='S3 Maquette'!F49 -> 0
A48: Civilisations et arts A - Espagnol | B48: ECUE | C48: ='S3 Maquette'!F50 -> 0
A49: Civilisations et arts B - Espagnol | B49: ECUE | C49: ='S3 Maquette'!F51 -> 0
A50: UE 5 LANGUE - Espagnol | B50: UE | C50: ='S3 Maquette'!F52 -> 0
A51: Thème - Espagnol | B51: ECUE | C51: ='S3 Maquette'!F53 -> 0
A52: Version - Espagnol | B52: ECUE | C52: ='S3 Maquette'!F54 -> 0
A53: Grammaire et linguistique - Espagnol | B53: ECUE | C53: ='S3 Maquette'!F55 -> 0
... A62: Civilisations et arts B - Espagnol | B62: ECUE | C62: ='S3 Maquette'!F64 -> 0
C63: ='S3 Maquette'!F65 -> 0
A64: MINEURE ITALIEN | B64: BLOC | C64: ='S3 Maquette'!F66 -> 0
A65: UE 4 AU CHOIX : | B65: UE | C65: ='S3 Maquette'!F67 -> 0
A66: 1 UE au choix | B66: OPTION | C66: ='S3 Maquette'!F68 -> 0
A67: UE Littératures, cultures et sociétés - Italien | B67: UE | C67: ='S3 Maquette'!F69 -> 0
A68: Littératures, cultures et sociétés A - Italien | B68: ECUE | C68: ='S3 Maquette'!F70 -> 0
A69: Littératures, cultures et sociétés B - Italien | B69: ECUE | C69: ='S3 Maquette'!F71 -> 0
A70: Études de textes | B70: ECUE | C70: ='S3 Maquette'!F72 -> 0
A71: UE Civilisation et arts - Italien | B71: UE | C71: ='S3 Maquette'!F73 -> 0
A72: Civilisations et arts A - Italien | B72: ECUE | C72: ='S3 Maquette'!F74 -> 0
A73: Civilisations et arts B - Italien | B73: ECUE | C73: ='S3 Maquette'!F75 -> 0
A74: Études de documents | B74: ECUE | C74: ='S3 Maquette'!F76 -> 0
A75: UE5 LANGUE - Italien | B75: UE | C75: ='S3 Maquette'!F77 -> 0
... A89: Études de documents | B89: ECUE | C89: ='S3 Maquette'!F91 -> 0
A90: ='S3 Maquette'!B92 -> 0 | B90: ='S3 Maquette'!C92 -> 0 | C90: ='S3 Maquette'!F92 -> 0
A91: ='S3 Maquette'!B93 -> 0 | B91: ='S3 Maquette'!C93 -> 0 | C91: ='S3 Maquette'!F93 -> 0
A92: ='S3 Maquette'!B94 -> 0 | B92: ='S3 Maquette'!C94 -> 0 | C92: ='S3 Maquette'!F94 -> 0
A93: ='S3 Maquette'!B95 -> 0 | B93: ='S3 Maquette'!C95 -> 0 | C93: ='S3 Maquette'!F95 -> 0
A94: ='S3 Maquette'!B96 -> 0 | B94: ='S3 Maquette'!C96 -> 0 | C94: ='S3 Maquette'!F96 -> 0
A95: ='S3 Maquette'!B97 -> 0 | B95: ='S3 Maquette'!C97 -> 0 | C95: ='S3 Maquette'!F97 -> 0
A96: ='S3 Maquette'!B98 -> 0 | B96: ='S3 Maquette'!C98 -> 0 | C96: ='S3 Maquette'!F98 -> 0
A97: ='S3 Maquette'!B99 -> 0 | B97: ='S3 Maquette'!C99 -> 0 | C97: ='S3 Maquette'!F99 -> 0
A98: ='S3 Maquette'!B100 -> 0 | B98: ='S3 Maquette'!C100 -> 0 | C98: ='S3 Maquette'!F100 -> 0
A99: ='S3 Maquette'!B101 -> 0 | B99: ='S3 Maquette'!C101 -> 0 | C99: ='S3 Maquette'!F101 -> 0
A100: ='S3 Maquette'!B102 -> 0 | B100: ='S3 Maquette'!C102 -> 0 | C100: ='S3 Maquette'!F102 -> 0
A101: ='S3 Maquette'!B103 -> 0 | B101: ='S3 Maquette'!C103 -> 0 | C101: ='S3 Maquette'!F103 -> 0
... A300: ='S3 Maquette'!B302 -> 0 | B300: ='S3 Maquette'!C302 -> 0 | C300: ='S3 Maquette'!F302 -> 0

Sheet S4 Maj-Min
A7: Composante | B7: ='Fiche Générale'!B3 -> Portail_LLAC | C7: Diplôme | E7: ='Fiche Générale'!B4 -> 0 | G7: Code diplôme | H7: ='Fiche Générale'!B5 -> -
C10: Parcours type | E10: ='Fiche Générale'!B9 -> LLCER Anglais
A13: Année | B13: ='S3 Maquette'!B13 -> 2ème année de Portail | C13: Code année | E13: ='S3 Maquette'!E13 -> 0 | G13: Heures Maquette | H13: =Calcul!J7 -> 240
A15: Semestre | B15: Semestre 4 | C15: Code semestre | G15: Heures Valorisées | H15: =Calcul!J20 -> 240
A18: Niveau | B18: Libellé ELP | C18: Nature ELP | D18: ECTS | E18: Type | F18: Statut | G18: Code Apogée | H18: CNU | I18: Heure CM | J18: Heure TD | K18: Heure TP | L18: Langues | M18: Mutualisation | N18: Formation Porteuse | O18: Observations / Remarques ex: Intervention à titre gracieux / Capacité d'accueil max
A19: 0 | B19: Compétences transversales S4 | C19: UE | D19: 6
A20: 0.1 | B20: Compétences écrites 2 | C20: ECUE
A21: 0.2 | B21: Compétences numériques 2 | C21: ECUE
A22: 0.3 | B22: Langue Vivante-4 | C22: ECUE
B23: Min 1 Max 1 | C23: OPTION
A24: 0.3.1 | B24: Anglais 4 | C24: ECUE
A25: 0.3.2 | B25: Espagnol | C25: ECUE
A26: 0.3.3 | B26: Italien | C26: ECUE
B27: BLOC MAJEURE - LLCER | C27: BLOC
B28: UE1 Langue - Anglais | C28: UE | D28: 6
B29: Thème - Anglais | C29: ECUE | J29: 12
B30: Version - Anglais | C30: ECUE | J30: 12
B31: Linguistique et grammaire - Anglais | C31: ECUE | J31: 18
B32: Atelier écriture et expression orale - Anglais | C32: ECUE | K32: 24
B33: UE2 Littératures, cultures et sociétés - Anglais | C33: UE | D33: 6
B34: Littératures, cultures et sociétés A - Anglais | C34: ECUE | I34: 12 | J34: 18
B35: Littératures, cultures et sociétés B - Anglais | C35: ECUE | I35: 12 | J35: 18
B36: UE3 Civilisation et Arts - Anglais | C36: UE | D36: 6
B37: Civilisations et arts A - Anglais | C37: ECUE | I37: 12 | J37: 18
B38: Civilisations et arts B - Anglais | C38: ECUE | I38: 12 | J38: 18
B40: 1 BLOC MINEURE AU CHOIX | C40: OPTION
B41: MINEURE ESPAGNOL | C41: BLOC
B42: UE 4 AU CHOIX : | C42: UE | D42: 6
B43: 1 UE au choix | C43: OPTION
B44: UE Littératures, cultures et sociétés - Espagnol | C44: UE | D44: 6
B45: Littératures, cultures et sociétés A - Espagnol | C45: ECUE | I45: 12 | J45: 18
B46: Littératures, cultures et sociétés B - Espagnol | C46: ECUE | I46: 12 | J46: 18
B47: UE Civilisation et arts - Espagnol | C47: UE | D47: 6
B48: Civilisations et arts A - Espagnol | C48: ECUE | I48: 12 | J48: 18
B49: Civilisations et arts B - Espagnol | C49: ECUE | I49: 12 | J49: 18
B50: UE 5 LANGUE - Espagnol | C50: UE | D50: 6
B51: Thème - Espagnol | C51: ECUE | J51: 12
B52: Version - Espagnol | C52: ECUE | J52: 12
B53: Grammaire et linguistique - Espagnol | C53: ECUE | J53: 18
B54: Atelier d'écriture et expression orale - Espagnol | C54: ECUE | K54: 24
B55: UE 6 OPTIONNELLE | C55: UE | D55: 6
B56: 1 UE au choix : Possibilité de prendre l'UE qui n'a pas été choisie en UE4 | C56: OPTION
B57: UE Littératures, cultures et sociétés - Espagnol | C57: UE | D57: 6
B58: Littératures, cultures et sociétés A - Espagnol | C58: ECUE | I58: 12 | J58: 18
B59: Littératures, cultures et sociétés B - Espagnol | C59: ECUE | I59: 12 | J59: 18
B60: UE Civilisation et arts - Espagnol | C60: UE | D60: 6
B61: Civilisations et arts A - Espagnol | C61: ECUE | I61: 12 | J61: 18
B62: Civilisations et arts B - Espagnol | C62: ECUE | I62: 12 | J62: 18
B64: MINEURE ITALIEN | C64: BLOC
B65: UE 4 AU CHOIX : | C65: UE | D65: 6
B66: 1 UE au choix | C66: OPTION
B67: UE Littératures, cultures et sociétés - Italien | C67: UE | D67: 6
B68: Littératures, cultures et sociétés A - Italien | C68: ECUE | I68: 12 | J68: 6
B69: Littératures, cultures et sociétés B - Italien | C69: ECUE | I69: 12 | J69: 6
B70: Études de textes | C70: ECUE | J70: 24
B71: UE Civilisation et arts - Italien | C71: UE | D71: 6
B72: Civilisations et arts A - Italien | C72: ECUE | I72: 12 | J72: 6
B73: Civilisations et arts B - Italien | C73: ECUE | I73: 12 | J73: 6
B74: Études de documents | C74: ECUE | J74: 24
B75: UE5 LANGUE - Italien | C75: UE | D75: 6
B76: Thème - Italien | C76: ECUE | J76: 12
B77: Version - Italien | C77: ECUE | J77: 12
B78: Grammaire et linguistique - Italien | C78: ECUE | J78: 18
B79: Atelier d'écriture et expression orale - Italien | C79: ECUE | K79: 24
B80: UE 6 OPTIONNELLE | C80: UE | D80: 6
B81: 1 UE au choix : Possibilité de prendre l'UE qui n'a pas été choisie en UE4 | C81: OPTION
B82: UE Littératures, cultures et sociétés - Italien | C82: UE | D82: 6
B83: Littératures, cultures et sociétés A - Italien | C83: ECUE | I83: 12 | J83: 6
B84: Littératures, cultures et sociétés B - Italien | C84: ECUE | I84: 12 | J84: 6
B85: Études de textes | C85: ECUE | J85: 24
B86: UE Civilisation et arts - Italien | C86: UE | D86: 6
B87: Civilisations et arts A - Italien | C87: ECUE | I87: 12 | J87: 6
B88: Civilisations et arts B - Italien | C88: ECUE | I88: 12 | J88: 6
B89: Études de documents | C89: ECUE | J89: 24

Sheet S4 MCC Maj-Min
A7: Composante | B7: ='Fiche Générale'!B3 -> Portail_LLAC | C7: Diplôme | E7: ='Fiche Générale'!B4 -> 0 | G7: Code diplôme | H7: ='Fiche Générale'!B5 -> -
C10: Parcours type | E10: ='Fiche Générale'!B9 -> LLCER Anglais
M12: 1ère session | P12: Seconde Chance
A13: Année | B13: ='S4 Maquette'!B13 -> 2ème année de Portail | D13: Code Année | E13: ='S4 Maquette'!E13 -> 0
M14: Contrôle continu | N14: Contrôle Terminal
A15: Semestre | B15: ='S4 Maquette'!B15 -> Semestre 4 | D15: Code Semestre | E15: ='S4 Maquette'!E15:F16 -> 0
A18: Libellé | B18: Nature | C18: Statut | D18: Coefficient | E18: Notes attendues | F18: Résultat attendu: (ACQ/AJ) | G18: Conservation note | H18: Capitalisable | I18: Compensable | J18: Seuil de compensation / 20 | K18: Type de contrôle | L18: Si CC&CT coef du CT | M18: Nbre d'évalution minimum | N18: Nature | O18: Durée | P18: Format d'évaluation | Q18: Nature | R18: Durée | S18: Modalités de mise en œuvre | T18: Commentaires
A19: ='S4 Maquette'!B19 -> Compétences transversales S4 | B19: ='S4 Maquette'!C19 -> UE | C19: ='S4 Maquette'!F19 -> 0
A20: ='S4 Maquette'!B20 -> Compétences écrites 2 | B20: ='S4 Maquette'!C20 -> ECUE | C20: ='S4 Maquette'!F20 -> 0
A21: ='S4 Maquette'!B21 -> Compétences numériques 2 | B21: ='S4 Maquette'!C21 -> ECUE | C21: ='S4 Maquette'!F21 -> 0
A22: ='S4 Maquette'!B22 -> Langue Vivante-4 | B22: ='S4 Maquette'!C22 -> ECUE | C22: ='S4 Maquette'!F22 -> 0
A23: ='S4 Maquette'!B23 -> Min 1 Max 1 | B23: ='S4 Maquette'!C23 -> OPTION | C23: ='S4 Maquette'!F23 -> 0
A24: ='S4 Maquette'!B24 -> Anglais 4 | B24: ='S4 Maquette'!C24 -> ECUE | C24: ='S4 Maquette'!F24 -> 0
A25: ='S4 Maquette'!B25 -> Espagnol | B25: ='S4 Maquette'!C25 -> ECUE | C25: ='S4 Maquette'!F25 -> 0
A26: ='S4 Maquette'!B26 -> Italien | B26: ='S4 Maquette'!C26 -> ECUE | C26: ='S4 Maquette'!F26 -> 0
A27: BLOC MAJEURE - LLCER | B27: BLOC
A28: UE1 Langue - Anglais | B28: UE
A29: Thème - Anglais | B29: ECUE
A30: Version - Anglais | B30: ECUE
A31: Linguistique et grammaire - Anglais | B31: ECUE
A32: Atelier écriture et expression orale - Anglais | B32: ECUE
A33: UE2 Littératures, cultures et sociétés - Anglais | B33: UE
A34: Littératures, cultures et sociétés A - Anglais | B34: ECUE
A35: Littératures, cultures et sociétés B - Anglais | B35: ECUE
A36: UE3 Civilisation et Arts - Anglais | B36: UE
A37: Civilisations et arts A - Anglais | B37: ECUE
A38: Civilisations et arts B - Anglais | B38: ECUE
... A41: MINEURE ESPAGNOL | B41: BLOC
A42: UE 4 AU CHOIX : | B42: UE | C42: ='S4 Maquette'!F44 -> 0
A43: 1 UE au choix | B43: OPTION | C43: ='S4 Maquette'!F45 -> 0
A44: UE Littératures, cultures et sociétés - Espagnol | B44: UE | C44: ='S4 Maquette'!F46 -> 0
A45: Littératures, cultures et sociétés A - Espagnol | B45: ECUE | C45: ='S4 Maquette'!F47 -> 0
A46: Littératures, cultures et sociétés B - Espagnol | B46: ECUE | C46: ='S4 Maquette'!F48 -> 0
A47: UE Civilisation et arts - Espagnol | B47: UE | C47: ='S4 Maquette'!F49 -> 0
A48: Civilisations et arts A - Espagnol | B48: ECUE | C48: ='S4 Maquette'!F50 -> 0
A49: Civilisations et arts B - Espagnol | B49: ECUE | C49: ='S4 Maquette'!F51 -> 0
A50: UE 5 LANGUE - Espagnol | B50: UE | C50: ='S4 Maquette'!F52 -> 0
A51: Thème - Espagnol | B51: ECUE | C51: ='S4 Maquette'!F53 -> 0
A52: Version - Espagnol | B52: ECUE | C52: ='S4 Maquette'!F54 -> 0
A53: Grammaire et linguistique - Espagnol | B53: ECUE | C53: ='S4 Maquette'!F55 -> 0
... A62: Civilisations et arts B - Espagnol | B62: ECUE | C62: ='S4 Maquette'!F64 -> 0
C63: ='S4 Maquette'!F65 -> 0
A64: MINEURE ITALIEN | B64: BLOC | C64: ='S4 Maquette'!F66 -> 0
A65: UE 4 AU CHOIX : | B65: UE | C65: ='S4 Maquette'!F67 -> 0
A66: 1 UE au choix | B66: OPTION | C66: ='S4 Maquette'!F68 -> 0
A67: UE Littératures, cultures et sociétés - Italien | B67: UE | C67: ='S4 Maquette'!F69 -> 0
A68: Littératures, cultures et sociétés A - Italien | B68: ECUE | C68: ='S4 Maquette'!F70 -> 0
A69: Littératures, cultures et sociétés B - Italien | B69: ECUE | C69: ='S4 Maquette'!F71 -> 0
A70: Études de textes | B70: ECUE | C70: ='S4 Maquette'!F72 -> 0
A71: UE Civilisation et arts - Italien | B71: UE | C71: ='S4 Maquette'!F73 -> 0
A72: Civilisations et arts A - Italien | B72: ECUE | C72: ='S4 Maquette'!F74 -> 0
A73: Civilisations et arts B - Italien | B73: ECUE | C73: ='S4 Maquette'!F75 -> 0
A74: Études de documents | B74: ECUE | C74: ='S4 Maquette'!F76 -> 0
A75: UE5 LANGUE - Italien | B75: UE | C75: ='S4 Maquette'!F77 -> 0
... A89: Études de documents | B89: ECUE | C89: ='S4 Maquette'!F91 -> 0
A90: ='S4 Maquette'!B92 -> 0 | B90: ='S4 Maquette'!C92 -> 0 | C90: ='S4 Maquette'!F92 -> 0
A91: ='S4 Maquette'!B93 -> 0 | B91: ='S4 Maquette'!C93 -> 0 | C91: ='S4 Maquette'!F93 -> 0
A92: ='S4 Maquette'!B94 -> 0 | B92: ='S4 Maquette'!C94 -> 0 | C92: ='S4 Maquette'!F94 -> 0
A93: ='S4 Maquette'!B95 -> 0 | B93: ='S4 Maquette'!C95 -> 0 | C93: ='S4 Maquette'!F95 -> 0
A94: ='S4 Maquette'!B96 -> 0 | B94: ='S4 Maquette'!C96 -> 0 | C94: ='S4 Maquette'!F96 -> 0
A95: ='S4 Maquette'!B97 -> 0 | B95: ='S4 Maquette'!C97 -> 0 | C95: ='S4 Maquette'!F97 -> 0
A96: ='S4 Maquette'!B98 -> 0 | B96: ='S4 Maquette'!C98 -> 0 | C96: ='S4 Maquette'!F98 -> 0
A97: ='S4 Maquette'!B99 -> 0 | B97: ='S4 Maquette'!C99 -> 0 | C97: ='S4 Maquette'!F99 -> 0
A98: ='S4 Maquette'!B100 -> 0 | B98: ='S4 Maquette'!C100 -> 0 | C98: ='S4 Maquette'!F100 -> 0
A99: ='S4 Maquette'!B101 -> 0 | B99: ='S4 Maquette'!C101 -> 0 | C99: ='S4 Maquette'!F101 -> 0
A100: ='S4 Maquette'!B102 -> 0 | B100: ='S4 Maquette'!C102 -> 0 | C100: ='S4 Maquette'!F102 -> 0
A101: ='S4 Maquette'!B103 -> 0 | B101: ='S4 Maquette'!C103 -> 0 | C101: ='S4 Maquette'!F103 -> 0
... A300: ='S4 Maquette'!B302 -> 0 | B300: ='S4 Maquette'!C302 -> 0 | C300: ='S4 Maquette'!F302 -> 0
