Workbook
Name list_cmp: [1]Listes!$A$32:$G$32
Name list_cmp: [1]Listes!$A$32:$G$32
Name list_cmp: [1]Listes!$A$32:$G$32
Name list_cmp: [1]Listes!$A$32:$G$32
Name list_cmp: Listes!$A$32:$G$32
Name List_CNU: [1]Listes!$A$40:$A$96
Name List_CNU: [1]Listes!$A$40:$A$96
Name List_CNU: [1]Listes!$A$40:$A$96
Name List_CNU: [1]Listes!$A$40:$A$96
Name List_CNU: Listes!$A$40:$A$96
Name List_Controle: [1]Listes!$B$2:$B$6
Name List_Controle: [1]Listes!$B$2:$B$6
Name List_Controle: [1]Listes!$B$2:$B$6
Name List_Controle: [1]Listes!$B$2:$B$6
Name List_Controle: Listes!$B$2:$B$6
Name List_Controle2: [1]Listes!$A$2:$A$4
Name List_Controle2: [1]Listes!$A$2:$A$4
Name List_Controle2: [1]Listes!$A$2:$A$4
Name List_Controle2: [1]Listes!$A$2:$A$4
Name List_Controle2: Listes!$A$2:$A$4
Name List_Mutualisation: [1]Listes!$E$2:$E$3
Name List_Mutualisation: [1]Listes!$E$2:$E$3
Name List_Mutualisation: [1]Listes!$E$2:$E$3
Name List_Mutualisation: [1]Listes!$E$2:$E$3
Name List_Mutualisation: Listes!$E$2:$E$3
Name List_NatureELP: Listes!$D$2:$D$6
Name List_RegimeInscription: [1]Listes!$C$2:$C$3
Name List_RegimeInscription: [1]Listes!$C$2:$C$3
Name List_RegimeInscription: [1]Listes!$C$2:$C$3
Name List_RegimeInscription: [1]Listes!$C$2:$C$3
Name List_RegimeInscription: Listes!$C$2:$C$3
Name List_Statut: [1]Listes!$F$2:$F$4
Name List_Statut: [1]Listes!$F$2:$F$4
Name List_Statut: [1]Listes!$F$2:$F$4
Name List_Statut: [1]Listes!$F$2:$F$4
Name List_Statut: Listes!$F$2:$F$4
Name List_Type: [1]Listes!$G$2:$G$3
Name List_Type: [1]Listes!$G$2:$G$3
Name List_Type: [1]Listes!$G$2:$G$3
Name List_Type: [1]Listes!$G$2:$G$3
Name List_Type: Listes!$G$2:$G$3
Name list_typedip: [1]Listes!$H$2:$H$3
Name list_typedip: [1]Listes!$H$2:$H$3
Name list_typedip: [1]Listes!$H$2:$H$3
Name list_typedip: [1]Listes!$H$2:$H$3
Name list_typedip: Listes!$H$2:$H$3
Name liste_cmp: #REF!
Name liste_cmp: #REF!
Name liste_cmp: #REF!
Name liste_cmp: #REF!
Name liste_cmp: #REF!
Name liste_cmp: #REF!
Name liste_cmp: #REF!
Name liste_cmp: #REF!
Name liste_cmp: #REF!
Name liste_cmp: #REF!
Name liste_mention: #REF!
Name liste_mention: #REF!
Name liste_mention: #REF!
Name liste_mention: #REF!

Sheet Listes
A1: Type contrôle | B1: Nature contrôle | C1: Régime d'inscription | D1: Nature ELP | E1: Mutualisation | F1: Statut | G1: Type | H1: Diplômes
A2: CCI (CC Intégral) | B2: Écrit | C2: Initiale Hors-Apprentissage / Formation Continue / Formation Permanente | D2: UE | E2: Porteuse | F2: Création | G2: Facultatif | H2: Portail
A3: CT (Contrôle terminal) | B3: Oral | C3: Contrat d'Apprentissage/ Contrat de Professionnalisation | D3: ECUE | E3: Portée | F3: Modification | G3: Complémentaire | H3: Double Portail
A4: CC&CT | B4: Écrit/Pratique | D4: BLOC | F4: Fermeture
B5: Rapport/Mémoire | D5: OPTION
B6: Pratique sportive | D6: Parcours Pédagogique
A8: Mention | B8: Codage Diplôme
A9: Sciences et technologie | B9: SPSIT18
A10: Sciences de l'Homme et de la Société | B10: HPSHS18
A11: Lettres Langues Arts et Communication | B11: HPLAC18
A12: Droit | B12: DPDRT18
A13: Économie et gestion | B13: IPECG18
A14: Sciences de la Vie | B14: SPVIE18
A15: STAPS | B15: PPSTA18
A16: Psychologie | B16: HPPSY18
A17: Humanités | B17: HPUMA18
A18: Économie-Sociologie | B18: IPSOE18
A19: Philosophie-Droit | B19: HPPHD18
... A28: Bio-Geo-Sciences | B28: SPBGS18
A32: Portail_EG | B32: Portail_Droit | C32: Portail_SHS | D32: Portail_LLAC | E32: Portail_ST | F32: Portail_SV | G32: Portail_STAPS
A33: Économie et gestion | B33: Droit | C33: Sciences de l'Homme et de la Société | D33: Lettres Langues Arts et Communication | E33: Sciences et technologie | F33: Sciences de la vie | G33: STAPS
A34: Économie-Sociologie | B34: Capacaité en Droit | C34: Psychologie | D34: Histoire-Lettres | E34: Mathématiques-Sciences de la vie | F34: Chimie-Sciences de la vie
C35: Humanités | D35: Musicologie - Science de l'homme, anthropologie, ethnologie | E35: Mathématiques-Physique | F35: Bio-Geo-Sciences
C36: Philosophie-Droit | E36: Mathématiques-Informatique
C37: Philosophie-Psychologie | E37: Sciences de la terre-Physique
A39: CNU
A40: 01-Droit privé et sciences criminelles
A41: 02-Droit public
A42: 03-Histoire du droit et des institutions
A43: 04-Science politique
A44: 05-Sciences économiques
A45: 06-Sciences de gestion
A46: 07-Sciences du langage : linguistique et phonétique générales
A47: 08-Langues et littératures anciennes
A48: 09-Langue et littérature françaises
A49: 10-Littératures comparées
A50: 11-Langues et littératures anglaises et anglo-saxonnes
... A96: 87-Sciences biologiques pharmaceutiques

Sheet Calcul
A1: Heure Pédagogique | AA1: Heure CM
A3: Semestre 1 | D3: Semestre 2 | G3: Semestre 3 | J3: Semestre 4 | AA3: Semestre 1 | AB3: Semestre 2 | AC3: Semestre 3 | AD3: Semestre 4
A4: Heure CM | B4: Heure TD | C4: Heure TP | D4: Heure CM | E4: Heure TD | F4: Heure TP | G4: Heure CM | H4: Heure TD | I4: Heure TP | J4: Heure CM | K4: Heure TD | L4: Heure TP | AA4: ='S1 Maquette'!I19*1.5 -> 0 | AB4: ='S2 Maquette'!I19*1.5 -> 0 | AC4: ='S3 Maquette'!I19*1.5 -> 0 | AD4: ='S4 Maquette'!I19*1.5 -> 0
A5: =SUM(AA4:AA291) -> #REF! | B5: =SUM('S1 Maquette'!J19:J299) -> 647.5 | C5: =SUM('S1 Maquette'!K19:K299) -> 22 | D5: =SUM(AB4:AB291) -> #REF! | E5: =SUM('S2 Maquette'!J19:J299) -> 696 | F5: =SUM('S2 Maquette'!K19:K299) -> 36 | G5: =SUM(AC4:AC291) -> 730.5 | H5: =SUM('S3 Maquette'!J19:J301) -> 1468.5 | I5: =SUM('S3 Maquette'!K19:K301) -> 214 | J5: =SUM(AD4:AD291) -> 729 | K5: =SUM('S4 Maquette'!J19:J301) -> 1476 | L5: =SUM('S4 Maquette'!K19:K301) -> 216 | AA5: ='S1 Maquette'!I20*1.5 -> 0 | AB5: ='S2 Maquette'!I20*1.5 -> 0 | AC5: ='S3 Maquette'!I20*1.5 -> 0 | AD5: ='S4 Maquette'!I20*1.5 -> 0
A6: Total | D6: Total | G6: Total | J6: Total | AA6: ='S1 Maquette'!I21*1.5 -> 0 | AB6: ='S2 Maquette'!I21*1.5 -> 0 | AC6: ='S3 Maquette'!I21*1.5 -> 0 | AD6: ='S4 Maquette'!I21*1.5 -> 0
A7: =SUM(A5,B5,C5) -> #REF! | D7: =SUM(D5,E5,F5) -> #REF! | G7: =SUM(G5,H5,I5) -> 2413 | J7: =SUM(J5,K5,L5) -> 2421 | AA7: ='S1 Maquette'!I22*1.5 -> 0 | AB7: ='S2 Maquette'!I22*1.5 -> 0 | AC7: ='S3 Maquette'!I22*1.5 -> 0 | AD7: ='S4 Maquette'!I22*1.5 -> 0
A8: Total | G8: Total | AA8: ='S1 Maquette'!I23*1.5 -> 0 | AB8: ='S2 Maquette'!I23*1.5 -> 0 | AC8: ='S3 Maquette'!I23*1.5 -> 0 | AD8: ='S4 Maquette'!I23*1.5 -> 0
AA9: ='S1 Maquette'!I24*1.5 -> 0 | AB9: ='S2 Maquette'!I24*1.5 -> 0 | AC9: ='S3 Maquette'!I24*1.5 -> 0 | AD9: ='S4 Maquette'!I24*1.5 -> 0
A10: =SUM(A7,D7) -> #REF! | G10: =SUM(G7,J7) -> 4834 | AA10: ='S1 Maquette'!I25*1.5 -> 0 | AB10: ='S2 Maquette'!I25*1.5 -> 0 | AC10: ='S3 Maquette'!I25*1.5 -> 0 | AD10: ='S4 Maquette'!I25*1.5 -> 0
AA11: ='S1 Maquette'!I26*1.5 -> 0 | AB11: ='S2 Maquette'!I26*1.5 -> 0 | AC11: ='S3 Maquette'!I26*1.5 -> 0 | AD11: ='S4 Maquette'!I26*1.5 -> 0
AA12: ='S1 Maquette'!I27*1.5 -> 0 | AB12: ='S2 Maquette'!I27*1.5 -> 0 | AC12: ='S3 Maquette'!I27*1.5 -> 0 | AD12: ='S4 Maquette'!I27*1.5 -> 0
AA13: ='S1 Maquette'!I28*1.5 -> 16.5 | AB13: ='S2 Maquette'!I28*1.5 -> 18 | AC13: ='S3 Maquette'!I28*1.5 -> 0 | AD13: ='S4 Maquette'!I28*1.5 -> 0
A14: Heure Porté par la maquette | N14: Mutualisation Porteuse | AA14: ='S1 Maquette'!I29*1.5 -> 0 | AB14: ='S2 Maquette'!I29*1.5 -> 0 | AC14: ='S3 Maquette'!I29*1.5 -> 0 | AD14: ='S4 Maquette'!I29*1.5 -> 0
AA15: ='S1 Maquette'!I30*1.5 -> 0 | AB15: ='S2 Maquette'!I30*1.5 -> 0 | AC15: ='S3 Maquette'!I30*1.5 -> 18 | AD15: ='S4 Maquette'!I30*1.5 -> 18
A16: Semestre 1 | D16: Semestre 2 | G16: Semestre 3 | J16: Semestre 4 | N16: Semestre 1 | Q16: Semestre 2 | T16: Semestre 3 | W16: Semestre 4 | AA16: ='S1 Maquette'!I31*1.5 -> 0 | AB16: ='S2 Maquette'!I31*1.5 -> 0 | AC16: ='S3 Maquette'!I31*1.5 -> 0 | AD16: ='S4 Maquette'!I31*1.5 -> 0
A17: Heure CM | B17: Heure TD | C17: Heure TP | D17: Heure CM | E17: Heure TD | F17: Heure TP | G17: Heure CM | H17: Heure TD | I17: Heure TP | J17: Heure CM | K17: Heure TD | L17: Heure TP | N17: Heure CM | O17: Heure TD | P17: Heure TP | Q17: Heure CM | R17: Heure TD | S17: Heure TP | T17: Heure CM | U17: Heure TD | V17: Heure TP | W17: Heure CM | X17: Heure TD | Y17: Heure TP | AA17: ='S1 Maquette'!I32*1.5 -> 16.5 | AB17: ='S2 Maquette'!I32*1.5 -> 18 | AC17: ='S3 Maquette'!I32*1.5 -> 0 | AD17: ='S4 Maquette'!I32*1.5 -> 0
A18: =A5-N18 -> #REF! | B18: =B5-O18 -> 154 | C18: =C5-P18 -> 11 | D18: =D5-Q18 -> #REF! | E18: =E5-R18 -> 156 | F18: =F5-S18 -> 36 | G18: =G5-T18 -> 54 | H18: =H5-U18 -> 192 | ... L18: =L5-Y18 -> 24 | N18: =SUMIF('S1 Maquette'!M19:M299,"Portée",'S1 Maquette'!I19:I299)*1.5 -> 237 | O18: =SUMIF('S1 Maquette'!M19:M299,"Portée",'S1 Maquette'!J19:J299) -> 493.5 | P18: =SUMIF('S1 Maquette'!M19:M299,"Portée",'S1 Maquette'!K19:K299) -> 11 | Q18: =SUMIF('S2 Maquette'!M19:M299,"Portée",'S2 Maquette'!I19:I299)*1.5 -> 261 | R18: =SUMIF('S2 Maquette'!M19:M299,"Portée",'S2 Maquette'!J19:J299) -> 540 | S18: =SUMIF('S2 Maquette'!M9:M299,"Portée",'S2 Maquette'!K19:K299) -> 0 | T18: =SUMIF('S3 Maquette'!M19:M301,"Portée",'S3 Maquette'!I19:I301)*1.5 -> 676.5 | U18: =SUMIF('S3 Maquette'!M19:M301,"Portée",'S3 Maquette'!J19:J301) -> 1276.5 | V18: =SUMIF('S3 Maquette'!M19:M301,"Portée",'S3 Maquette'!K19:K301) -> 190 | W18: =SUMIF('S4 Maquette'!M19:M301,"Portée",'S4 Maquette'!I19:I301)*1.5 -> 675 | X18: =SUMIF('S4 Maquette'!M19:M301,"Portée",'S4 Maquette'!J19:J301) -> 1284 | Y18: =SUMIF('S4 Maquette'!M19:M301,"Portée",'S4 Maquette'!K19:K301) -> 192 | AA18: ='S1 Maquette'!I33*1.5 -> 0 | AB18: ='S2 Maquette'!I33*1.5 -> 0 | AC18: ='S3 Maquette'!I33*1.5 -> 0 | AD18: ='S4 Maquette'!I33*1.5 -> 0
A19: Total | D19: Total | G19: Total | J19: Total | AA19: ='S1 Maquette'!I34*1.5 -> 0 | AB19: ='S2 Maquette'!I34*1.5 -> 0 | AC19: ='S3 Maquette'!I34*1.5 -> 18 | AD19: ='S4 Maquette'!I34*1.5 -> 18
A20: =SUM(A18,B18,C18) -> #REF! | D20: =SUM(D18,E18,F18) -> #REF! | G20: =SUM(G18,H18,I18) -> 270 | J20: =SUM(J18,K18,L18) -> 270 | AA20: ='S1 Maquette'!I35*1.5 -> 0 | AB20: ='S2 Maquette'!I35*1.5 -> 0 | AC20: ='S3 Maquette'!I35*1.5 -> 0 | AD20: ='S4 Maquette'!I35*1.5 -> 0
A21: Total | G21: Total | AA21: ='S1 Maquette'!I36*1.5 -> 16.5 | AB21: ='S2 Maquette'!I36*1.5 -> 18 | AC21: ='S3 Maquette'!I36*1.5 -> 0 | AD21: ='S4 Maquette'!I36*1.5 -> 0
A22: =SUM(A20,D20) -> #REF! | G22: =SUM(G20,J20) -> 540 | AA22: ='S1 Maquette'!I37*1.5 -> 16.5 | AB22: ='S2 Maquette'!I37*1.5 -> 18 | AC22: ='S3 Maquette'!I37*1.5 -> 0 | AD22: ='S4 Maquette'!I37*1.5 -> 0
AA23: ='S1 Maquette'!I38*1.5 -> 0 | AB23: ='S2 Maquette'!I38*1.5 -> 0 | AC23: ='S3 Maquette'!I38*1.5 -> 18 | AD23: ='S4 Maquette'!I38*1.5 -> 18
AA24: ='S1 Maquette'!I39*1.5 -> 0 | AB24: ='S2 Maquette'!I39*1.5 -> 0 | AC24: ='S3 Maquette'!I39*1.5 -> 0 | AD24: ='S4 Maquette'!I39*1.5 -> 0
AA25: ='S1 Maquette'!I40*1.5 -> 0 | AB25: ='S2 Maquette'!I40*1.5 -> 0 | AC25: ='S3 Maquette'!I40*1.5 -> 0 | AD25: ='S4 Maquette'!I40*1.5 -> 0
AA26: ='S1 Maquette'!I41*1.5 -> 0 | AB26: ='S2 Maquette'!I41*1.5 -> 0 | AC26: ='S3 Maquette'!I41*1.5 -> 0 | AD26: ='S4 Maquette'!I41*1.5 -> 0
AA27: ='S1 Maquette'!I42*1.5 -> 0 | AB27: ='S2 Maquette'!I42*1.5 -> 0 | AC27: ='S3 Maquette'!I42*1.5 -> 0 | AD27: ='S4 Maquette'!I42*1.5 -> 0
AA28: ='S1 Maquette'!I43*1.5 -> 0 | AB28: ='S2 Maquette'!I43*1.5 -> 0 | AC28: ='S3 Maquette'!I43*1.5 -> 0 | AD28: ='S4 Maquette'!I43*1.5 -> 0
AA29: ='S1 Maquette'!I44*1.5 -> 16.5 | AB29: ='S2 Maquette'!I44*1.5 -> 18 | AC29: ='S3 Maquette'!I44*1.5 -> 0 | AD29: ='S4 Maquette'!I44*1.5 -> 0
AA30: ='S1 Maquette'!I45*1.5 -> 0 | AB30: ='S2 Maquette'!I45*1.5 -> 0 | AC30: ='S3 Maquette'!I45*1.5 -> 18 | AD30: ='S4 Maquette'!I45*1.5 -> 18
AA31: ='S1 Maquette'!I46*1.5 -> 0 | AB31: ='S2 Maquette'!I46*1.5 -> 0 | AC31: ='S3 Maquette'!I46*1.5 -> 18 | AD31: ='S4 Maquette'!I46*1.5 -> 18
AA32: ='S1 Maquette'!I47*1.5 -> 16.5 | AB32: ='S2 Maquette'!I47*1.5 -> 18 | AC32: ='S3 Maquette'!I47*1.5 -> 0 | AD32: ='S4 Maquette'!I47*1.5 -> 0
AA33: ='S1 Maquette'!I48*1.5 -> 0 | AB33: ='S2 Maquette'!I48*1.5 -> 0 | AC33: ='S3 Maquette'!I48*1.5 -> 0 | AD33: ='S4 Maquette'!I48*1.5 -> 0
AA34: ='S1 Maquette'!I49*1.5 -> 0 | AB34: ='S2 Maquette'!I49*1.5 -> 0 | AC34: ='S3 Maquette'!I49*1.5 -> 0 | AD34: ='S4 Maquette'!I49*1.5 -> 0
... AA46: ='S1 Maquette'!I61*1.5 -> 16.5 | AB46: ='S2 Maquette'!I61*1.5 -> 18 | AC46: ='S3 Maquette'!I61*1.5 -> 18 | AD46: ='S4 Maquette'!I61*1.5 -> 18
AA47: ='S1 Maquette'!#REF!*1.5 -> #REF! | AB47: ='S2 Maquette'!#REF!*1.5 -> #REF! | AC47: ='S3 Maquette'!I62*1.5 -> 0 | AD47: ='S4 Maquette'!I62*1.5 -> 0
AA48: ='S1 Maquette'!I62*1.5 -> 0 | AB48: ='S2 Maquette'!I62*1.5 -> 0 | AC48: ='S3 Maquette'!I63*1.5 -> 0 | AD48: ='S4 Maquette'!I63*1.5 -> 0
AA49: ='S1 Maquette'!I63*1.5 -> 16.5 | AB49: ='S2 Maquette'!I63*1.5 -> 18 | AC49: ='S3 Maquette'!I64*1.5 -> 0 | AD49: ='S4 Maquette'!I64*1.5 -> 0
AA50: ='S1 Maquette'!I64*1.5 -> 0 | AB50: ='S2 Maquette'!I64*1.5 -> 0 | AC50: ='S3 Maquette'!I65*1.5 -> 18 | AD50: ='S4 Maquette'!I65*1.5 -> 18
AA51: ='S1 Maquette'!I65*1.5 -> 0 | AB51: ='S2 Maquette'!I65*1.5 -> 0 | AC51: ='S3 Maquette'!I66*1.5 -> 0 | AD51: ='S4 Maquette'!I66*1.5 -> 0
AA52: ='S1 Maquette'!I66*1.5 -> 0 | AB52: ='S2 Maquette'!I66*1.5 -> 0 | AC52: ='S3 Maquette'!I67*1.5 -> 0 | AD52: ='S4 Maquette'!I67*1.5 -> 0
...

Sheet Fiche Générale
A1: Type Diplôme : Portail & Double Portail
A2: Types Diplômes | B2: Portail
A3: COMPOSANTE | B3: Portail_LLAC
A4: MENTION | B4: Langues Etrangères Appliquées
A5: CODE DIPLÔME
A6: Régime d'inscription | B6: Initiale Hors-Apprentissage / Formation Continue / Formation Permanente
A8: Parcours Type Portail
A9: Parcours Type | B9: LEA Anglais - Allemand
A13: Heures Maquette Année 1 | B13: Heures Valorisées Année 1 | C13: Heures Maquette Année 2 | D13: Heures Valorisées Année 2
A15: =Calcul!A10 -> #REF! | B15: =Calcul!A22 -> #REF! | C15: =Calcul!G10 -> 4834 | D15: =Calcul!G22 -> 540
B18: Le statut de non assidu n'est pas autorisé pour les étudiants du parcours Regensburg.
A19: COMPENSATION
A20: Les MCC déterminent le mode de compensation entre UE, semestre et année ainsi que la possibilité d’une note éliminatoire.
A21: Obtention des UE
A22: L'UE est obtenue avec une note minimum de 10/20 et par compensation entre tous les ECUE. Pour toutes les années, la note de seconde chance consiste en un nouveau calcul de la moyenne de l'ECUE. Si le résultat de ce nouveau calcul atteint ou dépasse 10/20, alors l'ECUE est obtenue avec la note plafonnée de 10/20. Le refus de compensation n'est autorisé que pour l'UE compétences transversales.
A25: Obtention du Semestre
A26: Le semestre est obtenu avec une note minimum de 10/20. L1: par compensation entre toutes les UE L2: les UE de langue A et langue B et de Matières d'application ne sont pas compensables. Les autres UE sont compensables entre elles.
A29: Obtention de l'Année
A30: L'année est obtenue avec une note minimum de 10/20 et par compensation entre les deux semestres. L2: les UE de langue A et langue B et Matières d'application ne sont pas compensables pour l'obtention de l'année. Si la moyenne de l'année est inférieure à 10/20, le passage en L2 est permis si toutes les UE de L1 sont validées sauf les 2 UE de compétences transversales (8 UE sur 10). Pour passer en L3 il faut avoir obtenu toutes les UE de L1 et L2 (par compensation ou non).
A33: Note éliminatoire/ Note seuil
A34: En L2 une note inférieure à 10 aux UE de langue A, de langue B ou de Matières d’application invalide semestre et année.
A37: REDOUBLEMENT
A38: Autorisé Limitation du nombre de redoublements : 2 fois en L1 ; 1 fois en L2 ; 1 fois en L3 ; au-delà, à titredérogatoire. Le redoublement n’étant pas de droit, lorsqu’un ou une étudiante obtient entre 0 et 5 de moyenne annuelle, le jury est souverain pour décider d’un redoublement ou non, en tenant compte de sa situation personnelle (maladie, décès d’un proche, etc.).
... A43: DISPOSITIF ARE Principe général : Si un étudiant à des notes qui justifient son placement en soutien dans plus d'une matière (MA , Langue A ou Langue B), il n'est obligé d'assister qu'au soutien de la matière où il est le plus faible. Il pourra quand même bien sûr assister aux autres cours de soutien s'il le souhaite. • Anglais : soutien s1 : obligatoire si note inférieure à 9/20 au test de positionnement de pré-rentrée soutien s2 : obligatoire si moyenne à l'UE d'anglais du S1 inférieure à 9/20 tutorat L2 s3 : obligatoire si moyenne à l'UE d'anglais du S2 inférieure à 9/20 tutorat L2 s4 : obligatoire si moyenne à l'UE d'anglais du S3 inférieure à 9/20 • Matières d’application – obligatoire selon les conditions suivantes : L1/S1 (12h de soutien en économie, YLELMA1) — Sur la base des résultats obtenus lors d’une évaluation diagnostique organisée en semaine 4, l’enseignant de l’ECUE HPEEQU1 détermine le groupe d’étudiants (10 à 15 % de la promotion, pour un groupe n’excédant pas 40 personnes) qui bénéficiera de 2h de soutien hebdomadaires pendant trois semaines (semaines 5 à 7). Une seconde évaluation diagnostique organisée en semaine 8 permet la recomposition du groupe en fonction des progrès réalisés ou des nouvelles lacunes décelées (un.e étudiant.e peut continuer à bénéficier du soutien), pour une nouvelle séquence de trois semaines (semaines 9 à 11). L1/S2 (16h de soutien en communication, YLELMA2) – « À l’issue des jurys de S1, les 10-15 % de l’effectif (effectif total maximum : 40) ayant obtenu les résultats les plus faibles dans l'UE des Matières d’application du S1 (HPUEMA1) devront obligatoirement suivre les cours de soutien en communication du dispositif ARE pendant les semaines 2 à 5 du semestre. En semaine 6, une évaluation diagnostique réalisée par l’enseignant de l’ECUE HPEECP2 permet la recomposition du groupe pour une nouvelle séquence de quatre semaines (semaines 7 à 10). L2/S3 (18h de renforcement de la culture générale, YLELMA3) – « Les 15 % de l’effectif admis en L2 ayant obtenu les résultats les plus faibles dans l'UE des Matières d’application au S2 (HPUEMA2) devront obligatoirement suivre les cours de renforcement (culture générale) proposés au S3 sur 9 semaines. Aux 15 % de l’effectif des L1 admis en L2 s’ajouteront obligatoirement les étudiant.es qui redoublent la L2 (effectif total maximum : 40). L2/S4 (18h de renforcement de la culture générale, YLELMA4) – « À l’issue des jurys de S3, les 15 à 20 % de l’effectif ayant obtenu les résultats les plus faibles dans l’UE des Matières d’application au S3 (HPUEMA3) devront obligatoirement suivre les cours de soutien du dispositif ARE jusqu’à la fin du S4 (effectif total maximum : 40). » • Allemand : Soutien L1 s1 : « réalisation d’un test de positionnement à la pré-rentrée. Tout étudiant ayant une note inférieure à 10 devra obligatoirement suivre les cours de soutien, pendant toute l'année. La note de ce test n’entrera pas dans le calcul de la moyenne » S2 « Tout étudiant ayant une note inférieure à 10 en moyenne générale mi-novembre devra obligatoirement suivre les cours de soutien ». Pour le s3, « Tout étudiant ayant une note inférieure à 10 en moyenne générale à l’issue du semestre 1 devra obligatoirement suivre les cours de soutien ».
B47: • Allemand
A48: Soutien L1 s1 : « réalisation d’un test de positionnement à la pré-rentrée. Tout étudiant ayant une note inférieure à 10 devra obligatoirement suivre les cours de soutien, pendant toute l'année. La note de ce test n’entrera pas dans le calcul de la moyenne »
A50: S2 « Tout étudiant ayant une note inférieure à 10 en moyenne générale mi-novembre devra obligatoirement suivre les cours de soutien ».
A52: Pour le s3, « Tout étudiant ayant une note inférieure à 10 en moyenne générale à l’issue du semestre 1 devra obligatoirement suivre les cours de soutien ».

Sheet S1 Maquette
A7: Composante | B7: ='Fiche Générale'!B3 -> Portail_LLAC | C7: Diplôme | E7: ='Fiche Générale'!B4 -> Langues Etrangères Appliquées | G7: Code diplôme | H7: ='Fiche Générale'!B5 -> 0
C10: Parcours type | E10: ='Fiche Générale'!B9 -> LEA Anglais - Allemand
A13: Année | B13: 1ère année de Portail | C13: Code année | G13: Heure Maquette | H13: =Calcul!A7 -> #REF!
A15: Semestre | B15: Semestre 1 | C15: Code semestre | G15: Heure Valorisées | H15: =Calcul!A20 -> #REF!
A18: Niveau | B18: Libellé ELP | C18: Nature ELP | D18: ECTS | E18: Type | F18: Statut | G18: Code Apogée | H18: CNU | I18: Heure CM | J18: Heure TD | K18: Heure TP | L18: Langues | M18: Mutualisation | N18: Formation Porteuse | O18: Observations / Remarques ex: Intervention à titre gracieux / Capacité d'accueil max
A19: 0 | B19: Compétences transversales S1 | C19: UE | D19: 6
A20: 0.1 | B20: Compétences écrites 1 | C20: ECUE
A21: 0.2 | B21: Compétences informationnelles | C21: ECUE
A22: 0.3 | B22: Langue Vivante-1 | C22: ECUE | O22: Neutralisation de l'ECUE transversale Langue vivante étrangère pour les étudiants de LEA
B23: Min 1 Max 1 | C23: OPTION | O23: Neutralisation de l'ECUE transversale Langue vivante étrangère pour les étudiants de LEA
A24: 0.3.1 | B24: Anglais 1 | C24: ECUE | O24: Neutralisation de l'ECUE transversale Langue vivante étrangère pour les étudiants de LEA
A25: 0.3.2 | B25: Espagnol | C25: ECUE | O25: Neutralisation de l'ECUE transversale Langue vivante étrangère pour les étudiants de LEA
A26: 0.3.3 | B26: Italien | C26: ECUE | O26: Neutralisation de l'ECUE transversale Langue vivante étrangère pour les étudiants de LEA
A27: 1 | B27: Langue A : Anglais Non Débutant 1 | C27: UE | D27: 6
B28: Culture 1 ANGLAIS | C28: ECUE | I28: 11 | M28: Porteuse
B29: Grammaire et traduction 1 ANGLAIS | C29: ECUE | J29: 22 | M29: Porteuse
B30: Expression écrite et orale 1 ANGLAIS | C30: ECUE | J30: 11 | K30: 11 | M30: Porteuse
A31: 2 | B31: Langue B : Allemand Non Débutant 1 | C31: UE | D31: 6 | M31: Porteuse | O31: UE disciplinaire offerte également en découverte
B32: Culture 1 ALLEMAND | C32: ECUE | I32: 11 | M32: Porteuse | O32: UE disciplinaire offerte également en découverte
B33: Grammaire et traduction 1 ALLEMAND | C33: ECUE | J33: 33 | M33: Porteuse | O33: UE disciplinaire offerte également en découverte
B34: Expression écrite et orale 1 ALLEMAND | C34: ECUE | J34: 33 | M34: Porteuse | O34: UE disciplinaire offerte également en découverte
A35: 3 | B35: Matières d'application 1 | C35: UE | D35: 6
B36: Introduction à l’analyse économique & histoire de la pensée économique/Introduction to economic analysis and history of economic thought 1 | C36: ECUE | I36: 11 | M36: Porteuse
B37: Introduction à l'économie du tourisme 1 | C37: ECUE | I37: 11 | M37: Porteuse
B38: Communication professionnelle 1 | C38: ECUE | J38: 11 | M38: Porteuse
A39: 4 | B39: Découverte ou langue C | C39: UE
B40: 1 UE au choix | C40: OPTION
A41: 4.1 | B41: Découverte Allemand Non débutant 1 | C41: UE | D41: 6
B42: Travail autour d'une série 1 ALLEMAND | C42: ECUE | J42: 44 | M42: Porteuse
A43: 4.2 | B43: Découverte Arabe Débutant 1 | C43: UE | D43: 6 | M43: Portée
B44: Culture 1 ARABE | C44: ECUE | I44: 11 | M44: Portée
B45: Langue 1 ARABE | C45: ECUE | J45: 22 | M45: Portée
A46: 4.3 | B46: Découverte Chinois Débutant 1 | C46: UE | D46: 6 | M46: Portée
B47: Culture 1 CHINOIS | C47: ECUE | I47: 11 | M47: Portée
B48: Langue 1 CHINOIS | C48: ECUE | J48: 22 | M48: Portée
A49: 4.4 | B49: Découverte Espagnol Non débutant 1 | C49: UE | D49: 6 | M49: Portée | N49: LEA disciplinaire Langue B
B50: Langue 1 ESPAGNOL | C50: ECUE | J50: 22 | M50: Portée | N50: LEA disciplinaire Langue B: Grammaire et traduction 1 ESPAGNOL
B51: Communication écrite et orale 1 ESPAGNOL | C51: ECUE | J51: 11 | K51: 11 | M51: Portée | N51: LEA disciplinaire Langue B: Expression écrite et orale 1 ESPAGNOL
A52: 4.5 | B52: Découverte Italien Non débutant 1 | C52: UE | D52: 6 | M52: Portée
B53: Culture et expression 1 ITALIEN | C53: ECUE | I53: 11 | M53: Portée
...

Sheet S1 MCC
A7: Composante | B7: ='Fiche Générale'!B3 -> Portail_LLAC | C7: Diplôme | E7: ='Fiche Générale'!B4 -> Langues Etrangères Appliquées | G7: Code diplôme | H7: ='Fiche Générale'!B5 -> 0
C10: Parcours type | E10: ='Fiche Générale'!B9 -> LEA Anglais - Allemand
M12: 1ère session | P12: Seconde Chance
A13: Année | B13: ='S1 Maquette'!B13 -> 1ère année de Portail | D13: Code Année | E13: ='S1 Maquette'!E13 -> 0
M14: Contrôle continu | N14: Contrôle Terminal
A15: Semestre | B15: ='S1 Maquette'!B15 -> Semestre 1 | D15: Code Semestre | E15: ='S1 Maquette'!E15:F16 -> 0
A18: Libellé | B18: Nature | C18: Statut | D18: Coefficient | E18: Notes attendues | F18: Résultat attendu: (ACQ/AJ) | G18: Conservation note | H18: Capitalisable | I18: Compensable | J18: Seuil de compensation /20 | K18: Type de contrôle | L18: Si CC&CT coef du CT | M18: Nbre d'évalution minimum | N18: Nature | O18: Durée | P18: Format d'évaluation | Q18: Nature | R18: Durée | S18: Modalités de mise en œuvre | T18: Commentaires
A19: ='S1 Maquette'!B19 -> Compétences transversales S1 | B19: ='S1 Maquette'!C19 -> UE | C19: ='S1 Maquette'!F19 -> 0
A20: ='S1 Maquette'!B20 -> Compétences écrites 1 | B20: ='S1 Maquette'!C20 -> ECUE | C20: ='S1 Maquette'!F20 -> 0
A21: ='S1 Maquette'!B21 -> Compétences informationnelles | B21: ='S1 Maquette'!C21 -> ECUE | C21: ='S1 Maquette'!F21 -> 0
A22: ='S1 Maquette'!B22 -> Langue Vivante-1 | B22: ='S1 Maquette'!C22 -> ECUE | C22: ='S1 Maquette'!F22 -> 0
A23: ='S1 Maquette'!B23 -> Min 1 Max 1 | B23: ='S1 Maquette'!C23 -> OPTION | C23: ='S1 Maquette'!F23 -> 0
A24: ='S1 Maquette'!B24 -> Anglais 1 | B24: ='S1 Maquette'!C24 -> ECUE | C24: ='S1 Maquette'!F24 -> 0
A25: ='S1 Maquette'!B25 -> Espagnol | B25: ='S1 Maquette'!C25 -> ECUE
A26: ='S1 Maquette'!B26 -> Italien | B26: ='S1 Maquette'!C26 -> ECUE | C26: ='S1 Maquette'!F26 -> 0
A27: ='S1 Maquette'!B27 -> Langue A : Anglais Non Débutant 1 | B27: ='S1 Maquette'!C27 -> UE | C27: ='S1 Maquette'!F27 -> 0 | D27: 1 | E27: OUI | F27: OUI | G27: OUI | H27: OUI | I27: OUI
A28: ='S1 Maquette'!B28 -> Culture 1 ANGLAIS | B28: ='S1 Maquette'!C28 -> ECUE | C28: ='S1 Maquette'!F28 -> 0 | D28: 1 | E28: OUI | F28: OUI | G28: OUI | H28: OUI | I28: OUI | K28: CCI (CC Intégral) | M28: 2 | P28: Autres | S28: Seconde chance : la moyenne de l’ECUE sera calculée en doublant la meilleure note et en plafonnant le résultat à 10/20
A29: ='S1 Maquette'!B29 -> Grammaire et traduction 1 ANGLAIS | B29: ='S1 Maquette'!C29 -> ECUE | C29: ='S1 Maquette'!F29 -> 0 | D29: 1 | E29: OUI | F29: OUI | G29: OUI | H29: OUI | I29: OUI | K29: CCI (CC Intégral) | M29: 2 | P29: Autres | S29: Seconde chance : la moyenne de l’ECUE sera calculée en doublant la meilleure note et en plafonnant le résultat à 10/20
A30: ='S1 Maquette'!B30 -> Expression écrite et orale 1 ANGLAIS | B30: ='S1 Maquette'!C30 -> ECUE | C30: ='S1 Maquette'!F30 -> 0 | D30: 1 | E30: OUI | F30: OUI | G30: OUI | H30: OUI | I30: OUI | K30: CCI (CC Intégral) | M30: 2 | P30: Autres | S30: Seconde chance : la moyenne de l’ECUE sera calculée en doublant la meilleure note et en plafonnant le résultat à 10/20
A31: ='S1 Maquette'!B31 -> Langue B : Allemand Non Débutant 1 | B31: ='S1 Maquette'!C31 -> UE | C31: ='S1 Maquette'!F31 -> 0 | D31: 1 | E31: OUI | F31: OUI | G31: OUI | H31: OUI | I31: OUI
A32: ='S1 Maquette'!B32 -> Culture 1 ALLEMAND | B32: ='S1 Maquette'!C32 -> ECUE | C32: ='S1 Maquette'!F32 -> 0 | D32: 1 | E32: OUI | F32: OUI | G32: OUI | H32: OUI | I32: OUI | K32: CCI (CC Intégral) | M32: 2 | P32: Autres | S32: Seconde chance : la moyenne de l’ECUE sera calculée en doublant la meilleure note et en plafonnant le résultat à 10/20
A33: ='S1 Maquette'!B33 -> Grammaire et traduction 1 ALLEMAND | B33: ='S1 Maquette'!C33 -> ECUE | C33: ='S1 Maquette'!F33 -> 0 | D33: 1 | E33: OUI | F33: OUI | G33: OUI | H33: OUI | I33: OUI | K33: CCI (CC Intégral) | M33: 2 | P33: Autres | S33: Seconde chance : la moyenne de l’ECUE sera calculée en doublant la meilleure note et en plafonnant le résultat à 10/20
A34: ='S1 Maquette'!B34 -> Expression écrite et orale 1 ALLEMAND | B34: ='S1 Maquette'!C34 -> ECUE | C34: ='S1 Maquette'!F34 -> 0 | D34: 1 | E34: OUI | F34: OUI | G34: OUI | H34: OUI | I34: OUI | K34: CCI (CC Intégral) | M34: 2 | P34: Autres | S34: Seconde chance : la moyenne de l’ECUE sera calculée en doublant la meilleure note et en plafonnant le résultat à 10/20
A35: ='S1 Maquette'!B35 -> Matières d'application 1 | B35: ='S1 Maquette'!C35 -> UE | C35: ='S1 Maquette'!F35 -> 0 | D35: 1 | E35: OUI | F35: OUI | G35: OUI | H35: OUI | I35: OUI
A36: ='S1 Maquette'!B36 -> Introduction à l’analyse économique & histoire de la pensée économique/Introduction to economic analysis and history of economic thought 1 | B36: ='S1 Maquette'!C36 -> ECUE | C36: ='S1 Maquette'!F36 -> 0 | D36: 1 | E36: OUI | F36: OUI | G36: OUI | H36: OUI | I36: OUI | K36: CCI (CC Intégral) | M36: 2 | P36: Autres | S36: Seconde chance : la moyenne de l’ECUE sera calculée en doublant la meilleure note et en plafonnant le résultat à 10/20
A37: ='S1 Maquette'!B37 -> Introduction à l'économie du tourisme 1 | B37: ='S1 Maquette'!C37 -> ECUE | C37: ='S1 Maquette'!F37 -> 0 | D37: 1 | E37: OUI | F37: OUI | G37: OUI | H37: OUI | I37: OUI | K37: CCI (CC Intégral) | M37: 2 | P37: Autres | S37: Seconde chance : la moyenne de l’ECUE sera calculée en doublant la meilleure note et en plafonnant le résultat à 10/20
A38: ='S1 Maquette'!B38 -> Communication professionnelle 1 | B38: ='S1 Maquette'!C38 -> ECUE | C38: ='S1 Maquette'!F38 -> 0 | D38: 1 | E38: OUI | F38: OUI | G38: OUI | H38: OUI | I38: OUI | K38: CCI (CC Intégral) | M38: 2 | P38: Autres | S38: Seconde chance : la moyenne de l’ECUE sera calculée en doublant la meilleure note et en plafonnant le résultat à 10/20
A39: ='S1 Maquette'!B39 -> Découverte ou langue C | B39: ='S1 Maquette'!C39 -> UE | C39: ='S1 Maquette'!F39 -> 0 | D39: 1 | E39: OUI | F39: OUI | G39: OUI | H39: OUI | I39: OUI
A40: ='S1 Maquette'!B40 -> 1 UE au choix | B40: ='S1 Maquette'!C40 -> OPTION | C40: ='S1 Maquette'!F40 -> 0 | D40: 1
A41: ='S1 Maquette'!B41 -> Découverte Allemand Non débutant 1 | B41: ='S1 Maquette'!C41 -> UE | C41: ='S1 Maquette'!F41 -> 0 | D41: 1 | E41: Les MCC pour les éléments d'OUVERTURE sont reportées dans la maquette/MCC du portail LEA Anglais-Arabe
A42: ='S1 Maquette'!B42 -> Travail autour d'une série 1 ALLEMAND | B42: ='S1 Maquette'!C42 -> ECUE | C42: ='S1 Maquette'!F42 -> 0 | D42: 1
A43: ='S1 Maquette'!B43 -> Découverte Arabe Débutant 1 | B43: ='S1 Maquette'!C43 -> UE | C43: ='S1 Maquette'!F43 -> 0 | D43: 1
A44: ='S1 Maquette'!B44 -> Culture 1 ARABE | B44: ='S1 Maquette'!C44 -> ECUE | C44: ='S1 Maquette'!F44 -> 0 | D44: 1
A45: ='S1 Maquette'!B45 -> Langue 1 ARABE | B45: ='S1 Maquette'!C45 -> ECUE | C45: ='S1 Maquette'!F45 -> 0 | D45: 1
A46: ='S1 Maquette'!B46 -> Découverte Chinois Débutant 1 | B46: ='S1 Maquette'!C46 -> UE | C46: ='S1 Maquette'!F46 -> 0 | D46: 1
A47: ='S1 Maquette'!B47 -> Culture 1 CHINOIS | B47: ='S1 Maquette'!C47 -> ECUE | C47: ='S1 Maquette'!F47 -> 0 | D47: 1
A48: ='S1 Maquette'!B48 -> Langue 1 CHINOIS | B48: ='S1 Maquette'!C48 -> ECUE | C48: ='S1 Maquette'!F48 -> 0 | D48: 1
A49: ='S1 Maquette'!B49 -> Découverte Espagnol Non débutant 1 | B49: ='S1 Maquette'!C49 -> UE | C49: ='S1 Maquette'!F49 -> 0 | D49: 1
A50: ='S1 Maquette'!B50 -> Langue 1 ESPAGNOL | B50: ='S1 Maquette'!C50 -> ECUE | C50: ='S1 Maquette'!F50 -> 0 | D50: 1
A51: ='S1 Maquette'!B51 -> Communication écrite et orale 1 ESPAGNOL | B51: ='S1 Maquette'!C51 -> ECUE | C51: ='S1 Maquette'!F51 -> 0 | D51: 1
...

Sheet S1 MCC NA
A7: Composante | B7: ='[1]Fiche Générale'!B3 -> Portail_LLAC | C7: Diplôme | E7: ='[1]Fiche Générale'!B4 -> Langues Etrangères Appliquées | G7: Code diplôme | H7: ='[1]Fiche Générale'!B5 -> 0
C10: Parcours type | E10: ='[1]Fiche Générale'!B9 -> LEA Anglais - Allemand
M12: 1ère session | P12: Seconde Chance
A13: Année | B13: ='[1]S1 Maquette'!B13 -> 1ère année de Portail | D13: Code Année | E13: ='[1]S1 Maquette'!E13 -> 0
M14: Non assidus | N14: Contrôle Terminal
A15: Semestre | B15: ='[1]S1 Maquette'!B15 -> Semestre 1 | D15: Code Semestre | E15: ='[1]S1 Maquette'!E15:F16 -> 0
A18: Libellé | B18: Nature | C18: Statut | D18: Coefficient | E18: Notes attendues | F18: Résultat attendu: (ACQ/AJ) | G18: Conservation note | H18: Capitalisable | I18: Compensable | J18: Seuil de compensation /20 | K18: Type de contrôle | L18: Si CC&CT coef du CT | M18: Nbre d'évalution minimum | N18: Nature | O18: Durée | P18: Format d'évaluation | Q18: Nature | R18: Durée | S18: Modalités de mise en œuvre | T18: Commentaires
A19: ='[1]S1 Maquette'!B19 -> Compétences transversales S1 | B19: ='[1]S1 Maquette'!C19 -> UE | C19: ='[1]S1 Maquette'!F19 -> 0
A20: ='[1]S1 Maquette'!B20 -> Compétences écrites 1 | B20: ='[1]S1 Maquette'!C20 -> ECUE | C20: ='[1]S1 Maquette'!F20 -> 0
A21: ='[1]S1 Maquette'!B21 -> Compétences informationnelles | B21: ='[1]S1 Maquette'!C21 -> ECUE | C21: ='[1]S1 Maquette'!F21 -> 0
A22: ='[1]S1 Maquette'!B22 -> Langue Vivante-1 | B22: ='[1]S1 Maquette'!C22 -> ECUE | C22: ='[1]S1 Maquette'!F22 -> 0
A23: ='[1]S1 Maquette'!B23 -> Min 1 Max 1 | B23: ='[1]S1 Maquette'!C23 -> OPTION | C23: ='[1]S1 Maquette'!F23 -> 0
A24: ='[1]S1 Maquette'!B24 -> Anglais 1 | B24: ='[1]S1 Maquette'!C24 -> ECUE | C24: ='[1]S1 Maquette'!F24 -> 0
A25: ='[1]S1 Maquette'!B25 -> Espagnol | B25: ='[1]S1 Maquette'!C25 -> ECUE
A26: ='[1]S1 Maquette'!B26 -> Italien | B26: ='[1]S1 Maquette'!C26 -> ECUE | C26: ='[1]S1 Maquette'!F26 -> 0
A27: ='[1]S1 Maquette'!B27 -> Langue A : Anglais Non Débutant 1 | B27: ='[1]S1 Maquette'!C27 -> UE | C27: ='[1]S1 Maquette'!F27 -> 0 | D27: 1 | E27: OUI | F27: OUI | G27: OUI | H27: OUI | I27: OUI
A28: ='[1]S1 Maquette'!B28 -> Culture 1 ANGLAIS | B28: ='[1]S1 Maquette'!C28 -> ECUE | C28: ='[1]S1 Maquette'!F28 -> 0 | D28: 1 | E28: OUI | F28: OUI | G28: OUI | H28: OUI | I28: OUI | K28: CCI (CC Intégral) | M28: 2 | P28: Autres | S28: Seconde chance : la moyenne de l’ECUE sera calculée en doublant la meilleure note et en plafonnant le résultat à 10/20
A29: ='[1]S1 Maquette'!B29 -> Grammaire et traduction 1 ANGLAIS | B29: ='[1]S1 Maquette'!C29 -> ECUE | C29: ='[1]S1 Maquette'!F29 -> 0 | D29: 1 | E29: OUI | F29: OUI | G29: OUI | H29: OUI | I29: OUI | K29: CCI (CC Intégral) | M29: 2 | P29: Autres | S29: Seconde chance : la moyenne de l’ECUE sera calculée en doublant la meilleure note et en plafonnant le résultat à 10/20
A30: ='[1]S1 Maquette'!B30 -> Expression écrite et orale 1 ANGLAIS | B30: ='[1]S1 Maquette'!C30 -> ECUE | C30: ='[1]S1 Maquette'!F30 -> 0 | D30: 1 | E30: OUI | F30: OUI | G30: OUI | H30: OUI | I30: OUI | K30: CCI (CC Intégral) | M30: 2 | P30: Autres | S30: Seconde chance : la moyenne de l’ECUE sera calculée en doublant la meilleure note et en plafonnant le résultat à 10/20
A31: ='[1]S1 Maquette'!B31 -> Langue B : Allemand Non Débutant 1 | B31: ='[1]S1 Maquette'!C31 -> UE | C31: ='[1]S1 Maquette'!F31 -> 0 | D31: 1 | E31: OUI | F31: OUI | G31: OUI | H31: OUI | I31: OUI
A32: ='[1]S1 Maquette'!B32 -> Culture 1 ALLEMAND | B32: ='[1]S1 Maquette'!C32 -> ECUE | C32: ='[1]S1 Maquette'!F32 -> 0 | D32: 1 | E32: OUI | F32: OUI | G32: OUI | H32: OUI | I32: OUI | K32: CCI (CC Intégral) | M32: 2 | P32: Autres | S32: Seconde chance : la moyenne de l’ECUE sera calculée en doublant la meilleure note et en plafonnant le résultat à 10/20
A33: ='[1]S1 Maquette'!B33 -> Grammaire et traduction 1 ALLEMAND | B33: ='[1]S1 Maquette'!C33 -> ECUE | C33: ='[1]S1 Maquette'!F33 -> 0 | D33: 1 | E33: OUI | F33: OUI | G33: OUI | H33: OUI | I33: OUI | K33: CCI (CC Intégral) | M33: 2 | P33: Autres | S33: Seconde chance : la moyenne de l’ECUE sera calculée en doublant la meilleure note et en plafonnant le résultat à 10/20
A34: ='[1]S1 Maquette'!B34 -> Expression écrite et orale 1 ALLEMAND | B34: ='[1]S1 Maquette'!C34 -> ECUE | C34: ='[1]S1 Maquette'!F34 -> 0 | D34: 1 | E34: OUI | F34: OUI | G34: OUI | H34: OUI | I34: OUI | K34: CCI (CC Intégral) | M34: 2 | P34: Autres | S34: Seconde chance : la moyenne de l’ECUE sera calculée en doublant la meilleure note et en plafonnant le résultat à 10/20
A35: ='[1]S1 Maquette'!B35 -> Matières d'application 1 | B35: ='[1]S1 Maquette'!C35 -> UE | C35: ='[1]S1 Maquette'!F35 -> 0 | D35: 1 | E35: OUI | F35: OUI | G35: OUI | H35: OUI | I35: OUI
A36: ='[1]S1 Maquette'!B36 -> Introduction à l’analyse économique & histoire de la pensée économique/Introduction to economic analysis and history of economic thought 1 | B36: ='[1]S1 Maquette'!C36 -> ECUE | C36: ='[1]S1 Maquette'!F36 -> 0 | D36: 1 | E36: OUI | F36: OUI | G36: OUI | H36: OUI | I36: OUI | K36: CCI (CC Intégral) | M36: 2 | P36: Autres | S36: Seconde chance : la moyenne de l’ECUE sera calculée en doublant la meilleure note et en plafonnant le résultat à 10/20
A37: ='[1]S1 Maquette'!B37 -> Introduction à l'économie du tourisme 1 | B37: ='[1]S1 Maquette'!C37 -> ECUE | C37: ='[1]S1 Maquette'!F37 -> 0 | D37: 1 | E37: OUI | F37: OUI | G37: OUI | H37: OUI | I37: OUI | K37: CCI (CC Intégral) | M37: 2 | P37: Autres | S37: Seconde chance : la moyenne de l’ECUE sera calculée en doublant la meilleure note et en plafonnant le résultat à 10/20
A38: ='[1]S1 Maquette'!B38 -> Communication professionnelle 1 | B38: ='[1]S1 Maquette'!C38 -> ECUE | C38: ='[1]S1 Maquette'!F38 -> 0 | D38: 1 | E38: OUI | F38: OUI | G38: OUI | H38: OUI | I38: OUI | K38: CCI (CC Intégral) | M38: 2 | P38: Autres | S38: Seconde chance : la moyenne de l’ECUE sera calculée en doublant la meilleure note et en plafonnant le résultat à 10/20
A39: ='[1]S1 Maquette'!B39 -> Découverte ou langue C | B39: ='[1]S1 Maquette'!C39 -> UE | C39: ='[1]S1 Maquette'!F39 -> 0 | D39: 1 | E39: OUI | F39: OUI | G39: OUI | H39: OUI | I39: OUI
A40: ='[1]S1 Maquette'!B40 -> 1 UE au choix | B40: ='[1]S1 Maquette'!C40 -> OPTION | C40: ='[1]S1 Maquette'!F40 -> 0 | D40: 1
A41: ='[1]S1 Maquette'!B41 -> Découverte Allemand Non débutant 1 | B41: ='[1]S1 Maquette'!C41 -> UE | C41: ='[1]S1 Maquette'!F41 -> 0 | D41: 1 | E41: Les MCC pour les éléments d'OUVERTURE sont reportées dans la maquette/MCC du portail LEA Anglais-Arabe
A42: ='[1]S1 Maquette'!B42 -> Travail autour d'une série 1 ALLEMAND | B42: ='[1]S1 Maquette'!C42 -> ECUE | C42: ='[1]S1 Maquette'!F42 -> 0 | D42: 1
A43: ='[1]S1 Maquette'!B43 -> Découverte Arabe Débutant 1 | B43: ='[1]S1 Maquette'!C43 -> UE | C43: ='[1]S1 Maquette'!F43 -> 0 | D43: 1
A44: ='[1]S1 Maquette'!B44 -> Culture 1 ARABE | B44: ='[1]S1 Maquette'!C44 -> ECUE | C44: ='[1]S1 Maquette'!F44 -> 0 | D44: 1
A45: ='[1]S1 Maquette'!B45 -> Langue 1 ARABE | B45: ='[1]S1 Maquette'!C45 -> ECUE | C45: ='[1]S1 Maquette'!F45 -> 0 | D45: 1
A46: ='[1]S1 Maquette'!B46 -> Découverte Chinois Débutant 1 | B46: ='[1]S1 Maquette'!C46 -> UE | C46: ='[1]S1 Maquette'!F46 -> 0 | D46: 1
A47: ='[1]S1 Maquette'!B47 -> Culture 1 CHINOIS | B47: ='[1]S1 Maquette'!C47 -> ECUE | C47: ='[1]S1 Maquette'!F47 -> 0 | D47: 1
A48: ='[1]S1 Maquette'!B48 -> Langue 1 CHINOIS | B48: ='[1]S1 Maquette'!C48 -> ECUE | C48: ='[1]S1 Maquette'!F48 -> 0 | D48: 1
A49: ='[1]S1 Maquette'!B49 -> Découverte Espagnol Non débutant 1 | B49: ='[1]S1 Maquette'!C49 -> UE | C49: ='[1]S1 Maquette'!F49 -> 0 | D49: 1
A50: ='[1]S1 Maquette'!B50 -> Grammaire et traduction 1 ESPAGNOL | B50: ='[1]S1 Maquette'!C50 -> ECUE | C50: ='[1]S1 Maquette'!F50 -> 0 | D50: 1
A51: ='[1]S1 Maquette'!B51 -> Expression écrite et orale 1 ESPAGNOL | B51: ='[1]S1 Maquette'!C51 -> ECUE | C51: ='[1]S1 Maquette'!F51 -> 0 | D51: 1
...

Sheet S2 Maquette
A7: Composante | B7: ='Fiche Générale'!B3 -> Portail_LLAC | C7: Diplôme | E7: ='Fiche Générale'!B4 -> Langues Etrangères Appliquées | G7: Code diplôme | H7: ='Fiche Générale'!B5 -> 0
C10: Parcours type | E10: ='Fiche Générale'!B9 -> LEA Anglais - Allemand
A13: Année | B13: ='S1 Maquette'!B13 -> 1ère année de Portail | C13: Code année | E13: ='S1 Maquette'!E13 -> 0 | G13: Heures Maquettes | H13: =Calcul!D7 -> #REF!
A15: Semestre | B15: Semestre 2 | C15: Code semestre | G15: Heures Valorisées | H15: =Calcul!D20 -> #REF!
A18: Niveau | B18: Libellé ELP | C18: Nature ELP | D18: ECTS | E18: Type | F18: Statut | G18: Code Apogée | H18: CNU | I18: Heure CM | J18: Heure TD | K18: Heure TP | L18: Langues | M18: Mutualisation | N18: Formation Porteuse | O18: Observations / Remarques ex: Intervention à titre gracieux / Capacité d'accueil max
A19: 0 | B19: Compétences transversales S2 | C19: UE | D19: 6
A20: 0.1 | B20: Compétences numériques 1 | C20: ECUE
A21: 0.2 | B21: Compétences pré-professionnalisation 1 | C21: ECUE
A22: 0.3 | B22: Langue Vivante-2 | C22: ECUE | O22: Neutralisation de l'ECUE transversale Langue vivante étrangère pour les étudiants de LEA
B23: Min 1 Max 1 | C23: OPTION | O23: Neutralisation de l'ECUE transversale Langue vivante étrangère pour les étudiants de LEA
A24: 0.3.1 | B24: Anglais 2 | C24: ECUE | O24: Neutralisation de l'ECUE transversale Langue vivante étrangère pour les étudiants de LEA
A25: 0.3.2 | B25: Espagnol | C25: ECUE | O25: Neutralisation de l'ECUE transversale Langue vivante étrangère pour les étudiants de LEA
A26: 0.3.3 | B26: Italien | C26: ECUE | O26: Neutralisation de l'ECUE transversale Langue vivante étrangère pour les étudiants de LEA
A27: 1 | B27: Langue A : Anglais Non Débutant 2 | C27: UE | D27: 6
B28: Culture 2 ANGLAIS | C28: ECUE | I28: 12 | M28: Porteuse
B29: Grammaire et traduction 2 ANGLAIS | C29: ECUE | J29: 12 | M29: Porteuse
B30: Expression écrite et orale 2 ANGLAIS | C30: ECUE | J30: 12 | K30: 24 | M30: Porteuse
A31: 2 | B31: Langue B : Allemand Non Débutant 2 | C31: UE | D31: 6 | O31: UE disciplinaire offerte également en découverte
B32: Culture 2 ALLEMAND | C32: ECUE | I32: 12 | M32: Porteuse | O32: UE disciplinaire offerte également en découverte
B33: Grammaire et traduction 2 ALLEMAND | C33: ECUE | J33: 36 | M33: Porteuse | O33: UE disciplinaire offerte également en découverte
B34: Expression écrite et orale 2 ALLEMAND | C34: ECUE | J34: 36 | M34: Porteuse | O34: UE disciplinaire offerte également en découverte
A35: 3 | B35: Matières d'application 2 | C35: UE | D35: 6
B36: Arts, patrimoine et culture en Méditerranée/Arts, culture and cultural heritage in the Mediterranean 2 | C36: ECUE | I36: 12 | M36: Porteuse
B37: Introduction à la gestion/Introduction to management 2 | C37: ECUE | I37: 12 | M37: Porteuse
B38: Communication professionnelle 2 | C38: ECUE | J38: 12 | M38: Porteuse
A39: 4 | B39: Découverte ou langue C | C39: UE
B40: 1 UE au choix | C40: OPTION
A41: 4.1 | B41: Découverte Allemand Non débutant 2 | C41: UE | D41: 6
B42: Travail autour d'une série 2 ALLEMAND | C42: ECUE | J42: 48 | M42: Porteuse
A43: 4.2 | B43: Découverte Arabe Niveau 2 | C43: UE | D43: 6 | M43: Portée
B44: Culture 2 ARABE | C44: ECUE | I44: 12 | M44: Portée
B45: Langue 2 ARABE | C45: ECUE | J45: 24 | M45: Portée
A46: 4.3 | B46: Découverte Chinois Niveau 2 | C46: UE | D46: 6 | M46: Portée
B47: Culture 2 CHINOIS | C47: ECUE | I47: 12 | M47: Portée
B48: Langue 2 CHINOIS | C48: ECUE | J48: 24 | M48: Portée
A49: 4.4 | B49: Découverte Espagnol Non débutant 2 | C49: UE | D49: 6 | M49: Portée
B50: Langue 2 ESPAGNOL | C50: ECUE | J50: 24 | M50: Portée | N50: LEA disciplinaire Langue B: Grammaire et traduction 2 ESPAGNOL
B51: Communication écrite et orale 2 ESPAGNOL | C51: ECUE | J51: 12 | K51: 12 | M51: Portée | N51: LEA disciplinaire Langue B: Expression écrite et orale 2 ESPAGNOL
A52: 4.5 | B52: Découverte Italien Non débutant 2 | C52: UE | D52: 6 | M52: Portée
B53: Culture et expression 2 ITALIEN | C53: ECUE | I53: 12 | M53: Portée
...

Sheet S2 MCC
A7: Composante | B7: ='Fiche Générale'!B3 -> Portail_LLAC | C7: Diplôme | E7: ='Fiche Générale'!B4 -> Langues Etrangères Appliquées | G7: Code diplôme | H7: ='Fiche Générale'!B5 -> 0
C10: Parcours type | E10: ='Fiche Générale'!B9 -> LEA Anglais - Allemand
M12: 1ère session | P12: Seconde Chance
A13: Année | B13: ='S2 Maquette'!B13 -> 1ère année de Portail | D13: Code Année | E13: ='S2 Maquette'!E13 -> 0
M14: Contrôle continu | N14: Contrôle Terminal
A15: Semestre | B15: ='S2 Maquette'!B15 -> Semestre 2 | D15: Code Semestre | E15: ='S2 Maquette'!E15:F16 -> 0
A18: Libellé | B18: Nature | C18: Statut | D18: Coefficient | E18: Notes attendues | F18: Résultat attendu: (ACQ/AJ) | G18: Conservation note | H18: Capitalisable | I18: Compensable | J18: Seuil de compensation /20 | K18: Type de contrôle | L18: Si CC&CT coef du CT | M18: Nbre d'évalution minimum | N18: Nature | O18: Durée | P18: Format d'évaluation | Q18: Nature | R18: Durée | S18: Modalités de mise en œuvre | T18: Commentaires
A19: ='S2 Maquette'!B19 -> Compétences transversales S2 | B19: ='S2 Maquette'!C19 -> UE | C19: ='S2 Maquette'!F19 -> 0
A20: ='S2 Maquette'!B20 -> Compétences numériques 1 | B20: ='S2 Maquette'!C20 -> ECUE | C20: ='S2 Maquette'!F20 -> 0
A21: ='S2 Maquette'!B21 -> Compétences pré-professionnalisation 1 | B21: ='S2 Maquette'!C21 -> ECUE | C21: ='S2 Maquette'!F21 -> 0
A22: ='S2 Maquette'!B22 -> Langue Vivante-2 | B22: ='S2 Maquette'!C22 -> ECUE | C22: ='S2 Maquette'!F22 -> 0
A23: ='S2 Maquette'!B23 -> Min 1 Max 1 | B23: ='S2 Maquette'!C23 -> OPTION | C23: ='S2 Maquette'!F23 -> 0
A24: ='S2 Maquette'!B24 -> Anglais 2 | B24: ='S2 Maquette'!C24 -> ECUE | C24: ='S2 Maquette'!F24 -> 0
A25: ='S2 Maquette'!B25 -> Espagnol | B25: ='S2 Maquette'!C25 -> ECUE | C25: ='S2 Maquette'!F25 -> 0
A26: ='S2 Maquette'!B26 -> Italien | B26: ='S2 Maquette'!C26 -> ECUE | C26: ='S2 Maquette'!F26 -> 0
A27: ='S2 Maquette'!B27 -> Langue A : Anglais Non Débutant 2 | B27: ='S2 Maquette'!C27 -> UE | C27: ='S2 Maquette'!F27 -> 0 | D27: 1 | E27: OUI | F27: OUI | G27: OUI | H27: OUI | I27: OUI
A28: ='S2 Maquette'!B28 -> Culture 2 ANGLAIS | B28: ='S2 Maquette'!C28 -> ECUE | C28: ='S2 Maquette'!F28 -> 0 | D28: 1 | E28: OUI | F28: OUI | G28: OUI | H28: OUI | I28: OUI | K28: CCI (CC Intégral) | M28: 2 | P28: Autres | S28: Seconde chance : la moyenne de l’ECUE sera calculée en doublant la meilleure note et en plafonnant le résultat à 10/20
A29: ='S2 Maquette'!B29 -> Grammaire et traduction 2 ANGLAIS | B29: ='S2 Maquette'!C29 -> ECUE | C29: ='S2 Maquette'!F29 -> 0 | D29: 1 | E29: OUI | F29: OUI | G29: OUI | H29: OUI | I29: OUI | K29: CCI (CC Intégral) | M29: 2 | P29: Autres | S29: Seconde chance : la moyenne de l’ECUE sera calculée en doublant la meilleure note et en plafonnant le résultat à 10/20
A30: ='S2 Maquette'!B30 -> Expression écrite et orale 2 ANGLAIS | B30: ='S2 Maquette'!C30 -> ECUE | C30: ='S2 Maquette'!F30 -> 0 | D30: 1 | E30: OUI | F30: OUI | G30: OUI | H30: OUI | I30: OUI | K30: CCI (CC Intégral) | M30: 2 | P30: Autres | S30: Seconde chance : la moyenne de l’ECUE sera calculée en doublant la meilleure note et en plafonnant le résultat à 10/20
A31: ='S2 Maquette'!B31 -> Langue B : Allemand Non Débutant 2 | B31: ='S2 Maquette'!C31 -> UE | C31: ='S2 Maquette'!F31 -> 0 | D31: 1 | E31: OUI | F31: OUI | G31: OUI | H31: OUI | I31: OUI
A32: ='S2 Maquette'!B32 -> Culture 2 ALLEMAND | B32: ='S2 Maquette'!C32 -> ECUE | C32: ='S2 Maquette'!F32 -> 0 | D32: 1 | E32: OUI | F32: OUI | G32: OUI | H32: OUI | I32: OUI | K32: CCI (CC Intégral) | M32: 2 | P32: Autres | S32: Seconde chance : la moyenne de l’ECUE sera calculée en doublant la meilleure note et en plafonnant le résultat à 10/20
A33: ='S2 Maquette'!B33 -> Grammaire et traduction 2 ALLEMAND | B33: ='S2 Maquette'!C33 -> ECUE | C33: ='S2 Maquette'!F33 -> 0 | D33: 1 | E33: OUI | F33: OUI | G33: OUI | H33: OUI | I33: OUI | K33: CCI (CC Intégral) | M33: 2 | P33: Autres | S33: Seconde chance : la moyenne de l’ECUE sera calculée en doublant la meilleure note et en plafonnant le résultat à 10/20
A34: ='S2 Maquette'!B34 -> Expression écrite et orale 2 ALLEMAND | B34: ='S2 Maquette'!C34 -> ECUE | C34: ='S2 Maquette'!F34 -> 0 | D34: 1 | E34: OUI | F34: OUI | G34: OUI | H34: OUI | I34: OUI | K34: CCI (CC Intégral) | M34: 2 | P34: Autres | S34: Seconde chance : la moyenne de l’ECUE sera calculée en doublant la meilleure note et en plafonnant le résultat à 10/20
A35: ='S2 Maquette'!B35 -> Matières d'application 2 | B35: ='S2 Maquette'!C35 -> UE | C35: ='S2 Maquette'!F35 -> 0 | D35: 1 | E35: OUI | F35: OUI | G35: OUI | H35: OUI | I35: OUI
A36: ='S2 Maquette'!B36 -> Arts, patrimoine et culture en Méditerranée/Arts, culture and cultural heritage in the Mediterranean 2 | B36: ='S2 Maquette'!C36 -> ECUE | C36: ='S2 Maquette'!F36 -> 0 | D36: 1 | E36: OUI | F36: OUI | G36: OUI | H36: OUI | I36: OUI | K36: CCI (CC Intégral) | M36: 2 | P36: Autres | S36: Seconde chance : la moyenne de l’ECUE sera calculée en doublant la meilleure note et en plafonnant le résultat à 10/20
A37: ='S2 Maquette'!B37 -> Introduction à la gestion/Introduction to management 2 | B37: ='S2 Maquette'!C37 -> ECUE | C37: ='S2 Maquette'!F37 -> 0 | D37: 1 | E37: OUI | F37: OUI | G37: OUI | H37: OUI | I37: OUI | K37: CCI (CC Intégral) | M37: 2 | P37: Autres | S37: Seconde chance : la moyenne de l’ECUE sera calculée en doublant la meilleure note et en plafonnant le résultat à 10/20
A38: ='S2 Maquette'!B38 -> Communication professionnelle 2 | B38: ='S2 Maquette'!C38 -> ECUE | C38: ='S2 Maquette'!F38 -> 0 | D38: 1 | E38: OUI | F38: OUI | G38: OUI | H38: OUI | I38: OUI | K38: CCI (CC Intégral) | M38: 2 | P38: Autres | S38: Seconde chance : la moyenne de l’ECUE sera calculée en doublant la meilleure note et en plafonnant le résultat à 10/20
A39: ='S2 Maquette'!B39 -> Découverte ou langue C | B39: ='S2 Maquette'!C39 -> UE | C39: ='S2 Maquette'!F39 -> 0 | D39: 1 | E39: OUI | F39: OUI | G39: OUI | H39: OUI | I39: OUI | K39: CCI (CC Intégral)
A40: ='S2 Maquette'!B40 -> 1 UE au choix | B40: ='S2 Maquette'!C40 -> OPTION | C40: ='S2 Maquette'!F40 -> 0
A41: ='S2 Maquette'!B41 -> Découverte Allemand Non débutant 2 | B41: ='S2 Maquette'!C41 -> UE | C41: ='S2 Maquette'!F41 -> 0 | D41: 1 | E41: Les MCC pour les éléments d'OUVERTURE sont reportées dans la maquette/MCC du portail LEA Anglais-Arabe
A42: ='S2 Maquette'!B42 -> Travail autour d'une série 2 ALLEMAND | B42: ='S2 Maquette'!C42 -> ECUE | C42: ='S2 Maquette'!F42 -> 0 | D42: 1
A43: ='S2 Maquette'!B43 -> Découverte Arabe Niveau 2 | B43: ='S2 Maquette'!C43 -> UE | C43: ='S2 Maquette'!F43 -> 0 | D43: 1
A44: ='S2 Maquette'!B44 -> Culture 2 ARABE | B44: ='S2 Maquette'!C44 -> ECUE | C44: ='S2 Maquette'!F44 -> 0 | D44: 1
A45: ='S2 Maquette'!B45 -> Langue 2 ARABE | B45: ='S2 Maquette'!C45 -> ECUE | C45: ='S2 Maquette'!F45 -> 0 | D45: 1
A46: ='S2 Maquette'!B46 -> Découverte Chinois Niveau 2 | B46: ='S2 Maquette'!C46 -> UE | C46: ='S2 Maquette'!F46 -> 0 | D46: 1
A47: ='S2 Maquette'!B47 -> Culture 2 CHINOIS | B47: ='S2 Maquette'!C47 -> ECUE | C47: ='S2 Maquette'!F47 -> 0 | D47: 1
A48: ='S2 Maquette'!B48 -> Langue 2 CHINOIS | B48: ='S2 Maquette'!C48 -> ECUE | C48: ='S2 Maquette'!F48 -> 0 | D48: 1
A49: ='S2 Maquette'!B49 -> Découverte Espagnol Non débutant 2 | B49: ='S2 Maquette'!C49 -> UE | C49: ='S2 Maquette'!F49 -> 0 | D49: 1
A50: ='S2 Maquette'!B50 -> Langue 2 ESPAGNOL | B50: ='S2 Maquette'!C50 -> ECUE | C50: ='S2 Maquette'!F50 -> 0 | D50: 1
A51: ='S2 Maquette'!B51 -> Communication écrite et orale 2 ESPAGNOL | B51: ='S2 Maquette'!C51 -> ECUE | C51: ='S2 Maquette'!F51 -> 0 | D51: 1
...

Sheet S2 MCC NA
A7: Composante | B7: ='[1]Fiche Générale'!B3 -> Portail_LLAC | C7: Diplôme | E7: ='[1]Fiche Générale'!B4 -> Langues Etrangères Appliquées | G7: Code diplôme | H7: ='[1]Fiche Générale'!B5 -> 0
C10: Parcours type | E10: ='[1]Fiche Générale'!B9 -> LEA Anglais - Allemand
M12: 1ère session | P12: Seconde Chance
A13: Année | B13: ='[1]S2 Maquette'!B13 -> 1ère année de Portail | D13: Code Année | E13: ='[1]S2 Maquette'!E13 -> 0
M14: Non assidus | N14: Contrôle Terminal
A15: Semestre | B15: ='[1]S2 Maquette'!B15 -> Semestre 2 | D15: Code Semestre | E15: ='[1]S2 Maquette'!E15:F16 -> 0
A18: Libellé | B18: Nature | C18: Statut | D18: Coefficient | E18: Notes attendues | F18: Résultat attendu: (ACQ/AJ) | G18: Conservation note | H18: Capitalisable | I18: Compensable | J18: Seuil de compensation /20 | K18: Type de contrôle | L18: Si CC&CT coef du CT | M18: Nbre d'évalution minimum | N18: Nature | O18: Durée | P18: Format d'évaluation | Q18: Nature | R18: Durée | S18: Modalités de mise en œuvre | T18: Commentaires
A19: ='[1]S2 Maquette'!B19 -> Compétences transversales S2 | B19: ='[1]S2 Maquette'!C19 -> UE | C19: ='[1]S2 Maquette'!F19 -> 0
A20: ='[1]S2 Maquette'!B20 -> Compétences numériques 1 | B20: ='[1]S2 Maquette'!C20 -> ECUE | C20: ='[1]S2 Maquette'!F20 -> 0
A21: ='[1]S2 Maquette'!B21 -> Compétences pré-professionnalisation 1 | B21: ='[1]S2 Maquette'!C21 -> ECUE | C21: ='[1]S2 Maquette'!F21 -> 0
A22: ='[1]S2 Maquette'!B22 -> Langue Vivante-2 | B22: ='[1]S2 Maquette'!C22 -> ECUE | C22: ='[1]S2 Maquette'!F22 -> 0
A23: ='[1]S2 Maquette'!B23 -> Min 1 Max 1 | B23: ='[1]S2 Maquette'!C23 -> OPTION | C23: ='[1]S2 Maquette'!F23 -> 0
A24: ='[1]S2 Maquette'!B24 -> Anglais 2 | B24: ='[1]S2 Maquette'!C24 -> ECUE | C24: ='[1]S2 Maquette'!F24 -> 0
A25: ='[1]S2 Maquette'!B25 -> Espagnol | B25: ='[1]S2 Maquette'!C25 -> ECUE | C25: ='[1]S2 Maquette'!F25 -> 0
A26: ='[1]S2 Maquette'!B26 -> Italien | B26: ='[1]S2 Maquette'!C26 -> ECUE | C26: ='[1]S2 Maquette'!F26 -> 0
A27: ='[1]S2 Maquette'!B27 -> Langue A : Anglais Non Débutant 2 | B27: ='[1]S2 Maquette'!C27 -> UE | C27: ='[1]S2 Maquette'!F27 -> 0 | D27: 1 | E27: OUI | F27: OUI | G27: OUI | H27: OUI | I27: OUI
A28: ='[1]S2 Maquette'!B28 -> Culture 2 ANGLAIS | B28: ='[1]S2 Maquette'!C28 -> ECUE | C28: ='[1]S2 Maquette'!F28 -> 0 | D28: 1 | E28: OUI | F28: OUI | G28: OUI | H28: OUI | I28: OUI | K28: CCI (CC Intégral) | M28: 2 | P28: Autres | S28: Seconde chance : la moyenne de l’ECUE sera calculée en doublant la meilleure note et en plafonnant le résultat à 10/20
A29: ='[1]S2 Maquette'!B29 -> Grammaire et traduction 2 ANGLAIS | B29: ='[1]S2 Maquette'!C29 -> ECUE | C29: ='[1]S2 Maquette'!F29 -> 0 | D29: 1 | E29: OUI | F29: OUI | G29: OUI | H29: OUI | I29: OUI | K29: CCI (CC Intégral) | M29: 2 | P29: Autres | S29: Seconde chance : la moyenne de l’ECUE sera calculée en doublant la meilleure note et en plafonnant le résultat à 10/20
A30: ='[1]S2 Maquette'!B30 -> Expression écrite et orale 2 ANGLAIS | B30: ='[1]S2 Maquette'!C30 -> ECUE | C30: ='[1]S2 Maquette'!F30 -> 0 | D30: 1 | E30: OUI | F30: OUI | G30: OUI | H30: OUI | I30: OUI | K30: CCI (CC Intégral) | M30: 2 | P30: Autres | S30: Seconde chance : la moyenne de l’ECUE sera calculée en doublant la meilleure note et en plafonnant le résultat à 10/20
A31: ='[1]S2 Maquette'!B31 -> Langue B : Allemand Non Débutant 2 | B31: ='[1]S2 Maquette'!C31 -> UE | C31: ='[1]S2 Maquette'!F31 -> 0 | D31: 1 | E31: OUI | F31: OUI | G31: OUI | H31: OUI | I31: OUI
A32: ='[1]S2 Maquette'!B32 -> Culture 2 ALLEMAND | B32: ='[1]S2 Maquette'!C32 -> ECUE | C32: ='[1]S2 Maquette'!F32 -> 0 | D32: 1 | E32: OUI | F32: OUI | G32: OUI | H32: OUI | I32: OUI | K32: CCI (CC Intégral) | M32: 2 | P32: Autres | S32: Seconde chance : la moyenne de l’ECUE sera calculée en doublant la meilleure note et en plafonnant le résultat à 10/20
A33: ='[1]S2 Maquette'!B33 -> Grammaire et traduction 2 ALLEMAND | B33: ='[1]S2 Maquette'!C33 -> ECUE | C33: ='[1]S2 Maquette'!F33 -> 0 | D33: 1 | E33: OUI | F33: OUI | G33: OUI | H33: OUI | I33: OUI | K33: CCI (CC Intégral) | M33: 2 | P33: Autres | S33: Seconde chance : la moyenne de l’ECUE sera calculée en doublant la meilleure note et en plafonnant le résultat à 10/20
A34: ='[1]S2 Maquette'!B34 -> Expression écrite et orale 2 ALLEMAND | B34: ='[1]S2 Maquette'!C34 -> ECUE | C34: ='[1]S2 Maquette'!F34 -> 0 | D34: 1 | E34: OUI | F34: OUI | G34: OUI | H34: OUI | I34: OUI | K34: CCI (CC Intégral) | M34: 2 | P34: Autres | S34: Seconde chance : la moyenne de l’ECUE sera calculée en doublant la meilleure note et en plafonnant le résultat à 10/20
A35: ='[1]S2 Maquette'!B35 -> Matières d'application 2 | B35: ='[1]S2 Maquette'!C35 -> UE | C35: ='[1]S2 Maquette'!F35 -> 0 | D35: 1 | E35: OUI | F35: OUI | G35: OUI | H35: OUI | I35: OUI
A36: ='[1]S2 Maquette'!B36 -> Arts, patrimoine et culture en Méditerranée/Arts, culture and cultural heritage in the Mediterranean 2 | B36: ='[1]S2 Maquette'!C36 -> ECUE | C36: ='[1]S2 Maquette'!F36 -> 0 | D36: 1 | E36: OUI | F36: OUI | G36: OUI | H36: OUI | I36: OUI | K36: CCI (CC Intégral) | M36: 2 | P36: Autres | S36: Seconde chance : la moyenne de l’ECUE sera calculée en doublant la meilleure note et en plafonnant le résultat à 10/20
A37: ='[1]S2 Maquette'!B37 -> Introduction à la gestion/Introduction to management 2 | B37: ='[1]S2 Maquette'!C37 -> ECUE | C37: ='[1]S2 Maquette'!F37 -> 0 | D37: 1 | E37: OUI | F37: OUI | G37: OUI | H37: OUI | I37: OUI | K37: CCI (CC Intégral) | M37: 2 | P37: Autres | S37: Seconde chance : la moyenne de l’ECUE sera calculée en doublant la meilleure note et en plafonnant le résultat à 10/20
A38: ='[1]S2 Maquette'!B38 -> Communication professionnelle 2 | B38: ='[1]S2 Maquette'!C38 -> ECUE | C38: ='[1]S2 Maquette'!F38 -> 0 | D38: 1 | E38: OUI | F38: OUI | G38: OUI | H38: OUI | I38: OUI | K38: CCI (CC Intégral) | M38: 2 | P38: Autres | S38: Seconde chance : la moyenne de l’ECUE sera calculée en doublant la meilleure note et en plafonnant le résultat à 10/20
A39: ='[1]S2 Maquette'!B39 -> Découverte ou langue C | B39: ='[1]S2 Maquette'!C39 -> UE | C39: ='[1]S2 Maquette'!F39 -> 0 | D39: 1 | E39: OUI | F39: OUI | G39: OUI | H39: OUI | I39: OUI | K39: CCI (CC Intégral)
A40: ='[1]S2 Maquette'!B40 -> 1 UE au choix | B40: ='[1]S2 Maquette'!C40 -> OPTION | C40: ='[1]S2 Maquette'!F40 -> 0
A41: ='[1]S2 Maquette'!B41 -> Découverte Allemand Non débutant 2 | B41: ='[1]S2 Maquette'!C41 -> UE | C41: ='[1]S2 Maquette'!F41 -> 0 | D41: 1 | E41: Les MCC pour les éléments d'OUVERTURE sont reportées dans la maquette/MCC du portail LEA Anglais-Arabe
A42: ='[1]S2 Maquette'!B42 -> Travail autour d'une série 2 ALLEMAND | B42: ='[1]S2 Maquette'!C42 -> ECUE | C42: ='[1]S2 Maquette'!F42 -> 0 | D42: 1
A43: ='[1]S2 Maquette'!B43 -> Découverte Arabe Niveau 2 | B43: ='[1]S2 Maquette'!C43 -> UE | C43: ='[1]S2 Maquette'!F43 -> 0 | D43: 1
A44: ='[1]S2 Maquette'!B44 -> Culture 2 ARABE | B44: ='[1]S2 Maquette'!C44 -> ECUE | C44: ='[1]S2 Maquette'!F44 -> 0 | D44: 1
A45: ='[1]S2 Maquette'!B45 -> Langue 2 ARABE | B45: ='[1]S2 Maquette'!C45 -> ECUE | C45: ='[1]S2 Maquette'!F45 -> 0 | D45: 1
A46: ='[1]S2 Maquette'!B46 -> Découverte Chinois Niveau 2 | B46: ='[1]S2 Maquette'!C46 -> UE | C46: ='[1]S2 Maquette'!F46 -> 0 | D46: 1
A47: ='[1]S2 Maquette'!B47 -> Culture 2 CHINOIS | B47: ='[1]S2 Maquette'!C47 -> ECUE | C47: ='[1]S2 Maquette'!F47 -> 0 | D47: 1
A48: ='[1]S2 Maquette'!B48 -> Langue 2 CHINOIS | B48: ='[1]S2 Maquette'!C48 -> ECUE | C48: ='[1]S2 Maquette'!F48 -> 0 | D48: 1
A49: ='[1]S2 Maquette'!B49 -> Découverte Espagnol Non débutant 2 | B49: ='[1]S2 Maquette'!C49 -> UE | C49: ='[1]S2 Maquette'!F49 -> 0 | D49: 1
A50: ='[1]S2 Maquette'!B50 -> Grammaire et traduction 2 ESPAGNOL | B50: ='[1]S2 Maquette'!C50 -> ECUE | C50: ='[1]S2 Maquette'!F50 -> 0 | D50: 1
A51: ='[1]S2 Maquette'!B51 -> Expression écrite et orale 2 ESPAGNOL | B51: ='[1]S2 Maquette'!C51 -> ECUE | C51: ='[1]S2 Maquette'!F51 -> 0 | D51: 1
...

Sheet S3 Maquette
A7: Composante | B7: ='Fiche Générale'!B3 -> Portail_LLAC | C7: Diplôme | E7: ='Fiche Générale'!B4 -> Langues Etrangères Appliquées | G7: Code diplôme | H7: ='Fiche Générale'!B5 -> 0
C10: Parcours type | E10: ='Fiche Générale'!B9 -> LEA Anglais - Allemand
A13: Année | B13: 2ème année de Portail | C13: Code année | G13: Heures Maquette | H13: =Calcul!G7 -> 2413
A15: Semestre | B15: Semestre 3 | C15: Code semestre | G15: Heures Valorisées | H15: =Calcul!G20 -> 270
A18: Niveau | B18: Libellé ELP | C18: Nature ELP | D18: ECTS | E18: Type | F18: Statut | G18: Code Apogée | H18: CNU | I18: Heure CM | J18: Heure TD | K18: Heure TP | L18: Langues | M18: Mutualisation | N18: Formation Porteuse | O18: Observations / Remarques ex: Intervention à titre gracieux / Capacité d'accueil max
A19: 0 | B19: Compétences transversales S3 | C19: UE | D19: 6
A20: 0.1 | B20: Compétences informationnelles 2 | C20: ECUE
A21: 0.2 | B21: Compétences pré-professionnalisation 2 | C21: ECUE
A22: 0.3 | B22: Langue Vivante-3 | C22: ECUE | O22: Neutralisation de l'ECUE transversale Langue vivante étrangère pour les étudiants de LEA
B23: Min 1 Max 1 | C23: OPTION | O23: Neutralisation de l'ECUE transversale Langue vivante étrangère pour les étudiants de LEA
