Workbook
Name list_cmp: [1]Listes!$A$32:$G$32
Name list_cmp: [1]Listes!$A$32:$G$32
Name list_cmp: [1]Listes!$A$32:$G$32
Name list_cmp: [1]Listes!$A$32:$G$32
Name list_cmp: Listes!$A$32:$G$32
Name List_CNU: [1]Listes!$A$40:$A$96
Name List_CNU: [1]Listes!$A$40:$A$96
Name List_CNU: [1]Listes!$A$40:$A$96
Name List_CNU: [1]Listes!$A$40:$A$96
Name List_CNU: Listes!$A$40:$A$96
Name List_Controle: [1]Listes!$B$2:$B$6
Name List_Controle: [1]Listes!$B$2:$B$6
Name List_Controle: [1]Listes!$B$2:$B$6
Name List_Controle: [1]Listes!$B$2:$B$6
Name List_Controle: Listes!$B$2:$B$6
Name List_Controle2: [1]Listes!$A$2:$A$4
Name List_Controle2: [1]Listes!$A$2:$A$4
Name List_Controle2: [1]Listes!$A$2:$A$4
Name List_Controle2: [1]Listes!$A$2:$A$4
Name List_Controle2: Listes!$A$2:$A$4
Name List_Mutualisation: [1]Listes!$E$2:$E$3
Name List_Mutualisation: [1]Listes!$E$2:$E$3
Name List_Mutualisation: [1]Listes!$E$2:$E$3
Name List_Mutualisation: [1]Listes!$E$2:$E$3
Name List_Mutualisation: Listes!$E$2:$E$3
Name List_NatureELP: Listes!$D$2:$D$6
Name List_RegimeInscription: [1]Listes!$C$2:$C$3
Name List_RegimeInscription: [1]Listes!$C$2:$C$3
Name List_RegimeInscription: [1]Listes!$C$2:$C$3
Name List_RegimeInscription: [1]Listes!$C$2:$C$3
Name List_RegimeInscription: Listes!$C$2:$C$3
Name List_Statut: [1]Listes!$F$2:$F$4
Name List_Statut: [1]Listes!$F$2:$F$4
Name List_Statut: [1]Listes!$F$2:$F$4
Name List_Statut: [1]Listes!$F$2:$F$4
Name List_Statut: Listes!$F$2:$F$4
Name List_Type: [1]Listes!$G$2:$G$3
Name List_Type: [1]Listes!$G$2:$G$3
Name List_Type: [1]Listes!$G$2:$G$3
Name List_Type: [1]Listes!$G$2:$G$3
Name List_Type: Listes!$G$2:$G$3
Name list_typedip: [1]Listes!$H$2:$H$3
Name list_typedip: [1]Listes!$H$2:$H$3
Name list_typedip: [1]Listes!$H$2:$H$3
Name list_typedip: [1]Listes!$H$2:$H$3
Name list_typedip: Listes!$H$2:$H$3
Name liste_cmp: #REF!
Name liste_cmp: #REF!
Name liste_cmp: #REF!
Name liste_cmp: #REF!
Name liste_cmp: #REF!
Name liste_cmp: #REF!
Name liste_cmp: #REF!
Name liste_cmp: #REF!
Name liste_cmp: #REF!
Name liste_cmp: #REF!
Name liste_mention: #REF!
Name liste_mention: #REF!
Name liste_mention: #REF!
Name liste_mention: #REF!

Sheet Listes
A1: Type contrôle | B1: Nature contrôle | C1: Régime d'inscription | D1: Nature ELP | E1: Mutualisation | F1: Statut | G1: Type | H1: Diplômes
A2: CCI (CC Intégral) | B2: Écrit | C2: Initiale Hors-Apprentissage / Formation Continue / Formation Permanente | D2: UE | E2: Porteuse | F2: Création | G2: Facultatif | H2: Portail
A3: CT (Contrôle terminal) | B3: Oral | C3: Contrat d'Apprentissage/ Contrat de Professionnalisation | D3: ECUE | E3: Portée | F3: Modification | G3: Complémentaire | H3: Double Portail
A4: CC&CT | B4: Écrit/Pratique | D4: BLOC | F4: Fermeture
B5: Rapport/Mémoire | D5: OPTION
B6: Pratique sportive | D6: Parcours Pédagogique
A8: Mention | B8: Codage Diplôme
A9: Sciences et technologie | B9: SPSIT18
A10: Sciences de l'Homme et de la Société | B10: HPSHS18
A11: Lettres Langues Arts et Communication | B11: HPLAC18
A12: Droit | B12: DPDRT18
A13: Économie et gestion | B13: IPECG18
A14: Sciences de la Vie | B14: SPVIE18
A15: STAPS | B15: PPSTA18
A16: Psychologie | B16: HPPSY18
A17: Humanités | B17: HPUMA18
A18: Économie-Sociologie | B18: IPSOE18
A19: Philosophie-Droit | B19: HPPHD18
... A28: Bio-Geo-Sciences | B28: SPBGS18
A32: Portail_EG | B32: Portail_Droit | C32: Portail_SHS | D32: Portail_LLAC | E32: Portail_ST | F32: Portail_SV | G32: Portail_STAPS
A33: Économie et gestion | B33: Droit | C33: Sciences de l'Homme et de la Société | D33: Lettres Langues Arts et Communication | E33: Sciences et technologie | F33: Sciences de la vie | G33: STAPS
A34: Économie-Sociologie | B34: Capacaité en Droit | C34: Psychologie | D34: Histoire-Lettres | E34: Mathématiques-Sciences de la vie | F34: Chimie-Sciences de la vie
C35: Humanités | D35: Musicologie - Science de l'homme, anthropologie, ethnologie | E35: Mathématiques-Physique | F35: Bio-Geo-Sciences
C36: Philosophie-Droit | E36: Mathématiques-Informatique
C37: Philosophie-Psychologie | E37: Sciences de la terre-Physique
A39: CNU
A40: 01-Droit privé et sciences criminelles
A41: 02-Droit public
A42: 03-Histoire du droit et des institutions
A43: 04-Science politique
A44: 05-Sciences économiques
A45: 06-Sciences de gestion
A46: 07-Sciences du langage : linguistique et phonétique générales
A47: 08-Langues et littératures anciennes
A48: 09-Langue et littérature françaises
A49: 10-Littératures comparées
A50: 11-Langues et littératures anglaises et anglo-saxonnes
... A96: 87-Sciences biologiques pharmaceutiques

Sheet Calcul
A1: Heure Pédagogique | AA1: Heure CM
A3: Semestre 1 | D3: Semestre 2 | G3: Semestre 3 | J3: Semestre 4 | AA3: Semestre 1 | AB3: Semestre 2 | AC3: Semestre 3 | AD3: Semestre 4
A4: Heure CM | B4: Heure TD | C4: Heure TP | D4: Heure CM | E4: Heure TD | F4: Heure TP | G4: Heure CM | H4: Heure TD | I4: Heure TP | J4: Heure CM | K4: Heure TD | L4: Heure TP | AA4: ='S1 Maquette'!I19*1.5 -> 0 | AB4: ='S2 Maquette'!I19*1.5 -> 0 | AC4: ='S3 Maquette'!I19*1.5 -> 0 | AD4: ='S4 Maquette'!I19*1.5 -> 0
A5: =SUM(AA4:AA291) -> #REF! | B5: =SUM('S1 Maquette'!J19:J299) -> 647.5 | C5: =SUM('S1 Maquette'!K19:K299) -> 22 | D5: =SUM(AB4:AB291) -> #REF! | E5: =SUM('S2 Maquette'!J19:J299) -> 696 | F5: =SUM('S2 Maquette'!K19:K299) -> 36 | G5: =SUM(AC4:AC291) -> 730.5 | H5: =SUM('S3 Maquette'!J19:J301) -> 1468.5 | I5: =SUM('S3 Maquette'!K19:K301) -> 214 | J5: =SUM(AD4:AD291) -> 729 | K5: =SUM('S4 Maquette'!J19:J301) -> 1476 | L5: =SUM('S4 Maquette'!K19:K301) -> 216 | AA5: ='S1 Maquette'!I20*1.5 -> 0 | AB5: ='S2 Maquette'!I20*1.5 -> 0 | AC5: ='S3 Maquette'!I20*1.5 -> 0 | AD5: ='S4 Maquette'!I20*1.5 -> 0
A6: Total | D6: Total | G6: Total | J6: Total | AA6: ='S1 Maquette'!I21*1.5 -> 0 | AB6: ='S2 Maquette'!I21*1.5 -> 0 | AC6: ='S3 Maquette'!I21*1.5 -> 0 | AD6: ='S4 Maquette'!I21*1.5 -> 0
A7: =SUM(A5,B5,C5) -> #REF! | D7: =SUM(D5,E5,F5) -> #REF! | G7: =SUM(G5,H5,I5) -> 2413 | J7: =SUM(J5,K5,L5) -> 2421 | AA7: ='S1 Maquette'!I22*1.5 -> 0 | AB7: ='S2 Maquette'!I22*1.5 -> 0 | AC7: ='S3 Maquette'!I22*1.5 -> 0 | AD7: ='S4 Maquette'!I22*1.5 -> 0
A8: Total | G8: Total | AA8: ='S1 Maquette'!I23*1.5 -> 0 | AB8: ='S2 Maquette'!I23*1.5 -> 0 | AC8: ='S3 Maquette'!I23*1.5 -> 0 | AD8: ='S4 Maquette'!I23*1.5 -> 0
AA9: ='S1 Maquette'!I24*1.5 -> 0 | AB9: ='S2 Maquette'!I24*1.5 -> 0 | AC9: ='S3 Maquette'!I24*1.5 -> 0 | AD9: ='S4 Maquette'!I24*1.5 -> 0
A10: =SUM(A7,D7) -> #REF! | G10: =SUM(G7,J7) -> 4834 | AA10: ='S1 Maquette'!I25*1.5 -> 0 | AB10: ='S2 Maquette'!I25*1.5 -> 0 | AC10: ='S3 Maquette'!I25*1.5 -> 0 | AD10: ='S4 Maquette'!I25*1.5 -> 0
AA11: ='S1 Maquette'!I26*1.5 -> 0 | AB11: ='S2 Maquette'!I26*1.5 -> 0 | AC11: ='S3 Maquette'!I26*1.5 -> 0 | AD11: ='S4 Maquette'!I26*1.5 -> 0
AA12: ='S1 Maquette'!I27*1.5 -> 0 | AB12: ='S2 Maquette'!I27*1.5 -> 0 | AC12: ='S3 Maquette'!I27*1.5 -> 0 | AD12: ='S4 Maquette'!I27*1.5 -> 0
AA13: ='S1 Maquette'!I28*1.5 -> 16.5 | AB13: ='S2 Maquette'!I28*1.5 -> 18 | AC13: ='S3 Maquette'!I28*1.5 -> 0 | AD13: ='S4 Maquette'!I28*1.5 -> 0
A14: Heure Porté par la maquette | N14: Mutualisation Porteuse | AA14: ='S1 Maquette'!I29*1.5 -> 0 | AB14: ='S2 Maquette'!I29*1.5 -> 0 | AC14: ='S3 Maquette'!I29*1.5 -> 0 | AD14: ='S4 Maquette'!I29*1.5 -> 0
AA15: ='S1 Maquette'!I30*1.5 -> 0 | AB15: ='S2 Maquette'!I30*1.5 -> 0 | AC15: ='S3 Maquette'!I30*1.5 -> 18 | AD15: ='S4 Maquette'!I30*1.5 -> 18
A16: Semestre 1 | D16: Semestre 2 | G16: Semestre 3 | J16: Semestre 4 | N16: Semestre 1 | Q16: Semestre 2 | T16: Semestre 3 | W16: Semestre 4 | AA16: ='S1 Maquette'!I31*1.5 -> 0 | AB16: ='S2 Maquette'!I31*1.5 -> 0 | AC16: ='S3 Maquette'!I31*1.5 -> 0 | AD16: ='S4 Maquette'!I31*1.5 -> 0
A17: Heure CM | B17: Heure TD | C17: Heure TP | D17: Heure CM | E17: Heure TD | F17: Heure TP | G17: Heure CM | H17: Heure TD | I17: Heure TP | J17: Heure CM | K17: Heure TD | L17: Heure TP | N17: Heure CM | O17: Heure TD | P17: Heure TP | Q17: Heure CM | R17: Heure TD | S17: Heure TP | T17: Heure CM | U17: Heure TD | V17: Heure TP | W17: Heure CM | X17: Heure TD | Y17: Heure TP | AA17: ='S1 Maquette'!I32*1.5 -> 16.5 | AB17: ='S2 Maquette'!I32*1.5 -> 18 | AC17: ='S3 Maquette'!I32*1.5 -> 0 | AD17: ='S4 Maquette'!I32*1.5 -> 0
A18: =A5-N18 -> #REF! | B18: =B5-O18 -> 154 | C18: =C5-P18 -> 11 | D18: =D5-Q18 -> #REF! | E18: =E5-R18 -> 156 | F18: =F5-S18 -> 36 | G18: =G5-T18 -> 54 | H18: =H5-U18 -> 192 | ... L18: =L5-Y18 -> 24 | N18: =SUMIF('S1 Maquette'!M19:M299,"Portée",'S1 Maquette'!I19:I299)*1.5 -> 237 | O18: =SUMIF('S1 Maquette'!M19:M299,"Portée",'S1 Maquette'!J19:J299) -> 493.5 | P18: =SUMIF('S1 Maquette'!M19:M299,"Portée",'S1 Maquette'!K19:K299) -> 11 | Q18: =SUMIF('S2 Maquette'!M19:M299,"Portée",'S2 Maquette'!I19:I299)*1.5 -> 261 | R18: =SUMIF('S2 Maquette'!M19:M299,"Portée",'S2 Maquette'!J19:J299) -> 540 | S18: =SUMIF('S2 Maquette'!M9:M299,"Portée",'S2 Maquette'!K19:K299) -> 0 | T18: =SUMIF('S3 Maquette'!M19:M301,"Portée",'S3 Maquette'!I19:I301)*1.5 -> 676.5 | U18: =SUMIF('S3 Maquette'!M19:M301,"Portée",'S3 Maquette'!J19:J301) -> 1276.5 | V18: =SUMIF('S3 Maquette'!M19:M301,"Portée",'S3 Maquette'!K19:K301) -> 190 | W18: =SUMIF('S4 Maquette'!M19:M301,"Portée",'S4 Maquette'!I19:I301)*1.5 -> 675 | X18: =SUMIF('S4 Maquette'!M19:M301,"Portée",'S4 Maquette'!J19:J301) -> 1284 | Y18: =SUMIF('S4 Maquette'!M19:M301,"Portée",'S4 Maquette'!K19:K301) -> 192 | AA18: ='S1 Maquette'!I33*1.5 -> 0 | AB18: ='S2 Maquette'!I33*1.5 -> 0 | AC18: ='S3 Maquette'!I33*1.5 -> 0 | AD18: ='S4 Maquette'!I33*1.5 -> 0
A19: Total | D19: Total | G19: Total | J19: Total | AA19: ='S1 Maquette'!I34*1.5 -> 0 | AB19: ='S2 Maquette'!I34*1.5 -> 0 | AC19: ='S3 Maquette'!I34*1.5 -> 18 | AD19: ='S4 Maquette'!I34*1.5 -> 18
A20: =SUM(A18,B18,C18) -> #REF! | D20: =SUM(D18,E18,F18) -> #REF! | G20: =SUM(G18,H18,I18) -> 270 | J20: =SUM(J18,K18,L18) -> 270 | AA20: ='S1 Maquette'!I35*1.5 -> 0 | AB20: ='S2 Maquette'!I35*1.5 -> 0 | AC20: ='S3 Maquette'!I35*1.5 -> 0 | AD20: ='S4 Maquette'!I35*1.5 -> 0
A21: Total | G21: Total | AA21: ='S1 Maquette'!I36*1.5 -> 16.5 | AB21: ='S2 Maquette'!I36*1.5 -> 18 | AC21: ='S3 Maquette'!I36*1.5 -> 0 | AD21: ='S4 Maquette'!I36*1.5 -> 0
A22: =SUM(A20,D20) -> #REF! | G22: =SUM(G20,J20) -> 540 | AA22: ='S1 Maquette'!I37*1.5 -> 16.5 | AB22: ='S2 Maquette'!I37*1.5 -> 18 | AC22: ='S3 Maquette'!I37*1.5 -> 0 | AD22: ='S4 Maquette'!I37*1.5 -> 0
AA23: ='S1 Maquette'!I38*1.5 -> 0 | AB23: ='S2 Maquette'!I38*1.5 -> 0 | AC23: ='S3 Maquette'!I38*1.5 -> 18 | AD23: ='S4 Maquette'!I38*1.5 -> 18
AA24: ='S1 Maquette'!I39*1.5 -> 0 | AB24: ='S2 Maquette'!I39*1.5 -> 0 | AC24: ='S3 Maquette'!I39*1.5 -> 0 | AD24: ='S4 Maquette'!I39*1.5 -> 0
AA25: ='S1 Maquette'!I40*1.5 -> 0 | AB25: ='S2 Maquette'!I40*1.5 -> 0 | AC25: ='S3 Maquette'!I40*1.5 -> 0 | AD25: ='S4 Maquette'!I40*1.5 -> 0
AA26: ='S1 Maquette'!I41*1.5 -> 0 | AB26: ='S2 Maquette'!I41*1.5 -> 0 | AC26: ='S3 Maquette'!I41*1.5 -> 0 | AD26: ='S4 Maquette'!I41*1.5 -> 0
AA27: ='S1 Maquette'!I42*1.5 -> 0 | AB27: ='S2 Maquette'!I42*1.5 -> 0 | AC27: ='S3 Maquette'!I42*1.5 -> 0 | AD27: ='S4 Maquette'!I42*1.5 -> 0
AA28: ='S1 Maquette'!I43*1.5 -> 0 | AB28: ='S2 Maquette'!I43*1.5 -> 0 | AC28: ='S3 Maquette'!I43*1.5 -> 0 | AD28: ='S4 Maquette'!I43*1.5 -> 0
AA29: ='S1 Maquette'!I44*1.5 -> 16.5 | AB29: ='S2 Maquette'!I44*1.5 -> 18 | AC29: ='S3 Maquette'!I44*1.5 -> 0 | AD29: ='S4 Maquette'!I44*1.5 -> 0
AA30: ='S1 Maquette'!I45*1.5 -> 0 | AB30: ='S2 Maquette'!I45*1.5 -> 0 | AC30: ='S3 Maquette'!I45*1.5 -> 18 | AD30: ='S4 Maquette'!I45*1.5 -> 18
AA31: ='S1 Maquette'!I46*1.5 -> 0 | AB31: ='S2 Maquette'!I46*1.5 -> 0 | AC31: ='S3 Maquette'!I46*1.5 -> 18 | AD31: ='S4 Maquette'!I46*1.5 -> 18
AA32: ='S1 Maquette'!I47*1.5 -> 16.5 | AB32: ='S2 Maquette'!I47*1.5 -> 18 | AC32: ='S3 Maquette'!I47*1.5 -> 0 | AD32: ='S4 Maquette'!I47*1.5 -> 0
AA33: ='S1 Maquette'!I48*1.5 -> 0 | AB33: ='S2 Maquette'!I48*1.5 -> 0 | AC33: ='S3 Maquette'!I48*1.5 -> 0 | AD33: ='S4 Maquette'!I48*1.5 -> 0
AA34: ='S1 Maquette'!I49*1.5 -> 0 | AB34: ='S2 Maquette'!I49*1.5 -> 0 | AC34: ='S3 Maquette'!I49*1.5 -> 0 | AD34: ='S4 Maquette'!I49*1.5 -> 0
... AA46: ='S1 Maquette'!I61*1.5 -> 16.5 | AB46: ='S2 Maquette'!I61*1.5 -> 18 | AC46: ='S3 Maquette'!I61*1.5 -> 18 | AD46: ='S4 Maquette'!I61*1.5 -> 18
AA47: ='S1 Maquette'!#REF!*1.5 -> #REF! | AB47: ='S2 Maquette'!#REF!*1.5 -> #REF! | AC47: ='S3 Maquette'!I62*1.5 -> 0 | AD47: ='S4 Maquette'!I62*1.5 -> 0
AA48: ='S1 Maquette'!I62*1.5 -> 0 | AB48: ='S2 Maquette'!I62*1.5 -> 0 | AC48: ='S3 Maquette'!I63*1.5 -> 0 | AD48: ='S4 Maquette'!I63*1.5 -> 0
AA49: ='S1 Maquette'!I63*1.5 -> 16.5 | AB49: ='S2 Maquette'!I63*1.5 -> 18 | AC49: ='S3 Maquette'!I64*1.5 -> 0 | AD49: ='S4 Maquette'!I64*1.5 -> 0
AA50: ='S1 Maquette'!I64*1.5 -> 0 | AB50: ='S2 Maquette'!I64*1.5 -> 0 | AC50: ='S3 Maquette'!I65*1.5 -> 18 | AD50: ='S4 Maquette'!I65*1.5 -> 18
AA51: ='S1 Maquette'!I65*1.5 -> 0 | AB51: ='S2 Maquette'!I65*1.5 -> 0 | AC51: ='S3 Maquette'!I66*1.5 -> 0 | AD51: ='S4 Maquette'!I66*1.5 -> 0
AA52: ='S1 Maquette'!I66*1.5 -> 0 | AB52: ='S2 Maquette'!I66*1.5 -> 0 | AC52: ='S3 Maquette'!I67*1.5 -> 0 | AD52: ='S4 Maquette'!I67*1.5 -> 0
AA53: ='S1 Maquette'!I67*1.5 -> 0 | AB53: ='S2 Maquette'!I67*1.5 -> 0 | AC53: ='S3 Maquette'!I68*1.5 -> 0 | AD53: ='S4 Maquette'!I68*1.5 -> 0
AA54: ='S1 Maquette'!I68*1.5 -> 16.5 | AB54: ='S2 Maquette'!I68*1.5 -> 18 | AC54: ='S3 Maquette'!I69*1.5 -> 18 | AD54: ='S4 Maquette'!I69*1.5 -> 18
AA55: ='S1 Maquette'!I69*1.5 -> 0 | AB55: ='S2 Maquette'!I69*1.5 -> 0 | AC55: ='S3 Maquette'!I70*1.5 -> 0 | AD55: ='S4 Maquette'!I70*1.5 -> 0
AA56: ='S1 Maquette'!I70*1.5 -> 0 | AB56: ='S2 Maquette'!I70*1.5 -> 0 | AC56: ='S3 Maquette'!I71*1.5 -> 0 | AD56: ='S4 Maquette'!I71*1.5 -> 0
AA57: ='S1 Maquette'!I71*1.5 -> 16.5 | AB57: ='S2 Maquette'!I71*1.5 -> 18 | AC57: ='S3 Maquette'!I72*1.5 -> 0 | AD57: ='S4 Maquette'!I72*1.5 -> 0
AA58: ='S1 Maquette'!I72*1.5 -> 0 | AB58: ='S2 Maquette'!I72*1.5 -> 0 | AC58: ='S3 Maquette'!I73*1.5 -> 18 | AD58: ='S4 Maquette'!I73*1.5 -> 18
AA59: ='S1 Maquette'!I73*1.5 -> 0 | AB59: ='S2 Maquette'!I73*1.5 -> 0 | AC59: ='S3 Maquette'!I74*1.5 -> 0 | AD59: ='S4 Maquette'!I74*1.5 -> 0
... AA70: ='S1 Maquette'!I84*1.5 -> 16.5 | AB70: ='S2 Maquette'!I84*1.5 -> 18 | AC70: ='S3 Maquette'!I85*1.5 -> 27 | AD70: ='S4 Maquette'!I85*1.5 -> 27
AA71: ='S1 Maquette'!I85*1.5 -> 0 | AB71: ='S2 Maquette'!I85*1.5 -> 0 | AC71: ='S3 Maquette'!I87*1.5 -> 0 | AD71: ='S4 Maquette'!I87*1.5 -> 0
AA72: ='S1 Maquette'!I86*1.5 -> 0 | AB72: ='S2 Maquette'!I86*1.5 -> 0 | AC72: ='S3 Maquette'!I88*1.5 -> 0 | AD72: ='S4 Maquette'!I88*1.5 -> 0
AA73: ='S1 Maquette'!I87*1.5 -> 22.5 | AB73: ='S2 Maquette'!I87*1.5 -> 27 | AC73: ='S3 Maquette'!I89*1.5 -> 18 | AD73: ='S4 Maquette'!I89*1.5 -> 18
AA74: ='S1 Maquette'!I88*1.5 -> 0 | AB74: ='S2 Maquette'!I88*1.5 -> 0 | AC74: ='S3 Maquette'!I90*1.5 -> 0 | AD74: ='S4 Maquette'!I90*1.5 -> 0
AA75: ='S1 Maquette'!I89*1.5 -> 0 | AB75: ='S2 Maquette'!I89*1.5 -> 0 | AC75: ='S3 Maquette'!I91*1.5 -> 0 | AD75: ='S4 Maquette'!I91*1.5 -> 0
AA76: ='S1 Maquette'!I90*1.5 -> 0 | AB76: ='S2 Maquette'!I90*1.5 -> 0 | AC76: ='S3 Maquette'!I92*1.5 -> 0 | AD76: ='S4 Maquette'!I92*1.5 -> 0
AA77: ='S1 Maquette'!I91*1.5 -> 0 | AB77: ='S2 Maquette'!I91*1.5 -> 0 | AC77: ='S3 Maquette'!I93*1.5 -> 0 | AD77: ='S4 Maquette'!I93*1.5 -> 0
AA78: ='S1 Maquette'!I92*1.5 -> 0 | AB78: ='S2 Maquette'!I92*1.5 -> 0 | AC78: ='S3 Maquette'!I94*1.5 -> 18 | AD78: ='S4 Maquette'!I94*1.5 -> 18
AA79: ='S1 Maquette'!I93*1.5 -> 0 | AB79: ='S2 Maquette'!I93*1.5 -> 0 | AC79: ='S3 Maquette'!I95*1.5 -> 0 | AD79: ='S4 Maquette'!I95*1.5 -> 0
AA80: ='S1 Maquette'!I94*1.5 -> 0 | AB80: ='S2 Maquette'!I94*1.5 -> 0 | AC80: ='S3 Maquette'!I96*1.5 -> 0 | AD80: ='S4 Maquette'!I96*1.5 -> 0
AA81: ='S1 Maquette'!I95*1.5 -> 0 | AB81: ='S2 Maquette'!I95*1.5 -> 0 | AC81: ='S3 Maquette'!I97*1.5 -> 0 | AD81: ='S4 Maquette'!I97*1.5 -> 0
AA82: ='S1 Maquette'!I96*1.5 -> 0 | AB82: ='S2 Maquette'!I96*1.5 -> 0 | AC82: ='S3 Maquette'!I98*1.5 -> 0 | AD82: ='S4 Maquette'!I98*1.5 -> 0
... AA291: ='S1 Maquette'!I305*1.5 -> 0 | AB291: ='S2 Maquette'!I305*1.5 -> 0 | AC291: ='S3 Maquette'!I307*1.5 -> 0 | AD291: ='S4 Maquette'!I307*1.5 -> 0

Sheet Fiche Générale
A1: Type Diplôme : Portail & Double Portail
A2: Types Diplômes | B2: Portail
A3: COMPOSANTE | B3: Portail_LLAC
A4: MENTION | B4: Langues Etrangères Appliquées
A5: CODE DIPLÔME
A6: Régime d'inscription | B6: Initiale Hors-Apprentissage / Formation Continue / Formation Permanente
A8: Parcours Type Portail
A9: Parcours Type | B9: LEA Anglais - Allemand
A13: Heures Maquette Année 1 | B13: Heures Valorisées Année 1 | C13: Heures Maquette Année 2 | D13: Heures Valorisées Année 2
A15: =Calcul!A10 -> #REF! | B15: =Calcul!A22 -> #REF! | C15: =Calcul!G10 -> 4834 | D15: =Calcul!G22 -> 540
B18: Le statut de non assidu n'est pas autorisé pour les étudiants du parcours Regensburg.
A19: COMPENSATION
A20: Les MCC déterminent le mode de compensation entre UE, semestre et année ainsi que la possibilité d’une note éliminatoire.
A21: Obtention des UE
A22: L'UE est obtenue avec une note minimum de 10/20 et par compensation entre tous les ECUE. Pour toutes les années, la note de seconde chance consiste en un nouveau calcul de la moyenne de l'ECUE. Si le résultat de ce nouveau calcul atteint ou dépasse 10/20, alors l'ECUE est obtenue avec la note plafonnée de 10/20. Le refus de compensation n'est autorisé que pour l'UE compétences transversales.
A25: Obtention du Semestre
A26: Le semestre est obtenu avec une note minimum de 10/20. L1: par compensation entre toutes les UE L2: les UE de langue A et langue B et de Matières d'application ne sont pas compensables. Les autres UE sont compensables entre elles.
A29: Obtention de l'Année
A30: L'année est obtenue avec une note minimum de 10/20 et par compensation entre les deux semestres. L2: les UE de langue A et langue B et Matières d'application ne sont pas compensables pour l'obtention de l'année. Si la moyenne de l'année est inférieure à 10/20, le passage en L2 est permis si toutes les UE de L1 sont validées sauf les 2 UE de compétences transversales (8 UE sur 10). Pour passer en L3 il faut avoir obtenu toutes les UE de L1 et L2 (par compensation ou non).
A33: Note éliminatoire/ Note seuil
A34: En L2 une note inférieure à 10 aux UE de langue A, de langue B ou de Matières d’application invalide semestre et année.
A37: REDOUBLEMENT
A38: Autorisé Limitation du nombre de redoublements : 2 fois en L1 ; 1 fois en L2 ; 1 fois en L3 ; au-delà, à titredérogatoire. Le redoublement n’étant pas de droit, lorsqu’un ou une étudiante obtient entre 0 et 5 de moyenne annuelle, le jury est souverain pour décider d’un redoublement ou non, en tenant compte de sa situation personnelle (maladie, décès d’un proche, etc.).
... A43: DISPOSITIF ARE Principe général : Si un étudiant à des notes qui justifient son placement en soutien dans plus d'une matière (MA , Langue A ou Langue B), il n'est obligé d'assister qu'au soutien de la matière où il est le plus faible. Il pourra quand même bien sûr assister aux autres cours de soutien s'il le souhaite. • Anglais : soutien s1 : obligatoire si note inférieure à 9/20 au test de positionnement de pré-rentrée soutien s2 : obligatoire si moyenne à l'UE d'anglais du S1 inférieure à 9/20 tutorat L2 s3 : obligatoire si moyenne à l'UE d'anglais du S2 inférieure à 9/20 tutorat L2 s4 : obligatoire si moyenne à l'UE d'anglais du S3 inférieure à 9/20 • Matières d’application – obligatoire selon les conditions suivantes : L1/S1 (12h de soutien en économie, YLELMA1) — Sur la base des résultats obtenus lors d’une évaluation diagnostique organisée en semaine 4, l’enseignant de l’ECUE HPEEQU1 détermine le groupe d’étudiants (10 à 15 % de la promotion, pour un groupe n’excédant pas 40 personnes) qui bénéficiera de 2h de soutien hebdomadaires pendant trois semaines (semaines 5 à 7). Une seconde évaluation diagnostique organisée en semaine 8 permet la recomposition du groupe en fonction des progrès réalisés ou des nouvelles lacunes décelées (un.e étudiant.e peut continuer à bénéficier du soutien), pour une nouvelle séquence de trois semaines (semaines 9 à 11). L1/S2 (16h de soutien en communication, YLELMA2) – « À l’issue des jurys de S1, les 10-15 % de l’effectif (effectif total maximum : 40) ayant obtenu les résultats les plus faibles dans l'UE des Matières d’application du S1 (HPUEMA1) devront obligatoirement suivre les cours de soutien en communication du dispositif ARE pendant les semaines 2 à 5 du semestre. En semaine 6, une évaluation diagnostique réalisée par l’enseignant de l’ECUE HPEECP2 permet la recomposition du groupe pour une nouvelle séquence de quatre semaines (semaines 7 à 10). L2/S3 (18h de renforcement de la culture générale, YLELMA3) – « Les 15 % de l’effectif admis en L2 ayant obtenu les résultats les plus faibles dans l'UE des Matières d’application au S2 (HPUEMA2) devront obligatoirement suivre les cours de renforcement (culture générale) proposés au S3 sur 9 semaines. Aux 15 % de l’effectif des L1 admis en L2 s’ajouteront obligatoirement les étudiant.es qui redoublent la L2 (effectif total maximum : 40). L2/S4 (18h de renforcement de la culture générale, YLELMA4) – « À l’issue des jurys de S3, les 15 à 20 % de l’effectif ayant obtenu les résultats les plus faibles dans l’UE des Matières d’application au S3 (HPUEMA3) devront obligatoirement suivre les cours de soutien du dispositif ARE jusqu’à la fin du S4 (effectif total maximum : 40). » • Allemand : Soutien L1 s1 : « réalisation d’un test de positionnement à la pré-rentrée. Tout étudiant ayant une note inférieure à 10 devra obligatoirement suivre les cours de soutien, pendant toute l'année. La note de ce test n’entrera pas dans le calcul de la moyenne » S2 « Tout étudiant ayant une note inférieure à 10 en moyenne générale mi-novembre devra obligatoirement suivre les cours de soutien ». Pour le s3, « Tout étudiant ayant une note inférieure à 10 en moyenne générale à l’issue du semestre 1 devra obligatoirement suivre les cours de soutien ».
B47: • Allemand
A48: Soutien L1 s1 : « réalisation d’un test de positionnement à la pré-rentrée. Tout étudiant ayant une note inférieure à 10 devra obligatoirement suivre les cours de soutien, pendant toute l'année. La note de ce test n’entrera pas dans le calcul de la moyenne »
A50: S2 « Tout étudiant ayant une note inférieure à 10 en moyenne générale mi-novembre devra obligatoirement suivre les cours de soutien ».
A52: Pour le s3, « Tout étudiant ayant une note inférieure à 10 en moyenne générale à l’issue du semestre 1 devra obligatoirement suivre les cours de soutien ».

Sheet S1 Maquette
A7: Composante | B7: ='Fiche Générale'!B3 -> Portail_LLAC | C7: Diplôme | E7: ='Fiche Générale'!B4 -> Langues Etrangères Appliquées | G7: Code diplôme | H7: ='Fiche Générale'!B5 -> 0
C10: Parcours type | E10: ='Fiche Générale'!B9 -> LEA Anglais - Allemand
A13: Année | B13: 1ère année de Portail | C13: Code année | G13: Heure Maquette | H13: =Calcul!A7 -> #REF!
A15: Semestre | B15: Semestre 1 | C15: Code semestre | G15: Heure Valorisées | H15: =Calcul!A20 -> #REF!
A18: Niveau | B18: Libellé ELP | C18: Nature ELP | D18: ECTS | E18: Type | F18: Statut | G18: Code Apogée | H18: CNU | I18: Heure CM | J18: Heure TD | K18: Heure TP | L18: Langues | M18: Mutualisation | N18: Formation Porteuse | O18: Observations / Remarques ex: Intervention à titre gracieux / Capacité d'accueil max
A19: 0 | B19: Compétences transversales S1 | C19: UE | D19: 6
A20: 0.1 | B20: Compétences écrites 1 | C20: ECUE
A21: 0.2 | B21: Compétences informationnelles | C21: ECUE
A22: 0.3 | B22: Langue Vivante-1 | C22: ECUE | O22: Neutralisation de l'ECUE transversale Langue vivante étrangère pour les étudiants de LEA
B23: Min 1 Max 1 | C23: OPTION | O23: Neutralisation de l'ECUE transversale Langue vivante étrangère pour les étudiants de LEA
A24: 0.3.1 | B24: Anglais 1 | C24: ECUE | O24: Neutralisation de l'ECUE transversale Langue vivante étrangère pour les étudiants de LEA
A25: 0.3.2 | B25: Espagnol | C25: ECUE | O25: Neutralisation de l'ECUE transversale Langue vivante étrangère pour les étudiants de LEA
A26: 0.3.3 | B26: Italien | C26: ECUE | O26: Neutralisation de l'ECUE transversale Langue vivante étrangère pour les étudiants de LEA
A27: 1 | B27: Langue A : Anglais Non Débutant 1 | C27: UE | D27: 6
B28: Culture 1 ANGLAIS | C28: ECUE | I28: 11 | M28: Porteuse
B29: Grammaire et traduction 1 ANGLAIS | C29: ECUE | J29: 22 | M29: Porteuse
B30: Expression écrite et orale 1 ANGLAIS | C30: ECUE | J30: 11 | K30: 11 | M30: Porteuse
A31: 2 | B31: Langue B : Allemand Non Débutant 1 | C31: UE | D31: 6 | M31: Porteuse | O31: UE disciplinaire offerte également en découverte
B32: Culture 1 ALLEMAND | C32: ECUE | I32: 11 | M32: Porteuse | O32: UE disciplinaire offerte également en découverte
B33: Grammaire et traduction 1 ALLEMAND | C33: ECUE | J33: 33 | M33: Porteuse | O33: UE disciplinaire offerte également en découverte
B34: Expression écrite et orale 1 ALLEMAND | C34: ECUE | J34: 33 | M34: Porteuse | O34: UE disciplinaire offerte également en découverte
A35: 3 | B35: Matières d'application 1 | C35: UE | D35: 6
B36: Introduction à l’analyse économique & histoire de la pensée économique/Introduction to economic analysis and history of economic thought 1 | C36: ECUE | I36: 11 | M36: Porteuse
B37: Introduction à l'économie du tourisme 1 | C37: ECUE | I37: 11 | M37: Porteuse
B38: Communication professionnelle 1 | C38: ECUE | J38: 11 | M38: Porteuse
A39: 4 | B39: Découverte ou langue C | C39: UE
B40: 1 UE au choix | C40: OPTION
A41: 4.1 | B41: Découverte Allemand Non débutant 1 | C41: UE | D41: 6
B42: Travail autour d'une série 1 ALLEMAND | C42: ECUE | J42: 44 | M42: Porteuse
A43: 4.2 | B43: Découverte Arabe Débutant 1 | C43: UE | D43: 6 | M43: Portée
B44: Culture 1 ARABE | C44: ECUE | I44: 11 | M44: Portée
B45: Langue 1 ARABE | C45: ECUE | J45: 22 | M45: Portée
A46: 4.3 | B46: Découverte Chinois Débutant 1 | C46: UE | D46: 6 | M46: Portée
B47: Culture 1 CHINOIS | C47: ECUE | I47: 11 | M47: Portée
B48: Langue 1 CHINOIS | C48: ECUE | J48: 22 | M48: Portée
A49: 4.4 | B49: Découverte Espagnol Non débutant 1 | C49: UE | D49: 6 | M49: Portée | N49: LEA disciplinaire Langue B
B50: Langue 1 ESPAGNOL | C50: ECUE | J50: 22 | M50: Portée | N50: LEA disciplinaire Langue B: Grammaire et traduction 1 ESPAGNOL
B51: Communication écrite et orale 1 ESPAGNOL | C51: ECUE | J51: 11 | K51: 11 | M51: Portée | N51: LEA disciplinaire Langue B: Expression écrite et orale 1 ESPAGNOL
A52: 4.5 | B52: Découverte Italien Non débutant 1 | C52: UE | D52: 6 | M52: Portée
B53: Culture et expression 1 ITALIEN | C53: ECUE | I53: 11 | M53: Portée
B54: Langue 1 ITALIEN | C54: ECUE | J54: 22 | M54: Portée
A55: 4.6 | B55: Découverte Portugais Débutant 1 | C55: UE | D55: 6 | M55: Portée
B56: Culture 1 PORTUGAIS | C56: ECUE | J56: 11 | M56: Portée
B57: Langue 1 PORTUGAIS | C57: ECUE | I57: 11 | J57: 11 | M57: Portée
A58: 4.7 | B58: Découverte Russe Débutant 1 | C58: UE | D58: 6 | M58: Portée
B59: Langue et culture 1 RUSSE | C59: ECUE | I59: 11 | J59: 22 | M59: Portée
A60: 4.8 | B60: Découverte Matières d'application 1 | C60: UE | D60: 6 | M60: Portée
B61: Introduction au droit et organisation juridictionnelle/Introduction to law and the judiciary system 1 | C61: ECUE | I61: 11 | J61: 22 | M61: Portée
A62: 4.9 | B62: Langue B : Allemand Non Débutant 1 | C62: UE | D62: 6 | M62: Portée | N62: LEA disciplinaire langue B
B63: Culture 1 ALLEMAND | C63: ECUE | I63: 11 | M63: Portée | N63: LEA disciplinaire langue B
B64: Grammaire et traduction 1 ALLEMAND | C64: ECUE | J64: 33 | M64: Portée | N64: LEA disciplinaire langue B
B65: Expression écrite et orale 1 ALLEMAND | C65: ECUE | J65: 33 | M65: Portée | N65: LEA disciplinaire langue B
A66: 4.10 | B66: Langue B : Arabe Débutant 1 | C66: UE | D66: 6 | M66: Portée | N66: LEA disciplinaire langue B
B67: Grammaire 1 ARABE | C67: ECUE | J67: 22 | M67: Portée | N67: LEA disciplinaire langue B
B68: Langue et culture de spécialité 1 ARABE | C68: ECUE | I68: 11 | M68: Portée | N68: LEA disciplinaire langue B
B69: Système graphique et expression orale 1 ARABE | C69: ECUE | J69: 38.5 | M69: Portée | N69: LEA disciplinaire langue B
A70: 4.11 | B70: Langue B: Chinois Débutant 1 | C70: UE | D70: 6 | M70: Portée | N70: LEA disciplinaire langue B
B71: Grammaire 1 CHINOIS | C71: ECUE | I71: 11 | J71: 11 | M71: Portée | N71: LEA disciplinaire langue B
B72: Langue et culture de spécialité 1 CHINOIS | C72: ECUE | J72: 11 | M72: Portée | N72: LEA disciplinaire langue B
B73: Système graphique et expression orale 1 CHINOIS | C73: ECUE | J73: 38.5 | M73: Portée | N73: LEA disciplinaire langue B
A74: 4.12 | B74: Langue B : Portugais Débutant 1 | C74: UE | D74: 6 | M74: Portée | N74: LEA disciplinaire langue B
B75: Grammaire 1 PORTUGAIS | C75: ECUE | I75: 11 | J75: 11 | M75: Portée | N75: LEA disciplinaire langue B
B76: Langue et culture de spécialité 1 PORTUGAIS | C76: ECUE | J76: 11 | M76: Portée | N76: LEA disciplinaire langue B
B77: Expression écrite et orale 1 PORTUGAIS | C77: ECUE | J77: 38.5 | M77: Portée | N77: LEA disciplinaire langue B
A78: 4.13 | B78: Langue B : Russe avancé 1 | C78: UE | D78: 6 | M78: Portée | N78: LEA disciplinaire langue B
B79: Culture Russe avancé 1 | C79: ECUE | I79: 11 | M79: Portée | N79: LEA disciplinaire langue B
B80: Expression Russe avancé 1 | C80: ECUE | J80: 11 | M80: Portée | N80: LEA disciplinaire langue B
B81: Traduction Russe avancé 1 | C81: ECUE | J81: 11 | M81: Portée | N81: LEA disciplinaire langue B
A82: 4.14 | B82: Langue B : Russe débutant 1 | C82: UE | D82: 6 | M82: Portée | N82: LEA disciplinaire langue B
B83: Langue et grammaire Russe débutant 1 | C83: ECUE | I83: 11 | J83: 33 | M83: Portée | N83: LEA disciplinaire langue B
B84: Culture Russe débutant 1 | C84: ECUE | I84: 11 | M84: Portée | N84: LEA disciplinaire langue B
B85: Expression Russe débutant 1 | C85: ECUE | J85: 11 | M85: Portée | N85: LEA disciplinaire langue B
A86: 4.15 | B86: Découverte de la langue et de l'histoire niçoises | C86: UE | D86: 6 | M86: Portée | N86: Licence Sciences du langage et licence professionnelle patrimoine
B87: Découverte de la langue et de l'histoire niçoises | C87: ECUE | I87: 15 | J87: 15 | M87: Portée | N87: Licence Sciences du langage et licence professionnelle patrimoine
A88: 4.16 | B88: Au choix parmi UE 4 du portail LLAC | C88: UE | D88: 6

Sheet S1 MCC
A7: Composante | B7: ='Fiche Générale'!B3 -> Portail_LLAC | C7: Diplôme | E7: ='Fiche Générale'!B4 -> Langues Etrangères Appliquées | G7: Code diplôme | H7: ='Fiche Générale'!B5 -> 0
C10: Parcours type | E10: ='Fiche Générale'!B9 -> LEA Anglais - Allemand
M12: 1ère session | P12: Seconde Chance
A13: Année | B13: ='S1 Maquette'!B13 -> 1ère année de Portail | D13: Code Année | E13: ='S1 Maquette'!E13 -> 0
M14: Contrôle continu | N14: Contrôle Terminal
A15: Semestre | B15: ='S1 Maquette'!B15 -> Semestre 1 | D15: Code Semestre | E15: ='S1 Maquette'!E15:F16 -> 0
A18: Libellé | B18: Nature | C18: Statut | D18: Coefficient | E18: Notes attendues | F18: Résultat attendu: (ACQ/AJ) | G18: Conservation note | H18: Capitalisable | I18: Compensable | J18: Seuil de compensation /20 | K18: Type de contrôle | L18: Si CC&CT coef du CT | M18: Nbre d'évalution minimum | N18: Nature | O18: Durée | P18: Format d'évaluation | Q18: Nature | R18: Durée | S18: Modalités de mise en œuvre | T18: Commentaires
A19: ='S1 Maquette'!B19 -> Compétences transversales S1 | B19: ='S1 Maquette'!C19 -> UE | C19: ='S1 Maquette'!F19 -> 0
A20: ='S1 Maquette'!B20 -> Compétences écrites 1 | B20: ='S1 Maquette'!C20 -> ECUE | C20: ='S1 Maquette'!F20 -> 0
A21: ='S1 Maquette'!B21 -> Compétences informationnelles | B21: ='S1 Maquette'!C21 -> ECUE | C21: ='S1 Maquette'!F21 -> 0
A22: ='S1 Maquette'!B22 -> Langue Vivante-1 | B22: ='S1 Maquette'!C22 -> ECUE | C22: ='S1 Maquette'!F22 -> 0
A23: ='S1 Maquette'!B23 -> Min 1 Max 1 | B23: ='S1 Maquette'!C23 -> OPTION | C23: ='S1 Maquette'!F23 -> 0
A24: ='S1 Maquette'!B24 -> Anglais 1 | B24: ='S1 Maquette'!C24 -> ECUE | C24: ='S1 Maquette'!F24 -> 0
A25: ='S1 Maquette'!B25 -> Espagnol | B25: ='S1 Maquette'!C25 -> ECUE
A26: ='S1 Maquette'!B26 -> Italien | B26: ='S1 Maquette'!C26 -> ECUE | C26: ='S1 Maquette'!F26 -> 0
A27: ='S1 Maquette'!B27 -> Langue A : Anglais Non Débutant 1 | B27: ='S1 Maquette'!C27 -> UE | C27: ='S1 Maquette'!F27 -> 0 | D27: 1 | E27: OUI | F27: OUI | G27: OUI | H27: OUI | I27: OUI
A28: ='S1 Maquette'!B28 -> Culture 1 ANGLAIS | B28: ='S1 Maquette'!C28 -> ECUE | C28: ='S1 Maquette'!F28 -> 0 | D28: 1 | E28: OUI | F28: OUI | G28: OUI | H28: OUI | I28: OUI | K28: CCI (CC Intégral) | M28: 2 | P28: Autres | S28: Seconde chance : la moyenne de l’ECUE sera calculée en doublant la meilleure note et en plafonnant le résultat à 10/20
A29: ='S1 Maquette'!B29 -> Grammaire et traduction 1 ANGLAIS | B29: ='S1 Maquette'!C29 -> ECUE | C29: ='S1 Maquette'!F29 -> 0 | D29: 1 | E29: OUI | F29: OUI | G29: OUI | H29: OUI | I29: OUI | K29: CCI (CC Intégral) | M29: 2 | P29: Autres | S29: Seconde chance : la moyenne de l’ECUE sera calculée en doublant la meilleure note et en plafonnant le résultat à 10/20
A30: ='S1 Maquette'!B30 -> Expression écrite et orale 1 ANGLAIS | B30: ='S1 Maquette'!C30 -> ECUE | C30: ='S1 Maquette'!F30 -> 0 | D30: 1 | E30: OUI | F30: OUI | G30: OUI | H30: OUI | I30: OUI | K30: CCI (CC Intégral) | M30: 2 | P30: Autres | S30: Seconde chance : la moyenne de l’ECUE sera calculée en doublant la meilleure note et en plafonnant le résultat à 10/20
A31: ='S1 Maquette'!B31 -> Langue B : Allemand Non Débutant 1 | B31: ='S1 Maquette'!C31 -> UE | C31: ='S1 Maquette'!F31 -> 0 | D31: 1 | E31: OUI | F31: OUI | G31: OUI | H31: OUI | I31: OUI
A32: ='S1 Maquette'!B32 -> Culture 1 ALLEMAND | B32: ='S1 Maquette'!C32 -> ECUE | C32: ='S1 Maquette'!F32 -> 0 | D32: 1 | E32: OUI | F32: OUI | G32: OUI | H32: OUI | I32: OUI | K32: CCI (CC Intégral) | M32: 2 | P32: Autres | S32: Seconde chance : la moyenne de l’ECUE sera calculée en doublant la meilleure note et en plafonnant le résultat à 10/20
A33: ='S1 Maquette'!B33 -> Grammaire et traduction 1 ALLEMAND | B33: ='S1 Maquette'!C33 -> ECUE | C33: ='S1 Maquette'!F33 -> 0 | D33: 1 | E33: OUI | F33: OUI | G33: OUI | H33: OUI | I33: OUI | K33: CCI (CC Intégral) | M33: 2 | P33: Autres | S33: Seconde chance : la moyenne de l’ECUE sera calculée en doublant la meilleure note et en plafonnant le résultat à 10/20
A34: ='S1 Maquette'!B34 -> Expression écrite et orale 1 ALLEMAND | B34: ='S1 Maquette'!C34 -> ECUE | C34: ='S1 Maquette'!F34 -> 0 | D34: 1 | E34: OUI | F34: OUI | G34: OUI | H34: OUI | I34: OUI | K34: CCI (CC Intégral) | M34: 2 | P34: Autres | S34: Seconde chance : la moyenne de l’ECUE sera calculée en doublant la meilleure note et en plafonnant le résultat à 10/20
A35: ='S1 Maquette'!B35 -> Matières d'application 1 | B35: ='S1 Maquette'!C35 -> UE | C35: ='S1 Maquette'!F35 -> 0 | D35: 1 | E35: OUI | F35: OUI | G35: OUI | H35: OUI | I35: OUI
A36: ='S1 Maquette'!B36 -> Introduction à l’analyse économique & histoire de la pensée économique/Introduction to economic analysis and history of economic thought 1 | B36: ='S1 Maquette'!C36 -> ECUE | C36: ='S1 Maquette'!F36 -> 0 | D36: 1 | E36: OUI | F36: OUI | G36: OUI | H36: OUI | I36: OUI | K36: CCI (CC Intégral) | M36: 2 | P36: Autres | S36: Seconde chance : la moyenne de l’ECUE sera calculée en doublant la meilleure note et en plafonnant le résultat à 10/20
A37: ='S1 Maquette'!B37 -> Introduction à l'économie du tourisme 1 | B37: ='S1 Maquette'!C37 -> ECUE | C37: ='S1 Maquette'!F37 -> 0 | D37: 1 | E37: OUI | F37: OUI | G37: OUI | H37: OUI | I37: OUI | K37: CCI (CC Intégral) | M37: 2 | P37: Autres | S37: Seconde chance : la moyenne de l’ECUE sera calculée en doublant la meilleure note et en plafonnant le résultat à 10/20
A38: ='S1 Maquette'!B38 -> Communication professionnelle 1 | B38: ='S1 Maquette'!C38 -> ECUE | C38: ='S1 Maquette'!F38 -> 0 | D38: 1 | E38: OUI | F38: OUI | G38: OUI | H38: OUI | I38: OUI | K38: CCI (CC Intégral) | M38: 2 | P38: Autres | S38: Seconde chance : la moyenne de l’ECUE sera calculée en doublant la meilleure note et en plafonnant le résultat à 10/20
A39: ='S1 Maquette'!B39 -> Découverte ou langue C | B39: ='S1 Maquette'!C39 -> UE | C39: ='S1 Maquette'!F39 -> 0 | D39: 1 | E39: OUI | F39: OUI | G39: OUI | H39: OUI | I39: OUI
A40: ='S1 Maquette'!B40 -> 1 UE au choix | B40: ='S1 Maquette'!C40 -> OPTION | C40: ='S1 Maquette'!F40 -> 0 | D40: 1
A41: ='S1 Maquette'!B41 -> Découverte Allemand Non débutant 1 | B41: ='S1 Maquette'!C41 -> UE | C41: ='S1 Maquette'!F41 -> 0 | D41: 1 | E41: Les MCC pour les éléments d'OUVERTURE sont reportées dans la maquette/MCC du portail LEA Anglais-Arabe
A42: ='S1 Maquette'!B42 -> Travail autour d'une série 1 ALLEMAND | B42: ='S1 Maquette'!C42 -> ECUE | C42: ='S1 Maquette'!F42 -> 0 | D42: 1
A43: ='S1 Maquette'!B43 -> Découverte Arabe Débutant 1 | B43: ='S1 Maquette'!C43 -> UE | C43: ='S1 Maquette'!F43 -> 0 | D43: 1
A44: ='S1 Maquette'!B44 -> Culture 1 ARABE | B44: ='S1 Maquette'!C44 -> ECUE | C44: ='S1 Maquette'!F44 -> 0 | D44: 1
A45: ='S1 Maquette'!B45 -> Langue 1 ARABE | B45: ='S1 Maquette'!C45 -> ECUE | C45: ='S1 Maquette'!F45 -> 0 | D45: 1
A46: ='S1 Maquette'!B46 -> Découverte Chinois Débutant 1 | B46: ='S1 Maquette'!C46 -> UE | C46: ='S1 Maquette'!F46 -> 0 | D46: 1
A47: ='S1 Maquette'!B47 -> Culture 1 CHINOIS | B47: ='S1 Maquette'!C47 -> ECUE | C47: ='S1 Maquette'!F47 -> 0 | D47: 1
A48: ='S1 Maquette'!B48 -> Langue 1 CHINOIS | B48: ='S1 Maquette'!C48 -> ECUE | C48: ='S1 Maquette'!F48 -> 0 | D48: 1
A49: ='S1 Maquette'!B49 -> Découverte Espagnol Non débutant 1 | B49: ='S1 Maquette'!C49 -> UE | C49: ='S1 Maquette'!F49 -> 0 | D49: 1
A50: ='S1 Maquette'!B50 -> Langue 1 ESPAGNOL | B50: ='S1 Maquette'!C50 -> ECUE | C50: ='S1 Maquette'!F50 -> 0 | D50: 1
A51: ='S1 Maquette'!B51 -> Communication écrite et orale 1 ESPAGNOL | B51: ='S1 Maquette'!C51 -> ECUE | C51: ='S1 Maquette'!F51 -> 0 | D51: 1
A52: ='S1 Maquette'!B52 -> Découverte Italien Non débutant 1 | B52: ='S1 Maquette'!C52 -> UE | C52: ='S1 Maquette'!F52 -> 0 | D52: 1
A53: ='S1 Maquette'!B53 -> Culture et expression 1 ITALIEN | B53: ='S1 Maquette'!C53 -> ECUE | C53: ='S1 Maquette'!F53 -> 0 | D53: 1
... A61: ='S1 Maquette'!B61 -> Introduction au droit et organisation juridictionnelle/Introduction to law and the judiciary system 1 | B61: ='S1 Maquette'!C61 -> ECUE | C61: ='S1 Maquette'!F61 -> 0 | D61: 1
A62: ='S1 Maquette'!#REF! -> #REF! | B62: ='S1 Maquette'!#REF! -> #REF! | C62: ='S1 Maquette'!#REF! -> #REF!
A63: ='S1 Maquette'!B62 -> Langue B : Allemand Non Débutant 1 | B63: ='S1 Maquette'!C62 -> UE | C63: ='S1 Maquette'!F62 -> 0 | D63: 1
A64: ='S1 Maquette'!B63 -> Culture 1 ALLEMAND | B64: ='S1 Maquette'!C63 -> ECUE | C64: ='S1 Maquette'!F63 -> 0 | D64: 1
A65: ='S1 Maquette'!B64 -> Grammaire et traduction 1 ALLEMAND | B65: ='S1 Maquette'!C64 -> ECUE | C65: ='S1 Maquette'!F64 -> 0 | D65: 1
A66: ='S1 Maquette'!B65 -> Expression écrite et orale 1 ALLEMAND | B66: ='S1 Maquette'!C65 -> ECUE | C66: ='S1 Maquette'!F65 -> 0 | D66: 1
A67: ='S1 Maquette'!B66 -> Langue B : Arabe Débutant 1 | B67: ='S1 Maquette'!C66 -> UE | C67: ='S1 Maquette'!F66 -> 0 | D67: 1
A68: ='S1 Maquette'!B67 -> Grammaire 1 ARABE | B68: ='S1 Maquette'!C67 -> ECUE | C68: ='S1 Maquette'!F67 -> 0 | D68: 1
A69: ='S1 Maquette'!B68 -> Langue et culture de spécialité 1 ARABE | B69: ='S1 Maquette'!C68 -> ECUE | C69: ='S1 Maquette'!F68 -> 0 | D69: 1
A70: ='S1 Maquette'!B69 -> Système graphique et expression orale 1 ARABE | B70: ='S1 Maquette'!C69 -> ECUE | C70: ='S1 Maquette'!F69 -> 0 | D70: 1
A71: ='S1 Maquette'!B70 -> Langue B: Chinois Débutant 1 | B71: ='S1 Maquette'!C70 -> UE | C71: ='S1 Maquette'!F70 -> 0 | D71: 1
A72: ='S1 Maquette'!B71 -> Grammaire 1 CHINOIS | B72: ='S1 Maquette'!C71 -> ECUE | C72: ='S1 Maquette'!F71 -> 0 | D72: 1
A73: ='S1 Maquette'!B72 -> Langue et culture de spécialité 1 CHINOIS | B73: ='S1 Maquette'!C72 -> ECUE | C73: ='S1 Maquette'!F72 -> 0 | D73: 1
A74: ='S1 Maquette'!B73 -> Système graphique et expression orale 1 CHINOIS | B74: ='S1 Maquette'!C73 -> ECUE | C74: ='S1 Maquette'!F73 -> 0 | D74: 1
... A88: ='S1 Maquette'!B87 -> Découverte de la langue et de l'histoire niçoises | B88: ='S1 Maquette'!C87 -> ECUE | C88: ='S1 Maquette'!F87 -> 0 | D88: 1
A89: ='S1 Maquette'!B88 -> Au choix parmi UE 4 du portail LLAC | B89: ='S1 Maquette'!C88 -> UE | C89: ='S1 Maquette'!F88 -> 0 | D89: 1 | E89: OUI | F89: OUI | G89: OUI | H89: OUI | I89: OUI
A90: ='S1 Maquette'!B89 -> 0 | B90: ='S1 Maquette'!C89 -> 0 | C90: ='S1 Maquette'!F89 -> 0
A91: ='S1 Maquette'!B90 -> 0 | B91: ='S1 Maquette'!C90 -> 0 | C91: ='S1 Maquette'!F90 -> 0
A92: ='S1 Maquette'!B91 -> 0 | B92: ='S1 Maquette'!C91 -> 0 | C92: ='S1 Maquette'!F91 -> 0
A93: ='S1 Maquette'!B92 -> 0 | B93: ='S1 Maquette'!C92 -> 0 | C93: ='S1 Maquette'!F92 -> 0
A94: ='S1 Maquette'!B93 -> 0 | B94: ='S1 Maquette'!C93 -> 0 | C94: ='S1 Maquette'!F93 -> 0
A95: ='S1 Maquette'!B94 -> 0 | B95: ='S1 Maquette'!C94 -> 0 | C95: ='S1 Maquette'!F94 -> 0
A96: ='S1 Maquette'!B95 -> 0 | B96: ='S1 Maquette'!C95 -> 0 | C96: ='S1 Maquette'!F95 -> 0
A97: ='S1 Maquette'!B96 -> 0 | B97: ='S1 Maquette'!C96 -> 0 | C97: ='S1 Maquette'!F96 -> 0
A98: ='S1 Maquette'!B97 -> 0 | B98: ='S1 Maquette'!C97 -> 0 | C98: ='S1 Maquette'!F97 -> 0
A99: ='S1 Maquette'!B98 -> 0 | B99: ='S1 Maquette'!C98 -> 0 | C99: ='S1 Maquette'!F98 -> 0
A100: ='S1 Maquette'!B99 -> 0 | B100: ='S1 Maquette'!C99 -> 0 | C100: ='S1 Maquette'!F99 -> 0
A101: ='S1 Maquette'!B100 -> 0 | B101: ='S1 Maquette'!C100 -> 0 | C101: ='S1 Maquette'!F100 -> 0
... A300: ='S1 Maquette'!B299 -> 0 | B300: ='S1 Maquette'!C299 -> 0 | C300: ='S1 Maquette'!F299 -> 0

Sheet S1 MCC NA
A7: Composante | B7: ='[1]Fiche Générale'!B3 -> Portail_LLAC | C7: Diplôme | E7: ='[1]Fiche Générale'!B4 -> Langues Etrangères Appliquées | G7: Code diplôme | H7: ='[1]Fiche Générale'!B5 -> 0
C10: Parcours type | E10: ='[1]Fiche Générale'!B9 -> LEA Anglais - Allemand
M12: 1ère session | P12: Seconde Chance
A13: Année | B13: ='[1]S1 Maquette'!B13 -> 1ère année de Portail | D13: Code Année | E13: ='[1]S1 Maquette'!E13 -> 0
M14: Non assidus | N14: Contrôle Terminal
A15: Semestre | B15: ='[1]S1 Maquette'!B15 -> Semestre 1 | D15: Code Semestre | E15: ='[1]S1 Maquette'!E15:F16 -> 0
A18: Libellé | B18: Nature | C18: Statut | D18: Coefficient | E18: Notes attendues | F18: Résultat attendu: (ACQ/AJ) | G18: Conservation note | H18: Capitalisable | I18: Compensable | J18: Seuil de compensation /20 | K18: Type de contrôle | L18: Si CC&CT coef du CT | M18: Nbre d'évalution minimum | N18: Nature | O18: Durée | P18: Format d'évaluation | Q18: Nature | R18: Durée | S18: Modalités de mise en œuvre | T18: Commentaires
A19: ='[1]S1 Maquette'!B19 -> Compétences transversales S1 | B19: ='[1]S1 Maquette'!C19 -> UE | C19: ='[1]S1 Maquette'!F19 -> 0
A20: ='[1]S1 Maquette'!B20 -> Compétences écrites 1 | B20: ='[1]S1 Maquette'!C20 -> ECUE | C20: ='[1]S1 Maquette'!F20 -> 0
A21: ='[1]S1 Maquette'!B21 -> Compétences informationnelles | B21: ='[1]S1 Maquette'!C21 -> ECUE | C21: ='[1]S1 Maquette'!F21 -> 0
A22: ='[1]S1 Maquette'!B22 -> Langue Vivante-1 | B22: ='[1]S1 Maquette'!C22 -> ECUE | C22: ='[1]S1 Maquette'!F22 -> 0
A23: ='[1]S1 Maquette'!B23 -> Min 1 Max 1 | B23: ='[1]S1 Maquette'!C23 -> OPTION | C23: ='[1]S1 Maquette'!F23 -> 0
A24: ='[1]S1 Maquette'!B24 -> Anglais 1 | B24: ='[1]S1 Maquette'!C24 -> ECUE | C24: ='[1]S1 Maquette'!F24 -> 0
A25: ='[1]S1 Maquette'!B25 -> Espagnol | B25: ='[1]S1 Maquette'!C25 -> ECUE
A26: ='[1]S1 Maquette'!B26 -> Italien | B26: ='[1]S1 Maquette'!C26 -> ECUE | C26: ='[1]S1 Maquette'!F26 -> 0
A27: ='[1]S1 Maquette'!B27 -> Langue A : Anglais Non Débutant 1 | B27: ='[1]S1 Maquette'!C27 -> UE | C27: ='[1]S1 Maquette'!F27 -> 0 | D27: 1 | E27: OUI | F27: OUI | G27: OUI | H27: OUI | I27: OUI
A28: ='[1]S1 Maquette'!B28 -> Culture 1 ANGLAIS | B28: ='[1]S1 Maquette'!C28 -> ECUE | C28: ='[1]S1 Maquette'!F28 -> 0 | D28: 1 | E28: OUI | F28: OUI | G28: OUI | H28: OUI | I28: OUI | K28: CCI (CC Intégral) | M28: 2 | P28: Autres | S28: Seconde chance : la moyenne de l’ECUE sera calculée en doublant la meilleure note et en plafonnant le résultat à 10/20
A29: ='[1]S1 Maquette'!B29 -> Grammaire et traduction 1 ANGLAIS | B29: ='[1]S1 Maquette'!C29 -> ECUE | C29: ='[1]S1 Maquette'!F29 -> 0 | D29: 1 | E29: OUI | F29: OUI | G29: OUI | H29: OUI | I29: OUI | K29: CCI (CC Intégral) | M29: 2 | P29: Autres | S29: Seconde chance : la moyenne de l’ECUE sera calculée en doublant la meilleure note et en plafonnant le résultat à 10/20
A30: ='[1]S1 Maquette'!B30 -> Expression écrite et orale 1 ANGLAIS | B30: ='[1]S1 Maquette'!C30 -> ECUE | C30: ='[1]S1 Maquette'!F30 -> 0 | D30: 1 | E30: OUI | F30: OUI | G30: OUI | H30: OUI | I30: OUI | K30: CCI (CC Intégral) | M30: 2 | P30: Autres | S30: Seconde chance : la moyenne de l’ECUE sera calculée en doublant la meilleure note et en plafonnant le résultat à 10/20
A31: ='[1]S1 Maquette'!B31 -> Langue B : Allemand Non Débutant 1 | B31: ='[1]S1 Maquette'!C31 -> UE | C31: ='[1]S1 Maquette'!F31 -> 0 | D31: 1 | E31: OUI | F31: OUI | G31: OUI | H31: OUI | I31: OUI
A32: ='[1]S1 Maquette'!B32 -> Culture 1 ALLEMAND | B32: ='[1]S1 Maquette'!C32 -> ECUE | C32: ='[1]S1 Maquette'!F32 -> 0 | D32: 1 | E32: OUI | F32: OUI | G32: OUI | H32: OUI | I32: OUI | K32: CCI (CC Intégral) | M32: 2 | P32: Autres | S32: Seconde chance : la moyenne de l’ECUE sera calculée en doublant la meilleure note et en plafonnant le résultat à 10/20
A33: ='[1]S1 Maquette'!B33 -> Grammaire et traduction 1 ALLEMAND | B33: ='[1]S1 Maquette'!C33 -> ECUE | C33: ='[1]S1 Maquette'!F33 -> 0 | D33: 1 | E33: OUI | F33: OUI | G33: OUI | H33: OUI | I33: OUI | K33: CCI (CC Intégral) | M33: 2 | P33: Autres | S33: Seconde chance : la moyenne de l’ECUE sera calculée en doublant la meilleure note et en plafonnant le résultat à 10/20
A34: ='[1]S1 Maquette'!B34 -> Expression écrite et orale 1 ALLEMAND | B34: ='[1]S1 Maquette'!C34 -> ECUE | C34: ='[1]S1 Maquette'!F34 -> 0 | D34: 1 | E34: OUI | F34: OUI | G34: OUI | H34: OUI | I34: OUI | K34: CCI (CC Intégral) | M34: 2 | P34: Autres | S34: Seconde chance : la moyenne de l’ECUE sera calculée en doublant la meilleure note et en plafonnant le résultat à 10/20
A35: ='[1]S1 Maquette'!B35 -> Matières d'application 1 | B35: ='[1]S1 Maquette'!C35 -> UE | C35: ='[1]S1 Maquette'!F35 -> 0 | D35: 1 | E35: OUI | F35: OUI | G35: OUI | H35: OUI | I35: OUI
A36: ='[1]S1 Maquette'!B36 -> Introduction à l’analyse économique & histoire de la pensée économique/Introduction to economic analysis and history of economic thought 1 | B36: ='[1]S1 Maquette'!C36 -> ECUE | C36: ='[1]S1 Maquette'!F36 -> 0 | D36: 1 | E36: OUI | F36: OUI | G36: OUI | H36: OUI | I36: OUI | K36: CCI (CC Intégral) | M36: 2 | P36: Autres | S36: Seconde chance : la moyenne de l’ECUE sera calculée en doublant la meilleure note et en plafonnant le résultat à 10/20
A37: ='[1]S1 Maquette'!B37 -> Introduction à l'économie du tourisme 1 | B37: ='[1]S1 Maquette'!C37 -> ECUE | C37: ='[1]S1 Maquette'!F37 -> 0 | D37: 1 | E37: OUI | F37: OUI | G37: OUI | H37: OUI | I37: OUI | K37: CCI (CC Intégral) | M37: 2 | P37: Autres | S37: Seconde chance : la moyenne de l’ECUE sera calculée en doublant la meilleure note et en plafonnant le résultat à 10/20
A38: ='[1]S1 Maquette'!B38 -> Communication professionnelle 1 | B38: ='[1]S1 Maquette'!C38 -> ECUE | C38: ='[1]S1 Maquette'!F38 -> 0 | D38: 1 | E38: OUI | F38: OUI | G38: OUI | H38: OUI | I38: OUI | K38: CCI (CC Intégral) | M38: 2 | P38: Autres | S38: Seconde chance : la moyenne de l’ECUE sera calculée en doublant la meilleure note et en plafonnant le résultat à 10/20
A39: ='[1]S1 Maquette'!B39 -> Découverte ou langue C | B39: ='[1]S1 Maquette'!C39 -> UE | C39: ='[1]S1 Maquette'!F39 -> 0 | D39: 1 | E39: OUI | F39: OUI | G39: OUI | H39: OUI | I39: OUI
A40: ='[1]S1 Maquette'!B40 -> 1 UE au choix | B40: ='[1]S1 Maquette'!C40 -> OPTION | C40: ='[1]S1 Maquette'!F40 -> 0 | D40: 1
A41: ='[1]S1 Maquette'!B41 -> Découverte Allemand Non débutant 1 | B41: ='[1]S1 Maquette'!C41 -> UE | C41: ='[1]S1 Maquette'!F41 -> 0 | D41: 1 | E41: Les MCC pour les éléments d'OUVERTURE sont reportées dans la maquette/MCC du portail LEA Anglais-Arabe
A42: ='[1]S1 Maquette'!B42 -> Travail autour d'une série 1 ALLEMAND | B42: ='[1]S1 Maquette'!C42 -> ECUE | C42: ='[1]S1 Maquette'!F42 -> 0 | D42: 1
A43: ='[1]S1 Maquette'!B43 -> Découverte Arabe Débutant 1 | B43: ='[1]S1 Maquette'!C43 -> UE | C43: ='[1]S1 Maquette'!F43 -> 0 | D43: 1
A44: ='[1]S1 Maquette'!B44 -> Culture 1 ARABE | B44: ='[1]S1 Maquette'!C44 -> ECUE | C44: ='[1]S1 Maquette'!F44 -> 0 | D44: 1
A45: ='[1]S1 Maquette'!B45 -> Langue 1 ARABE | B45: ='[1]S1 Maquette'!C45 -> ECUE | C45: ='[1]S1 Maquette'!F45 -> 0 | D45: 1
A46: ='[1]S1 Maquette'!B46 -> Découverte Chinois Débutant 1 | B46: ='[1]S1 Maquette'!C46 -> UE | C46: ='[1]S1 Maquette'!F46 -> 0 | D46: 1
A47: ='[1]S1 Maquette'!B47 -> Culture 1 CHINOIS | B47: ='[1]S1 Maquette'!C47 -> ECUE | C47: ='[1]S1 Maquette'!F47 -> 0 | D47: 1
A48: ='[1]S1 Maquette'!B48 -> Langue 1 CHINOIS | B48: ='[1]S1 Maquette'!C48 -> ECUE | C48: ='[1]S1 Maquette'!F48 -> 0 | D48: 1
A49: ='[1]S1 Maquette'!B49 -> Découverte Espagnol Non débutant 1 | B49: ='[1]S1 Maquette'!C49 -> UE | C49: ='[1]S1 Maquette'!F49 -> 0 | D49: 1
A50: ='[1]S1 Maquette'!B50 -> Grammaire et traduction 1 ESPAGNOL | B50: ='[1]S1 Maquette'!C50 -> ECUE | C50: ='[1]S1 Maquette'!F50 -> 0 | D50: 1
A51: ='[1]S1 Maquette'!B51 -> Expression écrite et orale 1 ESPAGNOL | B51: ='[1]S1 Maquette'!C51 -> ECUE | C51: ='[1]S1 Maquette'!F51 -> 0 | D51: 1
A52: ='[1]S1 Maquette'!B52 -> Découverte Italien Non débutant 1 | B52: ='[1]S1 Maquette'!C52 -> UE | C52: ='[1]S1 Maquette'!F52 -> 0 | D52: 1
A53: ='[1]S1 Maquette'!B53 -> Culture et expression 1 ITALIEN | B53: ='[1]S1 Maquette'!C53 -> ECUE | C53: ='[1]S1 Maquette'!F53 -> 0 | D53: 1
... A61: ='[1]S1 Maquette'!B61 -> Introduction au droit et organisation juridictionnelle/Introduction to law and the judiciary system 1 | B61: ='[1]S1 Maquette'!C61 -> ECUE | C61: ='[1]S1 Maquette'!F61 -> 0 | D61: 1
A62: ='[1]S1 Maquette'!B62 -> 0 | B62: ='[1]S1 Maquette'!C62 -> 0 | C62: ='[1]S1 Maquette'!F62 -> 0
A63: ='[1]S1 Maquette'!B63 -> Langue B : Allemand Non Débutant 1 | B63: ='[1]S1 Maquette'!C63 -> UE | C63: ='[1]S1 Maquette'!F63 -> 0 | D63: 1
A64: ='[1]S1 Maquette'!B64 -> Culture 1 ALLEMAND | B64: ='[1]S1 Maquette'!C64 -> ECUE | C64: ='[1]S1 Maquette'!F64 -> 0 | D64: 1
A65: ='[1]S1 Maquette'!B65 -> Grammaire et traduction 1 ALLEMAND | B65: ='[1]S1 Maquette'!C65 -> ECUE | C65: ='[1]S1 Maquette'!F65 -> 0 | D65: 1
A66: ='[1]S1 Maquette'!B66 -> Expression écrite et orale 1 ALLEMAND | B66: ='[1]S1 Maquette'!C66 -> ECUE | C66: ='[1]S1 Maquette'!F66 -> 0 | D66: 1
A67: ='[1]S1 Maquette'!B67 -> Langue B : Arabe Débutant 1 | B67: ='[1]S1 Maquette'!C67 -> UE | C67: ='[1]S1 Maquette'!F67 -> 0 | D67: 1
A68: ='[1]S1 Maquette'!B68 -> Grammaire 1 ARABE | B68: ='[1]S1 Maquette'!C68 -> ECUE | C68: ='[1]S1 Maquette'!F68 -> 0 | D68: 1
A69: ='[1]S1 Maquette'!B69 -> Langue et culture de spécialité 1 ARABE | B69: ='[1]S1 Maquette'!C69 -> ECUE | C69: ='[1]S1 Maquette'!F69 -> 0 | D69: 1
A70: ='[1]S1 Maquette'!B70 -> Système graphique et expression orale 1 ARABE | B70: ='[1]S1 Maquette'!C70 -> ECUE | C70: ='[1]S1 Maquette'!F70 -> 0 | D70: 1
A71: ='[1]S1 Maquette'!B71 -> Langue B: Chinois Débutant 1 | B71: ='[1]S1 Maquette'!C71 -> UE | C71: ='[1]S1 Maquette'!F71 -> 0 | D71: 1
A72: ='[1]S1 Maquette'!B72 -> Grammaire 1 CHINOIS | B72: ='[1]S1 Maquette'!C72 -> ECUE | C72: ='[1]S1 Maquette'!F72 -> 0 | D72: 1
A73: ='[1]S1 Maquette'!B73 -> Langue et culture de spécialité 1 CHINOIS | B73: ='[1]S1 Maquette'!C73 -> ECUE | C73: ='[1]S1 Maquette'!F73 -> 0 | D73: 1
A74: ='[1]S1 Maquette'!B74 -> Système graphique et expression orale 1 CHINOIS | B74: ='[1]S1 Maquette'!C74 -> ECUE | C74: ='[1]S1 Maquette'!F74 -> 0 | D74: 1
... A88: ='[1]S1 Maquette'!B88 -> Découverte de la langue et de l'histoire niçoises | B88: ='[1]S1 Maquette'!C88 -> ECUE | C88: ='[1]S1 Maquette'!F88 -> 0 | D88: 1
A89: ='[1]S1 Maquette'!B89 -> Au choix parmi UE 4 du portail LLAC | B89: ='[1]S1 Maquette'!C89 -> UE | C89: ='[1]S1 Maquette'!F89 -> 0 | D89: 1 | E89: OUI | F89: OUI | G89: OUI | H89: OUI | I89: OUI
A90: ='[1]S1 Maquette'!B90 -> 0 | B90: ='[1]S1 Maquette'!C90 -> 0 | C90: ='[1]S1 Maquette'!F90 -> 0
A91: ='[1]S1 Maquette'!B91 -> 0 | B91: ='[1]S1 Maquette'!C91 -> 0 | C91: ='[1]S1 Maquette'!F91 -> 0
A92: ='[1]S1 Maquette'!B92 -> 0 | B92: ='[1]S1 Maquette'!C92 -> 0 | C92: ='[1]S1 Maquette'!F92 -> 0
A93: ='[1]S1 Maquette'!B93 -> 0 | B93: ='[1]S1 Maquette'!C93 -> 0 | C93: ='[1]S1 Maquette'!F93 -> 0
A94: ='[1]S1 Maquette'!B94 -> 0 | B94: ='[1]S1 Maquette'!C94 -> 0 | C94: ='[1]S1 Maquette'!F94 -> 0
A95: ='[1]S1 Maquette'!B95 -> 0 | B95: ='[1]S1 Maquette'!C95 -> 0 | C95: ='[1]S1 Maquette'!F95 -> 0
A96: ='[1]S1 Maquette'!B96 -> 0 | B96: ='[1]S1 Maquette'!C96 -> 0 | C96: ='[1]S1 Maquette'!F96 -> 0
A97: ='[1]S1 Maquette'!B97 -> 0 | B97: ='[1]S1 Maquette'!C97 -> 0 | C97: ='[1]S1 Maquette'!F97 -> 0
A98: ='[1]S1 Maquette'!B98 -> 0 | B98: ='[1]S1 Maquette'!C98 -> 0 | C98: ='[1]S1 Maquette'!F98 -> 0
A99: ='[1]S1 Maquette'!B99 -> 0 | B99: ='[1]S1 Maquette'!C99 -> 0 | C99: ='[1]S1 Maquette'!F99 -> 0
A100: ='[1]S1 Maquette'!B100 -> 0 | B100: ='[1]S1 Maquette'!C100 -> 0 | C100: ='[1]S1 Maquette'!F100 -> 0
A101: ='[1]S1 Maquette'!B101 -> 0 | B101: ='[1]S1 Maquette'!C101 -> 0 | C101: ='[1]S1 Maquette'!F101 -> 0
... A300: ='[1]S1 Maquette'!B300 -> 0 | B300: ='[1]S1 Maquette'!C300 -> 0 | C300: ='[1]S1 Maquette'!F300 -> 0

Sheet S2 Maquette
A7: Composante | B7: ='Fiche Générale'!B3 -> Portail_LLAC | C7: Diplôme | E7: ='Fiche Générale'!B4 -> Langues Etrangères Appliquées | G7: Code diplôme | H7: ='Fiche Générale'!B5 -> 0
C10: Parcours type | E10: ='Fiche Générale'!B9 -> LEA Anglais - Allemand
A13: Année | B13: ='S1 Maquette'!B13 -> 1ère année de Portail | C13: Code année | E13: ='S1 Maquette'!E13 -> 0 | G13: Heures Maquettes | H13: =Calcul!D7 -> #REF!
A15: Semestre | B15: Semestre 2 | C15: Code semestre | G15: Heures Valorisées | H15: =Calcul!D20 -> #REF!
A18: Niveau | B18: Libellé ELP | C18: Nature ELP | D18: ECTS | E18: Type | F18: Statut | G18: Code Apogée | H18: CNU | I18: Heure CM | J18: Heure TD | K18: Heure TP | L18: Langues | M18: Mutualisation | N18: Formation Porteuse | O18: Observations / Remarques ex: Intervention à titre gracieux / Capacité d'accueil max
A19: 0 | B19: Compétences transversales S2 | C19: UE | D19: 6
A20: 0.1 | B20: Compétences numériques 1 | C20: ECUE
A21: 0.2 | B21: Compétences pré-professionnalisation 1 | C21: ECUE
A22: 0.3 | B22: Langue Vivante-2 | C22: ECUE | O22: Neutralisation de l'ECUE transversale Langue vivante étrangère pour les étudiants de LEA
B23: Min 1 Max 1 | C23: OPTION | O23: Neutralisation de l'ECUE transversale Langue vivante étrangère pour les étudiants de LEA
A24: 0.3.1 | B24: Anglais 2 | C24: ECUE | O24: Neutralisation de l'ECUE transversale Langue vivante étrangère pour les étudiants de LEA
A25: 0.3.2 | B25: Espagnol | C25: ECUE | O25: Neutralisation de l'ECUE transversale Langue vivante étrangère pour les étudiants de LEA
A26: 0.3.3 | B26: Italien | C26: ECUE | O26: Neutralisation de l'ECUE transversale Langue vivante étrangère pour les étudiants de LEA
A27: 1 | B27: Langue A : Anglais Non Débutant 2 | C27: UE | D27: 6
B28: Culture 2 ANGLAIS | C28: ECUE | I28: 12 | M28: Porteuse
B29: Grammaire et traduction 2 ANGLAIS | C29: ECUE | J29: 12 | M29: Porteuse
B30: Expression écrite et orale 2 ANGLAIS | C30: ECUE | J30: 12 | K30: 24 | M30: Porteuse
A31: 2 | B31: Langue B : Allemand Non Débutant 2 | C31: UE | D31: 6 | O31: UE disciplinaire offerte également en découverte
B32: Culture 2 ALLEMAND | C32: ECUE | I32: 12 | M32: Porteuse | O32: UE disciplinaire offerte également en découverte
B33: Grammaire et traduction 2 ALLEMAND | C33: ECUE | J33: 36 | M33: Porteuse | O33: UE disciplinaire offerte également en découverte
B34: Expression écrite et orale 2 ALLEMAND | C34: ECUE | J34: 36 | M34: Porteuse | O34: UE disciplinaire offerte également en découverte
A35: 3 | B35: Matières d'application 2 | C35: UE | D35: 6
B36: Arts, patrimoine et culture en Méditerranée/Arts, culture and cultural heritage in the Mediterranean 2 | C36: ECUE | I36: 12 | M36: Porteuse
B37: Introduction à la gestion/Introduction to management 2 | C37: ECUE | I37: 12 | M37: Porteuse
B38: Communication professionnelle 2 | C38: ECUE | J38: 12 | M38: Porteuse
A39: 4 | B39: Découverte ou langue C | C39: UE
B40: 1 UE au choix | C40: OPTION
A41: 4.1 | B41: Découverte Allemand Non débutant 2 | C41: UE | D41: 6
B42: Travail autour d'une série 2 ALLEMAND | C42: ECUE | J42: 48 | M42: Porteuse
A43: 4.2 | B43: Découverte Arabe Niveau 2 | C43: UE | D43: 6 | M43: Portée
B44: Culture 2 ARABE | C44: ECUE | I44: 12 | M44: Portée
B45: Langue 2 ARABE | C45: ECUE | J45: 24 | M45: Portée
A46: 4.3 | B46: Découverte Chinois Niveau 2 | C46: UE | D46: 6 | M46: Portée
B47: Culture 2 CHINOIS | C47: ECUE | I47: 12 | M47: Portée
B48: Langue 2 CHINOIS | C48: ECUE | J48: 24 | M48: Portée
A49: 4.4 | B49: Découverte Espagnol Non débutant 2 | C49: UE | D49: 6 | M49: Portée
B50: Langue 2 ESPAGNOL | C50: ECUE | J50: 24 | M50: Portée | N50: LEA disciplinaire Langue B: Grammaire et traduction 2 ESPAGNOL
B51: Communication écrite et orale 2 ESPAGNOL | C51: ECUE | J51: 12 | K51: 12 | M51: Portée | N51: LEA disciplinaire Langue B: Expression écrite et orale 2 ESPAGNOL
A52: 4.5 | B52: Découverte Italien Non débutant 2 | C52: UE | D52: 6 | M52: Portée
B53: Culture et expression 2 ITALIEN | C53: ECUE | I53: 12 | M53: Portée
B54: Langue 2 ITALIEN | C54: ECUE | J54: 24 | M54: Portée
A55: 4.6 | B55: Découverte Portugais niveau 2 | C55: UE | D55: 6 | M55: Portée
B56: Culture 2 PORTUGAIS | C56: ECUE | J56: 12 | M56: Portée
B57: Langue 2 PORTUGAIS | C57: ECUE | I57: 12 | J57: 12 | M57: Portée
A58: 4.7 | B58: Découverte Russe élémentaire 2 | C58: UE | D58: 6 | M58: Portée
B59: Langue et culture 2 RUSSE | C59: ECUE | I59: 12 | J59: 24 | M59: Portée
A60: 4.8 | B60: Découverte Matières d'application 2 | C60: UE | D60: 6 | M60: Portée
B61: Droit constitutionnel/Constitutional law 2 | C61: ECUE | I61: 12 | J61: 24 | M61: Portée
A62: 4.9 | B62: Langue B : Allemand Non Débutant 2 | C62: UE | D62: 6 | M62: Portée | N62: LEA disciplinaire langue B
B63: Culture 2 ALLEMAND | C63: ECUE | I63: 12 | M63: Portée | N63: LEA disciplinaire langue B
B64: Grammaire et traduction 2 ALLEMAND | C64: ECUE | J64: 36 | M64: Portée | N64: LEA disciplinaire langue B
B65: Expression écrite et orale 2 ALLEMAND | C65: ECUE | J65: 36 | M65: Portée | N65: LEA disciplinaire langue B
A66: 4.10 | B66: Langue B : Arabe Niveau 2 | C66: UE | D66: 6 | M66: Portée | N66: LEA disciplinaire langue B
B67: Grammaire 2 ARABE | C67: ECUE | J67: 24 | M67: Portée | N67: LEA disciplinaire langue B
B68: Langue et culture de spécialité 2 ARABE | C68: ECUE | I68: 12 | M68: Portée | N68: LEA disciplinaire langue B
B69: Système graphique et expression orale 2 ARABE | C69: ECUE | J69: 42 | M69: Portée | N69: LEA disciplinaire langue B
A70: 4.11 | B70: Langue B: Chinois Niveau 2 | C70: UE | D70: 6 | M70: Portée | N70: LEA disciplinaire langue B
B71: Grammaire 2 CHINOIS | C71: ECUE | I71: 12 | J71: 12 | M71: Portée | N71: LEA disciplinaire langue B
B72: Langue et culture de spécialité 2 CHINOIS | C72: ECUE | J72: 12 | M72: Portée | N72: LEA disciplinaire langue B
B73: Système graphique et expression orale 2 CHINOIS | C73: ECUE | J73: 42 | M73: Portée | N73: LEA disciplinaire langue B
A74: 4.12 | B74: Langue B : Portugais Débutant 2 | C74: UE | D74: 6 | M74: Portée | N74: LEA disciplinaire langue B
B75: Grammaire 2 PORTUGAIS | C75: ECUE | I75: 12 | J75: 12 | M75: Portée | N75: LEA disciplinaire langue B
B76: Langue et culture de spécialité 2 PORTUGAIS | C76: ECUE | J76: 12 | M76: Portée | N76: LEA disciplinaire langue B
B77: Expression écrite et orale 2 PORTUGAIS | C77: ECUE | J77: 42 | M77: Portée | N77: LEA disciplinaire langue B
A78: 4.13 | B78: Langue B : Russe avancé 2 | C78: UE | D78: 6 | M78: Portée | N78: LEA disciplinaire langue B
B79: Culture Russe avancé 2 | C79: ECUE | I79: 12 | M79: Portée | N79: LEA disciplinaire langue B
B80: Expression Russe avancé 2 | C80: ECUE | J80: 12 | M80: Portée | N80: LEA disciplinaire langue B
B81: Traduction Russe avancé 2 | C81: ECUE | J81: 12 | M81: Portée | N81: LEA disciplinaire langue B
A82: 4.14 | B82: Langue B : Russe élémentaire 2 | C82: UE | D82: 6 | M82: Portée | N82: LEA disciplinaire langue B
B83: Langue et grammaire Russe élémentaire 2 | C83: ECUE | I83: 12 | J83: 36 | M83: Portée | N83: LEA disciplinaire langue B
B84: Culture Russe élémentaire 2 | C84: ECUE | I84: 12 | M84: Portée | N84: LEA disciplinaire langue B
B85: Expression Russe élémentaire 2 | C85: ECUE | J85: 12 | M85: Portée | N85: LEA disciplinaire langue B
A86: 4.15 | B86: Grammaire historique du niçois | C86: UE | D86: 6 | M86: Portée | N86: Licence Sciences du langage et licence professionnelle patrimoine
B87: Grammaire historique du niçois | C87: ECUE | I87: 18 | J87: 18 | M87: Portée | N87: Licence Sciences du langage et licence professionnelle patrimoine
A88: 4.16 | B88: Au choix parmi UE 4 du portail LLAC | C88: UE | D88: 6

Sheet S2 MCC
A7: Composante | B7: ='Fiche Générale'!B3 -> Portail_LLAC | C7: Diplôme | E7: ='Fiche Générale'!B4 -> Langues Etrangères Appliquées | G7: Code diplôme | H7: ='Fiche Générale'!B5 -> 0
C10: Parcours type | E10: ='Fiche Générale'!B9 -> LEA Anglais - Allemand
M12: 1ère session | P12: Seconde Chance
A13: Année | B13: ='S2 Maquette'!B13 -> 1ère année de Portail | D13: Code Année | E13: ='S2 Maquette'!E13 -> 0
M14: Contrôle continu | N14: Contrôle Terminal
A15: Semestre | B15: ='S2 Maquette'!B15 -> Semestre 2 | D15: Code Semestre | E15: ='S2 Maquette'!E15:F16 -> 0
A18: Libellé | B18: Nature | C18: Statut | D18: Coefficient | E18: Notes attendues | F18: Résultat attendu: (ACQ/AJ) | G18: Conservation note | H18: Capitalisable | I18: Compensable | J18: Seuil de compensation /20 | K18: Type de contrôle | L18: Si CC&CT coef du CT | M18: Nbre d'évalution minimum | N18: Nature | O18: Durée | P18: Format d'évaluation | Q18: Nature | R18: Durée | S18: Modalités de mise en œuvre | T18: Commentaires
A19: ='S2 Maquette'!B19 -> Compétences transversales S2 | B19: ='S2 Maquette'!C19 -> UE | C19: ='S2 Maquette'!F19 -> 0
A20: ='S2 Maquette'!B20 -> Compétences numériques 1 | B20: ='S2 Maquette'!C20 -> ECUE | C20: ='S2 Maquette'!F20 -> 0
A21: ='S2 Maquette'!B21 -> Compétences pré-professionnalisation 1 | B21: ='S2 Maquette'!C21 -> ECUE | C21: ='S2 Maquette'!F21 -> 0
A22: ='S2 Maquette'!B22 -> Langue Vivante-2 | B22: ='S2 Maquette'!C22 -> ECUE | C22: ='S2 Maquette'!F22 -> 0
A23: ='S2 Maquette'!B23 -> Min 1 Max 1 | B23: ='S2 Maquette'!C23 -> OPTION | C23: ='S2 Maquette'!F23 -> 0
A24: ='S2 Maquette'!B24 -> Anglais 2 | B24: ='S2 Maquette'!C24 -> ECUE | C24: ='S2 Maquette'!F24 -> 0
A25: ='S2 Maquette'!B25 -> Espagnol | B25: ='S2 Maquette'!C25 -> ECUE | C25: ='S2 Maquette'!F25 -> 0
A26: ='S2 Maquette'!B26 -> Italien | B26: ='S2 Maquette'!C26 -> ECUE | C26: ='S2 Maquette'!F26 -> 0
A27: ='S2 Maquette'!B27 -> Langue A : Anglais Non Débutant 2 | B27: ='S2 Maquette'!C27 -> UE | C27: ='S2 Maquette'!F27 -> 0 | D27: 1 | E27: OUI | F27: OUI | G27: OUI | H27: OUI | I27: OUI
A28: ='S2 Maquette'!B28 -> Culture 2 ANGLAIS | B28: ='S2 Maquette'!C28 -> ECUE | C28: ='S2 Maquette'!F28 -> 0 | D28: 1 | E28: OUI | F28: OUI | G28: OUI | H28: OUI | I28: OUI | K28: CCI (CC Intégral) | M28: 2 | P28: Autres | S28: Seconde chance : la moyenne de l’ECUE sera calculée en doublant la meilleure note et en plafonnant le résultat à 10/20
A29: ='S2 Maquette'!B29 -> Grammaire et traduction 2 ANGLAIS | B29: ='S2 Maquette'!C29 -> ECUE | C29: ='S2 Maquette'!F29 -> 0 | D29: 1 | E29: OUI | F29: OUI | G29: OUI | H29: OUI | I29: OUI | K29: CCI (CC Intégral) | M29: 2 | P29: Autres | S29: Seconde chance : la moyenne de l’ECUE sera calculée en doublant la meilleure note et en plafonnant le résultat à 10/20
A30: ='S2 Maquette'!B30 -> Expression écrite et orale 2 ANGLAIS | B30: ='S2 Maquette'!C30 -> ECUE | C30: ='S2 Maquette'!F30 -> 0 | D30: 1 | E30: OUI | F30: OUI | G30: OUI | H30: OUI | I30: OUI | K30: CCI (CC Intégral) | M30: 2 | P30: Autres | S30: Seconde chance : la moyenne de l’ECUE sera calculée en doublant la meilleure note et en plafonnant le résultat à 10/20
A31: ='S2 Maquette'!B31 -> Langue B : Allemand Non Débutant 2 | B31: ='S2 Maquette'!C31 -> UE | C31: ='S2 Maquette'!F31 -> 0 | D31: 1 | E31: OUI | F31: OUI | G31: OUI | H31: OUI | I31: OUI
A32: ='S2 Maquette'!B32 -> Culture 2 ALLEMAND | B32: ='S2 Maquette'!C32 -> ECUE | C32: ='S2 Maquette'!F32 -> 0 | D32: 1 | E32: OUI | F32: OUI | G32: OUI | H32: OUI | I32: OUI | K32: CCI (CC Intégral) | M32: 2 | P32: Autres | S32: Seconde chance : la moyenne de l’ECUE sera calculée en doublant la meilleure note et en plafonnant le résultat à 10/20
A33: ='S2 Maquette'!B33 -> Grammaire et traduction 2 ALLEMAND | B33: ='S2 Maquette'!C33 -> ECUE | C33: ='S2 Maquette'!F33 -> 0 | D33: 1 | E33: OUI | F33: OUI | G33: OUI | H33: OUI | I33: OUI | K33: CCI (CC Intégral) | M33: 2 | P33: Autres | S33: Seconde chance : la moyenne de l’ECUE sera calculée en doublant la meilleure note et en plafonnant le résultat à 10/20
A34: ='S2 Maquette'!B34 -> Expression écrite et orale 2 ALLEMAND | B34: ='S2 Maquette'!C34 -> ECUE | C34: ='S2 Maquette'!F34 -> 0 | D34: 1 | E34: OUI | F34: OUI | G34: OUI | H34: OUI | I34: OUI | K34: CCI (CC Intégral) | M34: 2 | P34: Autres | S34: Seconde chance : la moyenne de l’ECUE sera calculée en doublant la meilleure note et en plafonnant le résultat à 10/20
A35: ='S2 Maquette'!B35 -> Matières d'application 2 | B35: ='S2 Maquette'!C35 -> UE | C35: ='S2 Maquette'!F35 -> 0 | D35: 1 | E35: OUI | F35: OUI | G35: OUI | H35: OUI | I35: OUI
A36: ='S2 Maquette'!B36 -> Arts, patrimoine et culture en Méditerranée/Arts, culture and cultural heritage in the Mediterranean 2 | B36: ='S2 Maquette'!C36 -> ECUE | C36: ='S2 Maquette'!F36 -> 0 | D36: 1 | E36: OUI | F36: OUI | G36: OUI | H36: OUI | I36: OUI | K36: CCI (CC Intégral) | M36: 2 | P36: Autres | S36: Seconde chance : la moyenne de l’ECUE sera calculée en doublant la meilleure note et en plafonnant le résultat à 10/20
A37: ='S2 Maquette'!B37 -> Introduction à la gestion/Introduction to management 2 | B37: ='S2 Maquette'!C37 -> ECUE | C37: ='S2 Maquette'!F37 -> 0 | D37: 1 | E37: OUI | F37: OUI | G37: OUI | H37: OUI | I37: OUI | K37: CCI (CC Intégral) | M37: 2 | P37: Autres | S37: Seconde chance : la moyenne de l’ECUE sera calculée en doublant la meilleure note et en plafonnant le résultat à 10/20
A38: ='S2 Maquette'!B38 -> Communication professionnelle 2 | B38: ='S2 Maquette'!C38 -> ECUE | C38: ='S2 Maquette'!F38 -> 0 | D38: 1 | E38: OUI | F38: OUI | G38: OUI | H38: OUI | I38: OUI | K38: CCI (CC Intégral) | M38: 2 | P38: Autres | S38: Seconde chance : la moyenne de l’ECUE sera calculée en doublant la meilleure note et en plafonnant le résultat à 10/20
A39: ='S2 Maquette'!B39 -> Découverte ou langue C | B39: ='S2 Maquette'!C39 -> UE | C39: ='S2 Maquette'!F39 -> 0 | D39: 1 | E39: OUI | F39: OUI | G39: OUI | H39: OUI | I39: OUI | K39: CCI (CC Intégral)
A40: ='S2 Maquette'!B40 -> 1 UE au choix | B40: ='S2 Maquette'!C40 -> OPTION | C40: ='S2 Maquette'!F40 -> 0
A41: ='S2 Maquette'!B41 -> Découverte Allemand Non débutant 2 | B41: ='S2 Maquette'!C41 -> UE | C41: ='S2 Maquette'!F41 -> 0 | D41: 1 | E41: Les MCC pour les éléments d'OUVERTURE sont reportées dans la maquette/MCC du portail LEA Anglais-Arabe
A42: ='S2 Maquette'!B42 -> Travail autour d'une série 2 ALLEMAND | B42: ='S2 Maquette'!C42 -> ECUE | C42: ='S2 Maquette'!F42 -> 0 | D42: 1
A43: ='S2 Maquette'!B43 -> Découverte Arabe Niveau 2 | B43: ='S2 Maquette'!C43 -> UE | C43: ='S2 Maquette'!F43 -> 0 | D43: 1
A44: ='S2 Maquette'!B44 -> Culture 2 ARABE | B44: ='S2 Maquette'!C44 -> ECUE | C44: ='S2 Maquette'!F44 -> 0 | D44: 1
A45: ='S2 Maquette'!B45 -> Langue 2 ARABE | B45: ='S2 Maquette'!C45 -> ECUE | C45: ='S2 Maquette'!F45 -> 0 | D45: 1
A46: ='S2 Maquette'!B46 -> Découverte Chinois Niveau 2 | B46: ='S2 Maquette'!C46 -> UE | C46: ='S2 Maquette'!F46 -> 0 | D46: 1
A47: ='S2 Maquette'!B47 -> Culture 2 CHINOIS | B47: ='S2 Maquette'!C47 -> ECUE | C47: ='S2 Maquette'!F47 -> 0 | D47: 1
A48: ='S2 Maquette'!B48 -> Langue 2 CHINOIS | B48: ='S2 Maquette'!C48 -> ECUE | C48: ='S2 Maquette'!F48 -> 0 | D48: 1
A49: ='S2 Maquette'!B49 -> Découverte Espagnol Non débutant 2 | B49: ='S2 Maquette'!C49 -> UE | C49: ='S2 Maquette'!F49 -> 0 | D49: 1
A50: ='S2 Maquette'!B50 -> Langue 2 ESPAGNOL | B50: ='S2 Maquette'!C50 -> ECUE | C50: ='S2 Maquette'!F50 -> 0 | D50: 1
A51: ='S2 Maquette'!B51 -> Communication écrite et orale 2 ESPAGNOL | B51: ='S2 Maquette'!C51 -> ECUE | C51: ='S2 Maquette'!F51 -> 0 | D51: 1
A52: ='S2 Maquette'!B52 -> Découverte Italien Non débutant 2 | B52: ='S2 Maquette'!C52 -> UE | C52: ='S2 Maquette'!F52 -> 0 | D52: 1
A53: ='S2 Maquette'!B53 -> Culture et expression 2 ITALIEN | B53: ='S2 Maquette'!C53 -> ECUE | C53: ='S2 Maquette'!F53 -> 0 | D53: 1
... A61: ='S2 Maquette'!B61 -> Droit constitutionnel/Constitutional law 2 | B61: ='S2 Maquette'!C61 -> ECUE | C61: ='S2 Maquette'!F61 -> 0 | D61: 1
A62: ='S2 Maquette'!#REF! -> #REF! | B62: ='S2 Maquette'!#REF! -> #REF! | C62: ='S2 Maquette'!#REF! -> #REF!
A63: ='S2 Maquette'!B62 -> Langue B : Allemand Non Débutant 2 | B63: ='S2 Maquette'!C62 -> UE | C63: ='S2 Maquette'!F62 -> 0 | D63: 1
A64: ='S2 Maquette'!B63 -> Culture 2 ALLEMAND | B64: ='S2 Maquette'!C63 -> ECUE | C64: ='S2 Maquette'!F63 -> 0 | D64: 1
A65: ='S2 Maquette'!B64 -> Grammaire et traduction 2 ALLEMAND | B65: ='S2 Maquette'!C64 -> ECUE | C65: ='S2 Maquette'!F64 -> 0 | D65: 1
A66: ='S2 Maquette'!B65 -> Expression écrite et orale 2 ALLEMAND | B66: ='S2 Maquette'!C65 -> ECUE | C66: ='S2 Maquette'!F65 -> 0 | D66: 1
A67: ='S2 Maquette'!B66 -> Langue B : Arabe Niveau 2 | B67: ='S2 Maquette'!C66 -> UE | C67: ='S2 Maquette'!F66 -> 0 | D67: 1
A68: ='S2 Maquette'!B67 -> Grammaire 2 ARABE | B68: ='S2 Maquette'!C67 -> ECUE | C68: ='S2 Maquette'!F67 -> 0 | D68: 1
A69: ='S2 Maquette'!B68 -> Langue et culture de spécialité 2 ARABE | B69: ='S2 Maquette'!C68 -> ECUE | C69: ='S2 Maquette'!F68 -> 0 | D69: 1
A70: ='S2 Maquette'!B69 -> Système graphique et expression orale 2 ARABE | B70: ='S2 Maquette'!C69 -> ECUE | C70: ='S2 Maquette'!F69 -> 0 | D70: 1
A71: ='S2 Maquette'!B70 -> Langue B: Chinois Niveau 2 | B71: ='S2 Maquette'!C70 -> UE | C71: ='S2 Maquette'!F70 -> 0 | D71: 1
A72: ='S2 Maquette'!B71 -> Grammaire 2 CHINOIS | B72: ='S2 Maquette'!C71 -> ECUE | C72: ='S2 Maquette'!F71 -> 0 | D72: 1
A73: ='S2 Maquette'!B72 -> Langue et culture de spécialité 2 CHINOIS | B73: ='S2 Maquette'!C72 -> ECUE | C73: ='S2 Maquette'!F72 -> 0 | D73: 1
A74: ='S2 Maquette'!B73 -> Système graphique et expression orale 2 CHINOIS | B74: ='S2 Maquette'!C73 -> ECUE | C74: ='S2 Maquette'!F73 -> 0 | D74: 1
... A88: ='S2 Maquette'!B87 -> Grammaire historique du niçois | B88: ='S2 Maquette'!C87 -> ECUE | C88: ='S2 Maquette'!F87 -> 0 | D88: 1
A89: ='S2 Maquette'!B88 -> Au choix parmi UE 4 du portail LLAC | B89: ='S2 Maquette'!C88 -> UE | C89: ='S2 Maquette'!F88 -> 0 | D89: 1 | E89: OUI | F89: OUI | G89: OUI | H89: OUI | I89: OUI
A90: ='S2 Maquette'!B89 -> 0 | B90: ='S2 Maquette'!C89 -> 0 | C90: ='S2 Maquette'!F89 -> 0
A91: ='S2 Maquette'!B90 -> 0 | B91: ='S2 Maquette'!C90 -> 0 | C91: ='S2 Maquette'!F90 -> 0
A92: ='S2 Maquette'!B91 -> 0 | B92: ='S2 Maquette'!C91 -> 0 | C92: ='S2 Maquette'!F91 -> 0
A93: ='S2 Maquette'!B92 -> 0 | B93: ='S2 Maquette'!C92 -> 0 | C93: ='S2 Maquette'!F92 -> 0
A94: ='S2 Maquette'!B93 -> 0 | B94: ='S2 Maquette'!C93 -> 0 | C94: ='S2 Maquette'!F93 -> 0
A95: ='S2 Maquette'!B94 -> 0 | B95: ='S2 Maquette'!C94 -> 0 | C95: ='S2 Maquette'!F94 -> 0
A96: ='S2 Maquette'!B95 -> 0 | B96: ='S2 Maquette'!C95 -> 0 | C96: ='S2 Maquette'!F95 -> 0
A97: ='S2 Maquette'!B96 -> 0 | B97: ='S2 Maquette'!C96 -> 0 | C97: ='S2 Maquette'!F96 -> 0
A98: ='S2 Maquette'!B97 -> 0 | B98: ='S2 Maquette'!C97 -> 0 | C98: ='S2 Maquette'!F97 -> 0
A99: ='S2 Maquette'!B98 -> 0 | B99: ='S2 Maquette'!C98 -> 0 | C99: ='S2 Maquette'!F98 -> 0
A100: ='S2 Maquette'!B99 -> 0 | B100: ='S2 Maquette'!C99 -> 0 | C100: ='S2 Maquette'!F99 -> 0
A101: ='S2 Maquette'!B100 -> 0 | B101: ='S2 Maquette'!C100 -> 0 | C101: ='S2 Maquette'!F100 -> 0
... A300: ='S2 Maquette'!B299 -> 0 | B300: ='S2 Maquette'!C299 -> 0 | C300: ='S2 Maquette'!F299 -> 0

Sheet S2 MCC NA
A7: Composante | B7: ='[1]Fiche Générale'!B3 -> Portail_LLAC | C7: Diplôme | E7: ='[1]Fiche Générale'!B4 -> Langues Etrangères Appliquées | G7: Code diplôme | H7: ='[1]Fiche Générale'!B5 -> 0
C10: Parcours type | E10: ='[1]Fiche Générale'!B9 -> LEA Anglais - Allemand
M12: 1ère session | P12: Seconde Chance
A13: Année | B13: ='[1]S2 Maquette'!B13 -> 1ère année de Portail | D13: Code Année | E13: ='[1]S2 Maquette'!E13 -> 0
M14: Non assidus | N14: Contrôle Terminal
A15: Semestre | B15: ='[1]S2 Maquette'!B15 -> Semestre 2 | D15: Code Semestre | E15: ='[1]S2 Maquette'!E15:F16 -> 0
A18: Libellé | B18: Nature | C18: Statut | D18: Coefficient | E18: Notes attendues | F18: Résultat attendu: (ACQ/AJ) | G18: Conservation note | H18: Capitalisable | I18: Compensable | J18: Seuil de compensation /20 | K18: Type de contrôle | L18: Si CC&CT coef du CT | M18: Nbre d'évalution minimum | N18: Nature | O18: Durée | P18: Format d'évaluation | Q18: Nature | R18: Durée | S18: Modalités de mise en œuvre | T18: Commentaires
A19: ='[1]S2 Maquette'!B19 -> Compétences transversales S2 | B19: ='[1]S2 Maquette'!C19 -> UE | C19: ='[1]S2 Maquette'!F19 -> 0
A20: ='[1]S2 Maquette'!B20 -> Compétences numériques 1 | B20: ='[1]S2 Maquette'!C20 -> ECUE | C20: ='[1]S2 Maquette'!F20 -> 0
A21: ='[1]S2 Maquette'!B21 -> Compétences pré-professionnalisation 1 | B21: ='[1]S2 Maquette'!C21 -> ECUE | C21: ='[1]S2 Maquette'!F21 -> 0
A22: ='[1]S2 Maquette'!B22 -> Langue Vivante-2 | B22: ='[1]S2 Maquette'!C22 -> ECUE | C22: ='[1]S2 Maquette'!F22 -> 0
A23: ='[1]S2 Maquette'!B23 -> Min 1 Max 1 | B23: ='[1]S2 Maquette'!C23 -> OPTION | C23: ='[1]S2 Maquette'!F23 -> 0
A24: ='[1]S2 Maquette'!B24 -> Anglais 2 | B24: ='[1]S2 Maquette'!C24 -> ECUE | C24: ='[1]S2 Maquette'!F24 -> 0
A25: ='[1]S2 Maquette'!B25 -> Espagnol | B25: ='[1]S2 Maquette'!C25 -> ECUE | C25: ='[1]S2 Maquette'!F25 -> 0
A26: ='[1]S2 Maquette'!B26 -> Italien | B26: ='[1]S2 Maquette'!C26 -> ECUE | C26: ='[1]S2 Maquette'!F26 -> 0
A27: ='[1]S2 Maquette'!B27 -> Langue A : Anglais Non Débutant 2 | B27: ='[1]S2 Maquette'!C27 -> UE | C27: ='[1]S2 Maquette'!F27 -> 0 | D27: 1 | E27: OUI | F27: OUI | G27: OUI | H27: OUI | I27: OUI
A28: ='[1]S2 Maquette'!B28 -> Culture 2 ANGLAIS | B28: ='[1]S2 Maquette'!C28 -> ECUE | C28: ='[1]S2 Maquette'!F28 -> 0 | D28: 1 | E28: OUI | F28: OUI | G28: OUI | H28: OUI | I28: OUI | K28: CCI (CC Intégral) | M28: 2 | P28: Autres | S28: Seconde chance : la moyenne de l’ECUE sera calculée en doublant la meilleure note et en plafonnant le résultat à 10/20
A29: ='[1]S2 Maquette'!B29 -> Grammaire et traduction 2 ANGLAIS | B29: ='[1]S2 Maquette'!C29 -> ECUE | C29: ='[1]S2 Maquette'!F29 -> 0 | D29: 1 | E29: OUI | F29: OUI | G29: OUI | H29: OUI | I29: OUI | K29: CCI (CC Intégral) | M29: 2 | P29: Autres | S29: Seconde chance : la moyenne de l’ECUE sera calculée en doublant la meilleure note et en plafonnant le résultat à 10/20
A30: ='[1]S2 Maquette'!B30 -> Expression écrite et orale 2 ANGLAIS | B30: ='[1]S2 Maquette'!C30 -> ECUE | C30: ='[1]S2 Maquette'!F30 -> 0 | D30: 1 | E30: OUI | F30: OUI | G30: OUI | H30: OUI | I30: OUI | K30: CCI (CC Intégral) | M30: 2 | P30: Autres | S30: Seconde chance : la moyenne de l’ECUE sera calculée en doublant la meilleure note et en plafonnant le résultat à 10/20
A31: ='[1]S2 Maquette'!B31 -> Langue B : Allemand Non Débutant 2 | B31: ='[1]S2 Maquette'!C31 -> UE | C31: ='[1]S2 Maquette'!F31 -> 0 | D31: 1 | E31: OUI | F31: OUI | G31: OUI | H31: OUI | I31: OUI
A32: ='[1]S2 Maquette'!B32 -> Culture 2 ALLEMAND | B32: ='[1]S2 Maquette'!C32 -> ECUE | C32: ='[1]S2 Maquette'!F32 -> 0 | D32: 1 | E32: OUI | F32: OUI | G32: OUI | H32: OUI | I32: OUI | K32: CCI (CC Intégral) | M32: 2 | P32: Autres | S32: Seconde chance : la moyenne de l’ECUE sera calculée en doublant la meilleure note et en plafonnant le résultat à 10/20
A33: ='[1]S2 Maquette'!B33 -> Grammaire et traduction 2 ALLEMAND | B33: ='[1]S2 Maquette'!C33 -> ECUE | C33: ='[1]S2 Maquette'!F33 -> 0 | D33: 1 | E33: OUI | F33: OUI | G33: OUI | H33: OUI | I33: OUI | K33: CCI (CC Intégral) | M33: 2 | P33: Autres | S33: Seconde chance : la moyenne de l’ECUE sera calculée en doublant la meilleure note et en plafonnant le résultat à 10/20
A34: ='[1]S2 Maquette'!B34 -> Expression écrite et orale 2 ALLEMAND | B34: ='[1]S2 Maquette'!C34 -> ECUE | C34: ='[1]S2 Maquette'!F34 -> 0 | D34: 1 | E34: OUI | F34: OUI | G34: OUI | H34: OUI | I34: OUI | K34: CCI (CC Intégral) | M34: 2 | P34: Autres | S34: Seconde chance : la moyenne de l’ECUE sera calculée en doublant la meilleure note et en plafonnant le résultat à 10/20
A35: ='[1]S2 Maquette'!B35 -> Matières d'application 2 | B35: ='[1]S2 Maquette'!C35 -> UE | C35: ='[1]S2 Maquette'!F35 -> 0 | D35: 1 | E35: OUI | F35: OUI | G35: OUI | H35: OUI | I35: OUI
A36: ='[1]S2 Maquette'!B36 -> Arts, patrimoine et culture en Méditerranée/Arts, culture and cultural heritage in the Mediterranean 2 | B36: ='[1]S2 Maquette'!C36 -> ECUE | C36: ='[1]S2 Maquette'!F36 -> 0 | D36: 1 | E36: OUI | F36: OUI | G36: OUI | H36: OUI | I36: OUI | K36: CCI (CC Intégral) | M36: 2 | P36: Autres | S36: Seconde chance : la moyenne de l’ECUE sera calculée en doublant la meilleure note et en plafonnant le résultat à 10/20
A37: ='[1]S2 Maquette'!B37 -> Introduction à la gestion/Introduction to management 2 | B37: ='[1]S2 Maquette'!C37 -> ECUE | C37: ='[1]S2 Maquette'!F37 -> 0 | D37: 1 | E37: OUI | F37: OUI | G37: OUI | H37: OUI | I37: OUI | K37: CCI (CC Intégral) | M37: 2 | P37: Autres | S37: Seconde chance : la moyenne de l’ECUE sera calculée en doublant la meilleure note et en plafonnant le résultat à 10/20
A38: ='[1]S2 Maquette'!B38 -> Communication professionnelle 2 | B38: ='[1]S2 Maquette'!C38 -> ECUE | C38: ='[1]S2 Maquette'!F38 -> 0 | D38: 1 | E38: OUI | F38: OUI | G38: OUI | H38: OUI | I38: OUI | K38: CCI (CC Intégral) | M38: 2 | P38: Autres | S38: Seconde chance : la moyenne de l’ECUE sera calculée en doublant la meilleure note et en plafonnant le résultat à 10/20
A39: ='[1]S2 Maquette'!B39 -> Découverte ou langue C | B39: ='[1]S2 Maquette'!C39 -> UE | C39: ='[1]S2 Maquette'!F39 -> 0 | D39: 1 | E39: OUI | F39: OUI | G39: OUI | H39: OUI | I39: OUI | K39: CCI (CC Intégral)
A40: ='[1]S2 Maquette'!B40 -> 1 UE au choix | B40: ='[1]S2 Maquette'!C40 -> OPTION | C40: ='[1]S2 Maquette'!F40 -> 0
A41: ='[1]S2 Maquette'!B41 -> Découverte Allemand Non débutant 2 | B41: ='[1]S2 Maquette'!C41 -> UE | C41: ='[1]S2 Maquette'!F41 -> 0 | D41: 1 | E41: Les MCC pour les éléments d'OUVERTURE sont reportées dans la maquette/MCC du portail LEA Anglais-Arabe
A42: ='[1]S2 Maquette'!B42 -> Travail autour d'une série 2 ALLEMAND | B42: ='[1]S2 Maquette'!C42 -> ECUE | C42: ='[1]S2 Maquette'!F42 -> 0 | D42: 1
A43: ='[1]S2 Maquette'!B43 -> Découverte Arabe Niveau 2 | B43: ='[1]S2 Maquette'!C43 -> UE | C43: ='[1]S2 Maquette'!F43 -> 0 | D43: 1
A44: ='[1]S2 Maquette'!B44 -> Culture 2 ARABE | B44: ='[1]S2 Maquette'!C44 -> ECUE | C44: ='[1]S2 Maquette'!F44 -> 0 | D44: 1
A45: ='[1]S2 Maquette'!B45 -> Langue 2 ARABE | B45: ='[1]S2 Maquette'!C45 -> ECUE | C45: ='[1]S2 Maquette'!F45 -> 0 | D45: 1
A46: ='[1]S2 Maquette'!B46 -> Découverte Chinois Niveau 2 | B46: ='[1]S2 Maquette'!C46 -> UE | C46: ='[1]S2 Maquette'!F46 -> 0 | D46: 1
A47: ='[1]S2 Maquette'!B47 -> Culture 2 CHINOIS | B47: ='[1]S2 Maquette'!C47 -> ECUE | C47: ='[1]S2 Maquette'!F47 -> 0 | D47: 1
A48: ='[1]S2 Maquette'!B48 -> Langue 2 CHINOIS | B48: ='[1]S2 Maquette'!C48 -> ECUE | C48: ='[1]S2 Maquette'!F48 -> 0 | D48: 1
A49: ='[1]S2 Maquette'!B49 -> Découverte Espagnol Non débutant 2 | B49: ='[1]S2 Maquette'!C49 -> UE | C49: ='[1]S2 Maquette'!F49 -> 0 | D49: 1
A50: ='[1]S2 Maquette'!B50 -> Grammaire et traduction 2 ESPAGNOL | B50: ='[1]S2 Maquette'!C50 -> ECUE | C50: ='[1]S2 Maquette'!F50 -> 0 | D50: 1
A51: ='[1]S2 Maquette'!B51 -> Expression écrite et orale 2 ESPAGNOL | B51: ='[1]S2 Maquette'!C51 -> ECUE | C51: ='[1]S2 Maquette'!F51 -> 0 | D51: 1
A52: ='[1]S2 Maquette'!B52 -> Découverte Italien Non débutant 2 | B52: ='[1]S2 Maquette'!C52 -> UE | C52: ='[1]S2 Maquette'!F52 -> 0 | D52: 1
A53: ='[1]S2 Maquette'!B53 -> Culture et expression 2 ITALIEN | B53: ='[1]S2 Maquette'!C53 -> ECUE | C53: ='[1]S2 Maquette'!F53 -> 0 | D53: 1
... A61: ='[1]S2 Maquette'!B61 -> Droit constitutionnel/Constitutional law 2 | B61: ='[1]S2 Maquette'!C61 -> ECUE | C61: ='[1]S2 Maquette'!F61 -> 0 | D61: 1
A62: ='[1]S2 Maquette'!B62 -> 0 | B62: ='[1]S2 Maquette'!C62 -> 0 | C62: ='[1]S2 Maquette'!F62 -> 0
A63: ='[1]S2 Maquette'!B63 -> Langue B : Allemand Non Débutant 2 | B63: ='[1]S2 Maquette'!C63 -> UE | C63: ='[1]S2 Maquette'!F63 -> 0 | D63: 1
A64: ='[1]S2 Maquette'!B64 -> Culture 2 ALLEMAND | B64: ='[1]S2 Maquette'!C64 -> ECUE | C64: ='[1]S2 Maquette'!F64 -> 0 | D64: 1
A65: ='[1]S2 Maquette'!B65 -> Grammaire et traduction 2 ALLEMAND | B65: ='[1]S2 Maquette'!C65 -> ECUE | C65: ='[1]S2 Maquette'!F65 -> 0 | D65: 1
A66: ='[1]S2 Maquette'!B66 -> Expression écrite et orale 2 ALLEMAND | B66: ='[1]S2 Maquette'!C66 -> ECUE | C66: ='[1]S2 Maquette'!F66 -> 0 | D66: 1
A67: ='[1]S2 Maquette'!B67 -> Langue B : Arabe Niveau 2 | B67: ='[1]S2 Maquette'!C67 -> UE | C67: ='[1]S2 Maquette'!F67 -> 0 | D67: 1
A68: ='[1]S2 Maquette'!B68 -> Grammaire 2 ARABE | B68: ='[1]S2 Maquette'!C68 -> ECUE | C68: ='[1]S2 Maquette'!F68 -> 0 | D68: 1
A69: ='[1]S2 Maquette'!B69 -> Langue et culture de spécialité 2 ARABE | B69: ='[1]S2 Maquette'!C69 -> ECUE | C69: ='[1]S2 Maquette'!F69 -> 0 | D69: 1
A70: ='[1]S2 Maquette'!B70 -> Système graphique et expression orale 2 ARABE | B70: ='[1]S2 Maquette'!C70 -> ECUE | C70: ='[1]S2 Maquette'!F70 -> 0 | D70: 1
A71: ='[1]S2 Maquette'!B71 -> Langue B: Chinois Niveau 2 | B71: ='[1]S2 Maquette'!C71 -> UE | C71: ='[1]S2 Maquette'!F71 -> 0 | D71: 1
A72: ='[1]S2 Maquette'!B72 -> Grammaire 2 CHINOIS | B72: ='[1]S2 Maquette'!C72 -> ECUE | C72: ='[1]S2 Maquette'!F72 -> 0 | D72: 1
A73: ='[1]S2 Maquette'!B73 -> Langue et culture de spécialité 2 CHINOIS | B73: ='[1]S2 Maquette'!C73 -> ECUE | C73: ='[1]S2 Maquette'!F73 -> 0 | D73: 1
A74: ='[1]S2 Maquette'!B74 -> Système graphique et expression orale 2 CHINOIS | B74: ='[1]S2 Maquette'!C74 -> ECUE | C74: ='[1]S2 Maquette'!F74 -> 0 | D74: 1
... A88: ='[1]S2 Maquette'!B88 -> Grammaire historique du niçois | B88: ='[1]S2 Maquette'!C88 -> ECUE | C88: ='[1]S2 Maquette'!F88 -> 0 | D88: 1
A89: ='[1]S2 Maquette'!B89 -> Au choix parmi UE 4 du portail LLAC | B89: ='[1]S2 Maquette'!C89 -> UE | C89: ='[1]S2 Maquette'!F89 -> 0 | D89: 1 | E89: OUI | F89: OUI | G89: OUI | H89: OUI | I89: OUI
A90: ='[1]S2 Maquette'!B90 -> 0 | B90: ='[1]S2 Maquette'!C90 -> 0 | C90: ='[1]S2 Maquette'!F90 -> 0
A91: ='[1]S2 Maquette'!B91 -> 0 | B91: ='[1]S2 Maquette'!C91 -> 0 | C91: ='[1]S2 Maquette'!F91 -> 0
A92: ='[1]S2 Maquette'!B92 -> 0 | B92: ='[1]S2 Maquette'!C92 -> 0 | C92: ='[1]S2 Maquette'!F92 -> 0
A93: ='[1]S2 Maquette'!B93 -> 0 | B93: ='[1]S2 Maquette'!C93 -> 0 | C93: ='[1]S2 Maquette'!F93 -> 0
A94: ='[1]S2 Maquette'!B94 -> 0 | B94: ='[1]S2 Maquette'!C94 -> 0 | C94: ='[1]S2 Maquette'!F94 -> 0
A95: ='[1]S2 Maquette'!B95 -> 0 | B95: ='[1]S2 Maquette'!C95 -> 0 | C95: ='[1]S2 Maquette'!F95 -> 0
A96: ='[1]S2 Maquette'!B96 -> 0 | B96: ='[1]S2 Maquette'!C96 -> 0 | C96: ='[1]S2 Maquette'!F96 -> 0
A97: ='[1]S2 Maquette'!B97 -> 0 | B97: ='[1]S2 Maquette'!C97 -> 0 | C97: ='[1]S2 Maquette'!F97 -> 0
A98: ='[1]S2 Maquette'!B98 -> 0 | B98: ='[1]S2 Maquette'!C98 -> 0 | C98: ='[1]S2 Maquette'!F98 -> 0
A99: ='[1]S2 Maquette'!B99 -> 0 | B99: ='[1]S2 Maquette'!C99 -> 0 | C99: ='[1]S2 Maquette'!F99 -> 0
A100: ='[1]S2 Maquette'!B100 -> 0 | B100: ='[1]S2 Maquette'!C100 -> 0 | C100: ='[1]S2 Maquette'!F100 -> 0
A101: ='[1]S2 Maquette'!B101 -> 0 | B101: ='[1]S2 Maquette'!C101 -> 0 | C101: ='[1]S2 Maquette'!F101 -> 0
... A300: ='[1]S2 Maquette'!B300 -> 0 | B300: ='[1]S2 Maquette'!C300 -> 0 | C300: ='[1]S2 Maquette'!F300 -> 0

Sheet S3 Maquette
A7: Composante | B7: ='Fiche Générale'!B3 -> Portail_LLAC | C7: Diplôme | E7: ='Fiche Générale'!B4 -> Langues Etrangères Appliquées | G7: Code diplôme | H7: ='Fiche Générale'!B5 -> 0
C10: Parcours type | E10: ='Fiche Générale'!B9 -> LEA Anglais - Allemand
A13: Année | B13: 2ème année de Portail | C13: Code année | G13: Heures Maquette | H13: =Calcul!G7 -> 2413
A15: Semestre | B15: Semestre 3 | C15: Code semestre | G15: Heures Valorisées | H15: =Calcul!G20 -> 270
A18: Niveau | B18: Libellé ELP | C18: Nature ELP | D18: ECTS | E18: Type | F18: Statut | G18: Code Apogée | H18: CNU | I18: Heure CM | J18: Heure TD | K18: Heure TP | L18: Langues | M18: Mutualisation | N18: Formation Porteuse | O18: Observations / Remarques ex: Intervention à titre gracieux / Capacité d'accueil max
A19: 0 | B19: Compétences transversales S3 | C19: UE | D19: 6
A20: 0.1 | B20: Compétences informationnelles 2 | C20: ECUE
A21: 0.2 | B21: Compétences pré-professionnalisation 2 | C21: ECUE
A22: 0.3 | B22: Langue Vivante-3 | C22: ECUE | O22: Neutralisation de l'ECUE transversale Langue vivante étrangère pour les étudiants de LEA
B23: Min 1 Max 1 | C23: OPTION | O23: Neutralisation de l'ECUE transversale Langue vivante étrangère pour les étudiants de LEA
A24: 0.3.1 | B24: Anglais 3 | C24: ECUE | O24: Neutralisation de l'ECUE transversale Langue vivante étrangère pour les étudiants de LEA
A25: 0.3.2 | B25: Espagnol | C25: ECUE | O25: Neutralisation de l'ECUE transversale Langue vivante étrangère pour les étudiants de LEA
A26: 0.3.3 | B26: Italien | C26: ECUE | O26: Neutralisation de l'ECUE transversale Langue vivante étrangère pour les étudiants de LEA
B27: Choix du parcours (général ou mobilité) : 1 parcours au choix | C27: OPTION
A28: 1 | B28: LEA général Anglais - Allemand | C28: Parcours Pédagogique
A29: 1.1 | B29: Langue A: Anglais Non débutant 3 | C29: UE | D29: 6
B30: Culture 3 ANGLAIS | C30: ECUE | I30: 12 | M30: Porteuse
B31: Langue et traduction 3 ANGLAIS | C31: ECUE | J31: 24 | M31: Porteuse
B32: Langue de spécialité et expression orale 3 ANGLAIS | C32: ECUE | J32: 12 | K32: 12 | M32: Porteuse
A33: 1.2 | B33: Langue B: Allemand Non débutant 3 | C33: UE | D33: 6 | M33: Porteuse | O33: UE disciplinaire offerte également en approfondissement
B34: Culture 3 ALLEMAND | C34: ECUE | I34: 12 | M34: Porteuse | O34: UE disciplinaire offerte également en approfondissement
B35: Traduction et analyse de documents 3 ALLEMAND | C35: ECUE | J35: 36 | M35: Porteuse | O35: UE disciplinaire offerte également en approfondissement
B36: Grammaire: théorie et pratique 3 ALLEMAND | C36: ECUE | J36: 36 | K36: 12 | M36: Porteuse | O36: UE disciplinaire offerte également en approfondissement
A37: 1.3 | B37: Matières d'application 3 | C37: UE | D37: 6
B38: Interculturalité, médiation culturelle et publics étrangers | C38: ECUE | I38: 12 | J38: 12 | M38: Porteuse
B39: Economie/Economics 3 | C39: ECUE | J39: 12 | M39: Porteuse
B40: Traduction-rédaction technique 3 | C40: ECUE | J40: 12 | M40: Porteuse
B41: Communication professionnelle 3 | C41: ECUE | J41: 12 | M41: Porteuse
A42: 1.4 | B42: Approfondissement ou langue C | C42: UE
B43: 1 UE au choix | C43: OPTION
A44: 1.4.1 | B44: Approfondissement Allemand Non débutant 3 | C44: UE | D44: 6 | J44: 36 | M44: Porteuse
A45: 1.4.2 | B45: Approfondissement Arabe Niveau 3 | C45: UE | D45: 6 | I45: 12 | J45: 12 | M45: Portée
A46: 1.4.3 | B46: Approfondissement Chinois NIveau 3 | C46: UE | D46: 6 | I46: 12 | J46: 12 | M46: Portée
A47: 1.4.4 | B47: Approfondissement Espagnol 3 | C47: UE | D47: 6 | M47: Portée
B48: Langue 3 ESPAGNOL | C48: ECUE | J48: 24 | M48: Portée | N48: LEA disciplinaire Langue B: Langue et traduction 3 ESPAGNOL
B49: Communication écrite et orale 3 ESPAGNOL | C49: ECUE | J49: 12 | K49: 12 | M49: Portée | N49: LEA disciplinaire Langue B: Langue de spécialité et expression orale 3 ESPAGNOL
A50: 1.4.5 | B50: Approfondissement Italien 3 | C50: UE | D50: 6 | M50: Portée
B51: Langue 3 ITALIEN | C51: ECUE | J51: 24 | M51: Portée
B52: Culture et expression 3 ITALIEN | C52: ECUE | I52: 12 | M52: Portée
A53: 1.4.6 | B53: Approfondissement Portugais Niveau 3 | C53: UE | D53: 6 | M53: Portée
B54: Langue 3 PORTUGAIS | C54: ECUE | J54: 24 | M54: Portée
B55: Culture 3 PORTUGAIS | C55: ECUE | J55: 12 | M55: Portée
A56: 1.4.7 | B56: Approfondissement Russe Pré-intermédiaire 3 | C56: UE | D56: 6 | M56: Portée | N56: LEA disciplinaire langue B Grammaire théorie et pratique Russe avancé 3
B57: Grammaire: théorie et pratique RUSSE Pré-intermédiaire 3 | C57: ECUE | I57: 12 | J57: 24 | M57: Portée | N57: LEA disciplinaire langue B Grammaire théorie et pratique Russe avancé 3
A58: 1.4.8 | B58: Approfondissement Matières d'application 3 | C58: UE | D58: 6 | M58: Portée
B59: Droit des obligations/Contract law and law of obligations 3 | C59: ECUE | I59: 12 | J59: 24 | M59: Portée
A60: 1.4.9 | B60: Langue B: Allemand Non débutant 3 | C60: UE | D60: 6 | M60: Portée | N60: LEA disciplinaire langue B
B61: Culture 3 ALLEMAND | C61: ECUE | I61: 12 | M61: Portée | N61: LEA disciplinaire langue B
B62: Traduction et analyse de documents 3 ALLEMAND | C62: ECUE | J62: 36 | M62: Portée | N62: LEA disciplinaire langue B
B63: Grammaire: théorie et pratique 3 ALLEMAND | C63: ECUE | J63: 36 | K63: 12 | M63: Portée | N63: LEA disciplinaire langue B
A64: 1.4.10 | B64: Langue B: Arabe Niveau 3 | C64: UE | D64: 6 | M64: Portée | N64: LEA disciplinaire langue B
B65: Culture 3 ARABE | C65: ECUE | I65: 12 | M65: Portée | N65: LEA disciplinaire langue B
B66: Langue, traduction, expression écrite et orale 3 ARABE | C66: ECUE | J66: 24 | K66: 12 | M66: Portée | N66: LEA disciplinaire langue B
B67: Langue de spécialité 3 ARABE | C67: ECUE | J67: 12 | M67: Portée | N67: LEA disciplinaire langue B
A68: 1.4.11 | B68: Langue B: Chinois Niveau 3 | C68: UE | D68: 6 | M68: Portée | N68: LEA disciplinaire langue B
B69: Culture 3 CHINOIS | C69: ECUE | I69: 12 | M69: Portée | N69: LEA disciplinaire langue B
B70: Langue, traduction, expression écrite et orale 3 CHINOIS | C70: ECUE | J70: 24 | K70: 12 | M70: Portée | N70: LEA disciplinaire langue B
B71: Langue de spécialité 3 CHINOIS | C71: ECUE | J71: 12 | M71: Portée | N71: LEA disciplinaire langue B
A72: 1.4.12 | B72: Langue B: Portugais Niveau 3 | C72: UE | D72: 6 | M72: Portée | N72: LEA disciplinaire langue B
B73: Culture 3 PORTUGAIS | C73: ECUE | I73: 12 | M73: Portée | N73: LEA disciplinaire langue B
B74: Langue, traduction, expression écrite et orale 3 PORTUGAIS | C74: ECUE | J74: 24 | K74: 12 | M74: Portée | N74: LEA disciplinaire langue B
B75: Langue de spécialité 3 PORTUGAIS | C75: ECUE | J75: 12 | M75: Portée | N75: LEA disciplinaire langue B
A76: 1.4.13 | B76: Langue B: Russe avancé 3 | C76: UE | D76: 6 | M76: Portée | N76: LEA disciplinaire langue B
B77: Culture Russe avancé 3 | C77: ECUE | I77: 12 | M77: Portée | N77: LEA disciplinaire langue B
B78: Expression Russe avancé 3 | C78: ECUE | J78: 24 | M78: Portée | N78: LEA disciplinaire langue B
B79: Grammaire: théorie et pratique Russe avancé 3 | C79: ECUE | I79: 12 | J79: 24 | M79: Portée | N79: LEA disciplinaire langue B
A80: 1.4.14 | B80: Langue B: Russe pré-intermédiaire 3 | C80: UE | D80: 6 | M80: Portée | N80: LEA disciplinaire langue B
B81: Culture Russe pré-intermédiaire 3 | C81: ECUE | I81: 12 | M81: Portée | N81: LEA disciplinaire langue B
B82: Expression écrite et orale Russe pré-intermédiaire 3 | C82: ECUE | J82: 24 | K82: 12 | M82: Portée | N82: LEA disciplinaire langue B
B83: Grammaire: théorie et pratique RUSSE pré-intermédiaire 3 | C83: ECUE | I83: 12 | J83: 24 | M83: Portée | N83: LEA disciplinaire langue B
A84: 1.4.15 | B84: Niçois: pratique de l'oral | C84: UE | D84: 6 | M84: Portée | N84: Licence Sciences du langage et licence professionnelle patrimoine
B85: Niçois: pratique de l'oral | C85: ECUE | I85: 18 | J85: 18 | M85: Portée | N85: Licence Sciences du langage et licence professionnelle patrimoine
A86: 1.4.16 | B86: Au choix parmi UE 4 du portail LLAC | C86: UE | D86: 6
A87: 2 | B87: LEA Mobilité: Allemagne - Parcours Regensburg | C87: Parcours Pédagogique
A88: 2.1 | B88: Matières d'application 3 | C88: UE | D88: 6
B89: Interculturalité, médiation culturelle et publics étrangers | C89: ECUE | I89: 12 | J89: 12 | M89: Portée
B90: Economie/Economics 3 | C90: ECUE | J90: 12 | M90: Portée
B91: Traduction-rédaction technique 3 | C91: ECUE | J91: 12 | M91: Portée
B92: Communication professionnelle 3 | C92: ECUE | J92: 12 | M92: Portée
A93: 2.2 | B93: Langue A: Anglais Non débutant 3 | C93: UE | D93: 6
B94: Culture 3 ANGLAIS | C94: ECUE | I94: 12 | M94: Portée
B95: Langue et traduction 3 ANGLAIS | C95: ECUE | J95: 24 | M95: Portée
B96: Langue de spécialité et expression orale 3 ANGLAIS | C96: ECUE | J96: 12 | K96: 12 | M96: Portée
A97: 2.3 | B97: Langue B: option selon l'université d'origine | C97: UE
B98: 1 bloc à choisir | C98: OPTION
A99: 2.3.1 | B99: Langue B étudiants niçois | C99: BLOC
B100: Langue B: Allemand Non débutant 3 | C100: UE | D100: 6 | M100: Portée
B101: Culture 3 ALLEMAND | C101: ECUE | I101: 12 | M101: Portée
B102: Traduction et analyse de documents 3 ALLEMAND | C102: ECUE | J102: 36 | M102: Portée
B103: Grammaire: théorie et pratique 3 ALLEMAND | C103: ECUE | J103: 36 | K103: 12 | M103: Portée
A104: 2.3.2 | B104: Langue B étudiants allemands | C104: BLOC
B105: Langue B étudiants allemands | C105: UE | D105: 6 | M105: Portée
B106: Traduction et analyse de documents 3 ALLEMAND | C106: ECUE | J106: 24 | M106: Portée | N106: LEA Langue B Allemand disciplinaire
B107: 2 ECUE de langue B au choix | C107: ECUE
B108: 2 ECUE à choisir | C108: OPTION
B109: Culture 3 ARABE | C109: ECUE | I109: 12 | M109: Portée | N109: LEA disciplinaire langue B
B110: Langue, traduction, expression écrite et orale 3 ARABE | C110: ECUE | J110: 24 | K110: 12 | M110: Portée | N110: LEA disciplinaire langue B
B111: Langue de spécialité 3 ARABE | C111: ECUE | J111: 12 | M111: Portée | N111: LEA disciplinaire langue B
B112: Culture 3 CHINOIS | C112: ECUE | I112: 12 | M112: Portée | N112: LEA disciplinaire langue B
B113: Langue, traduction, expression écrite et orale 3 CHINOIS | C113: ECUE | J113: 24 | K113: 12 | M113: Portée | N113: LEA disciplinaire langue B
...

Sheet S3 MCC
A7: Composante | B7: ='Fiche Générale'!B3 -> Portail_LLAC | C7: Diplôme | E7: ='Fiche Générale'!B4 -> Langues Etrangères Appliquées | G7: Code diplôme | H7: ='Fiche Générale'!B5 -> 0
C10: Parcours type | E10: ='Fiche Générale'!B9 -> LEA Anglais - Allemand
M12: 1ère session | P12: Seconde Chance
A13: Année | B13: ='S3 Maquette'!B13 -> 2ème année de Portail | D13: Code Année | E13: ='S3 Maquette'!E13 -> 0
M14: Contrôle continu | N14: Contrôle Terminal
A15: Semestre | B15: ='S3 Maquette'!B15 -> Semestre 3 | D15: Code Semestre | E15: ='S3 Maquette'!E15:F16 -> 0
A18: Libellé | B18: Nature | C18: Statut | D18: Coefficient | E18: Notes attendues | F18: Résultat attendu: (ACQ/AJ) | G18: Conservation note | H18: Capitalisable | I18: Compensable | J18: Seuil de compensation /20 | K18: Type de contrôle | L18: Si CC&CT coef du CT | M18: Nbre d'évalution minimum | N18: Nature | O18: Durée | P18: Format d'évaluation | Q18: Nature | R18: Durée | S18: Modalités de mise en œuvre | T18: Commentaires
A19: ='S3 Maquette'!B19 -> Compétences transversales S3 | B19: ='S3 Maquette'!C19 -> UE | C19: ='S3 Maquette'!F19 -> 0
A20: ='S3 Maquette'!B20 -> Compétences informationnelles 2 | B20: ='S3 Maquette'!C20 -> ECUE | C20: ='S3 Maquette'!F20 -> 0
A21: ='S3 Maquette'!B21 -> Compétences pré-professionnalisation 2 | B21: ='S3 Maquette'!C21 -> ECUE | C21: ='S3 Maquette'!F21 -> 0
A22: ='S3 Maquette'!B22 -> Langue Vivante-3 | B22: ='S3 Maquette'!C22 -> ECUE | C22: ='S3 Maquette'!F22 -> 0
A23: ='S3 Maquette'!B23 -> Min 1 Max 1 | B23: ='S3 Maquette'!C23 -> OPTION | C23: ='S3 Maquette'!F23 -> 0
A24: ='S3 Maquette'!B24 -> Anglais 3 | B24: ='S3 Maquette'!C24 -> ECUE | C24: ='S3 Maquette'!F24 -> 0
A25: ='S3 Maquette'!B25 -> Espagnol | B25: ='S3 Maquette'!C25 -> ECUE | C25: ='S3 Maquette'!F25 -> 0
A26: ='S3 Maquette'!B26 -> Italien | B26: ='S3 Maquette'!C26 -> ECUE | C26: ='S3 Maquette'!F26 -> 0
A27: ='S3 Maquette'!B27 -> Choix du parcours (général ou mobilité) : 1 parcours au choix | B27: ='S3 Maquette'!C27 -> OPTION | C27: ='S3 Maquette'!F27 -> 0
A28: ='S3 Maquette'!B28 -> LEA général Anglais - Allemand | B28: ='S3 Maquette'!C28 -> Parcours Pédagogique | C28: ='S3 Maquette'!F28 -> 0
A29: ='S3 Maquette'!B29 -> Langue A: Anglais Non débutant 3 | B29: ='S3 Maquette'!C29 -> UE | C29: ='S3 Maquette'!F29 -> 0 | D29: 1 | E29: OUI | F29: OUI | G29: OUI | H29: OUI | I29: NON
A30: ='S3 Maquette'!B30 -> Culture 3 ANGLAIS | B30: ='S3 Maquette'!C30 -> ECUE | C30: ='S3 Maquette'!F30 -> 0 | D30: 1 | E30: OUI | F30: OUI | G30: OUI | H30: OUI | I30: OUI | K30: CCI (CC Intégral) | M30: 2 | P30: Autres | S30: Seconde chance : la moyenne de l’ECUE sera calculée en doublant la meilleure note et en plafonnant le résultat à 10/20
A31: ='S3 Maquette'!B31 -> Langue et traduction 3 ANGLAIS | B31: ='S3 Maquette'!C31 -> ECUE | C31: ='S3 Maquette'!F31 -> 0 | D31: 1 | E31: OUI | F31: OUI | G31: OUI | H31: OUI | I31: OUI | K31: CCI (CC Intégral) | M31: 2 | P31: Autres | S31: Seconde chance : la moyenne de l’ECUE sera calculée en doublant la meilleure note et en plafonnant le résultat à 10/20
A32: ='S3 Maquette'!B32 -> Langue de spécialité et expression orale 3 ANGLAIS | B32: ='S3 Maquette'!C32 -> ECUE | C32: ='S3 Maquette'!F32 -> 0 | D32: 1 | E32: OUI | F32: OUI | G32: OUI | H32: OUI | I32: OUI | K32: CCI (CC Intégral) | M32: 2 | P32: Autres | S32: Seconde chance : la moyenne de l’ECUE sera calculée en doublant la meilleure note et en plafonnant le résultat à 10/20
A33: ='S3 Maquette'!B33 -> Langue B: Allemand Non débutant 3 | B33: ='S3 Maquette'!C33 -> UE | C33: ='S3 Maquette'!F33 -> 0 | D33: 1 | E33: OUI | F33: OUI | G33: OUI | H33: OUI | I33: NON
A34: ='S3 Maquette'!B34 -> Culture 3 ALLEMAND | B34: ='S3 Maquette'!C34 -> ECUE | C34: ='S3 Maquette'!F34 -> 0 | D34: 1 | E34: OUI | F34: OUI | G34: OUI | H34: OUI | I34: OUI | K34: CCI (CC Intégral) | M34: 2 | P34: Autres | S34: Seconde chance : la moyenne de l’ECUE sera calculée en doublant la meilleure note et en plafonnant le résultat à 10/20
A35: ='S3 Maquette'!B35 -> Traduction et analyse de documents 3 ALLEMAND | B35: ='S3 Maquette'!C35 -> ECUE | C35: ='S3 Maquette'!F35 -> 0 | D35: 1 | E35: OUI | F35: OUI | G35: OUI | H35: OUI | I35: OUI | K35: CCI (CC Intégral) | M35: 3 | P35: Autres | S35: Seconde chance : la moyenne de l’ECUE sera calculée en doublant la meilleure note et en plafonnant le résultat à 10/20
A36: ='S3 Maquette'!B36 -> Grammaire: théorie et pratique 3 ALLEMAND | B36: ='S3 Maquette'!C36 -> ECUE | C36: ='S3 Maquette'!F36 -> 0 | D36: 1 | E36: OUI | F36: OUI | G36: OUI | H36: OUI | I36: OUI | K36: CCI (CC Intégral) | M36: 3 | P36: Autres | S36: Seconde chance : la moyenne de l’ECUE sera calculée en doublant la meilleure note et en plafonnant le résultat à 10/20
A37: ='S3 Maquette'!B37 -> Matières d'application 3 | B37: ='S3 Maquette'!C37 -> UE | C37: ='S3 Maquette'!F37 -> 0 | D37: 1 | E37: OUI | F37: OUI | G37: OUI | H37: OUI | I37: NON
A38: ='S3 Maquette'!B38 -> Interculturalité, médiation culturelle et publics étrangers | B38: ='S3 Maquette'!C38 -> ECUE | C38: ='S3 Maquette'!F38 -> 0 | D38: 1 | E38: OUI | F38: OUI | G38: OUI | H38: OUI | I38: OUI | K38: CCI (CC Intégral) | M38: 2 | P38: Autres | S38: Seconde chance : la moyenne de l’ECUE sera calculée en doublant la meilleure note et en plafonnant le résultat à 10/20
A39: ='S3 Maquette'!B39 -> Economie/Economics 3 | B39: ='S3 Maquette'!C39 -> ECUE | C39: ='S3 Maquette'!F39 -> 0 | D39: 1 | E39: OUI | F39: OUI | G39: OUI | H39: OUI | I39: OUI | K39: CCI (CC Intégral) | M39: 2 | P39: Autres | S39: Seconde chance : la moyenne de l’ECUE sera calculée en doublant la meilleure note et en plafonnant le résultat à 10/20
A40: ='S3 Maquette'!B40 -> Traduction-rédaction technique 3 | B40: ='S3 Maquette'!C40 -> ECUE | C40: ='S3 Maquette'!F40 -> 0 | D40: 1 | E40: OUI | F40: OUI | G40: OUI | H40: OUI | I40: OUI | K40: CCI (CC Intégral) | M40: 2 | P40: Autres | S40: Seconde chance : la moyenne de l’ECUE sera calculée en doublant la meilleure note et en plafonnant le résultat à 10/20
A41: ='S3 Maquette'!B41 -> Communication professionnelle 3 | B41: ='S3 Maquette'!C41 -> ECUE | C41: ='S3 Maquette'!F41 -> 0 | D41: 1 | E41: OUI | F41: OUI | G41: OUI | H41: OUI | I41: OUI | K41: CCI (CC Intégral) | M41: 2 | P41: Autres | S41: Seconde chance : la moyenne de l’ECUE sera calculée en doublant la meilleure note et en plafonnant le résultat à 10/20
A42: ='S3 Maquette'!B42 -> Approfondissement ou langue C | B42: ='S3 Maquette'!C42 -> UE | C42: ='S3 Maquette'!F42 -> 0 | D42: 1 | E42: OUI | F42: OUI | G42: OUI | H42: OUI | I42: OUI
A43: ='S3 Maquette'!B43 -> 1 UE au choix | B43: ='S3 Maquette'!C43 -> OPTION | C43: ='S3 Maquette'!F43 -> 0
A44: ='S3 Maquette'!B44 -> Approfondissement Allemand Non débutant 3 | B44: ='S3 Maquette'!C44 -> UE | C44: ='S3 Maquette'!F44 -> 0 | D44: 1 | E44: Les MCC pour les éléments d'OUVERTURE sont reportées dans la maquette/MCC du portail LEA Anglais-Arabe
A45: ='S3 Maquette'!B45 -> Approfondissement Arabe Niveau 3 | B45: ='S3 Maquette'!C45 -> UE | C45: ='S3 Maquette'!F45 -> 0 | D45: 1
A46: ='S3 Maquette'!B46 -> Approfondissement Chinois NIveau 3 | B46: ='S3 Maquette'!C46 -> UE | C46: ='S3 Maquette'!F46 -> 0 | D46: 1
A47: ='S3 Maquette'!B47 -> Approfondissement Espagnol 3 | B47: ='S3 Maquette'!C47 -> UE | C47: ='S3 Maquette'!F47 -> 0 | D47: 1
A48: ='S3 Maquette'!B48 -> Langue 3 ESPAGNOL | B48: ='S3 Maquette'!C48 -> ECUE | C48: ='S3 Maquette'!F48 -> 0 | D48: 1
A49: ='S3 Maquette'!B49 -> Communication écrite et orale 3 ESPAGNOL | B49: ='S3 Maquette'!C49 -> ECUE | C49: ='S3 Maquette'!F49 -> 0 | D49: 1
A50: ='S3 Maquette'!B50 -> Approfondissement Italien 3 | B50: ='S3 Maquette'!C50 -> UE | C50: ='S3 Maquette'!F50 -> 0 | D50: 1
A51: ='S3 Maquette'!B51 -> Langue 3 ITALIEN | B51: ='S3 Maquette'!C51 -> ECUE | C51: ='S3 Maquette'!F51 -> 0 | D51: 1
A52: ='S3 Maquette'!B52 -> Culture et expression 3 ITALIEN | B52: ='S3 Maquette'!C52 -> ECUE | C52: ='S3 Maquette'!F52 -> 0 | D52: 1
A53: ='S3 Maquette'!B53 -> Approfondissement Portugais Niveau 3 | B53: ='S3 Maquette'!C53 -> UE | C53: ='S3 Maquette'!F53 -> 0 | D53: 1
A54: ='S3 Maquette'!B54 -> Langue 3 PORTUGAIS | B54: ='S3 Maquette'!C54 -> ECUE | C54: ='S3 Maquette'!F54 -> 0 | D54: 1
A55: ='S3 Maquette'!B55 -> Culture 3 PORTUGAIS | B55: ='S3 Maquette'!C55 -> ECUE | C55: ='S3 Maquette'!F55 -> 0 | D55: 1
A56: ='S3 Maquette'!B56 -> Approfondissement Russe Pré-intermédiaire 3 | B56: ='S3 Maquette'!C56 -> UE | C56: ='S3 Maquette'!F56 -> 0 | D56: 1
... A85: ='S3 Maquette'!B85 -> Niçois: pratique de l'oral | B85: ='S3 Maquette'!C85 -> ECUE | C85: ='S3 Maquette'!F85 -> 0 | D85: 1
A86: ='S3 Maquette'!B86 -> Au choix parmi UE 4 du portail LLAC | B86: ='S3 Maquette'!C86 -> UE | D86: 1 | E86: OUI | F86: OUI | G86: OUI | H86: OUI | I86: OUI
A87: ='S3 Maquette'!B87 -> LEA Mobilité: Allemagne - Parcours Regensburg | B87: ='S3 Maquette'!C87 -> Parcours Pédagogique | C87: ='S3 Maquette'!F87 -> 0
A88: ='S3 Maquette'!B88 -> Matières d'application 3 | B88: ='S3 Maquette'!C88 -> UE | C88: ='S3 Maquette'!F88 -> 0 | D88: 1 | E88: OUI | F88: OUI | G88: OUI | H88: OUI | I88: OUI | K88: CCI (CC Intégral)
A89: ='S3 Maquette'!B89 -> Interculturalité, médiation culturelle et publics étrangers | B89: ='S3 Maquette'!C89 -> ECUE | C89: ='S3 Maquette'!F89 -> 0 | D89: 1 | E89: OUI | F89: OUI | G89: OUI | H89: OUI | I89: OUI | K89: CCI (CC Intégral)
A90: ='S3 Maquette'!B90 -> Economie/Economics 3 | B90: ='S3 Maquette'!C90 -> ECUE | C90: ='S3 Maquette'!F90 -> 0 | D90: 1 | E90: OUI | F90: OUI | G90: OUI | H90: OUI | I90: OUI | K90: CCI (CC Intégral)
A91: ='S3 Maquette'!B91 -> Traduction-rédaction technique 3 | B91: ='S3 Maquette'!C91 -> ECUE | C91: ='S3 Maquette'!F91 -> 0 | D91: 1 | E91: OUI | F91: OUI | G91: OUI | H91: OUI | I91: OUI | K91: CCI (CC Intégral)
A92: ='S3 Maquette'!B92 -> Communication professionnelle 3 | B92: ='S3 Maquette'!C92 -> ECUE | C92: ='S3 Maquette'!F92 -> 0 | D92: 1 | E92: OUI | F92: OUI | G92: OUI | H92: OUI | I92: OUI | K92: CCI (CC Intégral)
A93: ='S3 Maquette'!B93 -> Langue A: Anglais Non débutant 3 | B93: ='S3 Maquette'!C93 -> UE | C93: ='S3 Maquette'!F93 -> 0 | D93: 1 | E93: OUI | F93: OUI | G93: OUI | H93: OUI | I93: NON | K93: CCI (CC Intégral)
A94: ='S3 Maquette'!B94 -> Culture 3 ANGLAIS | B94: ='S3 Maquette'!C94 -> ECUE | C94: ='S3 Maquette'!F94 -> 0 | D94: 1 | E94: OUI | F94: OUI | G94: OUI | H94: OUI | I94: OUI | K94: CCI (CC Intégral)
A95: ='S3 Maquette'!B95 -> Langue et traduction 3 ANGLAIS | B95: ='S3 Maquette'!C95 -> ECUE | C95: ='S3 Maquette'!F95 -> 0 | D95: 1 | E95: OUI | F95: OUI | G95: OUI | H95: OUI | I95: OUI | K95: CCI (CC Intégral)
A96: ='S3 Maquette'!B96 -> Langue de spécialité et expression orale 3 ANGLAIS | B96: ='S3 Maquette'!C96 -> ECUE | C96: ='S3 Maquette'!F96 -> 0 | D96: 1 | E96: OUI | F96: OUI | G96: OUI | H96: OUI | I96: OUI | K96: CCI (CC Intégral)
A97: ='S3 Maquette'!B97 -> Langue B: option selon l'université d'origine | B97: ='S3 Maquette'!C97 -> UE | C97: ='S3 Maquette'!F97 -> 0 | D97: 1 | E97: OUI | F97: OUI | G97: OUI | H97: OUI | I97: NON | K97: CCI (CC Intégral)
A98: ='S3 Maquette'!B98 -> 1 bloc à choisir | B98: ='S3 Maquette'!C98 -> OPTION | C98: ='S3 Maquette'!F98 -> 0
A99: ='S3 Maquette'!B99 -> Langue B étudiants niçois | B99: ='S3 Maquette'!C99 -> BLOC | C99: ='S3 Maquette'!F99 -> 0 | D99: 1 | E99: OUI | F99: OUI | G99: OUI | H99: OUI | I99: NON | K99: CCI (CC Intégral)
A100: ='S3 Maquette'!B100 -> Langue B: Allemand Non débutant 3 | B100: ='S3 Maquette'!C100 -> UE | C100: ='S3 Maquette'!F100 -> 0 | D100: 1 | E100: OUI | F100: OUI | G100: OUI | H100: OUI | I100: NON | K100: CCI (CC Intégral)
A101: ='S3 Maquette'!B101 -> Culture 3 ALLEMAND | B101: ='S3 Maquette'!C101 -> ECUE | C101: ='S3 Maquette'!F101 -> 0 | D101: 1 | E101: OUI | F101: OUI | G101: OUI | H101: OUI | I101: OUI | K101: CCI (CC Intégral)
A102: ='S3 Maquette'!B102 -> Traduction et analyse de documents 3 ALLEMAND | B102: ='S3 Maquette'!C102 -> ECUE | C102: ='S3 Maquette'!F102 -> 0 | D102: 1 | E102: OUI | F102: OUI | G102: OUI | H102: OUI | I102: OUI | K102: CCI (CC Intégral)
A103: ='S3 Maquette'!B103 -> Grammaire: théorie et pratique 3 ALLEMAND | B103: ='S3 Maquette'!C103 -> ECUE | C103: ='S3 Maquette'!F103 -> 0 | D103: 1 | E103: OUI | F103: OUI | G103: OUI | H103: OUI | I103: OUI | K103: CCI (CC Intégral)
A104: ='S3 Maquette'!B104 -> Langue B étudiants allemands | B104: ='S3 Maquette'!C104 -> BLOC | C104: ='S3 Maquette'!F104 -> 0 | D104: 1 | E104: OUI | F104: OUI | G104: OUI | H104: OUI | I104: NON | K104: CCI (CC Intégral)
A105: ='S3 Maquette'!B105 -> Langue B étudiants allemands | B105: ='S3 Maquette'!C105 -> UE | C105: ='S3 Maquette'!F105 -> 0 | D105: 1 | E105: OUI | F105: OUI | G105: OUI | H105: OUI | I105: NON | K105: CCI (CC Intégral)
A106: ='S3 Maquette'!B106 -> Traduction et analyse de documents 3 ALLEMAND | B106: ='S3 Maquette'!C106 -> ECUE | C106: ='S3 Maquette'!F106 -> 0 | D106: 1 | E106: OUI | F106: OUI | G106: OUI | H106: OUI | I106: OUI | K106: CCI (CC Intégral)
A107: ='S3 Maquette'!B107 -> 2 ECUE de langue B au choix | B107: ='S3 Maquette'!C107 -> ECUE | C107: ='S3 Maquette'!F107 -> 0
A108: ='S3 Maquette'!B108 -> 2 ECUE à choisir | B108: ='S3 Maquette'!C108 -> OPTION | C108: ='S3 Maquette'!F108 -> 0
A109: ='S3 Maquette'!B109 -> Culture 3 ARABE | B109: ='S3 Maquette'!C109 -> ECUE | C109: ='S3 Maquette'!F109 -> 0 | D109: 1 | E109: OUI | F109: OUI | G109: OUI | H109: OUI | I109: OUI | K109: CCI (CC Intégral)
A110: ='S3 Maquette'!B110 -> Langue, traduction, expression écrite et orale 3 ARABE | B110: ='S3 Maquette'!C110 -> ECUE | C110: ='S3 Maquette'!F110 -> 0 | D110: 1 | E110: OUI | F110: OUI | G110: OUI | H110: OUI | I110: OUI | K110: CCI (CC Intégral)
A111: ='S3 Maquette'!B111 -> Langue de spécialité 3 ARABE | B111: ='S3 Maquette'!C111 -> ECUE | C111: ='S3 Maquette'!F111 -> 0 | D111: 1 | E111: OUI | F111: OUI | G111: OUI | H111: OUI | I111: OUI | K111: CCI (CC Intégral)
A112: ='S3 Maquette'!B112 -> Culture 3 CHINOIS | B112: ='S3 Maquette'!C112 -> ECUE | C112: ='S3 Maquette'!F112 -> 0 | D112: 1 | E112: OUI | F112: OUI | G112: OUI | H112: OUI | I112: OUI | K112: CCI (CC Intégral)
A113: ='S3 Maquette'!B113 -> Langue, traduction, expression écrite et orale 3 CHINOIS | B113: ='S3 Maquette'!C113 -> ECUE | C113: ='S3 Maquette'!F113 -> 0 | D113: 1 | E113: OUI | F113: OUI | G113: OUI | H113: OUI | I113: OUI | K113: CCI (CC Intégral)
A114: ='S3 Maquette'!B114 -> Langue de spécialité 3 CHINOIS | B114: ='S3 Maquette'!C114 -> ECUE | C114: ='S3 Maquette'!F114 -> 0 | D114: 1 | E114: OUI | F114: OUI | G114: OUI | H114: OUI | I114: OUI | K114: CCI (CC Intégral)
A115: ='S3 Maquette'!B115 -> Culture 3 ESPAGNOL | B115: ='S3 Maquette'!C115 -> ECUE | C115: ='S3 Maquette'!F115 -> 0 | D115: 1 | E115: OUI | F115: OUI | G115: OUI | H115: OUI | I115: OUI | K115: CCI (CC Intégral)
A116: ='S3 Maquette'!B116 -> Langue, et traduction 3 ESPAGNOL | B116: ='S3 Maquette'!C116 -> ECUE | C116: ='S3 Maquette'!F116 -> 0 | D116: 1 | E116: OUI | F116: OUI | G116: OUI | H116: OUI | I116: OUI | K116: CCI (CC Intégral)
A117: ='S3 Maquette'!B117 -> Langue de spécialité et expression orale 3 ESPAGNOL | B117: ='S3 Maquette'!C117 -> ECUE | C117: ='S3 Maquette'!F117 -> 0 | D117: 1 | E117: OUI | F117: OUI | G117: OUI | H117: OUI | I117: OUI | K117: CCI (CC Intégral)
A118: ='S3 Maquette'!B118 -> Culture 3 ITALIEN | B118: ='S3 Maquette'!C118 -> ECUE | C118: ='S3 Maquette'!F118 -> 0 | D118: 1 | E118: OUI | F118: OUI | G118: OUI | H118: OUI | I118: OUI | K118: CCI (CC Intégral)
A119: ='S3 Maquette'!B119 -> Langue et traduction 3 ITALIEN | B119: ='S3 Maquette'!C119 -> ECUE | C119: ='S3 Maquette'!F119 -> 0 | D119: 1 | E119: OUI | F119: OUI | G119: OUI | H119: OUI | I119: OUI | K119: CCI (CC Intégral)
A120: ='S3 Maquette'!B120 -> Langue de spécialité et expression orale 3 ITALIEN | B120: ='S3 Maquette'!C120 -> ECUE | C120: ='S3 Maquette'!F120 -> 0 | D120: 1 | E120: OUI | F120: OUI | G120: OUI | H120: OUI | I120: OUI | K120: CCI (CC Intégral)
... A154: ='S3 Maquette'!B154 -> Cours interculturel | B154: ='S3 Maquette'!C154 -> ECUE | C154: ='S3 Maquette'!F154 -> 0 | D154: 1 | E154: OUI | F154: OUI | G154: OUI | H154: OUI | I154: OUI | K154: CCI (CC Intégral)
A155: ='S3 Maquette'!B155 -> 0 | B155: ='S3 Maquette'!C155 -> 0 | C155: ='S3 Maquette'!F155 -> 0
A156: ='S3 Maquette'!B156 -> 0 | B156: ='S3 Maquette'!C156 -> 0 | C156: ='S3 Maquette'!F156 -> 0
A157: ='S3 Maquette'!B157 -> 0 | B157: ='S3 Maquette'!C157 -> 0 | C157: ='S3 Maquette'!F157 -> 0
A158: ='S3 Maquette'!B158 -> 0 | B158: ='S3 Maquette'!C158 -> 0 | C158: ='S3 Maquette'!F158 -> 0
A159: ='S3 Maquette'!B159 -> 0 | B159: ='S3 Maquette'!C159 -> 0 | C159: ='S3 Maquette'!F159 -> 0
A160: ='S3 Maquette'!B160 -> 0 | B160: ='S3 Maquette'!C160 -> 0 | C160: ='S3 Maquette'!F160 -> 0
A161: ='S3 Maquette'!B161 -> 0 | B161: ='S3 Maquette'!C161 -> 0 | C161: ='S3 Maquette'!F161 -> 0
A162: ='S3 Maquette'!B162 -> 0 | B162: ='S3 Maquette'!C162 -> 0 | C162: ='S3 Maquette'!F162 -> 0
A163: ='S3 Maquette'!B163 -> 0 | B163: ='S3 Maquette'!C163 -> 0 | C163: ='S3 Maquette'!F163 -> 0
A164: ='S3 Maquette'!B164 -> 0 | B164: ='S3 Maquette'!C164 -> 0 | C164: ='S3 Maquette'!F164 -> 0
A165: ='S3 Maquette'!B165 -> 0 | B165: ='S3 Maquette'!C165 -> 0 | C165: ='S3 Maquette'!F165 -> 0
A166: ='S3 Maquette'!B166 -> 0 | B166: ='S3 Maquette'!C166 -> 0 | C166: ='S3 Maquette'!F166 -> 0
... A301: ='S3 Maquette'!B301 -> 0 | B301: ='S3 Maquette'!C301 -> 0 | C301: ='S3 Maquette'!F301 -> 0

Sheet S3 MCC NA
A7: Composante | B7: ='[1]Fiche Générale'!B3 -> Portail_LLAC | C7: Diplôme | E7: ='[1]Fiche Générale'!B4 -> Langues Etrangères Appliquées | G7: Code diplôme | H7: ='[1]Fiche Générale'!B5 -> 0
C10: Parcours type | E10: ='[1]Fiche Générale'!B9 -> LEA Anglais - Allemand
M12: 1ère session | P12: Seconde Chance
A13: Année | B13: ='[1]S3 Maquette'!B13 -> 2ème année de Portail | D13: Code Année | E13: ='[1]S3 Maquette'!E13 -> 0
M14: Non assidus | N14: Contrôle Terminal
A15: Semestre | B15: ='[1]S3 Maquette'!B15 -> Semestre 3 | D15: Code Semestre | E15: ='[1]S3 Maquette'!E15:F16 -> 0
A18: Libellé | B18: Nature | C18: Statut | D18: Coefficient | E18: Notes attendues | F18: Résultat attendu: (ACQ/AJ) | G18: Conservation note | H18: Capitalisable | I18: Compensable | J18: Seuil de compensation /20 | K18: Type de contrôle | L18: Si CC&CT coef du CT | M18: Nbre d'évalution minimum | N18: Nature | O18: Durée | P18: Format d'évaluation | Q18: Nature | R18: Durée | S18: Modalités de mise en œuvre | T18: Commentaires
A19: ='[1]S3 Maquette'!B19 -> Compétences transversales S3 | B19: ='[1]S3 Maquette'!C19 -> UE | C19: ='[1]S3 Maquette'!F19 -> 0
A20: ='[1]S3 Maquette'!B20 -> Compétences informationnelles 2 | B20: ='[1]S3 Maquette'!C20 -> ECUE | C20: ='[1]S3 Maquette'!F20 -> 0
A21: ='[1]S3 Maquette'!B21 -> Compétences pré-professionnalisation 2 | B21: ='[1]S3 Maquette'!C21 -> ECUE | C21: ='[1]S3 Maquette'!F21 -> 0
A22: ='[1]S3 Maquette'!B22 -> Langue Vivante-3 | B22: ='[1]S3 Maquette'!C22 -> ECUE | C22: ='[1]S3 Maquette'!F22 -> 0
A23: ='[1]S3 Maquette'!B23 -> Min 1 Max 1 | B23: ='[1]S3 Maquette'!C23 -> OPTION | C23: ='[1]S3 Maquette'!F23 -> 0
A24: ='[1]S3 Maquette'!B24 -> Anglais 3 | B24: ='[1]S3 Maquette'!C24 -> ECUE | C24: ='[1]S3 Maquette'!F24 -> 0
A25: ='[1]S3 Maquette'!B25 -> Espagnol | B25: ='[1]S3 Maquette'!C25 -> ECUE | C25: ='[1]S3 Maquette'!F25 -> 0
A26: ='[1]S3 Maquette'!B26 -> Italien | B26: ='[1]S3 Maquette'!C26 -> ECUE | C26: ='[1]S3 Maquette'!F26 -> 0
A27: ='[1]S3 Maquette'!B27 -> Choix du parcours (général ou mobilité) : 1 parcours au choix | B27: ='[1]S3 Maquette'!C27 -> OPTION | C27: ='[1]S3 Maquette'!F27 -> 0
A28: ='[1]S3 Maquette'!B28 -> LEA général Anglais - Allemand | B28: ='[1]S3 Maquette'!C28 -> Parcours Pédagogique | C28: ='[1]S3 Maquette'!F28 -> 0
A29: ='[1]S3 Maquette'!B29 -> Langue A: Anglais Non débutant 3 | B29: ='[1]S3 Maquette'!C29 -> UE | C29: ='[1]S3 Maquette'!F29 -> 0 | D29: 1 | E29: OUI | F29: OUI | G29: OUI | H29: OUI | I29: NON
A30: ='[1]S3 Maquette'!B30 -> Culture 3 ANGLAIS | B30: ='[1]S3 Maquette'!C30 -> ECUE | C30: ='[1]S3 Maquette'!F30 -> 0 | D30: 1 | E30: OUI | F30: OUI | G30: OUI | H30: OUI | I30: OUI | K30: CCI (CC Intégral) | M30: 2 | P30: Autres | S30: Seconde chance : la moyenne de l’ECUE sera calculée en doublant la meilleure note et en plafonnant le résultat à 10/20
A31: ='[1]S3 Maquette'!B31 -> Langue et traduction 3 ANGLAIS | B31: ='[1]S3 Maquette'!C31 -> ECUE | C31: ='[1]S3 Maquette'!F31 -> 0 | D31: 1 | E31: OUI | F31: OUI | G31: OUI | H31: OUI | I31: OUI | K31: CCI (CC Intégral) | M31: 2 | P31: Autres | S31: Seconde chance : la moyenne de l’ECUE sera calculée en doublant la meilleure note et en plafonnant le résultat à 10/20
A32: ='[1]S3 Maquette'!B32 -> Langue de spécialité et expression orale 3 ANGLAIS | B32: ='[1]S3 Maquette'!C32 -> ECUE | C32: ='[1]S3 Maquette'!F32 -> 0 | D32: 1 | E32: OUI | F32: OUI | G32: OUI | H32: OUI | I32: OUI | K32: CCI (CC Intégral) | M32: 2 | P32: Autres | S32: Seconde chance : la moyenne de l’ECUE sera calculée en doublant la meilleure note et en plafonnant le résultat à 10/20
A33: ='[1]S3 Maquette'!B33 -> Langue B: Allemand Non débutant 3 | B33: ='[1]S3 Maquette'!C33 -> UE | C33: ='[1]S3 Maquette'!F33 -> 0 | D33: 1 | E33: OUI | F33: OUI | G33: OUI | H33: OUI | I33: NON
A34: ='[1]S3 Maquette'!B34 -> Culture 3 ALLEMAND | B34: ='[1]S3 Maquette'!C34 -> ECUE | C34: ='[1]S3 Maquette'!F34 -> 0 | D34: 1 | E34: OUI | F34: OUI | G34: OUI | H34: OUI | I34: OUI | K34: CCI (CC Intégral) | M34: 2 | P34: Autres | S34: Seconde chance : la moyenne de l’ECUE sera calculée en doublant la meilleure note et en plafonnant le résultat à 10/20
A35: ='[1]S3 Maquette'!B35 -> Traduction et analyse de documents 3 ALLEMAND | B35: ='[1]S3 Maquette'!C35 -> ECUE | C35: ='[1]S3 Maquette'!F35 -> 0 | D35: 1 | E35: OUI | F35: OUI | G35: OUI | H35: OUI | I35: OUI | K35: CCI (CC Intégral) | M35: 3 | P35: Autres | S35: Seconde chance : la moyenne de l’ECUE sera calculée en doublant la meilleure note et en plafonnant le résultat à 10/20
A36: ='[1]S3 Maquette'!B36 -> Grammaire: théorie et pratique 3 ALLEMAND | B36: ='[1]S3 Maquette'!C36 -> ECUE | C36: ='[1]S3 Maquette'!F36 -> 0 | D36: 1 | E36: OUI | F36: OUI | G36: OUI | H36: OUI | I36: OUI | K36: CCI (CC Intégral) | M36: 2 | P36: Autres | S36: Seconde chance : la moyenne de l’ECUE sera calculée en doublant la meilleure note et en plafonnant le résultat à 10/20
A37: ='[1]S3 Maquette'!B37 -> Matières d'application 3 | B37: ='[1]S3 Maquette'!C37 -> UE | C37: ='[1]S3 Maquette'!F37 -> 0 | D37: 1 | E37: OUI | F37: OUI | G37: OUI | H37: OUI | I37: NON
A38: ='[1]S3 Maquette'!B38 -> Interculturalité, médiation culturelle et publics étrangers | B38: ='[1]S3 Maquette'!C38 -> ECUE | C38: ='[1]S3 Maquette'!F38 -> 0 | D38: 1 | E38: OUI | F38: OUI | G38: OUI | H38: OUI | I38: OUI | K38: CCI (CC Intégral) | M38: 2 | P38: Autres | S38: Seconde chance : la moyenne de l’ECUE sera calculée en doublant la meilleure note et en plafonnant le résultat à 10/20
A39: ='[1]S3 Maquette'!B39 -> Economie/Economics 3 | B39: ='[1]S3 Maquette'!C39 -> ECUE | C39: ='[1]S3 Maquette'!F39 -> 0 | D39: 1 | E39: OUI | F39: OUI | G39: OUI | H39: OUI | I39: OUI | K39: CCI (CC Intégral) | M39: 2 | P39: Autres | S39: Seconde chance : la moyenne de l’ECUE sera calculée en doublant la meilleure note et en plafonnant le résultat à 10/20
A40: ='[1]S3 Maquette'!B40 -> Traduction-rédaction technique 3 | B40: ='[1]S3 Maquette'!C40 -> ECUE | C40: ='[1]S3 Maquette'!F40 -> 0 | D40: 1 | E40: OUI | F40: OUI | G40: OUI | H40: OUI | I40: OUI | K40: CCI (CC Intégral) | M40: 2 | P40: Autres | S40: Seconde chance : la moyenne de l’ECUE sera calculée en doublant la meilleure note et en plafonnant le résultat à 10/20
A41: ='[1]S3 Maquette'!B41 -> Communication professionnelle 3 | B41: ='[1]S3 Maquette'!C41 -> ECUE | C41: ='[1]S3 Maquette'!F41 -> 0 | D41: 1 | E41: OUI | F41: OUI | G41: OUI | H41: OUI | I41: OUI | K41: CCI (CC Intégral) | M41: 2 | P41: Autres | S41: Seconde chance : la moyenne de l’ECUE sera calculée en doublant la meilleure note et en plafonnant le résultat à 10/20
A42: ='[1]S3 Maquette'!B42 -> Approfondissement ou langue C | B42: ='[1]S3 Maquette'!C42 -> UE | C42: ='[1]S3 Maquette'!F42 -> 0 | D42: 1 | E42: OUI | F42: OUI | G42: OUI | H42: OUI | I42: OUI
A43: ='[1]S3 Maquette'!B43 -> 1 UE au choix | B43: ='[1]S3 Maquette'!C43 -> OPTION | C43: ='[1]S3 Maquette'!F43 -> 0
A44: ='[1]S3 Maquette'!B44 -> Approfondissement Allemand Non débutant 3 | B44: ='[1]S3 Maquette'!C44 -> UE | C44: ='[1]S3 Maquette'!F44 -> 0 | D44: 1 | E44: Les MCC pour les éléments d'OUVERTURE sont reportées dans la maquette/MCC du portail LEA Anglais-Arabe
A45: ='[1]S3 Maquette'!B45 -> Approfondissement Arabe Niveau 3 | B45: ='[1]S3 Maquette'!C45 -> UE | C45: ='[1]S3 Maquette'!F45 -> 0 | D45: 1
A46: ='[1]S3 Maquette'!B46 -> Approfondissement Chinois NIveau 3 | B46: ='[1]S3 Maquette'!C46 -> UE | C46: ='[1]S3 Maquette'!F46 -> 0 | D46: 1
A47: ='[1]S3 Maquette'!B47 -> Approfondissement Espagnol 3 | B47: ='[1]S3 Maquette'!C47 -> UE | C47: ='[1]S3 Maquette'!F47 -> 0 | D47: 1
A48: ='[1]S3 Maquette'!B48 -> Langue et traduction 3 ESPAGNOL | B48: ='[1]S3 Maquette'!C48 -> ECUE | C48: ='[1]S3 Maquette'!F48 -> 0 | D48: 1
A49: ='[1]S3 Maquette'!B49 -> Langue de spécialité et expression orale 3 ESPAGNOL | B49: ='[1]S3 Maquette'!C49 -> ECUE | C49: ='[1]S3 Maquette'!F49 -> 0 | D49: 1
A50: ='[1]S3 Maquette'!B50 -> Approfondissement Italien 3 | B50: ='[1]S3 Maquette'!C50 -> UE | C50: ='[1]S3 Maquette'!F50 -> 0 | D50: 1
A51: ='[1]S3 Maquette'!B51 -> Langue 3 ITALIEN | B51: ='[1]S3 Maquette'!C51 -> ECUE | C51: ='[1]S3 Maquette'!F51 -> 0 | D51: 1
A52: ='[1]S3 Maquette'!B52 -> Culture et expression 3 ITALIEN | B52: ='[1]S3 Maquette'!C52 -> ECUE | C52: ='[1]S3 Maquette'!F52 -> 0 | D52: 1
A53: ='[1]S3 Maquette'!B53 -> Approfondissement Portugais Niveau 3 | B53: ='[1]S3 Maquette'!C53 -> UE | C53: ='[1]S3 Maquette'!F53 -> 0 | D53: 1
A54: ='[1]S3 Maquette'!B54 -> Langue 3 PORTUGAIS | B54: ='[1]S3 Maquette'!C54 -> ECUE | C54: ='[1]S3 Maquette'!F54 -> 0 | D54: 1
A55: ='[1]S3 Maquette'!B55 -> Culture 3 PORTUGAIS | B55: ='[1]S3 Maquette'!C55 -> ECUE | C55: ='[1]S3 Maquette'!F55 -> 0 | D55: 1
A56: ='[1]S3 Maquette'!B56 -> Approfondissement Russe Pré-intermédiaire 3 | B56: ='[1]S3 Maquette'!C56 -> UE | C56: ='[1]S3 Maquette'!F56 -> 0 | D56: 1
... A85: ='[1]S3 Maquette'!B85 -> Niçois: pratique de l'oral | B85: ='[1]S3 Maquette'!C85 -> ECUE | C85: ='[1]S3 Maquette'!F85 -> 0 | D85: 1
A86: ='[1]S3 Maquette'!B86 -> Au choix parmi UE 4 du portail LLAC | B86: ='[1]S3 Maquette'!C86 -> UE | D86: 1 | E86: OUI | F86: OUI | G86: OUI | H86: OUI | I86: OUI
A87: ='[1]S3 Maquette'!B87 -> LEA Mobilité: Allemagne - Parcours Regensburg | B87: ='[1]S3 Maquette'!C87 -> Parcours Pédagogique | C87: ='[1]S3 Maquette'!F87 -> 0
A88: ='[1]S3 Maquette'!B88 -> Matières d'application 3 | B88: ='[1]S3 Maquette'!C88 -> UE | C88: ='[1]S3 Maquette'!F88 -> 0 | D88: 1 | E88: OUI | F88: OUI | G88: OUI | H88: OUI | I88: OUI | K88: CCI (CC Intégral) | T88: Le statut de non assidu n'est pas autorisé pour les étudiants du parcours Regensburg
A89: ='[1]S3 Maquette'!B89 -> Interculturalité, médiation culturelle et publics étrangers | B89: ='[1]S3 Maquette'!C89 -> ECUE | C89: ='[1]S3 Maquette'!F89 -> 0 | D89: 1 | E89: OUI | F89: OUI | G89: OUI | H89: OUI | I89: OUI | K89: CCI (CC Intégral) | T89: Le statut de non assidu n'est pas autorisé pour les étudiants du parcours Regensburg
A90: ='[1]S3 Maquette'!B90 -> Economie/Economics 3 | B90: ='[1]S3 Maquette'!C90 -> ECUE | C90: ='[1]S3 Maquette'!F90 -> 0 | D90: 1 | E90: OUI | F90: OUI | G90: OUI | H90: OUI | I90: OUI | K90: CCI (CC Intégral) | T90: Le statut de non assidu n'est pas autorisé pour les étudiants du parcours Regensburg
A91: ='[1]S3 Maquette'!B91 -> Traduction-rédaction technique 3 | B91: ='[1]S3 Maquette'!C91 -> ECUE | C91: ='[1]S3 Maquette'!F91 -> 0 | D91: 1 | E91: OUI | F91: OUI | G91: OUI | H91: OUI | I91: OUI | K91: CCI (CC Intégral) | T91: Le statut de non assidu n'est pas autorisé pour les étudiants du parcours Regensburg
A92: ='[1]S3 Maquette'!B92 -> Communication professionnelle 3 | B92: ='[1]S3 Maquette'!C92 -> ECUE | C92: ='[1]S3 Maquette'!F92 -> 0 | D92: 1 | E92: OUI | F92: OUI | G92: OUI | H92: OUI | I92: OUI | K92: CCI (CC Intégral) | T92: Le statut de non assidu n'est pas autorisé pour les étudiants du parcours Regensburg
A93: ='[1]S3 Maquette'!B93 -> Langue A: Anglais Non débutant 3 | B93: ='[1]S3 Maquette'!C93 -> UE | C93: ='[1]S3 Maquette'!F93 -> 0 | D93: 1 | E93: OUI | F93: OUI | G93: OUI | H93: OUI | I93: NON | K93: CCI (CC Intégral) | T93: Le statut de non assidu n'est pas autorisé pour les étudiants du parcours Regensburg
A94: ='[1]S3 Maquette'!B94 -> Culture 3 ANGLAIS | B94: ='[1]S3 Maquette'!C94 -> ECUE | C94: ='[1]S3 Maquette'!F94 -> 0 | D94: 1 | E94: OUI | F94: OUI | G94: OUI | H94: OUI | I94: OUI | K94: CCI (CC Intégral) | T94: Le statut de non assidu n'est pas autorisé pour les étudiants du parcours Regensburg
A95: ='[1]S3 Maquette'!B95 -> Langue et traduction 3 ANGLAIS | B95: ='[1]S3 Maquette'!C95 -> ECUE | C95: ='[1]S3 Maquette'!F95 -> 0 | D95: 1 | E95: OUI | F95: OUI | G95: OUI | H95: OUI | I95: OUI | K95: CCI (CC Intégral) | T95: Le statut de non assidu n'est pas autorisé pour les étudiants du parcours Regensburg
A96: ='[1]S3 Maquette'!B96 -> Langue de spécialité et expression orale 3 ANGLAIS | B96: ='[1]S3 Maquette'!C96 -> ECUE | C96: ='[1]S3 Maquette'!F96 -> 0 | D96: 1 | E96: OUI | F96: OUI | G96: OUI | H96: OUI | I96: OUI | K96: CCI (CC Intégral) | T96: Le statut de non assidu n'est pas autorisé pour les étudiants du parcours Regensburg
A97: ='[1]S3 Maquette'!B97 -> Langue B: option selon l'université d'origine | B97: ='[1]S3 Maquette'!C97 -> UE | C97: ='[1]S3 Maquette'!F97 -> 0 | D97: 1 | E97: OUI | F97: OUI | G97: OUI | H97: OUI | I97: NON | K97: CCI (CC Intégral) | T97: Le statut de non assidu n'est pas autorisé pour les étudiants du parcours Regensburg
A98: ='[1]S3 Maquette'!B98 -> 1 bloc à choisir | B98: ='[1]S3 Maquette'!C98 -> OPTION | C98: ='[1]S3 Maquette'!F98 -> 0 | T98: Le statut de non assidu n'est pas autorisé pour les étudiants du parcours Regensburg
A99: ='[1]S3 Maquette'!B99 -> Langue B étudiants niçois | B99: ='[1]S3 Maquette'!C99 -> BLOC | C99: ='[1]S3 Maquette'!F99 -> 0 | D99: 1 | E99: OUI | F99: OUI | G99: OUI | H99: OUI | I99: NON | K99: CCI (CC Intégral) | T99: Le statut de non assidu n'est pas autorisé pour les étudiants du parcours Regensburg
A100: ='[1]S3 Maquette'!B100 -> Langue B: Allemand Non débutant 3 | B100: ='[1]S3 Maquette'!C100 -> UE | C100: ='[1]S3 Maquette'!F100 -> 0 | D100: 1 | E100: OUI | F100: OUI | G100: OUI | H100: OUI | I100: NON | K100: CCI (CC Intégral) | T100: Le statut de non assidu n'est pas autorisé pour les étudiants du parcours Regensburg
A101: ='[1]S3 Maquette'!B101 -> Culture 3 ALLEMAND | B101: ='[1]S3 Maquette'!C101 -> ECUE | C101: ='[1]S3 Maquette'!F101 -> 0 | D101: 1 | E101: OUI | F101: OUI | G101: OUI | H101: OUI | I101: OUI | K101: CCI (CC Intégral) | T101: Le statut de non assidu n'est pas autorisé pour les étudiants du parcours Regensburg
A102: ='[1]S3 Maquette'!B102 -> Traduction et analyse de documents 3 ALLEMAND | B102: ='[1]S3 Maquette'!C102 -> ECUE | C102: ='[1]S3 Maquette'!F102 -> 0 | D102: 1 | E102: OUI | F102: OUI | G102: OUI | H102: OUI | I102: OUI | K102: CCI (CC Intégral) | T102: Le statut de non assidu n'est pas autorisé pour les étudiants du parcours Regensburg
A103: ='[1]S3 Maquette'!B103 -> Grammaire: théorie et pratique 3 ALLEMAND | B103: ='[1]S3 Maquette'!C103 -> ECUE | C103: ='[1]S3 Maquette'!F103 -> 0 | D103: 1 | E103: OUI | F103: OUI | G103: OUI | H103: OUI | I103: OUI | K103: CCI (CC Intégral) | T103: Le statut de non assidu n'est pas autorisé pour les étudiants du parcours Regensburg
A104: ='[1]S3 Maquette'!B104 -> Langue B étudiants allemands | B104: ='[1]S3 Maquette'!C104 -> BLOC | C104: ='[1]S3 Maquette'!F104 -> 0 | D104: 1 | E104: OUI | F104: OUI | G104: OUI | H104: OUI | I104: NON | K104: CCI (CC Intégral) | T104: Le statut de non assidu n'est pas autorisé pour les étudiants du parcours Regensburg
A105: ='[1]S3 Maquette'!B105 -> Langue B étudiants allemands | B105: ='[1]S3 Maquette'!C105 -> UE | C105: ='[1]S3 Maquette'!F105 -> 0 | D105: 1 | E105: OUI | F105: OUI | G105: OUI | H105: OUI | I105: NON | K105: CCI (CC Intégral) | T105: Le statut de non assidu n'est pas autorisé pour les étudiants du parcours Regensburg
A106: ='[1]S3 Maquette'!B106 -> Traduction et analyse de documents 3 ALLEMAND | B106: ='[1]S3 Maquette'!C106 -> ECUE | C106: ='[1]S3 Maquette'!F106 -> 0 | D106: 1 | E106: OUI | F106: OUI | G106: OUI | H106: OUI | I106: OUI | K106: CCI (CC Intégral) | T106: Le statut de non assidu n'est pas autorisé pour les étudiants du parcours Regensburg
A107: ='[1]S3 Maquette'!B107 -> 2 ECUE de langue B au choix | B107: ='[1]S3 Maquette'!C107 -> ECUE | C107: ='[1]S3 Maquette'!F107 -> 0 | H107: OUI | T107: Le statut de non assidu n'est pas autorisé pour les étudiants du parcours Regensburg
A108: ='[1]S3 Maquette'!B108 -> 2 ECUE à choisir | B108: ='[1]S3 Maquette'!C108 -> OPTION | C108: ='[1]S3 Maquette'!F108 -> 0 | T108: Le statut de non assidu n'est pas autorisé pour les étudiants du parcours Regensburg
A109: ='[1]S3 Maquette'!B109 -> Culture 3 ARABE | B109: ='[1]S3 Maquette'!C109 -> ECUE | C109: ='[1]S3 Maquette'!F109 -> 0 | D109: 1 | E109: OUI | F109: OUI | G109: OUI | H109: OUI | I109: OUI | K109: CCI (CC Intégral) | T109: Le statut de non assidu n'est pas autorisé pour les étudiants du parcours Regensburg
A110: ='[1]S3 Maquette'!B110 -> Langue, traduction, expression écrite et orale 3 ARABE | B110: ='[1]S3 Maquette'!C110 -> ECUE | C110: ='[1]S3 Maquette'!F110 -> 0 | D110: 1 | E110: OUI | F110: OUI | G110: OUI | H110: OUI | I110: OUI | K110: CCI (CC Intégral) | T110: Le statut de non assidu n'est pas autorisé pour les étudiants du parcours Regensburg
A111: ='[1]S3 Maquette'!B111 -> Langue de spécialité 3 ARABE | B111: ='[1]S3 Maquette'!C111 -> ECUE | C111: ='[1]S3 Maquette'!F111 -> 0 | D111: 1 | E111: OUI | F111: OUI | G111: OUI | H111: OUI | I111: OUI | K111: CCI (CC Intégral) | T111: Le statut de non assidu n'est pas autorisé pour les étudiants du parcours Regensburg
A112: ='[1]S3 Maquette'!B112 -> Culture 3 CHINOIS | B112: ='[1]S3 Maquette'!C112 -> ECUE | C112: ='[1]S3 Maquette'!F112 -> 0 | D112: 1 | E112: OUI | F112: OUI | G112: OUI | H112: OUI | I112: OUI | K112: CCI (CC Intégral) | T112: Le statut de non assidu n'est pas autorisé pour les étudiants du parcours Regensburg
A113: ='[1]S3 Maquette'!B113 -> Langue, traduction, expression écrite et orale 3 CHINOIS | B113: ='[1]S3 Maquette'!C113 -> ECUE | C113: ='[1]S3 Maquette'!F113 -> 0 | D113: 1 | E113: OUI | F113: OUI | G113: OUI | H113: OUI | I113: OUI | K113: CCI (CC Intégral) | T113: Le statut de non assidu n'est pas autorisé pour les étudiants du parcours Regensburg
A114: ='[1]S3 Maquette'!B114 -> Langue de spécialité 3 CHINOIS | B114: ='[1]S3 Maquette'!C114 -> ECUE | C114: ='[1]S3 Maquette'!F114 -> 0 | D114: 1 | E114: OUI | F114: OUI | G114: OUI | H114: OUI | I114: OUI | K114: CCI (CC Intégral) | T114: Le statut de non assidu n'est pas autorisé pour les étudiants du parcours Regensburg
A115: ='[1]S3 Maquette'!B115 -> Culture 3 ESPAGNOL | B115: ='[1]S3 Maquette'!C115 -> ECUE | C115: ='[1]S3 Maquette'!F115 -> 0 | D115: 1 | E115: OUI | F115: OUI | G115: OUI | H115: OUI | I115: OUI | K115: CCI (CC Intégral) | T115: Le statut de non assidu n'est pas autorisé pour les étudiants du parcours Regensburg
A116: ='[1]S3 Maquette'!B116 -> Langue, et traduction 3 ESPAGNOL | B116: ='[1]S3 Maquette'!C116 -> ECUE | C116: ='[1]S3 Maquette'!F116 -> 0 | D116: 1 | E116: OUI | F116: OUI | G116: OUI | H116: OUI | I116: OUI | K116: CCI (CC Intégral) | T116: Le statut de non assidu n'est pas autorisé pour les étudiants du parcours Regensburg
A117: ='[1]S3 Maquette'!B117 -> Langue de spécialité et expression orale 3 ESPAGNOL | B117: ='[1]S3 Maquette'!C117 -> ECUE | C117: ='[1]S3 Maquette'!F117 -> 0 | D117: 1 | E117: OUI | F117: OUI | G117: OUI | H117: OUI | I117: OUI | K117: CCI (CC Intégral) | T117: Le statut de non assidu n'est pas autorisé pour les étudiants du parcours Regensburg
A118: ='[1]S3 Maquette'!B118 -> Culture 3 ITALIEN | B118: ='[1]S3 Maquette'!C118 -> ECUE | C118: ='[1]S3 Maquette'!F118 -> 0 | D118: 1 | E118: OUI | F118: OUI | G118: OUI | H118: OUI | I118: OUI | K118: CCI (CC Intégral) | T118: Le statut de non assidu n'est pas autorisé pour les étudiants du parcours Regensburg
A119: ='[1]S3 Maquette'!B119 -> Langue et traduction 3 ITALIEN | B119: ='[1]S3 Maquette'!C119 -> ECUE | C119: ='[1]S3 Maquette'!F119 -> 0 | D119: 1 | E119: OUI | F119: OUI | G119: OUI | H119: OUI | I119: OUI | K119: CCI (CC Intégral) | T119: Le statut de non assidu n'est pas autorisé pour les étudiants du parcours Regensburg
A120: ='[1]S3 Maquette'!B120 -> Langue de spécialité et expression orale 3 ITALIEN | B120: ='[1]S3 Maquette'!C120 -> ECUE | C120: ='[1]S3 Maquette'!F120 -> 0 | D120: 1 | E120: OUI | F120: OUI | G120: OUI | H120: OUI | I120: OUI | K120: CCI (CC Intégral) | T120: Le statut de non assidu n'est pas autorisé pour les étudiants du parcours Regensburg
... A154: ='[1]S3 Maquette'!B154 -> Cours interculturel | B154: ='[1]S3 Maquette'!C154 -> ECUE | C154: ='[1]S3 Maquette'!F154 -> 0 | D154: 1 | E154: OUI | F154: OUI | G154: OUI | H154: OUI | I154: OUI | K154: CCI (CC Intégral) | T154: Le statut de non assidu n'est pas autorisé pour les étudiants du parcours Regensburg
A155: ='[1]S3 Maquette'!B155 -> 0 | B155: ='[1]S3 Maquette'!C155 -> 0 | C155: ='[1]S3 Maquette'!F155 -> 0
A156: ='[1]S3 Maquette'!B156 -> 0 | B156: ='[1]S3 Maquette'!C156 -> 0 | C156: ='[1]S3 Maquette'!F156 -> 0
A157: ='[1]S3 Maquette'!B157 -> 0 | B157: ='[1]S3 Maquette'!C157 -> 0 | C157: ='[1]S3 Maquette'!F157 -> 0
A158: ='[1]S3 Maquette'!B158 -> 0 | B158: ='[1]S3 Maquette'!C158 -> 0 | C158: ='[1]S3 Maquette'!F158 -> 0
A159: ='[1]S3 Maquette'!B159 -> 0 | B159: ='[1]S3 Maquette'!C159 -> 0 | C159: ='[1]S3 Maquette'!F159 -> 0
A160: ='[1]S3 Maquette'!B160 -> 0 | B160: ='[1]S3 Maquette'!C160 -> 0 | C160: ='[1]S3 Maquette'!F160 -> 0
A161: ='[1]S3 Maquette'!B161 -> 0 | B161: ='[1]S3 Maquette'!C161 -> 0 | C161: ='[1]S3 Maquette'!F161 -> 0
A162: ='[1]S3 Maquette'!B162 -> 0 | B162: ='[1]S3 Maquette'!C162 -> 0 | C162: ='[1]S3 Maquette'!F162 -> 0
A163: ='[1]S3 Maquette'!B163 -> 0 | B163: ='[1]S3 Maquette'!C163 -> 0 | C163: ='[1]S3 Maquette'!F163 -> 0
A164: ='[1]S3 Maquette'!B164 -> 0 | B164: ='[1]S3 Maquette'!C164 -> 0 | C164: ='[1]S3 Maquette'!F164 -> 0
A165: ='[1]S3 Maquette'!B165 -> 0 | B165: ='[1]S3 Maquette'!C165 -> 0 | C165: ='[1]S3 Maquette'!F165 -> 0
A166: ='[1]S3 Maquette'!B166 -> 0 | B166: ='[1]S3 Maquette'!C166 -> 0 | C166: ='[1]S3 Maquette'!F166 -> 0
... A301: ='[1]S3 Maquette'!B301 -> 0 | B301: ='[1]S3 Maquette'!C301 -> 0 | C301: ='[1]S3 Maquette'!F301 -> 0

Sheet S4 Maquette
A7: Composante | B7: ='Fiche Générale'!B3 -> Portail_LLAC | C7: Diplôme | E7: ='Fiche Générale'!B4 -> Langues Etrangères Appliquées | G7: Code diplôme | H7: ='Fiche Générale'!B5 -> 0
C10: Parcours type | E10: ='Fiche Générale'!B9 -> LEA Anglais - Allemand
A13: Année | B13: ='S3 Maquette'!B13 -> 2ème année de Portail | C13: Code année | E13: ='S3 Maquette'!E13 -> 0 | G13: Heures Maquette | H13: =Calcul!J7 -> 2421
A15: Semestre | B15: Semestre 4 | C15: Code semestre | G15: Heures Valorisées | H15: =Calcul!J20 -> 270
A18: Niveau | B18: Libellé ELP | C18: Nature ELP | D18: ECTS | E18: Type | F18: Statut | G18: Code Apogée | H18: CNU | I18: Heure CM | J18: Heure TD | K18: Heure TP | L18: Langues | M18: Mutualisation | N18: Formation Porteuse | O18: Observations / Remarques ex: Intervention à titre gracieux / Capacité d'accueil max
A19: 0 | B19: Compétences transversales S4 | C19: UE | D19: 6
A20: 0.1 | B20: Compétences écrites 2 | C20: ECUE
A21: 0.2 | B21: Compétences numériques 2 | C21: ECUE
A22: 0.3 | B22: Langue Vivante-4 | C22: ECUE | O22: Neutralisation de l'ECUE transversale Langue vivante étrangère pour les étudiants de LEA
B23: Min 1 Max 1 | C23: OPTION | O23: Neutralisation de l'ECUE transversale Langue vivante étrangère pour les étudiants de LEA
A24: 0.3.1 | B24: Anglais 4 | C24: ECUE | O24: Neutralisation de l'ECUE transversale Langue vivante étrangère pour les étudiants de LEA
A25: 0.3.2 | B25: Espagnol | C25: ECUE | O25: Neutralisation de l'ECUE transversale Langue vivante étrangère pour les étudiants de LEA
A26: 0.3.3 | B26: Italien | C26: ECUE | O26: Neutralisation de l'ECUE transversale Langue vivante étrangère pour les étudiants de LEA
B27: Choix du parcours (général ou mobilité) : 1 parcours au choix | C27: OPTION
A28: 1 | B28: LEA général Anglais - Allemand | C28: Parcours Pédagogique
A29: 1.1 | B29: Langue A: Anglais Non débutant 4 | C29: UE | D29: 6
B30: Culture 4 ANGLAIS | C30: ECUE | I30: 12 | M30: Porteuse
B31: Langue et traduction 4 ANGLAIS | C31: ECUE | J31: 24 | M31: Porteuse
B32: Langue de spécialité et expression orale 4 ANGLAIS | C32: ECUE | J32: 12 | K32: 12 | M32: Porteuse
A33: 1.2 | B33: Langue B: Allemand Non débutant 4 | C33: UE | D33: 6 | O33: UE disciplinaire offerte également en approfondissement
B34: Culture 4 ALLEMAND | C34: ECUE | I34: 12 | M34: Porteuse | O34: UE disciplinaire offerte également en approfondissement
B35: Traduction et analyse de documents 4 ALLEMAND | C35: ECUE | J35: 36 | M35: Porteuse | O35: UE disciplinaire offerte également en approfondissement
B36: Grammaire: théorie et pratique 4 ALLEMAND | C36: ECUE | J36: 36 | K36: 12 | M36: Porteuse | O36: UE disciplinaire offerte également en approfondissement
A37: 1.3 | B37: Matières d'application 4 | C37: UE | D37: 6
B38: Gestion: théorie des organisations et GRH/Management: organizational theory and HR management 4 | C38: ECUE | I38: 12 | J38: 12 | M38: Porteuse
B39: Interculturalité, médiation culturelle et publics étrangers : étude de cas | C39: ECUE | J39: 12 | M39: Porteuse
B40: Traduction-rédaction technique 4 | C40: ECUE | J40: 12 | M40: Porteuse
B41: Communication professionnelle 4 | C41: ECUE | J41: 12 | M41: Porteuse
A42: 1.4 | B42: Approfondissement ou langue C | C42: UE
B43: 1 UE au choix | C43: OPTION
A44: 1.4.1 | B44: Approfondissement Allemand Non débutant 4 | C44: UE | D44: 6 | J44: 36 | M44: Porteuse
A45: 1.4.2 | B45: Approfondissement Arabe Niveau 4 | C45: UE | D45: 6 | I45: 12 | J45: 12 | M45: Portée
A46: 1.4.3 | B46: Approfondissement Chinois Niveau 4 | C46: UE | D46: 6 | I46: 12 | J46: 12 | M46: Portée
A47: 1.4.4 | B47: Approfondissement Espagnol 4 | C47: UE | D47: 6 | M47: Portée
B48: Langue 4 ESPAGNOL | C48: ECUE | J48: 24 | M48: Portée | N48: LEA disciplinaire Langue B: Langue et traduction 4 ESPAGNOL
B49: Communication écrite et orale 4 ESPAGNOL | C49: ECUE | J49: 12 | K49: 12 | M49: Portée | N49: LEA disciplinaire Langue B: Langue de spécialité et expression orale 4 ESPAGNOL
A50: 1.4.5 | B50: Approfondissement Italien 4 | C50: UE | D50: 6 | M50: Portée
B51: Langue 4 ITALIEN | C51: ECUE | J51: 24 | M51: Portée
B52: Culture et expression 4 ITALIEN | C52: ECUE | I52: 12 | M52: Portée
A53: 1.4.6 | B53: Approfondissement Portugais Niveau 4 | C53: UE | D53: 6 | M53: Portée
B54: Langue 4 PORTUGAIS | C54: ECUE | J54: 24 | M54: Portée
B55: Culture 4 PORTUGAIS | C55: ECUE | J55: 12 | M55: Portée
A56: 1.4.7 | B56: Approfondissement Russe Pré-intermédiaire avancé 4 | C56: UE | D56: 6 | M56: Portée | N56: LEA disciplinaire langue B Grammaire: théorie et pratique Russe avancé 4
B57: Grammaire: théorie et pratique Russe Pré-intermédiaire avancé 4 | C57: ECUE | I57: 12 | J57: 24 | M57: Portée | N57: LEA disciplinaire langue B Grammaire: théorie et pratique Russe avancé 4
A58: 1.4.8 | B58: Approfondissement Matières d'application 4 | C58: UE | D58: 6 | M58: Portée
B59: Initiation à l'analyse financière et de gestion/Introduction to financial and management analysis 4 | C59: ECUE | I59: 12 | J59: 12 | M59: Portée
A60: 1.4.9 | B60: Langue B: Allemand Non débutant 4 | C60: UE | D60: 6 | M60: Portée | N60: LEA disciplinaire langue B
B61: Culture 4 ALLEMAND | C61: ECUE | I61: 12 | M61: Portée | N61: LEA disciplinaire langue B
B62: Traduction et analyse de documents 4 ALLEMAND | C62: ECUE | J62: 36 | M62: Portée | N62: LEA disciplinaire langue B
B63: Grammaire: théorie et pratique 4 ALLEMAND | C63: ECUE | J63: 36 | K63: 12 | M63: Portée | N63: LEA disciplinaire langue B
A64: 1.4.10 | B64: Langue B: Arabe 4 | C64: UE | D64: 6 | M64: Portée | N64: LEA disciplinaire langue B
B65: Culture 4 ARABE | C65: ECUE | I65: 12 | M65: Portée | N65: LEA disciplinaire langue B
B66: Langue, traduction, expression écrite et orale 4 ARABE | C66: ECUE | J66: 24 | K66: 12 | M66: Portée | N66: LEA disciplinaire langue B
B67: Langue de spécialité 4 ARABE | C67: ECUE | J67: 12 | M67: Portée | N67: LEA disciplinaire langue B
A68: 1.4.11 | B68: Langue B: Chinois Niveau 4 | C68: UE | D68: 6 | M68: Portée | N68: LEA disciplinaire langue B
B69: Culture 4 CHINOIS | C69: ECUE | I69: 12 | M69: Portée | N69: LEA disciplinaire langue B
B70: Langue, traduction, expression écrite et orale 4 CHINOIS | C70: ECUE | J70: 24 | K70: 12 | M70: Portée | N70: LEA disciplinaire langue B
B71: Langue de spécialité 4 CHINOIS | C71: ECUE | J71: 12 | M71: Portée | N71: LEA disciplinaire langue B
A72: 1.4.12 | B72: Langue B: Portugais Niveau 4 | C72: UE | D72: 6 | M72: Portée | N72: LEA disciplinaire langue B
B73: Culture 4 PORTUGAIS | C73: ECUE | I73: 12 | M73: Portée | N73: LEA disciplinaire langue B
B74: Langue, traduction, expression écrite et orale 4 PORTUGAIS | C74: ECUE | J74: 24 | K74: 12 | M74: Portée | N74: LEA disciplinaire langue B
B75: Langue de spécialité 4 PORTUGAIS | C75: ECUE | J75: 12 | M75: Portée | N75: LEA disciplinaire langue B
A76: 1.4.13 | B76: Langue B: Russe avancé 4 | C76: UE | D76: 6 | M76: Portée | N76: LEA disciplinaire langue B
B77: Culture Russe avancé 4 | C77: ECUE | I77: 12 | M77: Portée | N77: LEA disciplinaire langue B
B78: Expression Russe avancé 4 | C78: ECUE | J78: 24 | M78: Portée | N78: LEA disciplinaire langue B
B79: Grammaire: théorie et pratique Russe avancé 4 | C79: ECUE | I79: 12 | J79: 24 | M79: Portée | N79: LEA disciplinaire langue B
A80: 1.4.14 | B80: Langue B: Russe pré-intermédiaire avancé 4 | C80: UE | D80: 6 | M80: Portée | N80: LEA disciplinaire langue B
B81: Culture Russe pré-intermédiaire avancé 4 | C81: ECUE | I81: 12 | M81: Portée | N81: LEA disciplinaire langue B
B82: Expression écrite et orale Russe pré-intermédiaire avancé 4 | C82: ECUE | J82: 24 | K82: 12 | M82: Portée | N82: LEA disciplinaire langue B
B83: Grammaire: théorie et pratique Russe pré-intermédiaire avancé 4 | C83: ECUE | I83: 12 | J83: 24 | M83: Portée | N83: LEA disciplinaire langue B
A84: 1.4.15 | B84: Niçois: approfondissement de l'oral et de l'écrit | C84: UE | D84: 6 | M84: Portée | N84: Licence Sciences du langage et licence professionnelle patrimoine
B85: Niçois: approfondissement de l'oral et de l'écrit | C85: ECUE | I85: 18 | J85: 18 | M85: Portée | N85: Licence Sciences du langage et licence professionnelle patrimoine
A86: 1.4.16 | B86: Au choix parmi UE 4 du portail LLAC | C86: UE | D86: 6
A87: 2 | B87: LEA Mobilité: Allemagne - Parcours Regensburg | C87: Parcours Pédagogique
A88: 2.1 | B88: Matières d'application 4 | C88: UE | D88: 6
B89: Gestion: théorie des organisations et GRH/Management: organizational theory and HR management 4 | C89: ECUE | I89: 12 | J89: 12 | M89: Portée
B90: Savoirs et pratiques professionnels en tourisme: étude de cas/Professional knowledge and practices in tourism: case study 4 | C90: ECUE | J90: 12 | M90: Portée
B91: Traduction-rédaction technique 4 | C91: ECUE | J91: 12 | M91: Portée
B92: Communication professionnelle 4 | C92: ECUE | J92: 12 | M92: Portée
A93: 2.2 | B93: Langue A: Anglais Non débutant 4 | C93: UE | D93: 6
B94: Culture 4 ANGLAIS | C94: ECUE | I94: 12 | M94: Portée
B95: Langue et traduction 4 ANGLAIS | C95: ECUE | J95: 24 | M95: Portée
B96: Langue de spécialité et expression orale 4 ANGLAIS | C96: ECUE | J96: 12 | K96: 12 | M96: Portée
A97: 2.3 | B97: Langue B: option selon l'université d'origine | C97: UE
B98: 1 bloc à choisir | C98: OPTION
A99: 2.3.1 | B99: Langue B étudiants niçois | C99: BLOC
B100: Langue B: Allemand Non débutant 4 | C100: UE | D100: 6 | M100: Portée
B101: Culture 4 ALLEMAND | C101: ECUE | I101: 12 | M101: Portée
B102: Traduction et analyse de documents 4 ALLEMAND | C102: ECUE | J102: 36 | M102: Portée
B103: Grammaire: théorie et pratique 4 ALLEMAND | C103: ECUE | J103: 36 | K103: 12 | M103: Portée
A104: 2.3.2 | B104: Langue B étudiants allemands | C104: BLOC
B105: Langue B étudiants allemands | C105: UE | D105: 6 | M105: Portée
B106: Traduction et analyse de documents 4 ALLEMAND | C106: ECUE | J106: 24 | M106: Portée
B107: 2 ECUE de langue B au choix | C107: ECUE | M107: Portée
B108: 2 ECUE à choisir | C108: OPTION
B109: Culture 4 ARABE | C109: ECUE | I109: 12 | M109: Portée
B110: Langue, traduction, expression écrite et orale 4 ARABE | C110: ECUE | J110: 24 | K110: 12 | M110: Portée
B111: Langue de spécialité 4 ARABE | C111: ECUE | J111: 12 | M111: Portée
B112: Culture 4 CHINOIS | C112: ECUE | I112: 12 | M112: Portée
B113: Langue, traduction, expression écrite et orale 4 CHINOIS | C113: ECUE | J113: 24 | K113: 12 | M113: Portée
...

Sheet S4 MCC
A7: Composante | B7: ='Fiche Générale'!B3 -> Portail_LLAC | C7: Diplôme | E7: ='Fiche Générale'!B4 -> Langues Etrangères Appliquées | G7: Code diplôme | H7: ='Fiche Générale'!B5 -> 0
C10: Parcours type | E10: ='Fiche Générale'!B9 -> LEA Anglais - Allemand
M12: 1ère session | P12: Seconde Chance
A13: Année | B13: ='S4 Maquette'!B13 -> 2ème année de Portail | D13: Code Année | E13: ='S4 Maquette'!E13 -> 0
M14: Contrôle continu | N14: Contrôle Terminal
A15: Semestre | B15: ='S4 Maquette'!B15 -> Semestre 4 | D15: Code Semestre | E15: ='S4 Maquette'!E15:F16 -> 0
A18: Libellé | B18: Nature | C18: Statut | D18: Coefficient | E18: Notes attendues | F18: Résultat attendu: (ACQ/AJ) | G18: Conservation note | H18: Capitalisable | I18: Compensable | J18: Seuil de compensation / 20 | K18: Type de contrôle | L18: Si CC&CT coef du CT | M18: Nbre d'évalution minimum | N18: Nature | O18: Durée | P18: Format d'évaluation | Q18: Nature | R18: Durée | S18: Modalités de mise en œuvre | T18: Commentaires
A19: ='S4 Maquette'!B19 -> Compétences transversales S4 | B19: ='S4 Maquette'!C19 -> UE | C19: ='S4 Maquette'!F19 -> 0
A20: ='S4 Maquette'!B20 -> Compétences écrites 2 | B20: ='S4 Maquette'!C20 -> ECUE | C20: ='S4 Maquette'!F20 -> 0
A21: ='S4 Maquette'!B21 -> Compétences numériques 2 | B21: ='S4 Maquette'!C21 -> ECUE | C21: ='S4 Maquette'!F21 -> 0
A22: ='S4 Maquette'!B22 -> Langue Vivante-4 | B22: ='S4 Maquette'!C22 -> ECUE | C22: ='S4 Maquette'!F22 -> 0
A23: ='S4 Maquette'!B23 -> Min 1 Max 1 | B23: ='S4 Maquette'!C23 -> OPTION | C23: ='S4 Maquette'!F23 -> 0
A24: ='S4 Maquette'!B24 -> Anglais 4 | B24: ='S4 Maquette'!C24 -> ECUE | C24: ='S4 Maquette'!F24 -> 0
A25: ='S4 Maquette'!B25 -> Espagnol | B25: ='S4 Maquette'!C25 -> ECUE | C25: ='S4 Maquette'!F25 -> 0
A26: ='S4 Maquette'!B26 -> Italien | B26: ='S4 Maquette'!C26 -> ECUE | C26: ='S4 Maquette'!F26 -> 0
A27: ='S4 Maquette'!B27 -> Choix du parcours (général ou mobilité) : 1 parcours au choix | B27: ='S4 Maquette'!C27 -> OPTION | C27: ='S4 Maquette'!F27 -> 0
A28: ='S4 Maquette'!B28 -> LEA général Anglais - Allemand | B28: ='S4 Maquette'!C28 -> Parcours Pédagogique | C28: ='S4 Maquette'!F28 -> 0
A29: ='S4 Maquette'!B29 -> Langue A: Anglais Non débutant 4 | B29: ='S4 Maquette'!C29 -> UE | C29: ='S4 Maquette'!F29 -> 0 | D29: 1 | E29: OUI | F29: OUI | G29: OUI | H29: OUI | I29: NON
A30: ='S4 Maquette'!B30 -> Culture 4 ANGLAIS | B30: ='S4 Maquette'!C30 -> ECUE | C30: ='S4 Maquette'!F30 -> 0 | D30: 1 | E30: OUI | F30: OUI | G30: OUI | H30: OUI | I30: OUI | K30: CCI (CC Intégral) | M30: 2 | P30: Autres | S30: Seconde chance : la moyenne de l’ECUE sera calculée en doublant la meilleure note et en plafonnant le résultat à 10/20
A31: ='S4 Maquette'!B31 -> Langue et traduction 4 ANGLAIS | B31: ='S4 Maquette'!C31 -> ECUE | C31: ='S4 Maquette'!F31 -> 0 | D31: 1 | E31: OUI | F31: OUI | G31: OUI | H31: OUI | I31: OUI | K31: CCI (CC Intégral) | M31: 2 | P31: Autres | S31: Seconde chance : la moyenne de l’ECUE sera calculée en doublant la meilleure note et en plafonnant le résultat à 10/20
A32: ='S4 Maquette'!B32 -> Langue de spécialité et expression orale 4 ANGLAIS | B32: ='S4 Maquette'!C32 -> ECUE | C32: ='S4 Maquette'!F32 -> 0 | D32: 1 | E32: OUI | F32: OUI | G32: OUI | H32: OUI | I32: OUI | K32: CCI (CC Intégral) | M32: 2 | P32: Autres | S32: Seconde chance : la moyenne de l’ECUE sera calculée en doublant la meilleure note et en plafonnant le résultat à 10/20
A33: ='S4 Maquette'!B33 -> Langue B: Allemand Non débutant 4 | B33: ='S4 Maquette'!C33 -> UE | C33: ='S4 Maquette'!F33 -> 0 | D33: 1 | E33: OUI | F33: OUI | G33: OUI | H33: OUI | I33: NON
A34: ='S4 Maquette'!B34 -> Culture 4 ALLEMAND | B34: ='S4 Maquette'!C34 -> ECUE | C34: ='S4 Maquette'!F34 -> 0 | D34: 1 | E34: OUI | F34: OUI | G34: OUI | H34: OUI | I34: OUI | K34: CCI (CC Intégral) | M34: 2 | P34: Autres | S34: Seconde chance : la moyenne de l’ECUE sera calculée en doublant la meilleure note et en plafonnant le résultat à 10/20
A35: ='S4 Maquette'!B35 -> Traduction et analyse de documents 4 ALLEMAND | B35: ='S4 Maquette'!C35 -> ECUE | C35: ='S4 Maquette'!F35 -> 0 | D35: 1 | E35: OUI | F35: OUI | G35: OUI | H35: OUI | I35: OUI | K35: CCI (CC Intégral) | M35: 3 | P35: Autres | S35: Seconde chance : la moyenne de l’ECUE sera calculée en doublant la meilleure note et en plafonnant le résultat à 10/20
A36: ='S4 Maquette'!B36 -> Grammaire: théorie et pratique 4 ALLEMAND | B36: ='S4 Maquette'!C36 -> ECUE | C36: ='S4 Maquette'!F36 -> 0 | D36: 1 | E36: OUI | F36: OUI | G36: OUI | H36: OUI | I36: OUI | K36: CCI (CC Intégral) | M36: 3 | P36: Autres | S36: Seconde chance : la moyenne de l’ECUE sera calculée en doublant la meilleure note et en plafonnant le résultat à 10/20
A37: ='S4 Maquette'!B37 -> Matières d'application 4 | B37: ='S4 Maquette'!C37 -> UE | C37: ='S4 Maquette'!F37 -> 0 | D37: 1 | E37: OUI | F37: OUI | G37: OUI | H37: OUI | I37: NON
A38: ='S4 Maquette'!B38 -> Gestion: théorie des organisations et GRH/Management: organizational theory and HR management 4 | B38: ='S4 Maquette'!C38 -> ECUE | C38: ='S4 Maquette'!F38 -> 0 | D38: 1 | E38: OUI | F38: OUI | G38: OUI | H38: OUI | I38: OUI | K38: CCI (CC Intégral) | M38: 2 | P38: Autres | S38: Seconde chance : la moyenne de l’ECUE sera calculée en doublant la meilleure note et en plafonnant le résultat à 10/20
A39: ='S4 Maquette'!B39 -> Interculturalité, médiation culturelle et publics étrangers : étude de cas | B39: ='S4 Maquette'!C39 -> ECUE | C39: ='S4 Maquette'!F39 -> 0 | D39: 1 | E39: OUI | F39: OUI | G39: OUI | H39: OUI | I39: OUI | K39: CCI (CC Intégral) | M39: 2 | P39: Autres | S39: Seconde chance : la moyenne de l’ECUE sera calculée en doublant la meilleure note et en plafonnant le résultat à 10/20
A40: ='S4 Maquette'!B40 -> Traduction-rédaction technique 4 | B40: ='S4 Maquette'!C40 -> ECUE | C40: ='S4 Maquette'!F40 -> 0 | D40: 1 | E40: OUI | F40: OUI | G40: OUI | H40: OUI | I40: OUI | K40: CCI (CC Intégral) | M40: 2 | P40: Autres | S40: Seconde chance : la moyenne de l’ECUE sera calculée en doublant la meilleure note et en plafonnant le résultat à 10/20
A41: ='S4 Maquette'!B41 -> Communication professionnelle 4 | B41: ='S4 Maquette'!C41 -> ECUE | C41: ='S4 Maquette'!F41 -> 0 | D41: 1 | E41: OUI | F41: OUI | G41: OUI | H41: OUI | I41: OUI | K41: CCI (CC Intégral) | M41: 2 | P41: Autres | S41: Seconde chance : la moyenne de l’ECUE sera calculée en doublant la meilleure note et en plafonnant le résultat à 10/20
A42: ='S4 Maquette'!B42 -> Approfondissement ou langue C | B42: ='S4 Maquette'!C42 -> UE | C42: ='S4 Maquette'!F42 -> 0 | D42: 1 | E42: OUI | F42: OUI | G42: OUI | H42: OUI | I42: OUI | K42: CCI (CC Intégral)
A43: ='S4 Maquette'!B43 -> 1 UE au choix | B43: ='S4 Maquette'!C43 -> OPTION | C43: ='S4 Maquette'!F43 -> 0
A44: ='S4 Maquette'!B44 -> Approfondissement Allemand Non débutant 4 | B44: ='S4 Maquette'!C44 -> UE | C44: ='S4 Maquette'!F44 -> 0 | D44: 1 | E44: Les MCC pour les éléments d'OUVERTURE sont reportées dans la maquette/MCC du portail LEA Anglais-Arabe
A45: ='S4 Maquette'!B45 -> Approfondissement Arabe Niveau 4 | B45: ='S4 Maquette'!C45 -> UE | C45: ='S4 Maquette'!F45 -> 0 | D45: 1
A46: ='S4 Maquette'!B46 -> Approfondissement Chinois Niveau 4 | B46: ='S4 Maquette'!C46 -> UE | C46: ='S4 Maquette'!F46 -> 0 | D46: 1
A47: ='S4 Maquette'!B47 -> Approfondissement Espagnol 4 | B47: ='S4 Maquette'!C47 -> UE | C47: ='S4 Maquette'!F47 -> 0 | D47: 1
A48: ='S4 Maquette'!B48 -> Langue 4 ESPAGNOL | B48: ='S4 Maquette'!C48 -> ECUE | C48: ='S4 Maquette'!F48 -> 0 | D48: 1
A49: ='S4 Maquette'!B49 -> Communication écrite et orale 4 ESPAGNOL | B49: ='S4 Maquette'!C49 -> ECUE | C49: ='S4 Maquette'!F49 -> 0 | D49: 1
A50: ='S4 Maquette'!B50 -> Approfondissement Italien 4 | B50: ='S4 Maquette'!C50 -> UE | C50: ='S4 Maquette'!F50 -> 0 | D50: 1
A51: ='S4 Maquette'!B51 -> Langue 4 ITALIEN | B51: ='S4 Maquette'!C51 -> ECUE | C51: ='S4 Maquette'!F51 -> 0 | D51: 1
A52: ='S4 Maquette'!B52 -> Culture et expression 4 ITALIEN | B52: ='S4 Maquette'!C52 -> ECUE | C52: ='S4 Maquette'!F52 -> 0 | D52: 1
A53: ='S4 Maquette'!B53 -> Approfondissement Portugais Niveau 4 | B53: ='S4 Maquette'!C53 -> UE | C53: ='S4 Maquette'!F53 -> 0 | D53: 1
A54: ='S4 Maquette'!B54 -> Langue 4 PORTUGAIS | B54: ='S4 Maquette'!C54 -> ECUE | C54: ='S4 Maquette'!F54 -> 0 | D54: 1
A55: ='S4 Maquette'!B55 -> Culture 4 PORTUGAIS | B55: ='S4 Maquette'!C55 -> ECUE | C55: ='S4 Maquette'!F55 -> 0 | D55: 1
A56: ='S4 Maquette'!B56 -> Approfondissement Russe Pré-intermédiaire avancé 4 | B56: ='S4 Maquette'!C56 -> UE | C56: ='S4 Maquette'!F56 -> 0 | D56: 1
... A85: ='S4 Maquette'!B85 -> Niçois: approfondissement de l'oral et de l'écrit | B85: ='S4 Maquette'!C85 -> ECUE | C85: ='S4 Maquette'!F85 -> 0 | D85: 1
A86: ='S4 Maquette'!B86 -> Au choix parmi UE 4 du portail LLAC | B86: ='S4 Maquette'!C86 -> UE | D86: 1 | E86: OUI | F86: OUI | G86: OUI | H86: OUI | I86: OUI
A87: ='S4 Maquette'!B87 -> LEA Mobilité: Allemagne - Parcours Regensburg | B87: ='S4 Maquette'!C87 -> Parcours Pédagogique | C87: ='S4 Maquette'!F87 -> 0
A88: ='S4 Maquette'!B88 -> Matières d'application 4 | B88: ='S4 Maquette'!C88 -> UE | C88: ='S4 Maquette'!F88 -> 0 | D88: 1 | E88: OUI | F88: OUI | G88: OUI | H88: OUI | I88: OUI | K88: CCI (CC Intégral)
A89: ='S4 Maquette'!B89 -> Gestion: théorie des organisations et GRH/Management: organizational theory and HR management 4 | B89: ='S4 Maquette'!C89 -> ECUE | C89: ='S4 Maquette'!F89 -> 0 | D89: 1 | E89: OUI | F89: OUI | G89: OUI | H89: OUI | I89: OUI | K89: CCI (CC Intégral)
A90: ='S4 Maquette'!B90 -> Savoirs et pratiques professionnels en tourisme: étude de cas/Professional knowledge and practices in tourism: case study 4 | B90: ='S4 Maquette'!C90 -> ECUE | C90: ='S4 Maquette'!F90 -> 0 | D90: 1 | E90: OUI | F90: OUI | G90: OUI | H90: OUI | I90: OUI | K90: CCI (CC Intégral)
A91: ='S4 Maquette'!B91 -> Traduction-rédaction technique 4 | B91: ='S4 Maquette'!C91 -> ECUE | C91: ='S4 Maquette'!F91 -> 0 | D91: 1 | E91: OUI | F91: OUI | G91: OUI | H91: OUI | I91: OUI | K91: CCI (CC Intégral)
A92: ='S4 Maquette'!B92 -> Communication professionnelle 4 | B92: ='S4 Maquette'!C92 -> ECUE | C92: ='S4 Maquette'!F92 -> 0 | D92: 1 | E92: OUI | F92: OUI | G92: OUI | H92: OUI | I92: OUI | K92: CCI (CC Intégral)
A93: ='S4 Maquette'!B93 -> Langue A: Anglais Non débutant 4 | B93: ='S4 Maquette'!C93 -> UE | C93: ='S4 Maquette'!F93 -> 0 | D93: 1 | E93: OUI | F93: OUI | G93: OUI | H93: OUI | I93: NON | K93: CCI (CC Intégral)
A94: ='S4 Maquette'!B94 -> Culture 4 ANGLAIS | B94: ='S4 Maquette'!C94 -> ECUE | C94: ='S4 Maquette'!F94 -> 0 | D94: 1 | E94: OUI | F94: OUI | G94: OUI | H94: OUI | I94: OUI | K94: CCI (CC Intégral)
A95: ='S4 Maquette'!B95 -> Langue et traduction 4 ANGLAIS | B95: ='S4 Maquette'!C95 -> ECUE | C95: ='S4 Maquette'!F95 -> 0 | D95: 1 | E95: OUI | F95: OUI | G95: OUI | H95: OUI | I95: OUI | K95: CCI (CC Intégral)
A96: ='S4 Maquette'!B96 -> Langue de spécialité et expression orale 4 ANGLAIS | B96: ='S4 Maquette'!C96 -> ECUE | C96: ='S4 Maquette'!F96 -> 0 | D96: 1 | E96: OUI | F96: OUI | G96: OUI | H96: OUI | I96: OUI | K96: CCI (CC Intégral)
A97: ='S4 Maquette'!B97 -> Langue B: option selon l'université d'origine | B97: ='S4 Maquette'!C97 -> UE | C97: ='S4 Maquette'!F97 -> 0 | D97: 1 | E97: OUI | F97: OUI | G97: OUI | H97: OUI | I97: NON | K97: CCI (CC Intégral)
A98: ='S4 Maquette'!B98 -> 1 bloc à choisir | B98: ='S4 Maquette'!C98 -> OPTION | C98: ='S4 Maquette'!F98 -> 0
A99: ='S4 Maquette'!B99 -> Langue B étudiants niçois | B99: ='S4 Maquette'!C99 -> BLOC | C99: ='S4 Maquette'!F99 -> 0 | D99: 1 | E99: OUI | F99: OUI | G99: OUI | H99: OUI | I99: NON | K99: CCI (CC Intégral)
A100: ='S4 Maquette'!B100 -> Langue B: Allemand Non débutant 4 | B100: ='S4 Maquette'!C100 -> UE | C100: ='S4 Maquette'!F100 -> 0 | D100: 1 | E100: OUI | F100: OUI | G100: OUI | H100: OUI | I100: NON | K100: CCI (CC Intégral)
A101: ='S4 Maquette'!B101 -> Culture 4 ALLEMAND | B101: ='S4 Maquette'!C101 -> ECUE | C101: ='S4 Maquette'!F101 -> 0 | D101: 1 | E101: OUI | F101: OUI | G101: OUI | H101: OUI | I101: OUI | K101: CCI (CC Intégral)
A102: ='S4 Maquette'!B102 -> Traduction et analyse de documents 4 ALLEMAND | B102: ='S4 Maquette'!C102 -> ECUE | C102: ='S4 Maquette'!F102 -> 0 | D102: 1 | E102: OUI | F102: OUI | G102: OUI | H102: OUI | I102: OUI | K102: CCI (CC Intégral)
A103: ='S4 Maquette'!B103 -> Grammaire: théorie et pratique 4 ALLEMAND | B103: ='S4 Maquette'!C103 -> ECUE | C103: ='S4 Maquette'!F103 -> 0 | D103: 1 | E103: OUI | F103: OUI | G103: OUI | H103: OUI | I103: OUI | K103: CCI (CC Intégral)
A104: ='S4 Maquette'!B104 -> Langue B étudiants allemands | B104: ='S4 Maquette'!C104 -> BLOC | C104: ='S4 Maquette'!F104 -> 0 | D104: 1 | E104: OUI | F104: OUI | G104: OUI | H104: OUI | I104: NON | K104: CCI (CC Intégral)
A105: ='S4 Maquette'!B105 -> Langue B étudiants allemands | B105: ='S4 Maquette'!C105 -> UE | C105: ='S4 Maquette'!F105 -> 0 | D105: 1 | E105: OUI | F105: OUI | G105: OUI | H105: OUI | I105: NON | K105: CCI (CC Intégral)
A106: ='S4 Maquette'!B106 -> Traduction et analyse de documents 4 ALLEMAND | B106: ='S4 Maquette'!C106 -> ECUE | C106: ='S4 Maquette'!F106 -> 0 | D106: 1 | E106: OUI | F106: OUI | G106: OUI | H106: OUI | I106: OUI | K106: CCI (CC Intégral)
A107: ='S4 Maquette'!B107 -> 2 ECUE de langue B au choix | B107: ='S4 Maquette'!C107 -> ECUE | C107: ='S4 Maquette'!F107 -> 0
A108: ='S4 Maquette'!B108 -> 2 ECUE à choisir | B108: ='S4 Maquette'!C108 -> OPTION | C108: ='S4 Maquette'!F108 -> 0
A109: ='S4 Maquette'!B109 -> Culture 4 ARABE | B109: ='S4 Maquette'!C109 -> ECUE | C109: ='S4 Maquette'!F109 -> 0 | D109: 1 | E109: OUI | F109: OUI | G109: OUI | H109: OUI | I109: OUI | K109: CCI (CC Intégral)
A110: ='S4 Maquette'!B110 -> Langue, traduction, expression écrite et orale 4 ARABE | B110: ='S4 Maquette'!C110 -> ECUE | C110: ='S4 Maquette'!F110 -> 0 | D110: 1 | E110: OUI | F110: OUI | G110: OUI | H110: OUI | I110: OUI | K110: CCI (CC Intégral)
A111: ='S4 Maquette'!B111 -> Langue de spécialité 4 ARABE | B111: ='S4 Maquette'!C111 -> ECUE | C111: ='S4 Maquette'!F111 -> 0 | D111: 1 | E111: OUI | F111: OUI | G111: OUI | H111: OUI | I111: OUI | K111: CCI (CC Intégral)
A112: ='S4 Maquette'!B112 -> Culture 4 CHINOIS | B112: ='S4 Maquette'!C112 -> ECUE | C112: ='S4 Maquette'!F112 -> 0 | D112: 1 | E112: OUI | F112: OUI | G112: OUI | H112: OUI | I112: OUI | K112: CCI (CC Intégral)
A113: ='S4 Maquette'!B113 -> Langue, traduction, expression écrite et orale 4 CHINOIS | B113: ='S4 Maquette'!C113 -> ECUE | C113: ='S4 Maquette'!F113 -> 0 | D113: 1 | E113: OUI | F113: OUI | G113: OUI | H113: OUI | I113: OUI | K113: CCI (CC Intégral)
A114: ='S4 Maquette'!B114 -> Langue de spécialité 4 CHINOIS | B114: ='S4 Maquette'!C114 -> ECUE | C114: ='S4 Maquette'!F114 -> 0 | D114: 1 | E114: OUI | F114: OUI | G114: OUI | H114: OUI | I114: OUI | K114: CCI (CC Intégral)
A115: ='S4 Maquette'!B115 -> Culture 4 ESPAGNOL | B115: ='S4 Maquette'!C115 -> ECUE | C115: ='S4 Maquette'!F115 -> 0 | D115: 1 | E115: OUI | F115: OUI | G115: OUI | H115: OUI | I115: OUI | K115: CCI (CC Intégral)
A116: ='S4 Maquette'!B116 -> Langue et traduction 4 ESPAGNOL | B116: ='S4 Maquette'!C116 -> ECUE | C116: ='S4 Maquette'!F116 -> 0 | D116: 1 | E116: OUI | F116: OUI | G116: OUI | H116: OUI | I116: OUI | K116: CCI (CC Intégral)
A117: ='S4 Maquette'!B117 -> Langue de spécialité et expression orale 4 ESPAGNOL | B117: ='S4 Maquette'!C117 -> ECUE | C117: ='S4 Maquette'!F117 -> 0 | D117: 1 | E117: OUI | F117: OUI | G117: OUI | H117: OUI | I117: OUI | K117: CCI (CC Intégral)
A118: ='S4 Maquette'!B118 -> Culture 4 ITALIEN | B118: ='S4 Maquette'!C118 -> ECUE | C118: ='S4 Maquette'!F118 -> 0 | D118: 1 | E118: OUI | F118: OUI | G118: OUI | H118: OUI | I118: OUI | K118: CCI (CC Intégral)
A119: ='S4 Maquette'!B119 -> Langue et traduction 4 ITALIEN | B119: ='S4 Maquette'!C119 -> ECUE | C119: ='S4 Maquette'!F119 -> 0 | D119: 1 | E119: OUI | F119: OUI | G119: OUI | H119: OUI | I119: OUI | K119: CCI (CC Intégral)
A120: ='S4 Maquette'!B120 -> Langue de spécialité et expression orale 4 ITALIEN | B120: ='S4 Maquette'!C120 -> ECUE | C120: ='S4 Maquette'!F120 -> 0 | D120: 1 | E120: OUI | F120: OUI | G120: OUI | H120: OUI | I120: OUI | K120: CCI (CC Intégral)
... A152: ='S4 Maquette'!B152 -> Grammaire historique du niçois | B152: ='S4 Maquette'!C152 -> ECUE | C152: ='S4 Maquette'!F152 -> 0 | D152: 1 | E152: OUI | F152: OUI | G152: OUI | H152: OUI | I152: OUI | K152: CCI (CC Intégral)
A153: ='S4 Maquette'!B153 -> Approfondissement français | B153: ='S4 Maquette'!C153 -> UE | C153: ='S4 Maquette'!F153 -> 0 | D153: 1 | E153: OUI | F153: OUI | G153: OUI | H153: OUI | I153: OUI | K153: CCI (CC Intégral) | T153: voir MCC de la licence Lettres
A154: ='S4 Maquette'!B154 -> 1 UE ECUE au choix parmi les ouvertures en L1 et L2 de langue française et littérature française ou comparée | B154: ='S4 Maquette'!C154 -> OPTION | C154: ='S4 Maquette'!F154 -> 0
A155: ='S4 Maquette'!B155 -> 0 | B155: ='S4 Maquette'!C155 -> 0 | C155: ='S4 Maquette'!F155 -> 0
A156: ='S4 Maquette'!B156 -> 0 | B156: ='S4 Maquette'!C156 -> 0 | C156: ='S4 Maquette'!F156 -> 0
A157: ='S4 Maquette'!B157 -> 0 | B157: ='S4 Maquette'!C157 -> 0 | C157: ='S4 Maquette'!F157 -> 0
A158: ='S4 Maquette'!B158 -> 0 | B158: ='S4 Maquette'!C158 -> 0 | C158: ='S4 Maquette'!F158 -> 0
A159: ='S4 Maquette'!B159 -> 0 | B159: ='S4 Maquette'!C159 -> 0 | C159: ='S4 Maquette'!F159 -> 0
A160: ='S4 Maquette'!B160 -> 0 | B160: ='S4 Maquette'!C160 -> 0 | C160: ='S4 Maquette'!F160 -> 0
A161: ='S4 Maquette'!B161 -> 0 | B161: ='S4 Maquette'!C161 -> 0 | C161: ='S4 Maquette'!F161 -> 0
A162: ='S4 Maquette'!B162 -> 0 | B162: ='S4 Maquette'!C162 -> 0 | C162: ='S4 Maquette'!F162 -> 0
A163: ='S4 Maquette'!B163 -> 0 | B163: ='S4 Maquette'!C163 -> 0 | C163: ='S4 Maquette'!F163 -> 0
A164: ='S4 Maquette'!B164 -> 0 | B164: ='S4 Maquette'!C164 -> 0 | C164: ='S4 Maquette'!F164 -> 0
A165: ='S4 Maquette'!B165 -> 0 | B165: ='S4 Maquette'!C165 -> 0 | C165: ='S4 Maquette'!F165 -> 0
... A301: ='S4 Maquette'!B301 -> 0 | B301: ='S4 Maquette'!C301 -> 0 | C301: ='S4 Maquette'!F301 -> 0

Sheet S4 MCC NA
A7: Composante | B7: ='[1]Fiche Générale'!B3 -> Portail_LLAC | C7: Diplôme | E7: ='[1]Fiche Générale'!B4 -> Langues Etrangères Appliquées | G7: Code diplôme | H7: ='[1]Fiche Générale'!B5 -> 0
C10: Parcours type | E10: ='[1]Fiche Générale'!B9 -> LEA Anglais - Allemand
M12: 1ère session | P12: Seconde Chance
A13: Année | B13: ='[1]S4 Maquette'!B13 -> 2ème année de Portail | D13: Code Année | E13: ='[1]S4 Maquette'!E13 -> 0
M14: Non assidus | N14: Contrôle Terminal
A15: Semestre | B15: ='[1]S4 Maquette'!B15 -> Semestre 4 | D15: Code Semestre | E15: ='[1]S4 Maquette'!E15:F16 -> 0
A18: Libellé | B18: Nature | C18: Statut | D18: Coefficient | E18: Notes attendues | F18: Résultat attendu: (ACQ/AJ) | G18: Conservation note | H18: Capitalisable | I18: Compensable | J18: Seuil de compensation / 20 | K18: Type de contrôle | L18: Si CC&CT coef du CT | M18: Nbre d'évalution minimum | N18: Nature | O18: Durée | P18: Format d'évaluation | Q18: Nature | R18: Durée | S18: Modalités de mise en œuvre | T18: Commentaires
A19: ='[1]S4 Maquette'!B19 -> Compétences transversales S4 | B19: ='[1]S4 Maquette'!C19 -> UE | C19: ='[1]S4 Maquette'!F19 -> 0
A20: ='[1]S4 Maquette'!B20 -> Compétences écrites 2 | B20: ='[1]S4 Maquette'!C20 -> ECUE | C20: ='[1]S4 Maquette'!F20 -> 0
A21: ='[1]S4 Maquette'!B21 -> Compétences numériques 2 | B21: ='[1]S4 Maquette'!C21 -> ECUE | C21: ='[1]S4 Maquette'!F21 -> 0
A22: ='[1]S4 Maquette'!B22 -> Langue Vivante-4 | B22: ='[1]S4 Maquette'!C22 -> ECUE | C22: ='[1]S4 Maquette'!F22 -> 0
A23: ='[1]S4 Maquette'!B23 -> Min 1 Max 1 | B23: ='[1]S4 Maquette'!C23 -> OPTION | C23: ='[1]S4 Maquette'!F23 -> 0
A24: ='[1]S4 Maquette'!B24 -> Anglais 4 | B24: ='[1]S4 Maquette'!C24 -> ECUE | C24: ='[1]S4 Maquette'!F24 -> 0
A25: ='[1]S4 Maquette'!B25 -> Espagnol | B25: ='[1]S4 Maquette'!C25 -> ECUE | C25: ='[1]S4 Maquette'!F25 -> 0
A26: ='[1]S4 Maquette'!B26 -> Italien | B26: ='[1]S4 Maquette'!C26 -> ECUE | C26: ='[1]S4 Maquette'!F26 -> 0
A27: ='[1]S4 Maquette'!B27 -> Choix du parcours (général ou mobilité) : 1 parcours au choix | B27: ='[1]S4 Maquette'!C27 -> OPTION | C27: ='[1]S4 Maquette'!F27 -> 0
A28: ='[1]S4 Maquette'!B28 -> LEA général Anglais - Allemand | B28: ='[1]S4 Maquette'!C28 -> Parcours Pédagogique | C28: ='[1]S4 Maquette'!F28 -> 0
A29: ='[1]S4 Maquette'!B29 -> Langue A: Anglais Non débutant 4 | B29: ='[1]S4 Maquette'!C29 -> UE | C29: ='[1]S4 Maquette'!F29 -> 0 | D29: 1 | E29: OUI | F29: OUI | G29: OUI | H29: OUI | I29: NON
A30: ='[1]S4 Maquette'!B30 -> Culture 4 ANGLAIS | B30: ='[1]S4 Maquette'!C30 -> ECUE | C30: ='[1]S4 Maquette'!F30 -> 0 | D30: 1 | E30: OUI | F30: OUI | G30: OUI | H30: OUI | I30: OUI | K30: CCI (CC Intégral) | M30: 2 | P30: Autres | S30: Seconde chance : la moyenne de l’ECUE sera calculée en doublant la meilleure note et en plafonnant le résultat à 10/20
A31: ='[1]S4 Maquette'!B31 -> Langue et traduction 4 ANGLAIS | B31: ='[1]S4 Maquette'!C31 -> ECUE | C31: ='[1]S4 Maquette'!F31 -> 0 | D31: 1 | E31: OUI | F31: OUI | G31: OUI | H31: OUI | I31: OUI | K31: CCI (CC Intégral) | M31: 2 | P31: Autres | S31: Seconde chance : la moyenne de l’ECUE sera calculée en doublant la meilleure note et en plafonnant le résultat à 10/20
A32: ='[1]S4 Maquette'!B32 -> Langue de spécialité et expression orale 4 ANGLAIS | B32: ='[1]S4 Maquette'!C32 -> ECUE | C32: ='[1]S4 Maquette'!F32 -> 0 | D32: 1 | E32: OUI | F32: OUI | G32: OUI | H32: OUI | I32: OUI | K32: CCI (CC Intégral) | M32: 2 | P32: Autres | S32: Seconde chance : la moyenne de l’ECUE sera calculée en doublant la meilleure note et en plafonnant le résultat à 10/20
A33: ='[1]S4 Maquette'!B33 -> Langue B: Allemand Non débutant 4 | B33: ='[1]S4 Maquette'!C33 -> UE | C33: ='[1]S4 Maquette'!F33 -> 0 | D33: 1 | E33: OUI | F33: OUI | G33: OUI | H33: OUI | I33: NON
A34: ='[1]S4 Maquette'!B34 -> Culture 4 ALLEMAND | B34: ='[1]S4 Maquette'!C34 -> ECUE | C34: ='[1]S4 Maquette'!F34 -> 0 | D34: 1 | E34: OUI | F34: OUI | G34: OUI | H34: OUI | I34: OUI | K34: CCI (CC Intégral) | M34: 2 | P34: Autres | S34: Seconde chance : la moyenne de l’ECUE sera calculée en doublant la meilleure note et en plafonnant le résultat à 10/20
A35: ='[1]S4 Maquette'!B35 -> Traduction et analyse de documents 4 ALLEMAND | B35: ='[1]S4 Maquette'!C35 -> ECUE | C35: ='[1]S4 Maquette'!F35 -> 0 | D35: 1 | E35: OUI | F35: OUI | G35: OUI | H35: OUI | I35: OUI | K35: CCI (CC Intégral) | M35: 3 | P35: Autres | S35: Seconde chance : la moyenne de l’ECUE sera calculée en doublant la meilleure note et en plafonnant le résultat à 10/20
A36: ='[1]S4 Maquette'!B36 -> Grammaire: théorie et pratique 4 ALLEMAND | B36: ='[1]S4 Maquette'!C36 -> ECUE | C36: ='[1]S4 Maquette'!F36 -> 0 | D36: 1 | E36: OUI | F36: OUI | G36: OUI | H36: OUI | I36: OUI | K36: CCI (CC Intégral) | M36: 2 | P36: Autres | S36: Seconde chance : la moyenne de l’ECUE sera calculée en doublant la meilleure note et en plafonnant le résultat à 10/20
A37: ='[1]S4 Maquette'!B37 -> Matières d'application 4 | B37: ='[1]S4 Maquette'!C37 -> UE | C37: ='[1]S4 Maquette'!F37 -> 0 | D37: 1 | E37: OUI | F37: OUI | G37: OUI | H37: OUI | I37: NON
A38: ='[1]S4 Maquette'!B38 -> Gestion: théorie des organisations et GRH/Management: organizational theory and HR management 4 | B38: ='[1]S4 Maquette'!C38 -> ECUE | C38: ='[1]S4 Maquette'!F38 -> 0 | D38: 1 | E38: OUI | F38: OUI | G38: OUI | H38: OUI | I38: OUI | K38: CCI (CC Intégral) | M38: 2 | P38: Autres | S38: Seconde chance : la moyenne de l’ECUE sera calculée en doublant la meilleure note et en plafonnant le résultat à 10/20
A39: ='[1]S4 Maquette'!B39 -> Interculturalité, médiation culturelle et publics étrangers : étude de cas | B39: ='[1]S4 Maquette'!C39 -> ECUE | C39: ='[1]S4 Maquette'!F39 -> 0 | D39: 1 | E39: OUI | F39: OUI | G39: OUI | H39: OUI | I39: OUI | K39: CCI (CC Intégral) | M39: 2 | P39: Autres | S39: Seconde chance : la moyenne de l’ECUE sera calculée en doublant la meilleure note et en plafonnant le résultat à 10/20
A40: ='[1]S4 Maquette'!B40 -> Traduction-rédaction technique 4 | B40: ='[1]S4 Maquette'!C40 -> ECUE | C40: ='[1]S4 Maquette'!F40 -> 0 | D40: 1 | E40: OUI | F40: OUI | G40: OUI | H40: OUI | I40: OUI | K40: CCI (CC Intégral) | M40: 2 | P40: Autres | S40: Seconde chance : la moyenne de l’ECUE sera calculée en doublant la meilleure note et en plafonnant le résultat à 10/20
A41: ='[1]S4 Maquette'!B41 -> Communication professionnelle 4 | B41: ='[1]S4 Maquette'!C41 -> ECUE | C41: ='[1]S4 Maquette'!F41 -> 0 | D41: 1 | E41: OUI | F41: OUI | G41: OUI | H41: OUI | I41: OUI | K41: CCI (CC Intégral) | M41: 2 | P41: Autres | S41: Seconde chance : la moyenne de l’ECUE sera calculée en doublant la meilleure note et en plafonnant le résultat à 10/20
A42: ='[1]S4 Maquette'!B42 -> Approfondissement ou langue C | B42: ='[1]S4 Maquette'!C42 -> UE | C42: ='[1]S4 Maquette'!F42 -> 0 | D42: 1 | E42: OUI | F42: OUI | G42: OUI | H42: OUI | I42: OUI | K42: CCI (CC Intégral)
A43: ='[1]S4 Maquette'!B43 -> 1 UE au choix | B43: ='[1]S4 Maquette'!C43 -> OPTION | C43: ='[1]S4 Maquette'!F43 -> 0
A44: ='[1]S4 Maquette'!B44 -> Approfondissement Allemand Non débutant 4 | B44: ='[1]S4 Maquette'!C44 -> UE | C44: ='[1]S4 Maquette'!F44 -> 0 | D44: 1 | E44: Les MCC pour les éléments d'OUVERTURE sont reportées dans la maquette/MCC du portail LEA Anglais-Arabe
A45: ='[1]S4 Maquette'!B45 -> Approfondissement Arabe Niveau 4 | B45: ='[1]S4 Maquette'!C45 -> UE | C45: ='[1]S4 Maquette'!F45 -> 0 | D45: 1
A46: ='[1]S4 Maquette'!B46 -> Approfondissement Chinois Niveau 4 | B46: ='[1]S4 Maquette'!C46 -> UE | C46: ='[1]S4 Maquette'!F46 -> 0 | D46: 1
A47: ='[1]S4 Maquette'!B47 -> Approfondissement Espagnol 4 | B47: ='[1]S4 Maquette'!C47 -> UE | C47: ='[1]S4 Maquette'!F47 -> 0 | D47: 1
A48: ='[1]S4 Maquette'!B48 -> Langue et traduction 4 ESPAGNOL | B48: ='[1]S4 Maquette'!C48 -> ECUE | C48: ='[1]S4 Maquette'!F48 -> 0 | D48: 1
A49: ='[1]S4 Maquette'!B49 -> Langue de spécialité et expression orale 4 ESPAGNOL | B49: ='[1]S4 Maquette'!C49 -> ECUE | C49: ='[1]S4 Maquette'!F49 -> 0 | D49: 1
A50: ='[1]S4 Maquette'!B50 -> Approfondissement Italien 4 | B50: ='[1]S4 Maquette'!C50 -> UE | C50: ='[1]S4 Maquette'!F50 -> 0 | D50: 1
A51: ='[1]S4 Maquette'!B51 -> Langue 4 ITALIEN | B51: ='[1]S4 Maquette'!C51 -> ECUE | C51: ='[1]S4 Maquette'!F51 -> 0 | D51: 1
A52: ='[1]S4 Maquette'!B52 -> Culture et expression 4 ITALIEN | B52: ='[1]S4 Maquette'!C52 -> ECUE | C52: ='[1]S4 Maquette'!F52 -> 0 | D52: 1
A53: ='[1]S4 Maquette'!B53 -> Approfondissement Portugais Niveau 4 | B53: ='[1]S4 Maquette'!C53 -> UE | C53: ='[1]S4 Maquette'!F53 -> 0 | D53: 1
A54: ='[1]S4 Maquette'!B54 -> Langue 4 PORTUGAIS | B54: ='[1]S4 Maquette'!C54 -> ECUE | C54: ='[1]S4 Maquette'!F54 -> 0 | D54: 1
A55: ='[1]S4 Maquette'!B55 -> Culture 4 PORTUGAIS | B55: ='[1]S4 Maquette'!C55 -> ECUE | C55: ='[1]S4 Maquette'!F55 -> 0 | D55: 1
A56: ='[1]S4 Maquette'!B56 -> Approfondissement Russe Pré-intermédiaire avancé 4 | B56: ='[1]S4 Maquette'!C56 -> UE | C56: ='[1]S4 Maquette'!F56 -> 0 | D56: 1
... A85: ='[1]S4 Maquette'!B85 -> Niçois: approfondissement de l'oral et de l'écrit | B85: ='[1]S4 Maquette'!C85 -> ECUE | C85: ='[1]S4 Maquette'!F85 -> 0 | D85: 1
A86: ='[1]S4 Maquette'!B86 -> Au choix parmi UE 4 du portail LLAC | B86: ='[1]S4 Maquette'!C86 -> UE | D86: 1 | E86: OUI | F86: OUI | G86: OUI | H86: OUI | I86: OUI
A87: ='[1]S4 Maquette'!B87 -> LEA Mobilité: Allemagne - Parcours Regensburg | B87: ='[1]S4 Maquette'!C87 -> Parcours Pédagogique | C87: ='[1]S4 Maquette'!F87 -> 0
A88: ='[1]S4 Maquette'!B88 -> Matières d'application 4 | B88: ='[1]S4 Maquette'!C88 -> UE | C88: ='[1]S4 Maquette'!F88 -> 0 | D88: 1 | E88: OUI | F88: OUI | G88: OUI | H88: OUI | I88: OUI | K88: CCI (CC Intégral) | T88: Le statut de non assidu n'est pas autorisé pour les étudiants du parcours Regensburg
A89: ='[1]S4 Maquette'!B89 -> Gestion: théorie des organisations et GRH/Management: organizational theory and HR management 4 | B89: ='[1]S4 Maquette'!C89 -> ECUE | C89: ='[1]S4 Maquette'!F89 -> 0 | D89: 1 | E89: OUI | F89: OUI | G89: OUI | H89: OUI | I89: OUI | K89: CCI (CC Intégral) | T89: Le statut de non assidu n'est pas autorisé pour les étudiants du parcours Regensburg
A90: ='[1]S4 Maquette'!B90 -> Savoirs et pratiques professionnels en tourisme: étude de cas/Professional knowledge and practices in tourism: case study 4 | B90: ='[1]S4 Maquette'!C90 -> ECUE | C90: ='[1]S4 Maquette'!F90 -> 0 | D90: 1 | E90: OUI | F90: OUI | G90: OUI | H90: OUI | I90: OUI | K90: CCI (CC Intégral) | T90: Le statut de non assidu n'est pas autorisé pour les étudiants du parcours Regensburg
A91: ='[1]S4 Maquette'!B91 -> Traduction-rédaction technique 4 | B91: ='[1]S4 Maquette'!C91 -> ECUE | C91: ='[1]S4 Maquette'!F91 -> 0 | D91: 1 | E91: OUI | F91: OUI | G91: OUI | H91: OUI | I91: OUI | K91: CCI (CC Intégral) | T91: Le statut de non assidu n'est pas autorisé pour les étudiants du parcours Regensburg
A92: ='[1]S4 Maquette'!B92 -> Communication professionnelle 4 | B92: ='[1]S4 Maquette'!C92 -> ECUE | C92: ='[1]S4 Maquette'!F92 -> 0 | D92: 1 | E92: OUI | F92: OUI | G92: OUI | H92: OUI | I92: OUI | K92: CCI (CC Intégral) | T92: Le statut de non assidu n'est pas autorisé pour les étudiants du parcours Regensburg
A93: ='[1]S4 Maquette'!B93 -> Langue A: Anglais Non débutant 4 | B93: ='[1]S4 Maquette'!C93 -> UE | C93: ='[1]S4 Maquette'!F93 -> 0 | D93: 1 | E93: OUI | F93: OUI | G93: OUI | H93: OUI | I93: NON | K93: CCI (CC Intégral) | T93: Le statut de non assidu n'est pas autorisé pour les étudiants du parcours Regensburg
A94: ='[1]S4 Maquette'!B94 -> Culture 4 ANGLAIS | B94: ='[1]S4 Maquette'!C94 -> ECUE | C94: ='[1]S4 Maquette'!F94 -> 0 | D94: 1 | E94: OUI | F94: OUI | G94: OUI | H94: OUI | I94: OUI | K94: CCI (CC Intégral) | T94: Le statut de non assidu n'est pas autorisé pour les étudiants du parcours Regensburg
A95: ='[1]S4 Maquette'!B95 -> Langue et traduction 4 ANGLAIS | B95: ='[1]S4 Maquette'!C95 -> ECUE | C95: ='[1]S4 Maquette'!F95 -> 0 | D95: 1 | E95: OUI | F95: OUI | G95: OUI | H95: OUI | I95: OUI | K95: CCI (CC Intégral) | T95: Le statut de non assidu n'est pas autorisé pour les étudiants du parcours Regensburg
A96: ='[1]S4 Maquette'!B96 -> Langue de spécialité et expression orale 4 ANGLAIS | B96: ='[1]S4 Maquette'!C96 -> ECUE | C96: ='[1]S4 Maquette'!F96 -> 0 | D96: 1 | E96: OUI | F96: OUI | G96: OUI | H96: OUI | I96: OUI | K96: CCI (CC Intégral) | T96: Le statut de non assidu n'est pas autorisé pour les étudiants du parcours Regensburg
A97: ='[1]S4 Maquette'!B97 -> Langue B: option selon l'université d'origine | B97: ='[1]S4 Maquette'!C97 -> UE | C97: ='[1]S4 Maquette'!F97 -> 0 | D97: 1 | E97: OUI | F97: OUI | G97: OUI | H97: OUI | I97: NON | K97: CCI (CC Intégral) | T97: Le statut de non assidu n'est pas autorisé pour les étudiants du parcours Regensburg
A98: ='[1]S4 Maquette'!B98 -> 1 bloc à choisir | B98: ='[1]S4 Maquette'!C98 -> OPTION | C98: ='[1]S4 Maquette'!F98 -> 0 | T98: Le statut de non assidu n'est pas autorisé pour les étudiants du parcours Regensburg
A99: ='[1]S4 Maquette'!B99 -> Langue B étudiants niçois | B99: ='[1]S4 Maquette'!C99 -> BLOC | C99: ='[1]S4 Maquette'!F99 -> 0 | D99: 1 | E99: OUI | F99: OUI | G99: OUI | H99: OUI | I99: NON | K99: CCI (CC Intégral) | T99: Le statut de non assidu n'est pas autorisé pour les étudiants du parcours Regensburg
A100: ='[1]S4 Maquette'!B100 -> Langue B: Allemand Non débutant 4 | B100: ='[1]S4 Maquette'!C100 -> UE | C100: ='[1]S4 Maquette'!F100 -> 0 | D100: 1 | E100: OUI | F100: OUI | G100: OUI | H100: OUI | I100: NON | K100: CCI (CC Intégral) | T100: Le statut de non assidu n'est pas autorisé pour les étudiants du parcours Regensburg
A101: ='[1]S4 Maquette'!B101 -> Culture 4 ALLEMAND | B101: ='[1]S4 Maquette'!C101 -> ECUE | C101: ='[1]S4 Maquette'!F101 -> 0 | D101: 1 | E101: OUI | F101: OUI | G101: OUI | H101: OUI | I101: OUI | K101: CCI (CC Intégral) | T101: Le statut de non assidu n'est pas autorisé pour les étudiants du parcours Regensburg
A102: ='[1]S4 Maquette'!B102 -> Traduction et analyse de documents 4 ALLEMAND | B102: ='[1]S4 Maquette'!C102 -> ECUE | C102: ='[1]S4 Maquette'!F102 -> 0 | D102: 1 | E102: OUI | F102: OUI | G102: OUI | H102: OUI | I102: OUI | K102: CCI (CC Intégral) | T102: Le statut de non assidu n'est pas autorisé pour les étudiants du parcours Regensburg
A103: ='[1]S4 Maquette'!B103 -> Grammaire: théorie et pratique 4 ALLEMAND | B103: ='[1]S4 Maquette'!C103 -> ECUE | C103: ='[1]S4 Maquette'!F103 -> 0 | D103: 1 | E103: OUI | F103: OUI | G103: OUI | H103: OUI | I103: OUI | K103: CCI (CC Intégral) | T103: Le statut de non assidu n'est pas autorisé pour les étudiants du parcours Regensburg
A104: ='[1]S4 Maquette'!B104 -> Langue B étudiants allemands | B104: ='[1]S4 Maquette'!C104 -> BLOC | C104: ='[1]S4 Maquette'!F104 -> 0 | D104: 1 | E104: OUI | F104: OUI | G104: OUI | H104: OUI | I104: NON | K104: CCI (CC Intégral) | T104: Le statut de non assidu n'est pas autorisé pour les étudiants du parcours Regensburg
A105: ='[1]S4 Maquette'!B105 -> Langue B étudiants allemands | B105: ='[1]S4 Maquette'!C105 -> UE | C105: ='[1]S4 Maquette'!F105 -> 0 | D105: 1 | E105: OUI | F105: OUI | G105: OUI | H105: OUI | I105: NON | K105: CCI (CC Intégral) | T105: Le statut de non assidu n'est pas autorisé pour les étudiants du parcours Regensburg
A106: ='[1]S4 Maquette'!B106 -> Traduction et analyse de documents 4 ALLEMAND | B106: ='[1]S4 Maquette'!C106 -> ECUE | C106: ='[1]S4 Maquette'!F106 -> 0 | D106: 1 | E106: OUI | F106: OUI | G106: OUI | H106: OUI | I106: OUI | K106: CCI (CC Intégral) | T106: Le statut de non assidu n'est pas autorisé pour les étudiants du parcours Regensburg
A107: ='[1]S4 Maquette'!B107 -> 2 ECUE de langue B au choix | B107: ='[1]S4 Maquette'!C107 -> ECUE | C107: ='[1]S4 Maquette'!F107 -> 0 | T107: Le statut de non assidu n'est pas autorisé pour les étudiants du parcours Regensburg
A108: ='[1]S4 Maquette'!B108 -> 2 ECUE à choisir | B108: ='[1]S4 Maquette'!C108 -> OPTION | C108: ='[1]S4 Maquette'!F108 -> 0 | T108: Le statut de non assidu n'est pas autorisé pour les étudiants du parcours Regensburg
A109: ='[1]S4 Maquette'!B109 -> Culture 4 ARABE | B109: ='[1]S4 Maquette'!C109 -> ECUE | C109: ='[1]S4 Maquette'!F109 -> 0 | D109: 1 | E109: OUI | F109: OUI | G109: OUI | H109: OUI | I109: OUI | K109: CCI (CC Intégral) | T109: Le statut de non assidu n'est pas autorisé pour les étudiants du parcours Regensburg
A110: ='[1]S4 Maquette'!B110 -> Langue, traduction, expression écrite et orale 4 ARABE | B110: ='[1]S4 Maquette'!C110 -> ECUE | C110: ='[1]S4 Maquette'!F110 -> 0 | D110: 1 | E110: OUI | F110: OUI | G110: OUI | H110: OUI | I110: OUI | K110: CCI (CC Intégral) | T110: Le statut de non assidu n'est pas autorisé pour les étudiants du parcours Regensburg
A111: ='[1]S4 Maquette'!B111 -> Langue de spécialité 4 ARABE | B111: ='[1]S4 Maquette'!C111 -> ECUE | C111: ='[1]S4 Maquette'!F111 -> 0 | D111: 1 | E111: OUI | F111: OUI | G111: OUI | H111: OUI | I111: OUI | K111: CCI (CC Intégral) | T111: Le statut de non assidu n'est pas autorisé pour les étudiants du parcours Regensburg
A112: ='[1]S4 Maquette'!B112 -> Culture 4 CHINOIS | B112: ='[1]S4 Maquette'!C112 -> ECUE | C112: ='[1]S4 Maquette'!F112 -> 0 | D112: 1 | E112: OUI | F112: OUI | G112: OUI | H112: OUI | I112: OUI | K112: CCI (CC Intégral) | T112: Le statut de non assidu n'est pas autorisé pour les étudiants du parcours Regensburg
A113: ='[1]S4 Maquette'!B113 -> Langue, traduction, expression écrite et orale 4 CHINOIS | B113: ='[1]S4 Maquette'!C113 -> ECUE | C113: ='[1]S4 Maquette'!F113 -> 0 | D113: 1 | E113: OUI | F113: OUI | G113: OUI | H113: OUI | I113: OUI | K113: CCI (CC Intégral) | T113: Le statut de non assidu n'est pas autorisé pour les étudiants du parcours Regensburg
A114: ='[1]S4 Maquette'!B114 -> Langue de spécialité 4 CHINOIS | B114: ='[1]S4 Maquette'!C114 -> ECUE | C114: ='[1]S4 Maquette'!F114 -> 0 | D114: 1 | E114: OUI | F114: OUI | G114: OUI | H114: OUI | I114: OUI | K114: CCI (CC Intégral) | T114: Le statut de non assidu n'est pas autorisé pour les étudiants du parcours Regensburg
A115: ='[1]S4 Maquette'!B115 -> Culture 4 ESPAGNOL | B115: ='[1]S4 Maquette'!C115 -> ECUE | C115: ='[1]S4 Maquette'!F115 -> 0 | D115: 1 | E115: OUI | F115: OUI | G115: OUI | H115: OUI | I115: OUI | K115: CCI (CC Intégral) | T115: Le statut de non assidu n'est pas autorisé pour les étudiants du parcours Regensburg
A116: ='[1]S4 Maquette'!B116 -> Langue et traduction 4 ESPAGNOL | B116: ='[1]S4 Maquette'!C116 -> ECUE | C116: ='[1]S4 Maquette'!F116 -> 0 | D116: 1 | E116: OUI | F116: OUI | G116: OUI | H116: OUI | I116: OUI | K116: CCI (CC Intégral) | T116: Le statut de non assidu n'est pas autorisé pour les étudiants du parcours Regensburg
A117: ='[1]S4 Maquette'!B117 -> Langue de spécialité et expression orale 4 ESPAGNOL | B117: ='[1]S4 Maquette'!C117 -> ECUE | C117: ='[1]S4 Maquette'!F117 -> 0 | D117: 1 | E117: OUI | F117: OUI | G117: OUI | H117: OUI | I117: OUI | K117: CCI (CC Intégral) | T117: Le statut de non assidu n'est pas autorisé pour les étudiants du parcours Regensburg
A118: ='[1]S4 Maquette'!B118 -> Culture 4 ITALIEN | B118: ='[1]S4 Maquette'!C118 -> ECUE | C118: ='[1]S4 Maquette'!F118 -> 0 | D118: 1 | E118: OUI | F118: OUI | G118: OUI | H118: OUI | I118: OUI | K118: CCI (CC Intégral) | T118: Le statut de non assidu n'est pas autorisé pour les étudiants du parcours Regensburg
A119: ='[1]S4 Maquette'!B119 -> Langue et traduction 4 ITALIEN | B119: ='[1]S4 Maquette'!C119 -> ECUE | C119: ='[1]S4 Maquette'!F119 -> 0 | D119: 1 | E119: OUI | F119: OUI | G119: OUI | H119: OUI | I119: OUI | K119: CCI (CC Intégral) | T119: Le statut de non assidu n'est pas autorisé pour les étudiants du parcours Regensburg
A120: ='[1]S4 Maquette'!B120 -> Langue de spécialité et expression orale 4 ITALIEN | B120: ='[1]S4 Maquette'!C120 -> ECUE | C120: ='[1]S4 Maquette'!F120 -> 0 | D120: 1 | E120: OUI | F120: OUI | G120: OUI | H120: OUI | I120: OUI | K120: CCI (CC Intégral) | T120: Le statut de non assidu n'est pas autorisé pour les étudiants du parcours Regensburg
... A153: ='[1]S4 Maquette'!B153 -> Approfondissement français | B153: ='[1]S4 Maquette'!C153 -> UE | C153: ='[1]S4 Maquette'!F153 -> 0 | D153: 1 | E153: OUI | F153: OUI | G153: OUI | H153: OUI | I153: OUI | K153: CCI (CC Intégral) | T153: Le statut de non assidu n'est pas autorisé pour les étudiants du parcours Regensburg
A154: ='[1]S4 Maquette'!B154 -> 1 UE au choix parmi les découvertes et approfondissements de langue française et littérature française | B154: ='[1]S4 Maquette'!C154 -> OPTION | C154: ='[1]S4 Maquette'!F154 -> 0 | T154: Le statut de non assidu n'est pas autorisé pour les étudiants du parcours Regensburg
A155: ='[1]S4 Maquette'!B155 -> 0 | B155: ='[1]S4 Maquette'!C155 -> 0 | C155: ='[1]S4 Maquette'!F155 -> 0
A156: ='[1]S4 Maquette'!B156 -> 0 | B156: ='[1]S4 Maquette'!C156 -> 0 | C156: ='[1]S4 Maquette'!F156 -> 0
A157: ='[1]S4 Maquette'!B157 -> 0 | B157: ='[1]S4 Maquette'!C157 -> 0 | C157: ='[1]S4 Maquette'!F157 -> 0
A158: ='[1]S4 Maquette'!B158 -> 0 | B158: ='[1]S4 Maquette'!C158 -> 0 | C158: ='[1]S4 Maquette'!F158 -> 0
A159: ='[1]S4 Maquette'!B159 -> 0 | B159: ='[1]S4 Maquette'!C159 -> 0 | C159: ='[1]S4 Maquette'!F159 -> 0
A160: ='[1]S4 Maquette'!B160 -> 0 | B160: ='[1]S4 Maquette'!C160 -> 0 | C160: ='[1]S4 Maquette'!F160 -> 0
A161: ='[1]S4 Maquette'!B161 -> 0 | B161: ='[1]S4 Maquette'!C161 -> 0 | C161: ='[1]S4 Maquette'!F161 -> 0
A162: ='[1]S4 Maquette'!B162 -> 0 | B162: ='[1]S4 Maquette'!C162 -> 0 | C162: ='[1]S4 Maquette'!F162 -> 0
A163: ='[1]S4 Maquette'!B163 -> 0 | B163: ='[1]S4 Maquette'!C163 -> 0 | C163: ='[1]S4 Maquette'!F163 -> 0
A164: ='[1]S4 Maquette'!B164 -> 0 | B164: ='[1]S4 Maquette'!C164 -> 0 | C164: ='[1]S4 Maquette'!F164 -> 0
A165: ='[1]S4 Maquette'!B165 -> 0 | B165: ='[1]S4 Maquette'!C165 -> 0 | C165: ='[1]S4 Maquette'!F165 -> 0
A166: ='[1]S4 Maquette'!B166 -> 0 | B166: ='[1]S4 Maquette'!C166 -> 0 | C166: ='[1]S4 Maquette'!F166 -> 0
... A301: ='[1]S4 Maquette'!B301 -> 0 | B301: ='[1]S4 Maquette'!C301 -> 0 | C301: ='[1]S4 Maquette'!F301 -> 0
