Workbook
Name list_cmp: Listes!$A$32:$G$32
Name List_CNU: Listes!$A$40:$A$96
Name List_Controle: Listes!$B$2:$B$6
Name List_Controle2: Listes!$A$2:$A$4
Name List_Mutualisation: Listes!$E$2:$E$3
Name List_NatureELP: Listes!$D$2:$D$6
Name List_RegimeInscription: Listes!$C$2:$C$3
Name List_Statut: Listes!$F$2:$F$4
Name List_Type: Listes!$G$2:$G$3
Name list_typedip: Listes!$H$2:$H$3
Name liste_cmp: #REF!
Name liste_cmp: #REF!
Name liste_cmp: #REF!
Name liste_cmp: #REF!
Name liste_mention: #REF!
Name liste_mention: #REF!
Name liste_mention: #REF!
Name liste_mention: #REF!
Name Médecine: #REF!
Name Médecine: #REF!
Name Médecine: #REF!
Name Por: #REF!
Name Por: #REF!
Name Por: #REF!
Name Por: #REF!
Name Portail_Droit: Listes!$B$33:$B$34
Name Portail_EG: Listes!$A$33:$A$34
Name Portail_LLAC: Listes!$D$35
Name Portail_SHS: #REF!
Name Portail_SHS: #REF!
Name Portail_SHS: #REF!
Name Portail_SHS: Listes!$C$33:$C$37
Name Portail_ST: Listes!$E$33:$E$37
Name Portail_STAPS: Listes!$G$33
Name Portail_SV: Listes!$F$33:$F$35
Name tab_code: #REF!
Name tab_code: #REF!
Name tab_code: #REF!
Name tab_code: #REF!
Name tab_code_dip: Listes!$A$8:$B$28
Name vs: [1]Listes!$A$2:$A$4

Sheet Listes
A1: Type contrôle | B1: Nature contrôle | C1: Régime d'inscription | D1: Nature ELP | E1: Mutualisation | F1: Statut | G1: Type | H1: Diplômes
A2: CCI (CC Intégral) | B2: Écrit | C2: Initiale Hors-Apprentissage / Formation Continue / Formation Permanente | D2: UE | E2: Porteuse | F2: Création | G2: Facultatif | H2: Portail
A3: CT (Contrôle terminal) | B3: Oral | C3: Contrat d'Apprentissage/ Contrat de Professionnalisation | D3: ECUE | E3: Portée | F3: Modification | G3: Complémentaire | H3: Double Portail
A4: CC&CT | B4: Écrit/Pratique | D4: BLOC | F4: Fermeture
B5: Rapport/Mémoire | D5: OPTION
B6: Pratique sportive | D6: Parcours Pédagogique
A8: Mention | B8: Codage Diplôme
A9: Sciences et technologie | B9: SPSIT18
A10: Sciences de l'Homme et de la Société | B10: HPSHS18
A11: Lettres Langues Arts et Communication | B11: HPLAC18
A12: Droit | B12: DPDRT18
A13: Économie et gestion | B13: IPECG18
A14: Sciences de la Vie | B14: SPVIE18
A15: STAPS | B15: PPSTA18
A16: Psychologie | B16: HPPSY18
A17: Humanités | B17: HPUMA18
A18: Économie-Sociologie | B18: IPSOE18
A19: Philosophie-Droit | B19: HPPHD18
... A28: Bio-Geo-Sciences | B28: SPBGS18
A32: Portail_EG | B32: Portail_Droit | C32: Portail_SHS | D32: Portail_LLAC | E32: Portail_ST | F32: Portail_SV | G32: Portail_STAPS
A33: Économie et gestion | B33: Droit | C33: Sciences de l'Homme et de la Société | D33: Lettres Langues Arts et Communication | E33: Sciences et technologie | F33: Sciences de la vie | G33: STAPS
A34: Économie-Sociologie | B34: Capacaité en Droit | C34: Psychologie | D34: Histoire-Lettres | E34: Mathématiques-Sciences de la vie | F34: Chimie-Sciences de la vie
C35: Humanités | D35: Musicologie - Science de l'homme, anthropologie, ethnologie | E35: Mathématiques-Physique | F35: Bio-Geo-Sciences
C36: Philosophie-Droit | E36: Mathématiques-Informatique
C37: Philosophie-Psychologie | E37: Sciences de la terre-Physique
A39: CNU
A40: 01-Droit privé et sciences criminelles
A41: 02-Droit public
A42: 03-Histoire du droit et des institutions
A43: 04-Science politique
A44: 05-Sciences économiques
A45: 06-Sciences de gestion
A46: 07-Sciences du langage : linguistique et phonétique générales
A47: 08-Langues et littératures anciennes
A48: 09-Langue et littérature françaises
A49: 10-Littératures comparées
A50: 11-Langues et littératures anglaises et anglo-saxonnes
... A96: 87-Sciences biologiques pharmaceutiques

Sheet Calcul
A1: Heure Pédagogique | AA1: Heure CM
A3: Semestre 1 | D3: Semestre 2 | G3: Semestre 3 | J3: Semestre 4 | AA3: Semestre 1 | AB3: Semestre 2 | AC3: Semestre 3 | AD3: Semestre 4
A4: Heure CM | B4: Heure TD | C4: Heure TP | D4: Heure CM | E4: Heure TD | F4: Heure TP | G4: Heure CM | H4: Heure TD | I4: Heure TP | J4: Heure CM | K4: Heure TD | L4: Heure TP | AA4: ='S1 Maquette'!I19*1.5 -> 0 | AB4: ='S2 Maquette'!I19*1.5 -> 0 | AC4: ='S3 Maquette'!I19*1.5 -> 0 | AD4: ='S4 Maquette'!I19*1.5 -> 0
A5: =SUM(AA4:AA291) -> #REF! | B5: =SUM('S1 Maquette'!J19:J297) -> 164 | C5: =SUM('S1 Maquette'!K19:K297) -> 0 | D5: =SUM(AB4:AB291) -> #REF! | E5: =SUM('S2 Maquette'!J19:J299) -> 160 | F5: =SUM('S2 Maquette'!K19:K299) -> 0 | G5: =SUM(AC4:AC291) -> #REF! | H5: =SUM('S3 Maquette'!J19:J297) -> 90 | I5: =SUM('S3 Maquette'!K19:K297) -> 90 | J5: =SUM(AD4:AD291) -> #REF! | K5: =SUM('S4 Maquette'!J19:J297) -> 122 | L5: =SUM('S4 Maquette'!K19:K297) -> 36 | AA5: ='S1 Maquette'!I20*1.5 -> 0 | AB5: ='S2 Maquette'!I20*1.5 -> 0 | AC5: ='S3 Maquette'!I20*1.5 -> 0 | AD5: ='S4 Maquette'!I20*1.5 -> 0
A6: Total | D6: Total | G6: Total | J6: Total | AA6: ='S1 Maquette'!I21*1.5 -> 0 | AB6: ='S2 Maquette'!I21*1.5 -> 0 | AC6: ='S3 Maquette'!I21*1.5 -> 0 | AD6: ='S4 Maquette'!I21*1.5 -> 0
A7: =SUM(A5,B5,C5) -> #REF! | D7: =SUM(D5,E5,F5) -> #REF! | G7: =SUM(G5,H5,I5) -> #REF! | J7: =SUM(J5,K5,L5) -> #REF! | AA7: ='S1 Maquette'!I22*1.5 -> 0 | AB7: ='S2 Maquette'!I22*1.5 -> 0 | AC7: ='S3 Maquette'!I22*1.5 -> 0 | AD7: ='S4 Maquette'!I22*1.5 -> 0
A8: Total | G8: Total | AA8: ='S1 Maquette'!I23*1.5 -> 0 | AB8: ='S2 Maquette'!I23*1.5 -> 0 | AC8: ='S3 Maquette'!I23*1.5 -> 0 | AD8: ='S4 Maquette'!I23*1.5 -> 0
AA9: ='S1 Maquette'!I24*1.5 -> 0 | AB9: ='S2 Maquette'!I24*1.5 -> 0 | AC9: ='S3 Maquette'!I24*1.5 -> 0 | AD9: ='S4 Maquette'!I24*1.5 -> 0
A10: =SUM(A7,D7) -> #REF! | G10: =SUM(G7,J7) -> #REF! | AA10: ='S1 Maquette'!I25*1.5 -> 0 | AB10: ='S2 Maquette'!I25*1.5 -> 0 | AC10: ='S3 Maquette'!I25*1.5 -> 0 | AD10: ='S4 Maquette'!I25*1.5 -> 0
AA11: ='S1 Maquette'!I26*1.5 -> 0 | AB11: ='S2 Maquette'!I26*1.5 -> 0 | AC11: ='S3 Maquette'!I26*1.5 -> 0 | AD11: ='S4 Maquette'!I26*1.5 -> 0
AA12: ='S1 Maquette'!I27*1.5 -> 0 | AB12: ='S2 Maquette'!I27*1.5 -> 0 | AC12: ='S3 Maquette'!I27*1.5 -> 0 | AD12: ='S4 Maquette'!I27*1.5 -> 0
AA13: ='S1 Maquette'!I28*1.5 -> 30 | AB13: ='S2 Maquette'!I28*1.5 -> 30 | AC13: ='S3 Maquette'!I28*1.5 -> 30 | AD13: ='S4 Maquette'!I28*1.5 -> 30
A14: Heure Porté par la maquette | N14: Mutualisation Porteuse | AA14: ='S1 Maquette'!I29*1.5 -> 30 | AB14: ='S2 Maquette'!I29*1.5 -> 30 | AC14: ='S3 Maquette'!I29*1.5 -> 22.5 | AD14: ='S4 Maquette'!I29*1.5 -> 22.5
AA15: ='S1 Maquette'!I30*1.5 -> 0 | AB15: ='S2 Maquette'!I30*1.5 -> 0 | AC15: ='S3 Maquette'!I30*1.5 -> 22.5 | AD15: ='S4 Maquette'!I30*1.5 -> 22.5
A16: Semestre 1 | D16: Semestre 2 | G16: Semestre 3 | J16: Semestre 4 | N16: Semestre 1 | Q16: Semestre 2 | T16: Semestre 3 | W16: Semestre 4 | AA16: ='S1 Maquette'!#REF!*1.5 -> #REF! | AB16: ='S2 Maquette'!#REF!*1.5 -> #REF! | AC16: ='S3 Maquette'!I31*1.5 -> 0 | AD16: ='S4 Maquette'!I31*1.5 -> 0
A17: Heure CM | B17: Heure TD | C17: Heure TP | D17: Heure CM | E17: Heure TD | F17: Heure TP | G17: Heure CM | H17: Heure TD | I17: Heure TP | J17: Heure CM | K17: Heure TD | L17: Heure TP | N17: Heure CM | O17: Heure TD | P17: Heure TP | Q17: Heure CM | R17: Heure TD | S17: Heure TP | T17: Heure CM | U17: Heure TD | V17: Heure TP | W17: Heure CM | X17: Heure TD | Y17: Heure TP | AA17: ='S1 Maquette'!I31*1.5 -> 0 | AB17: ='S2 Maquette'!I31*1.5 -> 0 | AC17: ='S3 Maquette'!#REF!*1.5 -> #REF! | AD17: ='S4 Maquette'!#REF!*1.5 -> #REF!
A18: =A5-N18 -> #REF! | B18: =B5-O18 -> 104 | C18: =C5-P18 -> 0 | D18: =D5-Q18 -> #REF! | E18: =E5-R18 -> 142 | F18: =F5-S18 -> 0 | G18: =G5-T18 -> #REF! | H18: =H5-U18 -> 70 | ... L18: =L5-Y18 -> 36 | N18: =SUMIF('S1 Maquette'!M19:M297,"Portée",'S1 Maquette'!I19:I297)*1.5 -> 27 | O18: =SUMIF('S1 Maquette'!M19:M297,"Portée",'S1 Maquette'!J19:J297) -> 60 | P18: =SUMIF('S1 Maquette'!M19:M297,"Portée",'S1 Maquette'!K19:K297) -> 0 | Q18: =SUMIF('S2 Maquette'!M19:M299,"Portée",'S2 Maquette'!I19:I299)*1.5 -> 0 | R18: =SUMIF('S2 Maquette'!M19:M299,"Portée",'S2 Maquette'!J19:J299) -> 18 | S18: =SUMIF('S2 Maquette'!M9:M299,"Portée",'S2 Maquette'!K19:K299) -> 0 | T18: =SUMIF('S3 Maquette'!M19:M297,"Portée",'S3 Maquette'!I19:I297)*1.5 -> 0 | U18: =SUMIF('S3 Maquette'!M19:M297,"Portée",'S3 Maquette'!J19:J297) -> 20 | V18: =SUMIF('S3 Maquette'!M19:M297,"Portée",'S3 Maquette'!K19:K297) -> 0 | W18: =SUMIF('S4 Maquette'!M19:M297,"Portée",'S4 Maquette'!I19:I297)*1.5 -> 0 | X18: =SUMIF('S4 Maquette'!M19:M297,"Portée",'S4 Maquette'!J19:J297) -> 20 | Y18: =SUMIF('S4 Maquette'!M19:M297,"Portée",'S4 Maquette'!K19:K297) -> 0 | AA18: ='S1 Maquette'!I32*1.5 -> 0 | AB18: ='S2 Maquette'!I32*1.5 -> 0 | AC18: ='S3 Maquette'!I32*1.5 -> 0 | AD18: ='S4 Maquette'!I32*1.5 -> 0
A19: Total | D19: Total | G19: Total | J19: Total | AA19: ='S1 Maquette'!I33*1.5 -> 0 | AB19: ='S2 Maquette'!I33*1.5 -> 0 | AC19: ='S3 Maquette'!I33*1.5 -> 0 | AD19: ='S4 Maquette'!I33*1.5 -> 0
A20: =SUM(A18,B18,C18) -> #REF! | D20: =SUM(D18,E18,F18) -> #REF! | G20: =SUM(G18,H18,I18) -> #REF! | J20: =SUM(J18,K18,L18) -> #REF! | AA20: ='S1 Maquette'!I34*1.5 -> 0 | AB20: ='S2 Maquette'!I34*1.5 -> 0 | AC20: ='S3 Maquette'!I34*1.5 -> 0 | AD20: ='S4 Maquette'!I34*1.5 -> 0
A21: Total | G21: Total | AA21: ='S1 Maquette'!#REF!*1.5 -> #REF! | AB21: ='S2 Maquette'!I35*1.5 -> 0 | AC21: ='S3 Maquette'!I35*1.5 -> 0 | AD21: ='S4 Maquette'!I35*1.5 -> 0
A22: =SUM(A20,D20) -> #REF! | G22: =SUM(G20,J20) -> #REF! | AA22: ='S1 Maquette'!I35*1.5 -> 0 | AB22: ='S2 Maquette'!#REF!*1.5 -> #REF! | AC22: ='S3 Maquette'!I36*1.5 -> 0 | AD22: ='S4 Maquette'!#REF!*1.5 -> #REF!
AA23: ='S1 Maquette'!I36*1.5 -> 0 | AB23: ='S2 Maquette'!I36*1.5 -> 0 | AC23: ='S3 Maquette'!#REF!*1.5 -> #REF! | AD23: ='S4 Maquette'!I36*1.5 -> 0
AA24: ='S1 Maquette'!I37*1.5 -> 0 | AB24: ='S2 Maquette'!#REF!*1.5 -> #REF! | AC24: ='S3 Maquette'!I37*1.5 -> 0 | AD24: ='S4 Maquette'!I37*1.5 -> 0
AA25: ='S1 Maquette'!#REF!*1.5 -> #REF! | AB25: ='S2 Maquette'!I39*1.5 -> 0 | AC25: ='S3 Maquette'!I38*1.5 -> 0 | AD25: ='S4 Maquette'!I38*1.5 -> 0
AA26: ='S1 Maquette'!I38*1.5 -> 0 | AB26: ='S2 Maquette'!I40*1.5 -> 30 | AC26: ='S3 Maquette'!I39*1.5 -> 0 | AD26: ='S4 Maquette'!#REF!*1.5 -> #REF!
AA27: ='S1 Maquette'!I39*1.5 -> 27 | AB27: ='S2 Maquette'!I41*1.5 -> 0 | AC27: ='S3 Maquette'!#REF!*1.5 -> #REF! | AD27: ='S4 Maquette'!I39*1.5 -> 0
AA28: ='S1 Maquette'!I40*1.5 -> 0 | AB28: ='S2 Maquette'!I42*1.5 -> 0 | AC28: ='S3 Maquette'!I40*1.5 -> 0 | AD28: ='S4 Maquette'!I40*1.5 -> 0
AA29: ='S1 Maquette'!I41*1.5 -> 0 | AB29: ='S2 Maquette'!I43*1.5 -> 0 | AC29: ='S3 Maquette'!I41*1.5 -> 0 | AD29: ='S4 Maquette'!I41*1.5 -> 0
AA30: ='S1 Maquette'!I42*1.5 -> 0 | AB30: ='S2 Maquette'!I44*1.5 -> 0 | AC30: ='S3 Maquette'!I42*1.5 -> 0 | AD30: ='S4 Maquette'!I42*1.5 -> 0
AA31: ='S1 Maquette'!I43*1.5 -> 0 | AB31: ='S2 Maquette'!I45*1.5 -> 0 | AC31: ='S3 Maquette'!I43*1.5 -> 0 | AD31: ='S4 Maquette'!I43*1.5 -> 0
AA32: ='S1 Maquette'!I44*1.5 -> 0 | AB32: ='S2 Maquette'!I46*1.5 -> 0 | AC32: ='S3 Maquette'!I44*1.5 -> 0 | AD32: ='S4 Maquette'!I44*1.5 -> 0
AA33: ='S1 Maquette'!I45*1.5 -> 0 | AB33: ='S2 Maquette'!I47*1.5 -> 0 | AC33: ='S3 Maquette'!I45*1.5 -> 0 | AD33: ='S4 Maquette'!I45*1.5 -> 0
AA34: ='S1 Maquette'!I46*1.5 -> 0 | AB34: ='S2 Maquette'!I48*1.5 -> 0 | AC34: ='S3 Maquette'!I46*1.5 -> 0 | AD34: ='S4 Maquette'!I46*1.5 -> 0
AA35: ='S1 Maquette'!I47*1.5 -> 0 | AB35: ='S2 Maquette'!I49*1.5 -> 0 | AC35: ='S3 Maquette'!I47*1.5 -> 0 | AD35: ='S4 Maquette'!I47*1.5 -> 0
AA36: ='S1 Maquette'!I48*1.5 -> 0 | AB36: ='S2 Maquette'!I50*1.5 -> 0 | AC36: ='S3 Maquette'!I48*1.5 -> 0 | AD36: ='S4 Maquette'!I48*1.5 -> 0
AA37: ='S1 Maquette'!I49*1.5 -> 0 | AB37: ='S2 Maquette'!I51*1.5 -> 0 | AC37: ='S3 Maquette'!I49*1.5 -> 0 | AD37: ='S4 Maquette'!I49*1.5 -> 0
AA38: ='S1 Maquette'!I50*1.5 -> 0 | AB38: ='S2 Maquette'!I52*1.5 -> 0 | AC38: ='S3 Maquette'!I50*1.5 -> 0 | AD38: ='S4 Maquette'!I50*1.5 -> 0
AA39: ='S1 Maquette'!I51*1.5 -> 0 | AB39: ='S2 Maquette'!I53*1.5 -> 0 | AC39: ='S3 Maquette'!I51*1.5 -> 0 | AD39: ='S4 Maquette'!I51*1.5 -> 0
... AA291: ='S1 Maquette'!I303*1.5 -> 0 | AB291: ='S2 Maquette'!I305*1.5 -> 0 | AC291: ='S3 Maquette'!I303*1.5 -> 0 | AD291: ='S4 Maquette'!I303*1.5 -> 0

Sheet Fiche Générale
A1: Type Diplôme : Portail & Double Portail
A2: Types Diplômes | B2: Portail
A3: COMPOSANTE | B3: Portail_LLAC
A4: MENTION | B4: Humanités
A5: CODE DIPLÔME
B6: Initiale Hors-Apprentissage / Formation Continue / Formation Permanente
A8: Parcours Type Portail
A9: Parcours Type | B9: Arts et Métiers de l'Image
A13: Heures Maquette Année 1 | B13: Heures Valorisées Année 1 | C13: Heures Maquette Année 2 | D13: Heures Valorisées Année 2
A19: COMPENSATION
A20: Les MCC déterminent le mode de compensation entre UE, semestre et année ainsi que la possibilité d’une note éliminatoire.
A21: Obtention des UE
A22: UE obtenue avec moyenne de 10/20. Les ECUE sont compensables entre eux. Calcul seconde chance à l'ECUE : multiplier par deux la meilleure note
A25: Obtention du Semestre
A26: Semestre obtenu avec une moyenne de 10/20.
A29: Obtention de l'Année
A30: Année obtenue avec une moyenne de 10/20. Les semestres se compensent.
A33: Note éliminatoire/ Note seuil
A34: Non Les étudiants concernés peuvent bénéficier, sur autorisation des responsables de formation, d'une dispense d'assiduité.
A37: REDOUBLEMENT
A38: Pour passer en L2, il faut avoir obtenu 8 UE sur 10 de la L1. Toutes les UE L1 et L2 devront être validées à la fin de la L2 pour un passage en L3. Limitation du nombre de redoublements : 2 fois en L1 ; 1 fois en L2 ; 1 fois en L3 ; au-delà, à titre dérogatoire. Le redoublement n’étant pas de droit, lorsqu’un ou une étudiante obtient entre 0 et 5 de moyenne annuelle, le jury est souverain pour décider d’un redoublement ou non, en tenant compte de sa situation personnelle (maladie, décès d’un proche, etc.).
... A46: - Semestre impair L1/L2 : « Tout étudiant ou étudiante ayant une note inférieure ou égale à 10 dans au moins deux évaluations de contrôle continu (tous ECUE confondus) à la mi-novembre, ou tout étudiant ou étudiante qui rencontrera des difficultés importantes (observées par l'équipe pédagogique et/ou déclarées par l'étudiant ou l'étudiante) devra obligatoirement suivre les cours de soutien. » - Semestre pair L1/L2 : « Tout étudiant ou étudiante ayant une note inférieure ou égale à 10 en moyenne générale à l’issue du semestre impair devra obligatoirement suivre les cours de soutien ».

Sheet S1 Maquette
A7: Composante | B7: ='Fiche Générale'!B3 -> Portail_LLAC | C7: Diplôme | E7: ='Fiche Générale'!B4 -> Humanités | G7: Code diplôme | H7: ='Fiche Générale'!B5 -> 0
C10: Parcours type | E10: ='Fiche Générale'!B9 -> Arts et Métiers de l'Image
A13: Année | B13: 1ère année de Portail | C13: Code année | G13: Heure Maquette
A15: Semestre | B15: Semestre 1 | C15: Code semestre | G15: Heure Valorisées
A18: Niveau | B18: Libellé ELP | C18: Nature ELP | D18: ECTS | E18: Type | F18: Statut | G18: Code Apogée | H18: CNU | I18: Heure CM | J18: Heure TD | K18: Heure TP | L18: Langues | M18: Mutualisation | N18: Formation Porteuse | O18: Observations / Remarques ex: Intervention à titre gracieux / Capacité d'accueil max
A19: 0 | B19: Compétences transversales S1 | C19: UE | D19: 6
A20: 0.1 | B20: Compétences écrites 1 | C20: ECUE
A21: 0.2 | B21: Compétences informationnelles | C21: ECUE
A22: 0.3 | B22: Langue Vivante-1 | C22: ECUE
B23: Min 1 Max 1 | C23: OPTION
A24: 0.3.1 | B24: Anglais 1 | C24: ECUE
A25: 0.3.2 | B25: Espagnol | C25: ECUE
A26: 0.3.3 | B26: Italien | C26: ECUE
A27: 1 | B27: UE 1 Iconographie et culture visuelle | C27: UE | D27: 6
B28: Iconographies et nouvelles images | C28: ECUE | I28: 20 | M28: Porteuse
B29: Histoire du cinéma : de la naissance du cinématographe aux années 50 | C29: ECUE | I29: 20 | M29: Porteuse
B30: Ciné-club | C30: ECUE | J30: 20 | M30: Porteuse
A31: 2 | B31: UE 2 Fondamentaux de la production audiovisuelle | C31: UE | D31: 6
B32: Initiation à la prise de vue | C32: ECUE | J32: 18 | M32: Porteuse
B33: Initiation à la scénarisation | C33: ECUE | J33: 18 | M33: Porteuse
B34: Initiation à la prise de son | C34: ECUE | J34: 18 | M34: Porteuse
A35: 3 | B35: UE 3 Etudes filmiques | C35: UE | D35: 6
B36: Etude d'une œuvre filmique intégrale | C36: ECUE | J36: 30 | M36: Portée | N36: L1 Lettres
B37: Analyse filmique | C37: ECUE | J37: 30 | M37: Porteuse
A38: 4 | B38: UE 4 Construction et analyse des imaginaires | C38: UE | D38: 6
B39: Sémiologie des images (Découverte langue française) | C39: ECUE | I39: 18 | M39: Portée | N39: L1 Lettres
B40: Littérature comparée 4 | C40: ECUE | J40: 30 | M40: Portée | N40: L1 Lettres

Sheet S1 MCC
A7: Composante | B7: ='Fiche Générale'!B3 -> Portail_LLAC | C7: Diplôme | E7: ='Fiche Générale'!B4 -> Humanités | G7: Code diplôme | H7: ='Fiche Générale'!B5 -> 0
C10: Parcours type | E10: ='Fiche Générale'!B9 -> Arts et Métiers de l'Image
M12: 1ère session | P12: Seconde Chance
A13: Année | B13: ='S1 Maquette'!B13 -> 1ère année de Portail | D13: Code Année | E13: ='S1 Maquette'!E13 -> 0
M14: Contrôle continu | N14: Contrôle Terminal
A15: Semestre | B15: ='S1 Maquette'!B15 -> Semestre 1 | D15: Code Semestre | E15: ='S1 Maquette'!E15:F16 -> 0
A18: Libellé | B18: Nature | C18: Statut | D18: Coefficient | E18: Notes attendues | F18: Résultat attendu: (ACQ/AJ) | G18: Conservation note | H18: Capitalisable | I18: Compensable | J18: Seuil de compensation /20 | K18: Type de contrôle | L18: Si CC&CT coef du CT | M18: Nbre d'évalution minimum | N18: Nature | O18: Durée | P18: Format d'évaluation | Q18: Nature | R18: Durée | S18: Modalités de mise en œuvre | T18: Commentaires
A19: ='S1 Maquette'!B19 -> Compétences transversales S1 | B19: ='S1 Maquette'!C19 -> UE | C19: ='S1 Maquette'!F19 -> 0
A20: ='S1 Maquette'!B20 -> Compétences écrites 1 | B20: ='S1 Maquette'!C20 -> ECUE | C20: ='S1 Maquette'!F20 -> 0
A21: ='S1 Maquette'!B21 -> Compétences informationnelles | B21: ='S1 Maquette'!C21 -> ECUE | C21: ='S1 Maquette'!F21 -> 0
A22: ='S1 Maquette'!B22 -> Langue Vivante-1 | B22: ='S1 Maquette'!C22 -> ECUE | C22: ='S1 Maquette'!F22 -> 0
A23: ='S1 Maquette'!B23 -> Min 1 Max 1 | B23: ='S1 Maquette'!C23 -> OPTION | C23: ='S1 Maquette'!F23 -> 0
A24: ='S1 Maquette'!B24 -> Anglais 1 | B24: ='S1 Maquette'!C24 -> ECUE | C24: ='S1 Maquette'!F24 -> 0
A25: ='S1 Maquette'!B25 -> Espagnol | B25: ='S1 Maquette'!C25 -> ECUE
A26: ='S1 Maquette'!B26 -> Italien | B26: ='S1 Maquette'!C26 -> ECUE | C26: ='S1 Maquette'!F26 -> 0
A27: ='S1 Maquette'!B27 -> UE 1 Iconographie et culture visuelle | B27: ='S1 Maquette'!C27 -> UE | C27: ='S1 Maquette'!F27 -> 0 | D27: 1 | E27: OUI | F27: OUI | G27: OUI | H27: OUI | I27: OUI | P27: Autres
A28: ='S1 Maquette'!B28 -> Iconographies et nouvelles images | B28: ='S1 Maquette'!C28 -> ECUE | C28: ='S1 Maquette'!F28 -> 0 | D28: 1 | E28: OUI | F28: OUI | G28: OUI | H28: OUI | I28: OUI | K28: CCI (CC Intégral) | M28: 2 | P28: Autres | S28: seconde chance: multiplier par 2 la meileure des notes
A29: ='S1 Maquette'!B29 -> Histoire du cinéma : de la naissance du cinématographe aux années 50 | B29: ='S1 Maquette'!C29 -> ECUE | C29: ='S1 Maquette'!F29 -> 0 | D29: 1 | E29: OUI | F29: OUI | G29: OUI | H29: OUI | I29: OUI | K29: CCI (CC Intégral) | M29: 2 | P29: Autres | S29: seconde chance: multiplier par 2 la meileure des notes
A30: ='S1 Maquette'!B30 -> Ciné-club | B30: ='S1 Maquette'!C30 -> ECUE | C30: ='S1 Maquette'!F30 -> 0 | D30: 1 | E30: OUI | F30: OUI | G30: OUI | H30: OUI | I30: OUI | K30: CCI (CC Intégral) | M30: 2 | P30: Autres | S30: seconde chance: multiplier par 2 la meileure des notes
A31: ='S1 Maquette'!B31 -> UE 2 Fondamentaux de la production audiovisuelle | B31: ='S1 Maquette'!C31 -> UE | C31: ='S1 Maquette'!F31 -> 0 | D31: 1 | E31: OUI | F31: OUI | G31: OUI | H31: OUI | I31: OUI | P31: Autres
A32: ='S1 Maquette'!B32 -> Initiation à la prise de vue | B32: ='S1 Maquette'!C32 -> ECUE | C32: ='S1 Maquette'!F32 -> 0 | D32: 1 | E32: OUI | F32: OUI | G32: OUI | H32: OUI | I32: OUI | K32: CCI (CC Intégral) | M32: 2 | P32: Autres | S32: seconde chance: multiplier par 2 la meileure des notes
A33: ='S1 Maquette'!B33 -> Initiation à la scénarisation | B33: ='S1 Maquette'!C33 -> ECUE | C33: ='S1 Maquette'!F33 -> 0 | D33: 1 | E33: OUI | F33: OUI | G33: OUI | H33: OUI | I33: OUI | K33: CCI (CC Intégral) | M33: 2 | P33: Autres | S33: seconde chance: multiplier par 2 la meileure des notes
A34: ='S1 Maquette'!B34 -> Initiation à la prise de son | B34: ='S1 Maquette'!C34 -> ECUE | C34: ='S1 Maquette'!F34 -> 0 | D34: 1 | E34: OUI | F34: OUI | G34: OUI | H34: OUI | I34: OUI | K34: CCI (CC Intégral) | M34: 2 | P34: Autres | S34: seconde chance: multiplier par 2 la meileure des notes
A35: ='S1 Maquette'!B35 -> UE 3 Etudes filmiques | B35: ='S1 Maquette'!C35 -> UE | C35: ='S1 Maquette'!F35 -> 0 | D35: 1 | E35: OUI | F35: OUI | G35: OUI | H35: OUI | I35: OUI | P35: Autres
A36: ='S1 Maquette'!B36 -> Etude d'une œuvre filmique intégrale | B36: ='S1 Maquette'!C36 -> ECUE | C36: ='S1 Maquette'!F36 -> 0 | D36: 1 | E36: OUI | F36: OUI | G36: OUI | H36: OUI | I36: OUI | K36: CCI (CC Intégral) | P36: Autres | S36: ECUE porté
A37: ='S1 Maquette'!B37 -> Analyse filmique | B37: ='S1 Maquette'!C37 -> ECUE | C37: ='S1 Maquette'!F37 -> 0 | D37: 1 | E37: OUI | F37: OUI | G37: OUI | H37: OUI | I37: OUI | K37: CCI (CC Intégral) | M37: 2 | P37: Autres | S37: seconde chance: multiplier par 2 la meileure des notes
A38: ='S1 Maquette'!B38 -> UE 4 Construction et analyse des imaginaires | B38: ='S1 Maquette'!C38 -> UE | C38: ='S1 Maquette'!F38 -> 0 | D38: 1 | E38: OUI | F38: OUI | G38: OUI | H38: OUI | I38: OUI | P38: Autres
A39: ='S1 Maquette'!B39 -> Sémiologie des images (Découverte langue française) | B39: ='S1 Maquette'!C39 -> ECUE | C39: ='S1 Maquette'!F39 -> 0 | D39: 1 | E39: OUI | F39: OUI | G39: OUI | H39: OUI | I39: OUI | K39: CCI (CC Intégral) | P39: Autres | S39: ECUE porté
A40: ='S1 Maquette'!B40 -> Littérature comparée 4 | B40: ='S1 Maquette'!C40 -> ECUE | C40: ='S1 Maquette'!F40 -> 0 | D40: 1 | E40: OUI | F40: OUI | G40: OUI | H40: OUI | I40: OUI | K40: CCI (CC Intégral) | P40: Autres | S40: ECUE porté
A41: ='S1 Maquette'!B41 -> 0 | B41: ='S1 Maquette'!C41 -> 0 | C41: ='S1 Maquette'!F41 -> 0
A42: ='S1 Maquette'!B42 -> 0 | B42: ='S1 Maquette'!C42 -> 0 | C42: ='S1 Maquette'!F42 -> 0
A43: ='S1 Maquette'!B43 -> 0 | B43: ='S1 Maquette'!C43 -> 0 | C43: ='S1 Maquette'!F43 -> 0
A44: ='S1 Maquette'!B44 -> 0 | B44: ='S1 Maquette'!C44 -> 0 | C44: ='S1 Maquette'!F44 -> 0
A45: ='S1 Maquette'!B45 -> 0 | B45: ='S1 Maquette'!C45 -> 0 | C45: ='S1 Maquette'!F45 -> 0
A46: ='S1 Maquette'!B46 -> 0 | B46: ='S1 Maquette'!C46 -> 0 | C46: ='S1 Maquette'!F46 -> 0
A47: ='S1 Maquette'!B47 -> 0 | B47: ='S1 Maquette'!C47 -> 0 | C47: ='S1 Maquette'!F47 -> 0
A48: ='S1 Maquette'!B48 -> 0 | B48: ='S1 Maquette'!C48 -> 0 | C48: ='S1 Maquette'!F48 -> 0
A49: ='S1 Maquette'!B49 -> 0 | B49: ='S1 Maquette'!C49 -> 0 | C49: ='S1 Maquette'!F49 -> 0
A50: ='S1 Maquette'!B50 -> 0 | B50: ='S1 Maquette'!C50 -> 0 | C50: ='S1 Maquette'!F50 -> 0
A51: ='S1 Maquette'!B51 -> 0 | B51: ='S1 Maquette'!C51 -> 0 | C51: ='S1 Maquette'!F51 -> 0
...

Sheet S1 MCC NA
A7: Composante | B7: ='Fiche Générale'!B3 -> Portail_LLAC | C7: Diplôme | E7: ='Fiche Générale'!B4 -> Humanités | G7: Code diplôme | H7: ='Fiche Générale'!B5 -> 0
C10: Parcours type | E10: ='Fiche Générale'!B9 -> Arts et Métiers de l'Image
M12: 1ère session | P12: Seconde Chance
A13: Année | B13: ='S1 Maquette'!B13 -> 1ère année de Portail | D13: Code Année | E13: ='S1 Maquette'!E13 -> 0
M14: Contrôle continu | N14: Contrôle Terminal
A15: Semestre | B15: ='S1 Maquette'!B15 -> Semestre 1 | D15: Code Semestre | E15: ='S1 Maquette'!E15:F16 -> 0
A18: Libellé | B18: Nature | C18: Statut | D18: Coefficient | E18: Notes attendues | F18: Résultat attendu: (ACQ/AJ) | G18: Conservation note | H18: Capitalisable | I18: Compensable | J18: Seuil de compensation /20 | K18: Type de contrôle | L18: Si CC&CT coef du CT | M18: Nbre d'évalution minimum | N18: Nature | O18: Durée | P18: Format d'évaluation | Q18: Nature | R18: Durée | S18: Modalités de mise en œuvre | T18: Commentaires
A19: ='S1 Maquette'!B19 -> Compétences transversales S1 | B19: ='S1 Maquette'!C19 -> UE | C19: ='S1 Maquette'!F19 -> 0
A20: ='S1 Maquette'!B20 -> Compétences écrites 1 | B20: ='S1 Maquette'!C20 -> ECUE | C20: ='S1 Maquette'!F20 -> 0
A21: ='S1 Maquette'!B21 -> Compétences informationnelles | B21: ='S1 Maquette'!C21 -> ECUE | C21: ='S1 Maquette'!F21 -> 0
A22: ='S1 Maquette'!B22 -> Langue Vivante-1 | B22: ='S1 Maquette'!C22 -> ECUE | C22: ='S1 Maquette'!F22 -> 0
A23: ='S1 Maquette'!B23 -> Min 1 Max 1 | B23: ='S1 Maquette'!C23 -> OPTION | C23: ='S1 Maquette'!F23 -> 0
A24: ='S1 Maquette'!B24 -> Anglais 1 | B24: ='S1 Maquette'!C24 -> ECUE | C24: ='S1 Maquette'!F24 -> 0
A25: ='S1 Maquette'!B25 -> Espagnol | B25: ='S1 Maquette'!C25 -> ECUE
A26: ='S1 Maquette'!B26 -> Italien | B26: ='S1 Maquette'!C26 -> ECUE | C26: ='S1 Maquette'!F26 -> 0
A27: ='S1 Maquette'!B27 -> UE 1 Iconographie et culture visuelle | B27: ='S1 Maquette'!C27 -> UE | C27: ='S1 Maquette'!F27 -> 0 | D27: 1 | E27: OUI | F27: OUI | G27: OUI | H27: OUI | I27: OUI | P27: Autres
A28: ='S1 Maquette'!B28 -> Iconographies et nouvelles images | B28: ='S1 Maquette'!C28 -> ECUE | C28: ='S1 Maquette'!F28 -> 0 | D28: 1 | E28: OUI | F28: OUI | G28: OUI | H28: OUI | I28: OUI | K28: CCI (CC Intégral) | M28: 2 | P28: Autres | S28: seconde chance: multiplier par 2 la meileure des notes
A29: ='S1 Maquette'!B29 -> Histoire du cinéma : de la naissance du cinématographe aux années 50 | B29: ='S1 Maquette'!C29 -> ECUE | C29: ='S1 Maquette'!F29 -> 0 | D29: 1 | E29: OUI | F29: OUI | G29: OUI | H29: OUI | I29: OUI | K29: CCI (CC Intégral) | M29: 2 | P29: Autres | S29: seconde chance: multiplier par 2 la meileure des notes
A30: ='S1 Maquette'!B30 -> Ciné-club | B30: ='S1 Maquette'!C30 -> ECUE | C30: ='S1 Maquette'!F30 -> 0 | D30: 1 | E30: OUI | F30: OUI | G30: OUI | H30: OUI | I30: OUI | K30: CCI (CC Intégral) | M30: 2 | P30: Autres | S30: seconde chance: multiplier par 2 la meileure des notes
A31: ='S1 Maquette'!B31 -> UE 2 Fondamentaux de la production audiovisuelle | B31: ='S1 Maquette'!C31 -> UE | C31: ='S1 Maquette'!F31 -> 0 | D31: 1 | E31: OUI | F31: OUI | G31: OUI | H31: OUI | I31: OUI | P31: Autres
A32: ='S1 Maquette'!B32 -> Initiation à la prise de vue | B32: ='S1 Maquette'!C32 -> ECUE | C32: ='S1 Maquette'!F32 -> 0 | D32: 1 | E32: OUI | F32: OUI | G32: OUI | H32: OUI | I32: OUI | K32: CCI (CC Intégral) | M32: 2 | P32: Autres | S32: seconde chance: multiplier par 2 la meileure des notes
A33: ='S1 Maquette'!B33 -> Initiation à la scénarisation | B33: ='S1 Maquette'!C33 -> ECUE | C33: ='S1 Maquette'!F33 -> 0 | D33: 1 | E33: OUI | F33: OUI | G33: OUI | H33: OUI | I33: OUI | K33: CCI (CC Intégral) | M33: 2 | P33: Autres | S33: seconde chance: multiplier par 2 la meileure des notes
A34: ='S1 Maquette'!B34 -> Initiation à la prise de son | B34: ='S1 Maquette'!C34 -> ECUE | C34: ='S1 Maquette'!F34 -> 0 | D34: 1 | E34: OUI | F34: OUI | G34: OUI | H34: OUI | I34: OUI | K34: CCI (CC Intégral) | M34: 2 | P34: Autres | S34: seconde chance: multiplier par 2 la meileure des notes
A35: ='S1 Maquette'!B35 -> UE 3 Etudes filmiques | B35: ='S1 Maquette'!C35 -> UE | C35: ='S1 Maquette'!F35 -> 0 | D35: 1 | E35: OUI | F35: OUI | G35: OUI | H35: OUI | I35: OUI | P35: Autres
A36: ='S1 Maquette'!B36 -> Etude d'une œuvre filmique intégrale | B36: ='S1 Maquette'!C36 -> ECUE | C36: ='S1 Maquette'!F36 -> 0 | D36: 1 | E36: OUI | F36: OUI | G36: OUI | H36: OUI | I36: OUI | K36: CCI (CC Intégral) | P36: Autres | S36: ECUE porté
A37: ='S1 Maquette'!B37 -> Analyse filmique | B37: ='S1 Maquette'!C37 -> ECUE | C37: ='S1 Maquette'!F37 -> 0 | D37: 1 | E37: OUI | F37: OUI | G37: OUI | H37: OUI | I37: OUI | K37: CCI (CC Intégral) | M37: 2 | P37: Autres | S37: seconde chance: multiplier par 2 la meileure des notes
A38: ='S1 Maquette'!B38 -> UE 4 Construction et analyse des imaginaires | B38: ='S1 Maquette'!C38 -> UE | C38: ='S1 Maquette'!F38 -> 0 | D38: 1 | E38: OUI | F38: OUI | G38: OUI | H38: OUI | I38: OUI | P38: Autres
A39: ='S1 Maquette'!B39 -> Sémiologie des images (Découverte langue française) | B39: ='S1 Maquette'!C39 -> ECUE | C39: ='S1 Maquette'!F39 -> 0 | D39: 1 | E39: OUI | F39: OUI | G39: OUI | H39: OUI | I39: OUI | K39: CCI (CC Intégral) | P39: Autres | S39: ECUE porté
A40: ='S1 Maquette'!B40 -> Littérature comparée 4 | B40: ='S1 Maquette'!C40 -> ECUE | C40: ='S1 Maquette'!F40 -> 0 | D40: 1 | E40: OUI | F40: OUI | G40: OUI | H40: OUI | I40: OUI | K40: CCI (CC Intégral) | P40: Autres | S40: ECUE porté
A41: ='S1 Maquette'!B41 -> 0 | B41: ='S1 Maquette'!C41 -> 0 | C41: ='S1 Maquette'!F41 -> 0
A42: ='S1 Maquette'!B42 -> 0 | B42: ='S1 Maquette'!C42 -> 0 | C42: ='S1 Maquette'!F42 -> 0
A43: ='S1 Maquette'!B43 -> 0 | B43: ='S1 Maquette'!C43 -> 0 | C43: ='S1 Maquette'!F43 -> 0
A44: ='S1 Maquette'!B44 -> 0 | B44: ='S1 Maquette'!C44 -> 0 | C44: ='S1 Maquette'!F44 -> 0
A45: ='S1 Maquette'!B45 -> 0 | B45: ='S1 Maquette'!C45 -> 0 | C45: ='S1 Maquette'!F45 -> 0
A46: ='S1 Maquette'!B46 -> 0 | B46: ='S1 Maquette'!C46 -> 0 | C46: ='S1 Maquette'!F46 -> 0
A47: ='S1 Maquette'!B47 -> 0 | B47: ='S1 Maquette'!C47 -> 0 | C47: ='S1 Maquette'!F47 -> 0
A48: ='S1 Maquette'!B48 -> 0 | B48: ='S1 Maquette'!C48 -> 0 | C48: ='S1 Maquette'!F48 -> 0
A49: ='S1 Maquette'!B49 -> 0 | B49: ='S1 Maquette'!C49 -> 0 | C49: ='S1 Maquette'!F49 -> 0
A50: ='S1 Maquette'!B50 -> 0 | B50: ='S1 Maquette'!C50 -> 0 | C50: ='S1 Maquette'!F50 -> 0
A51: ='S1 Maquette'!B51 -> 0 | B51: ='S1 Maquette'!C51 -> 0 | C51: ='S1 Maquette'!F51 -> 0
...

Sheet S2 Maquette
A7: Composante | B7: ='Fiche Générale'!B3 -> Portail_LLAC | C7: Diplôme | E7: ='Fiche Générale'!B4 -> Humanités | G7: Code diplôme | H7: ='Fiche Générale'!B5 -> 0
C10: Parcours type | E10: ='Fiche Générale'!B9 -> Arts et Métiers de l'Image
A13: Année | B13: ='S1 Maquette'!B13 -> 1ère année de Portail | C13: Code année | E13: ='S1 Maquette'!E13 -> 0 | G13: Heures Maquettes
A15: Semestre | B15: Semestre 2 | C15: Code semestre | G15: Heures Valorisées
A18: Niveau | B18: Libellé ELP | C18: Nature ELP | D18: ECTS | E18: Type | F18: Statut | G18: Code Apogée | H18: CNU | I18: Heure CM | J18: Heure TD | K18: Heure TP | L18: Langues | M18: Mutualisation | N18: Formation Porteuse | O18: Observations / Remarques ex: Intervention à titre gracieux / Capacité d'accueil max
A19: 0 | B19: Compétences transversales S2 | C19: UE | D19: 6
A20: 0.1 | B20: Compétences numériques 1 | C20: ECUE
A21: 0.2 | B21: Compétences pré-professionnalisation 1 | C21: ECUE
A22: 0.3 | B22: Langue Vivante-2 | C22: ECUE
B23: Min 1 Max 1 | C23: OPTION
A24: 0.3.1 | B24: Anglais 2 | C24: ECUE
A25: 0.3.2 | B25: Espagnol | C25: ECUE
A26: 0.3.3 | B26: Italien | C26: ECUE
A27: 1 | B27: UE 1 Iconographie et culture visuelle | C27: UE | D27: 6
B28: Iconographies et nouvelles images | C28: ECUE | I28: 20
B29: Histoire du cinéma : des années 60 à l'époque contemporaine | C29: ECUE | I29: 20
B30: Ciné-club | C30: ECUE | J30: 20
A31: 2 | B31: UE 2 Fondamentaux de la production audiovisuelle | C31: UE | D31: 6
B32: Initiation à l'animation (2D/3D) et ateliers immersifs | C32: ECUE | J32: 18 | M32: Porteuse
B33: Initiation à la scénarisation | C33: ECUE | J33: 18 | M33: Porteuse
B34: Initiation au montage vidéo | C34: ECUE | J34: 18 | M34: Porteuse
B35: Initiation au sound design | C35: ECUE | J35: 18 | M35: Porteuse
A36: 3 | B36: UE 3 Gestion de projet | C36: UE | D36: 6
B37: Les outils du chef de projet | C37: ECUE | J37: 15 | M37: Porteuse
B38: Mise en situation | C38: ECUE | J38: 15 | M38: Porteuse
A39: 4 | B39: UE 4 Construction et analyse des imaginaires | C39: UE | D39: 6
B40: Fictions à l'écran | C40: ECUE | I40: 20 | M40: Porteuse
B41: Initiation à la lecture du geste | C41: ECUE | J41: 18 | M41: Portée | N41: L1 Danse
B42: Analyse filmique | C42: ECUE | J42: 20 | M42: Porteuse

Sheet S2 MCC
A7: Composante | B7: ='Fiche Générale'!B3 -> Portail_LLAC | C7: Diplôme | E7: ='Fiche Générale'!B4 -> Humanités | G7: Code diplôme | H7: ='Fiche Générale'!B5 -> 0
C10: Parcours type | E10: ='Fiche Générale'!B9 -> Arts et Métiers de l'Image
M12: 1ère session | P12: Seconde Chance
A13: Année | B13: ='S2 Maquette'!B13 -> 1ère année de Portail | D13: Code Année | E13: ='S2 Maquette'!E13 -> 0
M14: Contrôle continu | N14: Contrôle Terminal
A15: Semestre | B15: ='S2 Maquette'!B15 -> Semestre 2 | D15: Code Semestre | E15: ='S2 Maquette'!E15:F16 -> 0
A18: Libellé | B18: Nature | C18: Statut | D18: Coefficient | E18: Notes attendues | F18: Résultat attendu: (ACQ/AJ) | G18: Conservation note | H18: Capitalisable | I18: Compensable | J18: Seuil de compensation /20 | K18: Type de contrôle | L18: Si CC&CT coef du CT | M18: Nbre d'évalution minimum | N18: Nature | O18: Durée | P18: Format d'évaluation | Q18: Nature | R18: Durée | S18: Modalités de mise en œuvre | T18: Commentaires
A19: ='S2 Maquette'!B19 -> Compétences transversales S2 | B19: ='S2 Maquette'!C19 -> UE | C19: ='S2 Maquette'!F19 -> 0
A20: ='S2 Maquette'!B20 -> Compétences numériques 1 | B20: ='S2 Maquette'!C20 -> ECUE | C20: ='S2 Maquette'!F20 -> 0
A21: ='S2 Maquette'!B21 -> Compétences pré-professionnalisation 1 | B21: ='S2 Maquette'!C21 -> ECUE | C21: ='S2 Maquette'!F21 -> 0
A22: ='S2 Maquette'!B22 -> Langue Vivante-2 | B22: ='S2 Maquette'!C22 -> ECUE | C22: ='S2 Maquette'!F22 -> 0
A23: ='S2 Maquette'!B23 -> Min 1 Max 1 | B23: ='S2 Maquette'!C23 -> OPTION | C23: ='S2 Maquette'!F23 -> 0
A24: ='S2 Maquette'!B24 -> Anglais 2 | B24: ='S2 Maquette'!C24 -> ECUE | C24: ='S2 Maquette'!F24 -> 0
A25: ='S2 Maquette'!B25 -> Espagnol | B25: ='S2 Maquette'!C25 -> ECUE | C25: ='S2 Maquette'!F25 -> 0
A26: ='S2 Maquette'!B26 -> Italien | B26: ='S2 Maquette'!C26 -> ECUE | C26: ='S2 Maquette'!F26 -> 0
A27: ='S2 Maquette'!B27 -> UE 1 Iconographie et culture visuelle | B27: ='S2 Maquette'!C27 -> UE | C27: ='S2 Maquette'!F27 -> 0 | D27: 1 | E27: OUI | F27: OUI | G27: OUI | H27: OUI | I27: OUI
A28: ='S2 Maquette'!B28 -> Iconographies et nouvelles images | B28: ='S2 Maquette'!C28 -> ECUE | C28: ='S2 Maquette'!F28 -> 0 | D28: 1 | E28: OUI | F28: OUI | G28: OUI | H28: OUI | I28: OUI | K28: CCI (CC Intégral) | M28: 2 | P28: Autres | S28: seconde chance: multiplier par 2 la meileure des notes
A29: ='S2 Maquette'!B29 -> Histoire du cinéma : des années 60 à l'époque contemporaine | B29: ='S2 Maquette'!C29 -> ECUE | C29: ='S2 Maquette'!F29 -> 0 | D29: 1 | E29: OUI | F29: OUI | G29: OUI | H29: OUI | I29: OUI | K29: CCI (CC Intégral) | M29: 2 | P29: Autres | S29: seconde chance: multiplier par 2 la meileure des notes
A30: ='S2 Maquette'!B30 -> Ciné-club | B30: ='S2 Maquette'!C30 -> ECUE | C30: ='S2 Maquette'!F30 -> 0 | D30: 1 | E30: OUI | F30: OUI | G30: OUI | H30: OUI | I30: OUI | K30: CCI (CC Intégral) | M30: 2 | P30: Autres | S30: seconde chance: multiplier par 2 la meileure des notes
A31: ='S2 Maquette'!B31 -> UE 2 Fondamentaux de la production audiovisuelle | B31: ='S2 Maquette'!C31 -> UE | C31: ='S2 Maquette'!F31 -> 0 | D31: 1 | E31: OUI | F31: OUI | G31: OUI | H31: OUI | I31: OUI
A32: ='S2 Maquette'!B32 -> Initiation à l'animation (2D/3D) et ateliers immersifs | B32: ='S2 Maquette'!C32 -> ECUE | C32: ='S2 Maquette'!F32 -> 0 | D32: 1 | E32: OUI | F32: OUI | G32: OUI | H32: OUI | I32: OUI | K32: CCI (CC Intégral) | M32: 2 | P32: Autres | S32: seconde chance: multiplier par 2 la meileure des notes
A33: ='S2 Maquette'!B33 -> Initiation à la scénarisation | B33: ='S2 Maquette'!C33 -> ECUE | C33: ='S2 Maquette'!F33 -> 0 | D33: 1 | E33: OUI | F33: OUI | G33: OUI | H33: OUI | I33: OUI | K33: CCI (CC Intégral) | M33: 2 | P33: Autres | S33: seconde chance: multiplier par 2 la meileure des notes
A34: ='S2 Maquette'!B34 -> Initiation au montage vidéo | B34: ='S2 Maquette'!C34 -> ECUE | C34: ='S2 Maquette'!F34 -> 0 | D34: 1 | E34: OUI | F34: OUI | G34: OUI | H34: OUI | I34: OUI | K34: CCI (CC Intégral) | M34: 2 | P34: Autres | S34: seconde chance: multiplier par 2 la meileure des notes
A35: ='S2 Maquette'!B35 -> Initiation au sound design | B35: ='S2 Maquette'!C35 -> ECUE | C35: ='S2 Maquette'!F35 -> 0 | D35: 1 | E35: OUI | F35: OUI | G35: OUI | H35: OUI | I35: OUI | K35: CCI (CC Intégral) | M35: 2 | P35: Autres | S35: seconde chance: multiplier par 2 la meileure des notes
A36: ='S2 Maquette'!B36 -> UE 3 Gestion de projet | B36: ='S2 Maquette'!C36 -> UE | C36: ='S2 Maquette'!F36 -> 0 | D36: 1 | E36: OUI | F36: OUI | G36: OUI | H36: OUI | I36: OUI
A37: ='S2 Maquette'!B37 -> Les outils du chef de projet | B37: ='S2 Maquette'!C37 -> ECUE | D37: 1 | E37: OUI | F37: OUI | G37: OUI | H37: OUI | I37: OUI | K37: CCI (CC Intégral) | M37: 2 | P37: Autres | S37: seconde chance: multiplier par 2 la meileure des notes
A38: ='S2 Maquette'!B38 -> Mise en situation | B38: ='S2 Maquette'!C38 -> ECUE | D38: 1 | E38: OUI | F38: OUI | G38: OUI | H38: OUI | I38: OUI | K38: CCI (CC Intégral) | M38: 2 | P38: Autres | S38: seconde chance: multiplier par 2 la meileure des notes
A39: ='S2 Maquette'!B39 -> UE 4 Construction et analyse des imaginaires | B39: ='S2 Maquette'!C39 -> UE | C39: ='S2 Maquette'!F40 -> 0 | D39: 1 | E39: OUI | F39: OUI | G39: OUI | H39: OUI | I39: OUI
A40: ='S2 Maquette'!B40 -> Fictions à l'écran | B40: ='S2 Maquette'!C40 -> ECUE | C40: ='S2 Maquette'!F41 -> 0 | D40: 1 | E40: OUI | F40: OUI | G40: OUI | H40: OUI | I40: OUI | K40: CCI (CC Intégral) | M40: 2 | P40: Autres | S40: seconde chance: multiplier par 2 la meileure des notes
A41: ='S2 Maquette'!B41 -> Initiation à la lecture du geste | B41: ='S2 Maquette'!C41 -> ECUE | C41: ='S2 Maquette'!F42 -> 0 | D41: 1 | E41: OUI | F41: OUI | G41: OUI | H41: OUI | I41: OUI | K41: CCI (CC Intégral) | S41: ECUE porté
A42: ='S2 Maquette'!B42 -> Analyse filmique | B42: ='S2 Maquette'!C42 -> ECUE | C42: ='S2 Maquette'!F43 -> 0 | D42: 1 | E42: OUI | F42: OUI | G42: OUI | H42: OUI | I42: OUI | K42: CCI (CC Intégral) | M42: 2 | P42: Autres | S42: seconde chance: multiplier par 2 la meileure des notes
A43: ='S2 Maquette'!B44 -> 0 | B43: ='S2 Maquette'!C44 -> 0 | C43: ='S2 Maquette'!F44 -> 0
A44: ='S2 Maquette'!B45 -> 0 | B44: ='S2 Maquette'!C45 -> 0 | C44: ='S2 Maquette'!F45 -> 0
A45: ='S2 Maquette'!B46 -> 0 | B45: ='S2 Maquette'!C46 -> 0 | C45: ='S2 Maquette'!F46 -> 0
A46: ='S2 Maquette'!B47 -> 0 | B46: ='S2 Maquette'!C47 -> 0 | C46: ='S2 Maquette'!F47 -> 0
A47: ='S2 Maquette'!B48 -> 0 | B47: ='S2 Maquette'!C48 -> 0 | C47: ='S2 Maquette'!F48 -> 0
A48: ='S2 Maquette'!B49 -> 0 | B48: ='S2 Maquette'!C49 -> 0 | C48: ='S2 Maquette'!F49 -> 0
A49: ='S2 Maquette'!B50 -> 0 | B49: ='S2 Maquette'!C50 -> 0 | C49: ='S2 Maquette'!F50 -> 0
A50: ='S2 Maquette'!B51 -> 0 | B50: ='S2 Maquette'!C51 -> 0 | C50: ='S2 Maquette'!F51 -> 0
A51: ='S2 Maquette'!B52 -> 0 | B51: ='S2 Maquette'!C52 -> 0 | C51: ='S2 Maquette'!F52 -> 0
...

Sheet S2 MCC NA
A7: Composante | B7: ='Fiche Générale'!B3 -> Portail_LLAC | C7: Diplôme | E7: ='Fiche Générale'!B4 -> Humanités | G7: Code diplôme | H7: ='Fiche Générale'!B5 -> 0
C10: Parcours type | E10: ='Fiche Générale'!B9 -> Arts et Métiers de l'Image
M12: 1ère session | P12: Seconde Chance
A13: Année | B13: ='S2 Maquette'!B13 -> 1ère année de Portail | D13: Code Année | E13: ='S2 Maquette'!E13 -> 0
M14: Contrôle continu | N14: Contrôle Terminal
A15: Semestre | B15: ='S2 Maquette'!B15 -> Semestre 2 | D15: Code Semestre | E15: ='S2 Maquette'!E15:F16 -> 0
A18: Libellé | B18: Nature | C18: Statut | D18: Coefficient | E18: Notes attendues | F18: Résultat attendu: (ACQ/AJ) | G18: Conservation note | H18: Capitalisable | I18: Compensable | J18: Seuil de compensation /20 | K18: Type de contrôle | L18: Si CC&CT coef du CT | M18: Nbre d'évalution minimum | N18: Nature | O18: Durée | P18: Format d'évaluation | Q18: Nature | R18: Durée | S18: Modalités de mise en œuvre | T18: Commentaires
A19: ='S2 Maquette'!B19 -> Compétences transversales S2 | B19: ='S2 Maquette'!C19 -> UE | C19: ='S2 Maquette'!F19 -> 0
A20: ='S2 Maquette'!B20 -> Compétences numériques 1 | B20: ='S2 Maquette'!C20 -> ECUE | C20: ='S2 Maquette'!F20 -> 0
A21: ='S2 Maquette'!B21 -> Compétences pré-professionnalisation 1 | B21: ='S2 Maquette'!C21 -> ECUE | C21: ='S2 Maquette'!F21 -> 0
A22: ='S2 Maquette'!B22 -> Langue Vivante-2 | B22: ='S2 Maquette'!C22 -> ECUE | C22: ='S2 Maquette'!F22 -> 0
A23: ='S2 Maquette'!B23 -> Min 1 Max 1 | B23: ='S2 Maquette'!C23 -> OPTION | C23: ='S2 Maquette'!F23 -> 0
A24: ='S2 Maquette'!B24 -> Anglais 2 | B24: ='S2 Maquette'!C24 -> ECUE | C24: ='S2 Maquette'!F24 -> 0
A25: ='S2 Maquette'!B25 -> Espagnol | B25: ='S2 Maquette'!C25 -> ECUE | C25: ='S2 Maquette'!F25 -> 0
A26: ='S2 Maquette'!B26 -> Italien | B26: ='S2 Maquette'!C26 -> ECUE | C26: ='S2 Maquette'!F26 -> 0
A27: ='S2 Maquette'!B27 -> UE 1 Iconographie et culture visuelle | B27: ='S2 Maquette'!C27 -> UE | C27: ='S2 Maquette'!F27 -> 0 | D27: 1 | E27: OUI | F27: OUI | G27: OUI | H27: OUI | I27: OUI
A28: ='S2 Maquette'!B28 -> Iconographies et nouvelles images | B28: ='S2 Maquette'!C28 -> ECUE | C28: ='S2 Maquette'!F28 -> 0 | D28: 1 | E28: OUI | F28: OUI | G28: OUI | H28: OUI | I28: OUI | K28: CCI (CC Intégral) | M28: 2 | P28: Autres | S28: seconde chance: multiplier par 2 la meileure des notes
A29: ='S2 Maquette'!B29 -> Histoire du cinéma : des années 60 à l'époque contemporaine | B29: ='S2 Maquette'!C29 -> ECUE | C29: ='S2 Maquette'!F29 -> 0 | D29: 1 | E29: OUI | F29: OUI | G29: OUI | H29: OUI | I29: OUI | K29: CCI (CC Intégral) | M29: 2 | P29: Autres | S29: seconde chance: multiplier par 2 la meileure des notes
A30: ='S2 Maquette'!B30 -> Ciné-club | B30: ='S2 Maquette'!C30 -> ECUE | C30: ='S2 Maquette'!F30 -> 0 | D30: 1 | E30: OUI | F30: OUI | G30: OUI | H30: OUI | I30: OUI | K30: CCI (CC Intégral) | M30: 2 | P30: Autres | S30: seconde chance: multiplier par 2 la meileure des notes
A31: ='S2 Maquette'!B31 -> UE 2 Fondamentaux de la production audiovisuelle | B31: ='S2 Maquette'!C31 -> UE | C31: ='S2 Maquette'!F31 -> 0 | D31: 1 | E31: OUI | F31: OUI | G31: OUI | H31: OUI | I31: OUI
A32: ='S2 Maquette'!B32 -> Initiation à l'animation (2D/3D) et ateliers immersifs | B32: ='S2 Maquette'!C32 -> ECUE | C32: ='S2 Maquette'!F32 -> 0 | D32: 1 | E32: OUI | F32: OUI | G32: OUI | H32: OUI | I32: OUI | K32: CCI (CC Intégral) | M32: 2 | P32: Autres | S32: seconde chance: multiplier par 2 la meileure des notes
A33: ='S2 Maquette'!B33 -> Initiation à la scénarisation | B33: ='S2 Maquette'!C33 -> ECUE | C33: ='S2 Maquette'!F33 -> 0 | D33: 1 | E33: OUI | F33: OUI | G33: OUI | H33: OUI | I33: OUI | K33: CCI (CC Intégral) | M33: 2 | P33: Autres | S33: seconde chance: multiplier par 2 la meileure des notes
A34: ='S2 Maquette'!B34 -> Initiation au montage vidéo | B34: ='S2 Maquette'!C34 -> ECUE | C34: ='S2 Maquette'!F34 -> 0 | D34: 1 | E34: OUI | F34: OUI | G34: OUI | H34: OUI | I34: OUI | K34: CCI (CC Intégral) | M34: 2 | P34: Autres | S34: seconde chance: multiplier par 2 la meileure des notes
A35: ='S2 Maquette'!B35 -> Initiation au sound design | B35: ='S2 Maquette'!C35 -> ECUE | C35: ='S2 Maquette'!F35 -> 0 | D35: 1 | E35: OUI | F35: OUI | G35: OUI | H35: OUI | I35: OUI | K35: CCI (CC Intégral) | M35: 2 | P35: Autres | S35: seconde chance: multiplier par 2 la meileure des notes
A36: ='S2 Maquette'!B36 -> UE 3 Gestion de projet | B36: ='S2 Maquette'!C36 -> UE | C36: ='S2 Maquette'!F36 -> 0 | D36: 1 | E36: OUI | F36: OUI | G36: OUI | H36: OUI | I36: OUI
A37: ='S2 Maquette'!B37 -> Les outils du chef de projet | B37: ='S2 Maquette'!C37 -> ECUE | D37: 1 | E37: OUI | F37: OUI | G37: OUI | H37: OUI | I37: OUI | K37: CCI (CC Intégral) | M37: 2 | P37: Autres | S37: seconde chance: multiplier par 2 la meileure des notes
A38: ='S2 Maquette'!B38 -> Mise en situation | B38: ='S2 Maquette'!C38 -> ECUE | D38: 1 | E38: OUI | F38: OUI | G38: OUI | H38: OUI | I38: OUI | K38: CCI (CC Intégral) | M38: 2 | P38: Autres | S38: seconde chance: multiplier par 2 la meileure des notes
A39: ='S2 Maquette'!B39 -> UE 4 Construction et analyse des imaginaires | B39: ='S2 Maquette'!C39 -> UE | C39: ='S2 Maquette'!F40 -> 0 | D39: 1 | E39: OUI | F39: OUI | G39: OUI | H39: OUI | I39: OUI
A40: ='S2 Maquette'!B40 -> Fictions à l'écran | B40: ='S2 Maquette'!C40 -> ECUE | C40: ='S2 Maquette'!F41 -> 0 | D40: 1 | E40: OUI | F40: OUI | G40: OUI | H40: OUI | I40: OUI | K40: CCI (CC Intégral) | M40: 2 | P40: Autres | S40: seconde chance: multiplier par 2 la meileure des notes
A41: ='S2 Maquette'!B41 -> Initiation à la lecture du geste | B41: ='S2 Maquette'!C41 -> ECUE | C41: ='S2 Maquette'!F42 -> 0 | D41: 1 | E41: OUI | F41: OUI | G41: OUI | H41: OUI | I41: OUI | K41: CCI (CC Intégral) | S41: ECUE porté
A42: ='S2 Maquette'!B42 -> Analyse filmique | B42: ='S2 Maquette'!C42 -> ECUE | C42: ='S2 Maquette'!F43 -> 0 | D42: 1 | E42: OUI | F42: OUI | G42: OUI | H42: OUI | I42: OUI | K42: CCI (CC Intégral) | M42: 2 | P42: Autres | S42: seconde chance: multiplier par 2 la meileure des notes
A43: ='S2 Maquette'!B44 -> 0 | B43: ='S2 Maquette'!C44 -> 0 | C43: ='S2 Maquette'!F44 -> 0
A44: ='S2 Maquette'!B45 -> 0 | B44: ='S2 Maquette'!C45 -> 0 | C44: ='S2 Maquette'!F45 -> 0
A45: ='S2 Maquette'!B46 -> 0 | B45: ='S2 Maquette'!C46 -> 0 | C45: ='S2 Maquette'!F46 -> 0
A46: ='S2 Maquette'!B47 -> 0 | B46: ='S2 Maquette'!C47 -> 0 | C46: ='S2 Maquette'!F47 -> 0
A47: ='S2 Maquette'!B48 -> 0 | B47: ='S2 Maquette'!C48 -> 0 | C47: ='S2 Maquette'!F48 -> 0
A48: ='S2 Maquette'!B49 -> 0 | B48: ='S2 Maquette'!C49 -> 0 | C48: ='S2 Maquette'!F49 -> 0
A49: ='S2 Maquette'!B50 -> 0 | B49: ='S2 Maquette'!C50 -> 0 | C49: ='S2 Maquette'!F50 -> 0
A50: ='S2 Maquette'!B51 -> 0 | B50: ='S2 Maquette'!C51 -> 0 | C50: ='S2 Maquette'!F51 -> 0
A51: ='S2 Maquette'!B52 -> 0 | B51: ='S2 Maquette'!C52 -> 0 | C51: ='S2 Maquette'!F52 -> 0
...

Sheet S3 Maquette
A7: Composante | B7: ='Fiche Générale'!B3 -> Portail_LLAC | C7: Diplôme | E7: ='Fiche Générale'!B4 -> Humanités | G7: Code diplôme | H7: ='Fiche Générale'!B5 -> 0
C10: Parcours type | E10: ='Fiche Générale'!B9 -> Arts et Métiers de l'Image
A13: Année | B13: 2ème année de Portail | C13: Code année | G13: Heures Maquette
A15: Semestre | B15: Semestre 3 | C15: Code semestre | G15: Heures Valorisées
A18: Niveau | B18: Libellé ELP | C18: Nature ELP | D18: ECTS | E18: Type | F18: Statut | G18: Code Apogée | H18: CNU | I18: Heure CM | J18: Heure TD | K18: Heure TP | L18: Langues | M18: Mutualisation | N18: Formation Porteuse | O18: Observations / Remarques ex: Intervention à titre gracieux / Capacité d'accueil max
A19: 0 | B19: Compétences transversales S3 | C19: UE | D19: 6
A20: 0.1 | B20: Compétences informationnelles 2 | C20: ECUE
A21: 0.2 | B21: Compétences pré-professionnalisation 2 | C21: ECUE
A22: 0.3 | B22: Langue Vivante-3 | C22: ECUE
B23: Min 1 Max 1 | C23: OPTION
A24: 0.3.1 | B24: Anglais 3 | C24: ECUE
A25: 0.3.2 | B25: Espagnol | C25: ECUE
A26: 0.3.3 | B26: Italien | C26: ECUE
A27: 1 | B27: UE 1 Iconographie et culture visuelle | C27: UE | D27: 6 | H27: 18-Architecture (ses théories et ses pratiques), arts appliqués, arts plastiques, arts du spectacle, épistémologie des enseignements artistiques, esthétique, musicologie, musique, sciences de l'art
B28: Iconographies et nouvelles images | C28: ECUE | H28: 18-Architecture (ses théories et ses pratiques), arts appliqués, arts plastiques, arts du spectacle, épistémologie des enseignements artistiques, esthétique, musicologie, musique, sciences de l'art | I28: 20 | M28: Porteuse
B29: Socio-économie du cinéma et des images animée | C29: ECUE | H29: 71-Sciences de l'information et de la communication | I29: 15 | M29: Porteuse
B30: Écritures Audiovisuelles | C30: ECUE | H30: 18-Architecture (ses théories et ses pratiques), arts appliqués, arts plastiques, arts du spectacle, épistémologie des enseignements artistiques, esthétique, musicologie, musique, sciences de l'art | I30: 15 | M30: Porteuse
B31: Ciné-club | C31: ECUE | H31: 18-Architecture (ses théories et ses pratiques), arts appliqués, arts plastiques, arts du spectacle, épistémologie des enseignements artistiques, esthétique, musicologie, musique, sciences de l'art | J31: 20 | M31: Portée | N31: L1 AMI
A32: 2 | B32: UE 2 Fondamentaux de la production audiovisuelle | C32: UE | D32: 6 | H32: 18-Architecture (ses théories et ses pratiques), arts appliqués, arts plastiques, arts du spectacle, épistémologie des enseignements artistiques, esthétique, musicologie, musique, sciences de l'art
B33: Initiation aux effets spéciaux (SFX) et au motion design | C33: ECUE | H33: 18-Architecture (ses théories et ses pratiques), arts appliqués, arts plastiques, arts du spectacle, épistémologie des enseignements artistiques, esthétique, musicologie, musique, sciences de l'art | K33: 18 | M33: Porteuse | O33: 2 groupes TP
B34: Découpage technique | C34: ECUE | H34: 18-Architecture (ses théories et ses pratiques), arts appliqués, arts plastiques, arts du spectacle, épistémologie des enseignements artistiques, esthétique, musicologie, musique, sciences de l'art | J34: 18 | M34: Porteuse | N34: L1 AMI
B35: Pratiques de la photographie et de l'éclairage | C35: ECUE | H35: 18-Architecture (ses théories et ses pratiques), arts appliqués, arts plastiques, arts du spectacle, épistémologie des enseignements artistiques, esthétique, musicologie, musique, sciences de l'art | K35: 18 | M35: Porteuse | O35: 2 groupes TP
B36: Initiation au mixage | C36: ECUE | H36: 18-Architecture (ses théories et ses pratiques), arts appliqués, arts plastiques, arts du spectacle, épistémologie des enseignements artistiques, esthétique, musicologie, musique, sciences de l'art | K36: 18 | M36: Porteuse | O36: 2 groupes TP
A37: 3 | B37: UE 3 Gestion de projet | C37: UE | D37: 6 | H37: 06-Sciences de gestion
B38: Gestion de projet | C38: ECUE | H38: 06-Sciences de gestion | J38: 20 | M38: Porteuse
B39: Dispositifs de financement de la production audiovisuelle | C39: ECUE | H39: 06-Sciences de gestion | J39: 12 | M39: Porteuse
A40: 4 | B40: UE 4 Construction et analyse des imaginaires | C40: UE | D40: 6 | H40: 18-Architecture (ses théories et ses pratiques), arts appliqués, arts plastiques, arts du spectacle, épistémologie des enseignements artistiques, esthétique, musicologie, musique, sciences de l'art
B41: Dessin et création artistique | C41: ECUE | H41: 18-Architecture (ses théories et ses pratiques), arts appliqués, arts plastiques, arts du spectacle, épistémologie des enseignements artistiques, esthétique, musicologie, musique, sciences de l'art | K41: 18 | M41: Porteuse | O41: 2 groupes TP
B42: Les écritures de la non-fiction | C42: ECUE | H42: 18-Architecture (ses théories et ses pratiques), arts appliqués, arts plastiques, arts du spectacle, épistémologie des enseignements artistiques, esthétique, musicologie, musique, sciences de l'art | J42: 20 | M42: Porteuse
B43: Création visuelle assistée par ordinateur | C43: ECUE | H43: 18-Architecture (ses théories et ses pratiques), arts appliqués, arts plastiques, arts du spectacle, épistémologie des enseignements artistiques, esthétique, musicologie, musique, sciences de l'art | K43: 18 | M43: Porteuse | O43: 2 groupes TP

Sheet S3 MCC
A7: Composante | B7: ='[1]Fiche Générale'!B3 -> Portail_LLAC | C7: Diplôme | E7: ='[1]Fiche Générale'!B4 -> Humanités | G7: Code diplôme | H7: ='[1]Fiche Générale'!B5 -> 0
C10: Parcours type | E10: ='[1]Fiche Générale'!B9 -> Arts et Métiers de l'Image
M12: 1ère session | P12: Seconde Chance
A13: Année | B13: 2e année de portail | D13: Code Année | E13: ='[1]S2 Maquette'!E13 -> 0
M14: Contrôle continu | N14: Contrôle Terminal
A15: Semestre | B15: Semestre 3 | D15: Code Semestre | E15: ='[1]S2 Maquette'!E15:F16 -> 0
A18: Libellé | B18: Nature | C18: Statut | D18: Coefficient | E18: Notes attendues | F18: Résultat attendu: (ACQ/AJ) | G18: Conservation note | H18: Capitalisable | I18: Compensable | J18: Seuil de compensation /20 | K18: Type de contrôle | L18: Si CC&CT coef du CT | M18: Nbre d'évalution minimum | N18: Nature | O18: Durée | P18: Format d'évaluation | Q18: Nature | R18: Durée | S18: Modalités de mise en œuvre | T18: Commentaires
A19: ='[1]S2 Maquette'!B19 -> Compétences transversales S2 | B19: ='[1]S2 Maquette'!C19 -> UE | C19: ='[1]S2 Maquette'!F19 -> 0
A20: ='[1]S2 Maquette'!B20 -> Compétences numériques 1 | B20: ='[1]S2 Maquette'!C20 -> ECUE | C20: ='[1]S2 Maquette'!F20 -> 0
A21: ='[1]S2 Maquette'!B21 -> Compétences pré-professionnalisation 1 | B21: ='[1]S2 Maquette'!C21 -> ECUE | C21: ='[1]S2 Maquette'!F21 -> 0
A22: ='[1]S2 Maquette'!B22 -> Langue Vivante-2 | B22: ='[1]S2 Maquette'!C22 -> ECUE | C22: ='[1]S2 Maquette'!F22 -> 0
A23: ='[1]S2 Maquette'!B23 -> Min 1 Max 1 | B23: ='[1]S2 Maquette'!C23 -> OPTION | C23: ='[1]S2 Maquette'!F23 -> 0
A24: ='[1]S2 Maquette'!B24 -> Anglais 2 | B24: ='[1]S2 Maquette'!C24 -> ECUE | C24: ='[1]S2 Maquette'!F24 -> 0
A25: ='[1]S2 Maquette'!B25 -> Espagnol | B25: ='[1]S2 Maquette'!C25 -> ECUE | C25: ='[1]S2 Maquette'!F25 -> 0
A26: ='[1]S2 Maquette'!B26 -> Italien | B26: ='[1]S2 Maquette'!C26 -> ECUE | C26: ='[1]S2 Maquette'!F26 -> 0
A27: UE 1 Iconographie et culture visuelle | B27: ='S2 Maquette'!C27 -> UE | C27: ='S2 Maquette'!F27 -> 0 | D27: 1 | E27: OUI | F27: OUI | G27: OUI | H27: OUI | I27: OUI
A28: Iconographies et nouvelles images | B28: ='S2 Maquette'!C28 -> ECUE | C28: ='S2 Maquette'!F28 -> 0 | D28: 1 | E28: OUI | F28: OUI | G28: OUI | H28: OUI | I28: OUI | K28: CCI (CC Intégral) | M28: 2 | P28: Autres | S28: seconde chance: multiplier par 2 la meileure des notes
A29: Socio-économie du cinéma et des images animée | B29: ='S2 Maquette'!C29 -> ECUE | C29: ='S2 Maquette'!F29 -> 0 | D29: 1 | E29: OUI | F29: OUI | G29: OUI | H29: OUI | I29: OUI | K29: CCI (CC Intégral) | M29: 2 | P29: Autres | S29: seconde chance: multiplier par 2 la meileure des notes
A30: Écritures Audiovisuelles | B30: ='S2 Maquette'!C30 -> ECUE | C30: ='S2 Maquette'!F30 -> 0 | D30: 1 | E30: OUI | F30: OUI | G30: OUI | H30: OUI | I30: OUI | K30: CCI (CC Intégral) | M30: 2 | P30: Autres | S30: seconde chance: multiplier par 2 la meileure des notes
A31: Ciné-club | B31: ECUE | C31: ='S2 Maquette'!#REF! -> #REF! | D31: 1 | E31: OUI | F31: OUI | G31: OUI | H31: OUI | I31: OUI | K31: CCI (CC Intégral) | M31: 2 | P31: Autres | S31: seconde chance: multiplier par 2 la meileure des notes
A32: UE 2 Fondamentaux de la production audiovisuelle | B32: ='S2 Maquette'!C31 -> UE | C32: ='S2 Maquette'!F32 -> 0 | D32: 1 | E32: OUI | F32: OUI | G32: OUI | H32: OUI | I32: OUI
A33: Initiation aux effets spéciaux (SFX) et au motion design | B33: ='S2 Maquette'!C32 -> ECUE | C33: ='S2 Maquette'!F33 -> 0 | D33: 1 | E33: OUI | F33: OUI | G33: OUI | H33: OUI | I33: OUI | K33: CCI (CC Intégral) | M33: 2 | P33: Autres | S33: seconde chance: multiplier par 2 la meileure des notes
A34: Découpage technique | B34: ECUE | C34: ='S2 Maquette'!F34 -> 0 | D34: 1 | E34: OUI | F34: OUI | G34: OUI | H34: OUI | I34: OUI | K34: CCI (CC Intégral) | M34: 2 | P34: Autres | S34: seconde chance: multiplier par 2 la meileure des notes
A35: Pratiques de la photographie et de l'éclairage | B35: ='S2 Maquette'!C33 -> ECUE | C35: ='S2 Maquette'!F35 -> 0 | D35: 1 | E35: OUI | F35: OUI | G35: OUI | H35: OUI | I35: OUI | K35: CCI (CC Intégral) | M35: 2 | P35: Autres | S35: seconde chance: multiplier par 2 la meileure des notes
A36: Initiation au mixage | B36: ='S2 Maquette'!C34 -> ECUE | C36: ='S2 Maquette'!#REF! -> #REF! | D36: 1 | E36: OUI | F36: OUI | G36: OUI | H36: OUI | I36: OUI | K36: CCI (CC Intégral) | M36: 2 | P36: Autres | S36: seconde chance: multiplier par 2 la meileure des notes
A37: UE 3 Gestion de projet | B37: UE | C37: ='S2 Maquette'!#REF! -> #REF! | D37: 1 | E37: OUI | F37: OUI | G37: OUI | H37: OUI | I37: OUI
A38: Gestion de projet | B38: ECUE | C38: ='S2 Maquette'!F39 -> 0 | D38: 1 | E38: OUI | F38: OUI | G38: OUI | H38: OUI | I38: OUI | K38: CCI (CC Intégral) | M38: 2 | P38: Autres | S38: seconde chance: multiplier par 2 la meileure des notes
A39: Dispositifs de financement de la production audiovisuelle | B39: ='S2 Maquette'!C40 -> ECUE | C39: ='S2 Maquette'!F40 -> 0 | D39: 1 | E39: OUI | F39: OUI | G39: OUI | H39: OUI | I39: OUI | K39: CCI (CC Intégral) | M39: 2 | P39: Autres | S39: seconde chance: multiplier par 2 la meileure des notes
A40: UE 4 Construction et analyse des imaginaires | B40: UE | C40: ='S2 Maquette'!F42 -> 0 | D40: 1 | E40: OUI | F40: OUI | G40: OUI | H40: OUI | I40: OUI
A41: Dessin et création artistique | B41: ECUE | C41: ='S2 Maquette'!F43 -> 0 | D41: 1 | E41: OUI | F41: OUI | G41: OUI | H41: OUI | I41: OUI | K41: CCI (CC Intégral) | M41: 2 | P41: Autres | S41: seconde chance: multiplier par 2 la meileure des notes
A42: Les écritures de la non-fiction | B42: ECUE | C42: ='S2 Maquette'!F44 -> 0 | D42: 1 | E42: OUI | F42: OUI | G42: OUI | H42: OUI | I42: OUI | K42: CCI (CC Intégral) | M42: 2 | P42: Autres | S42: seconde chance: multiplier par 2 la meileure des notes
A43: Création visuelle assistée par ordinateur | B43: ECUE | C43: ='S2 Maquette'!F45 -> 0 | D43: 1 | E43: OUI | F43: OUI | G43: OUI | H43: OUI | I43: OUI | K43: CCI (CC Intégral) | M43: 2 | P43: Autres | S43: seconde chance: multiplier par 2 la meileure des notes
A44: ='[1]S2 Maquette'!B47 -> 0 | B44: ='[1]S2 Maquette'!C47 -> 0 | C44: ='[1]S2 Maquette'!F47 -> 0
A45: ='[1]S2 Maquette'!B48 -> 0 | B45: ='[1]S2 Maquette'!C48 -> 0 | C45: ='[1]S2 Maquette'!F48 -> 0
A46: ='[1]S2 Maquette'!B49 -> 0 | B46: ='[1]S2 Maquette'!C49 -> 0 | C46: ='[1]S2 Maquette'!F49 -> 0
A47: ='[1]S2 Maquette'!B50 -> 0 | B47: ='[1]S2 Maquette'!C50 -> 0 | C47: ='[1]S2 Maquette'!F50 -> 0
A48: ='[1]S2 Maquette'!B51 -> 0 | B48: ='[1]S2 Maquette'!C51 -> 0 | C48: ='[1]S2 Maquette'!F51 -> 0
A49: ='[1]S2 Maquette'!B52 -> 0 | B49: ='[1]S2 Maquette'!C52 -> 0 | C49: ='[1]S2 Maquette'!F52 -> 0
A50: ='[1]S2 Maquette'!B53 -> 0 | B50: ='[1]S2 Maquette'!C53 -> 0 | C50: ='[1]S2 Maquette'!F53 -> 0
A51: ='[1]S2 Maquette'!B54 -> 0 | B51: ='[1]S2 Maquette'!C54 -> 0 | C51: ='[1]S2 Maquette'!F54 -> 0
...

Sheet S3 MCC NA
A7: Composante | B7: ='[1]Fiche Générale'!B3 -> Portail_LLAC | C7: Diplôme | E7: ='[1]Fiche Générale'!B4 -> Humanités | G7: Code diplôme | H7: ='[1]Fiche Générale'!B5 -> 0
C10: Parcours type | E10: ='[1]Fiche Générale'!B9 -> Arts et Métiers de l'Image
M12: 1ère session | P12: Seconde Chance
A13: Année | B13: 2e année de portail | D13: Code Année | E13: ='[1]S2 Maquette'!E13 -> 0
M14: Contrôle continu | N14: Contrôle Terminal
A15: Semestre | B15: Semestre 3 | D15: Code Semestre | E15: ='[1]S2 Maquette'!E15:F16 -> 0
A18: Libellé | B18: Nature | C18: Statut | D18: Coefficient | E18: Notes attendues | F18: Résultat attendu: (ACQ/AJ) | G18: Conservation note | H18: Capitalisable | I18: Compensable | J18: Seuil de compensation /20 | K18: Type de contrôle | L18: Si CC&CT coef du CT | M18: Nbre d'évalution minimum | N18: Nature | O18: Durée | P18: Format d'évaluation | Q18: Nature | R18: Durée | S18: Modalités de mise en œuvre | T18: Commentaires
A19: ='[1]S2 Maquette'!B19 -> Compétences transversales S2 | B19: ='[1]S2 Maquette'!C19 -> UE | C19: ='[1]S2 Maquette'!F19 -> 0
A20: ='[1]S2 Maquette'!B20 -> Compétences numériques 1 | B20: ='[1]S2 Maquette'!C20 -> ECUE | C20: ='[1]S2 Maquette'!F20 -> 0
A21: ='[1]S2 Maquette'!B21 -> Compétences pré-professionnalisation 1 | B21: ='[1]S2 Maquette'!C21 -> ECUE | C21: ='[1]S2 Maquette'!F21 -> 0
A22: ='[1]S2 Maquette'!B22 -> Langue Vivante-2 | B22: ='[1]S2 Maquette'!C22 -> ECUE | C22: ='[1]S2 Maquette'!F22 -> 0
A23: ='[1]S2 Maquette'!B23 -> Min 1 Max 1 | B23: ='[1]S2 Maquette'!C23 -> OPTION | C23: ='[1]S2 Maquette'!F23 -> 0
A24: ='[1]S2 Maquette'!B24 -> Anglais 2 | B24: ='[1]S2 Maquette'!C24 -> ECUE | C24: ='[1]S2 Maquette'!F24 -> 0
A25: ='[1]S2 Maquette'!B25 -> Espagnol | B25: ='[1]S2 Maquette'!C25 -> ECUE | C25: ='[1]S2 Maquette'!F25 -> 0
A26: ='[1]S2 Maquette'!B26 -> Italien | B26: ='[1]S2 Maquette'!C26 -> ECUE | C26: ='[1]S2 Maquette'!F26 -> 0
A27: UE 1 Iconographie et culture visuelle | B27: ='S2 Maquette'!C27 -> UE | C27: ='S2 Maquette'!F27 -> 0 | D27: 1 | E27: OUI | F27: OUI | G27: OUI | H27: OUI | I27: OUI
