Workbook
Name list_cmp: [1]Listes!$A$10:$G$10
Name list_cmp: [1]Listes!$A$10:$G$10
Name list_cmp: Listes!$A$10:$G$10
Name List_CNU: [1]Listes!$A$27:$A$83
Name List_CNU: [1]Listes!$A$27:$A$83
Name List_CNU: Listes!$A$27:$A$83
Name List_Controle: [1]Listes!$B$2:$B$6
Name List_Controle: [1]Listes!$B$2:$B$6
Name List_Controle: Listes!$B$2:$B$6
Name List_Controle2: [1]Listes!$A$2:$A$4
Name List_Controle2: [1]Listes!$A$2:$A$4
Name List_Controle2: Listes!$A$2:$A$4
Name List_Mutualisation: [1]Listes!$E$2:$E$3
Name List_Mutualisation: [1]Listes!$E$2:$E$3
Name List_Mutualisation: Listes!$E$2:$E$3
Name List_RegimeInscription: [1]Listes!$C$2:$C$3
Name List_RegimeInscription: [1]Listes!$C$2:$C$3
Name List_RegimeInscription: Listes!$C$2:$C$3
Name List_Statut: [1]Listes!$F$2:$F$4
Name List_Statut: [1]Listes!$F$2:$F$4
Name List_Statut: Listes!$F$2:$F$4
Name list_typdiplome: [1]Listes!$H$3:$H$4
Name list_typdiplome: [1]Listes!$H$3:$H$4
Name list_typdiplome: Listes!$H$3:$H$4
Name List_Type: [1]Listes!$G$2:$G$3
Name List_Type: [1]Listes!$G$2:$G$3
Name List_Type: Listes!$G$2:$G$3
Name liste_cmp: #REF!
Name liste_cmp: #REF!
Name liste_cmp: #REF!
Name liste_cmp: #REF!
Name liste_cmp: #REF!
Name liste_cmp: #REF!
Name liste_mention: #REF!
Name liste_mention: #REF!
Name liste_mention: #REF!
Name liste_mention: #REF!
Name liste_mention: #REF!
Name liste_mention: #REF!
Name Médecine: #REF!
Name Médecine: #REF!
Name Médecine: #REF!
Name Médecine: #REF!
Name Médecine: #REF!
Name Médecine: #REF!
Name Por: #REF!
Name Por: #REF!
Name Por: #REF!
Name Por: #REF!
Name Por: #REF!
Name Por: #REF!
Name Portail_Droit: Listes!$A$11:$A$12
Name Portail_EG: Listes!$B$11:$B$12
Name Portail_LLAC: Listes!$D$11:$D$19
Name Portail_SHS: #REF!
Name Portail_SHS: #REF!
Name Portail_SHS: #REF!
Name Portail_SHS: #REF!
Name Portail_SHS: #REF!
Name Portail_SHS: Listes!$C$11:$C$22

Sheet Listes
A1: Type contrôle | B1: Nature contrôle | C1: Régime d'inscription | D1: Nature ELP | E1: Mutualisation | F1: Statut | G1: Type | J1: Mention | K1: Codage Diplôme | L1: Codage double licence
A2: CCI (CC Intégral) | B2: Écrit | C2: Initiale Hors-Apprentissage / Formation Continue / Formation Permanente | D2: UE | E2: Porteuse | F2: Création | G2: Facultatif | H2: Type Diplôme | J2: Sciences de la Vie | K2: SLVIE18
A3: CT (Contrôle terminal) | B3: Oral | C3: Contrat d'Apprentissage/ Contrat de Professionnalisation | D3: ECUE | E3: Portée | F3: Modification | G3: Complémentaire | H3: Licence | J3: Droit | K3: DLDRT18
A4: CC&CT | B4: Écrit/Pratique | D4: BLOC | F4: Fermeture | H4: Double Licence | J4: Économie et gestion | K4: ILECG18
B5: Rapport/Mémoire | D5: OPTION | J5: Économie et gestion | K5: GLECG18
B6: Pratique sportive | D6: Parcours Pédagogique | J6: Information-communication | K6: HLICO18
J7: Arts du spectacle | K7: HLARS18
J8: Musicologie | K8: HLMUS18
J9: Lettres | K9: HLLET18
A10: Portail_Droit | B10: Portail_EG | C10: Portail_SHS | D10: Portail_LLAC | E10: Portail_ST | F10: Portail_SV | G10: Portail_STAPS | J10: Lettres étrangères appliquées (LEA) | K10: HLEAP18
A11: Droit | B11: Économie et gestion | C11: Sciences de l'homme, anthropologie, ethnologie | D11: Information-communication | E11: Sciences de la terre | F11: Sciences de la vie | G11: STAPS-Activité Physique Adaptée-Santé | J11: Langues, littératures et civilisations étrangères et régionales (LLCER) | K11: HLCER18
A12: Droit-Philosophie | B12: Économie-Sociologie | C12: Psychologie | D12: Arts du spectacle | E12: Sciences et technologies | F12: Sciences de la vie-Chimie | G12: STAPS-Education et Motricité | J12: Sciences de l'homme, anthropologie, ethnologie | K12: HLTSH18
C13: Histoire | D13: Musicologie | E13: Physique | F13: Sciences de la vie-Mathématiques | G13: STAPS-Entraînement Sportif | J13: Psychologie | K13: HLPSY18
C14: Sociologie | D14: Lettres | E14: Mathématiques | F14: Bio-Geo-Sciences | G14: STAPS-Management du Sport | J14: Sciences du langage | K14: HLNDL18
C15: Philosophie | D15: Lettres étrangères appliquées (LEA) | E15: Mathématiques et Informatique appliquées aux sciences humaines et sociales (MIASHS) | J15: Histoire | K15: HLHIS18
C16: Humanités | D16: Langues, littératures et civilisations étrangères et régionales (LLCER) | E16: Electronique, énergie électrique, automatique (EEA) | J16: Philosophie | K16: HLOPH18
C17: Géographie et aménagement | D17: Sciences du langage | E17: Informatique | J17: Sociologie | K17: HLSOC18
C18: Philosophie-Droit | D18: Lettres-Histoire | E18: Sciences de la terre-Sciences de la vie | J18: Sciences de la terre | K18: SLTER18
C19: Psychologie-Philosophie | D19: Musicologie - Sciences de l'homme, anthropologie, ethnologie | E19: Physique-Mathématiques | J19: Sciences et technologies | K19: SLSIT18
C20: Philosophie-Psychologie | E20: Mathématiques-Physique | J20: Chimie | K20: SLCHI18
C21: Histoire-Lettres | E21: Informatique-Mathématiques | J21: Physique | K21: SLPHY18
C22: Sociologie-Économie | E22: Mathématiques-Informatique | J22: Mathématiques | K22: SLMAT18
E23: Chimie-Sciences de la vie | J23: Mathématiques et Informatique appliquées aux sciences humaines et sociales (MIASHS) | K23: SLASH18
E24: Sciences de la terre-Physique | J24: Electronique, énergie électrique, automatique (EEA) | K24: SLELE18
E25: Physique-Sciences de la terre | J25: Informatique | K25: SLINF18
A26: CNU | E26: Mathématiques-Sciences de la vie | J26: Géographie et aménagement | K26: SLGEO18
A27: 01-Droit privé et sciences criminelles | J27: STAPS-Activité Physique Adaptée-Santé | K27: PLAPA18
A28: 02-Droit public | J28: STAPS-Education et Motricité | K28: PLEMO18
A29: 03-Histoire du droit et des institutions | J29: STAPS-Entraînement Sportif | K29: PLSES18
A30: 04-Science politique | J30: STAPS-Management du Sport | K30: PLMSP18
A31: 05-Sciences économiques | J31: Humanités | K31: HLBHU18
A32: 06-Sciences de gestion | J32: Sciences de la vie-Chimie | K32: SLVIE18 | L32: SLCHI18
A33: 07-Sciences du langage : linguistique et phonétique générales | F33: l | J33: Sciences de la vie-Mathématiques | K33: SLVIE18 | L33: SLMAT18
A34: 08-Langues et littératures anciennes | J34: Bio-Geo-Sciences | K34: SLVIE18 | L34: SLTER18
A35: 09-Langue et littérature françaises | J35: Sciences de la terre-Sciences de la vie | K35: SLTER18 | L35: SLVIE18
A36: 10-Littératures comparées | J36: Physique-Mathématiques | K36: SLPHY18 | L36: SLPHY18
A37: 11-Langues et littératures anglaises et anglo-saxonnes | J37: Mathématiques-Physique | K37: SLMAT18 | L37: SLMAT18
A38: 12-Langues et littératures germaniques et scandinaves | J38: Informatique-Mathématiques | K38: SLINF18 | L38: SLMAT18
A39: 13-Langues et littératures slaves | J39: Mathématiques-Informatique | K39: SLMAT18 | L39: SLINF18
A40: 14-Langues et littératures romanes : espagnol, italien, portugais, autres langues romanes | J40: Chimie-Sciences de la vie | K40: SLCHI18 | L40: SLVIE18
...

Sheet Calcul
A1: Heure Pédagogique | O1: Heure CM
A3: Semestre 5 | D3: Semestre 6 | O3: Semestre 5 | P3: Semestre 6
A4: Heure CM | B4: Heure TD | C4: Heure TP | D4: Heure CM | E4: Heure TD | F4: Heure TP | O4: ='S5 Maquette'!I19*1.5 -> 0 | P4: ='S6 Maquette'!I19*1.5 -> 0
A5: =SUM(O4:O291) -> #REF! | B5: =SUM('S5 Maquette'!J19:J264) -> 540 | C5: =SUM('S5 Maquette'!K19:K264) -> 0 | D5: =SUM(P4:P291) -> #REF! | E5: =SUM('S6 Maquette'!J19:J278) -> 596 | F5: =SUM('S6 Maquette'!K19:K278) -> 0 | O5: ='S5 Maquette'!I20*1.5 -> 0 | P5: ='S6 Maquette'!I20*1.5 -> 0
A6: Total | D6: Total | O6: ='S5 Maquette'!I21*1.5 -> 0 | P6: ='S6 Maquette'!I21*1.5 -> 0
A7: =SUM(A5,B5,C5) -> #REF! | D7: =SUM(D5,E5,F5) -> #REF! | O7: ='S5 Maquette'!I22*1.5 -> 0 | P7: ='S6 Maquette'!I22*1.5 -> 0
A8: Total | O8: ='S5 Maquette'!I23*1.5 -> 0 | P8: ='S6 Maquette'!I23*1.5 -> 0
O9: ='S5 Maquette'!I24*1.5 -> 0 | P9: ='S6 Maquette'!I24*1.5 -> 0
A10: =SUM(A7,D7) -> #REF! | O10: ='S5 Maquette'!I25*1.5 -> 0 | P10: ='S6 Maquette'!I25*1.5 -> 0
O11: ='S5 Maquette'!I26*1.5 -> 0 | P11: ='S6 Maquette'!I26*1.5 -> 0
O12: ='S5 Maquette'!I27*1.5 -> 0 | P12: ='S6 Maquette'!I27*1.5 -> 0
O13: ='S5 Maquette'!I29*1.5 -> 0 | P13: ='S6 Maquette'!I29*1.5 -> 0
A14: Heure Porté par la maquette | H14: Mutualisation Porteuse | O14: ='S5 Maquette'!I30*1.5 -> 0 | P14: ='S6 Maquette'!I30*1.5 -> 0
O15: ='S5 Maquette'!I31*1.5 -> 0 | P15: ='S6 Maquette'!I31*1.5 -> 0
A16: Semestre 5 | D16: Semestre 6 | H16: Semestre 5 | K16: Semestre 6 | O16: ='S5 Maquette'!#REF!*1.5 -> #REF! | P16: ='S6 Maquette'!#REF!*1.5 -> #REF!
A17: Heure CM | B17: Heure TD | C17: Heure TP | D17: Heure CM | E17: Heure TD | F17: Heure TP | H17: Heure CM | I17: Heure TD | J17: Heure TP | K17: Heure CM | L17: Heure TD | M17: Heure TP | O17: ='S5 Maquette'!I32*1.5 -> 0 | P17: ='S6 Maquette'!I32*1.5 -> 0
A18: =A5-H18 -> #REF! | B18: =B5-I18 -> 402 | C18: =C5-J18 -> 0 | D18: =D5-K18 -> #REF! | E18: =E5-L18 -> 404 | F18: =F5-M18 -> 0 | H18: =SUMIF('S5 Maquette'!M19:M264,"Portée",'S5 Maquette'!I19:I264)*1.5 -> 18 | I18: =SUMIF('S5 Maquette'!M19:M264,"Portée",'S5 Maquette'!J19:J264) -> 138 | J18: =SUMIF('S5 Maquette'!M19:M264,"Portée",'S5 Maquette'!K19:K264) -> 0 | K18: =SUMIF('S6 Maquette'!M19:M278,"Portée",'S6 Maquette'!I19:I278)*1.5 -> 18 | L18: =SUMIF('S6 Maquette'!M19:M278,"Portée",'S6 Maquette'!J19:J278) -> 192 | M18: =SUMIF('S6 Maquette'!M9:M278,"Portée",'S6 Maquette'!K19:K278) -> 0 | O18: ='S5 Maquette'!I33*1.5 -> 18 | P18: ='S6 Maquette'!I33*1.5 -> 18
A19: Total | D19: Total | O19: ='S5 Maquette'!I34*1.5 -> 18 | P19: ='S6 Maquette'!I34*1.5 -> 18
A20: =SUM(A18,B18,C18) -> #REF! | D20: =SUM(D18,E18,F18) -> #REF! | O20: ='S5 Maquette'!I35*1.5 -> 0 | P20: ='S6 Maquette'!I35*1.5 -> 0
A21: Total | O21: ='S5 Maquette'!#REF!*1.5 -> #REF! | P21: ='S6 Maquette'!#REF!*1.5 -> #REF!
A22: =SUM(A20,D20) -> #REF! | O22: ='S5 Maquette'!I36*1.5 -> 0 | P22: ='S6 Maquette'!I36*1.5 -> 0
O23: ='S5 Maquette'!I37*1.5 -> 0 | P23: ='S6 Maquette'!I37*1.5 -> 0
O24: ='S5 Maquette'!I38*1.5 -> 0 | P24: ='S6 Maquette'!I38*1.5 -> 0
O25: ='S5 Maquette'!I39*1.5 -> 0 | P25: ='S6 Maquette'!I39*1.5 -> 0
O26: ='S5 Maquette'!I40*1.5 -> 0 | P26: ='S6 Maquette'!I40*1.5 -> 0
O27: ='S5 Maquette'!#REF!*1.5 -> #REF! | P27: ='S6 Maquette'!#REF!*1.5 -> #REF!
O28: ='S5 Maquette'!I41*1.5 -> 0 | P28: ='S6 Maquette'!I41*1.5 -> 0
O29: ='S5 Maquette'!I42*1.5 -> 0 | P29: ='S6 Maquette'!I42*1.5 -> 0
O30: ='S5 Maquette'!I43*1.5 -> 0 | P30: ='S6 Maquette'!I43*1.5 -> 0
O31: ='S5 Maquette'!I44*1.5 -> 0 | P31: ='S6 Maquette'!I44*1.5 -> 0
O32: ='S5 Maquette'!I45*1.5 -> 0 | P32: ='S6 Maquette'!I45*1.5 -> 0
O33: ='S5 Maquette'!#REF!*1.5 -> #REF! | P33: ='S6 Maquette'!#REF!*1.5 -> #REF!
O34: ='S5 Maquette'!#REF!*1.5 -> #REF! | P34: ='S6 Maquette'!#REF!*1.5 -> #REF!
O35: ='S5 Maquette'!#REF!*1.5 -> #REF! | P35: ='S6 Maquette'!#REF!*1.5 -> #REF!
O36: ='S5 Maquette'!#REF!*1.5 -> #REF! | P36: ='S6 Maquette'!I46*1.5 -> 0
O37: ='S5 Maquette'!#REF!*1.5 -> #REF! | P37: ='S6 Maquette'!I47*1.5 -> 0
O38: ='S5 Maquette'!#REF!*1.5 -> #REF! | P38: ='S6 Maquette'!I48*1.5 -> 0
O39: ='S5 Maquette'!#REF!*1.5 -> #REF! | P39: ='S6 Maquette'!I50*1.5 -> 0
O40: ='S5 Maquette'!I46*1.5 -> 0 | P40: ='S6 Maquette'!I51*1.5 -> 0
O41: ='S5 Maquette'!I47*1.5 -> 0 | P41: ='S6 Maquette'!#REF!*1.5 -> #REF!
...

Sheet Fiche Générale
A1: Type Diplôme : Licence & Double Licence 3ème année
A2: Type diplôme
A3: COMPOSANTE
A4: MENTION
A5: CODE DIPLÔME
A6: Régime d'inscription
A8: Parcours Type en L3
A9: Parcours Type
A11: Heures Maquette | C11: Heures Valorisées
A18: COMPENSATION
A19: Les MCC déterminent le mode de compensation entre UE, semestre et année ainsi que la possibilité d’une note éliminatoire.
A20: Obtention des UE
A21: Par validation des ECUE, ou obtention de la moyenne dans l'UE (sauf pour l'UE4 - voir section "Note éliminatoire")
A24: Obtention du Semestre
A25: Compensation entre UE (sauf pour l'UE4 - voir section "Note éliminatoire")
A28: Obtention de l'Année
A29: Par validation de toutes les UE.
A32: Note éliminatoire/ Note seuil
A33: L'UE 4 de chaque parcours possède un ECUE non compensable, la note la plus basse pour obtenir cet ECUE est de 10/20 sinon l'ECUE n'est pas obtenue ni l'année. Il s'agit donc d'une note éliminatoire
A36: REDOUBLEMENT
A37: Limitation du nombre de redoublements : 2 fois en L1 ; 1 fois en L2 ; 1 fois en L3 ; au-delà, à titre dérogatoire. Le redoublement n’étant pas de droit, lorsqu’un ou une étudiante obtient entre 0 et 5 de moyenne annuelle, le jury est souverain pour décider d’un redoublement ou non, en tenant compte de sa situation personnelle (maladie, décès d’un proche, etc.).
... A41: Arrêté du 22 janvier 2014 fixant le cadre national des formations conduisant à la délivrance des diplômes nationaux de licence, de licence professionnelle et de master

Sheet S5 Maquette
A7: Composante | B7: ='Fiche Générale'!B3 -> 0 | C7: Diplôme | E7: ='Fiche Générale'!B4 -> 0 | G7: Code diplôme | H7: ='Fiche Générale'!B5 -> 0
C10: Parcours type | E10: ='Fiche Générale'!B9 -> 0
A13: Année | B13: 3 ème Année de Licence | C13: Code année | G13: Heures Maquette | H13: =Calcul!A7 -> #REF!
A15: Semestre | B15: Semestre 5 | C15: Code semestre | G15: Heures Valorisées | H15: =Calcul!A20 -> #REF!
A18: Niveau | B18: Libellé ELP | C18: Nature ELP | D18: ECTS | E18: Type | F18: Statut | G18: Code Apogée | H18: CNU | I18: Heure CM | J18: Heure TD | K18: Heure TP | L18: Langues | M18: Mutualisation | N18: Formation Porteuse | O18: Observations / Remarques ex: Intervention à titre gracieux / Capacité d'accueil max
A19: 0 | B19: UE Competences transversales 5 | C19: UE | D19: 6
A20: 0.1 | B20: Competences numeriques 3 | C20: ECUE
A21: 0.2 | B21: Competences informationnelles 3 | C21: ECUE
A22: 0.3 | B22: Langue vivante-5 | C22: BLOC
B23: Min 1 Max 1 | C23: OPTION
A24: 0.3.1 | B24: Anglais 5 | C24: ECUE
A25: 0.3.2 | B25: Espagnol 5 | C25: ECUE
A26: 0.3.3 | B26: Italien 5 | C26: ECUE
B27: Choix du parcours de spécialité L3 | C27: OPTION
A28: 1 | B28: PARCOURS Études musicales | C28: BLOC
A29: 1.1 | B29: UE 1 Techniques musicales | C29: UE | D29: 6
A30: 1.11 | B30: Formation musicale 5 | C30: ECUE | J30: 20 | M30: Porteuse | O30: Mutualisé avec le bloc musiciens interprètes et CLE2D
A31: 1.12 | B31: Arrangement musical et écriture 5 | C31: ECUE | J31: 24 | M31: Porteuse | O31: Mutualisé avec le bloc musiciens interprètes et CLE2D
A32: 1.2 | B32: UE 2 Outils d'anlayses et application musicale | C32: UE | D32: 6
A33: 1.21 | B33: Analyse musicale 3 | C33: ECUE | I33: 12 | J33: 12 | M33: Porteuse | O33: Mutualisé avec le bloc musiciens interprètes et CLE2D
A34: 1.22 | B34: Esthétique musicale 1 | C34: ECUE | I34: 12 | J34: 12 | M34: Porteuse | O34: Mutualisé avec le bloc musiciens interprètes et CLE2D
A35: 1.23 | B35: Création et production musicale | C35: ECUE | J35: 20 | M35: Porteuse | O35: Mutualisé avec le bloc musiciens interprètes et CLE2D
A36: 1.3 | B36: UE 3 Cultures musicales | C36: UE | D36: 6
A37: 1.31 | B37: Ethnomusicologie 3 | C37: ECUE | J37: 18 | M37: Porteuse | O37: Mutualisé avec le bloc musiciens interprètes et CLE2D
A38: 1.32 | B38: Musiques actuelles 3 | C38: ECUE | J38: 18 | M38: Porteuse | O38: Mutualisé avec le bloc musiciens interprètes et CLE2D
A39: 1.33 | B39: Perspectives de recherches musicales et artistiques | C39: ECUE | J39: 12 | M39: Porteuse | O39: Mutualisé avec le bloc musiciens interprètes et CLE2D
A40: 1.34 | B40: Musique et médias (commentaire) | C40: ECUE | J40: 18 | M40: Porteuse | O40: Mutualisé avec le bloc musiciens interprètes et CLE2D. Avec orientation concours.
A41: 1.4 | B41: UE 4 Pratiques musicales et musicologiques | C41: UE | D41: 6
A42: 1.41 | B42: Environnement professionnel UCA | C42: ECUE | J42: 18 | M42: Porteuse | O42: Mutualisé avec le bloc musiciens interprètes et CLE2D
A43: 1.42 | B43: Enjeux de la musicologique, PPR ou stage | C43: ECUE | J43: 6 | M43: Porteuse | O43: Mutualisé avec le bloc musiciens interprètes et CLE2D
A44: 1.43 | B44: Pratiques chorales | C44: ECUE | J44: 24 | M44: Portée | N44: L1 études musicales | O44: Mutualisé avec les autres années de la licence L1 et L2
A45: 1.44 | B45: MAO et outils numériques | C45: ECUE | J45: 18 | M45: Porteuse | O45: Mutualisé avec le bloc musiciens interprètes et CLE2D
A46: 2 | B46: PARCOURS Interprétation, composition ou pédagogie musicales | C46: BLOC
A47: 2.1 | B47: UE 1 Pratiques musicales professionnalisantes | C47: UE | D47: 6 | O47: Les cours de cette UE sont pris en charge par le CRR de Nice dans le cadre de notre convention
A48: 2.1.1 | B48: Dsicpline principale (instrument/voix/direction/composition électroacoustique) | C48: ECUE | M48: Portée | N48: CRR
A49: 2.1.2 | B49: Pratiques collectives non dirigées (musique de chambre, projet MAA, interprétation sur acousmonium) | C49: ECUE | M49: Portée | N49: CRR
A50: 2.2 | B50: UE 2 Cultures musicales | C50: UE | D50: 6
A51: 2.2.1 | B51: Analyse musicale 3 | C51: ECUE
A52: 2.2.3 | B52: ECUE au choix | C52: ECUE
B53: 1 ECUE au choix | C53: OPTION
...

Sheet S5 MCC
A7: Composante | B7: ='Fiche Générale'!B3 -> 0 | C7: Diplôme | E7: ='Fiche Générale'!B4 -> 0 | G7: Code diplôme | H7: ='Fiche Générale'!B5 -> 0
C10: Parcours type | E10: ='Fiche Générale'!B9 -> 0
M12: 1ère session | P12: Seconde Chance
A13: Année | B13: ='S5 Maquette'!B13:B14 -> 3 ème Année de Licence | D13: Code Année | E13: ='S5 Maquette'!E13:F14 -> 0
M14: Contrôle continu | N14: Contrôle Terminal
A15: Semestre | B15: ='S5 Maquette'!B15:B16 -> Semestre 5 | D15: Code Semestre | E15: ='S5 Maquette'!E15:F16 -> 0
A18: Libellé | B18: Nature | C18: Statut | D18: Coefficient | E18: Notes attendues | F18: Résultat attendu: (ACQ/AJ) | G18: Conservation note | H18: Capitalisable | I18: Compensable | J18: Seuil de compensation /20 | K18: Type de contrôle | L18: Si CC&CT coef du CT | M18: Nbre d'évalution minimum | N18: Nature | O18: Durée | P18: Format d'évaluation | Q18: Nature | R18: Durée | S18: Modalités de mise en œuvre | T18: Commentaires
A19: ='S5 Maquette'!B19 -> UE Competences transversales 5 | B19: ='S5 Maquette'!C19 -> UE | C19: ='S5 Maquette'!F19 -> 0
A20: ='S5 Maquette'!B20 -> Competences numeriques 3 | B20: ='S5 Maquette'!C20 -> ECUE | C20: ='S5 Maquette'!F20 -> 0
A21: ='S5 Maquette'!B21 -> Competences informationnelles 3 | B21: ='S5 Maquette'!C21 -> ECUE | C21: ='S5 Maquette'!F21 -> 0
A22: ='S5 Maquette'!B22 -> Langue vivante-5 | B22: ='S5 Maquette'!C22 -> BLOC | C22: ='S5 Maquette'!F22 -> 0
A23: ='S5 Maquette'!B23 -> Min 1 Max 1 | B23: ='S5 Maquette'!C23 -> OPTION
A24: ='S5 Maquette'!B24 -> Anglais 5 | B24: ='S5 Maquette'!C24 -> ECUE
A25: ='S5 Maquette'!B25 -> Espagnol 5 | B25: ='S5 Maquette'!C25 -> ECUE | C25: ='S5 Maquette'!F25 -> 0
A26: ='S5 Maquette'!B26 -> Italien 5 | B26: ='S5 Maquette'!C26 -> ECUE | C26: ='S5 Maquette'!F26 -> 0
A27: Choix du parcours de spécialité L3 | B27: OPTION | C27: ='S5 Maquette'!F27 -> 0
A28: ='S5 Maquette'!B28 -> PARCOURS Études musicales | B28: ='S5 Maquette'!C28 -> BLOC | C28: ='S5 Maquette'!F29 -> 0
A29: ='S5 Maquette'!B29 -> UE 1 Techniques musicales | B29: ='S5 Maquette'!C29 -> UE | C29: ='S5 Maquette'!F30 -> 0 | D29: 1 | E29: OUI | G29: OUI | H29: OUI | I29: OUI | P29: Autres | S29: Recalcul | T29: on garde les 2 meilleures notes (la meilleure note de chaque ECUE)
A30: ='S5 Maquette'!B30 -> Formation musicale 5 | B30: ='S5 Maquette'!C30 -> ECUE | C30: ='S5 Maquette'!F31 -> 0 | D30: 1 | E30: OUI | G30: OUI | H30: OUI | I30: OUI | K30: CCI (CC Intégral) | M30: 2 | P30: Autres | S30: Recalcul
A31: ='S5 Maquette'!B31 -> Arrangement musical et écriture 5 | B31: ='S5 Maquette'!C31 -> ECUE | C31: ='S5 Maquette'!#REF! -> #REF! | D31: 1 | E31: OUI | G31: OUI | H31: OUI | I31: OUI | K31: CCI (CC Intégral) | M31: 2 | P31: Autres | S31: Recalcul
A32: ='S5 Maquette'!B32 -> UE 2 Outils d'anlayses et application musicale | B32: ='S5 Maquette'!C32 -> UE | C32: ='S5 Maquette'!F33 -> 0 | D32: 1 | E32: OUI | G32: OUI | H32: OUI | I32: OUI | P32: Autres | S32: Recalcul | T32: on garde les 3 meilleures notes (la meilleure note de chaque ECUE)
A33: ='S5 Maquette'!B33 -> Analyse musicale 3 | B33: ='S5 Maquette'!C33 -> ECUE | C33: ='S5 Maquette'!F34 -> 0 | D33: 1 | E33: OUI | G33: OUI | H33: OUI | I33: OUI | K33: CCI (CC Intégral) | M33: 2 | P33: Autres | S33: Recalcul
A34: ='S5 Maquette'!B34 -> Esthétique musicale 1 | B34: ='S5 Maquette'!C34 -> ECUE | C34: ='S5 Maquette'!F35 -> 0 | D34: 1 | E34: OUI | G34: OUI | H34: OUI | I34: OUI | K34: CCI (CC Intégral) | M34: 2 | P34: Autres | S34: Recalcul
A35: ='S5 Maquette'!B35 -> Création et production musicale | B35: ='S5 Maquette'!C35 -> ECUE | C35: ='S5 Maquette'!#REF! -> #REF! | D35: 1 | E35: OUI | G35: OUI | H35: OUI | I35: OUI | K35: CCI (CC Intégral) | M35: 2 | P35: Autres | S35: Recalcul
A36: ='S5 Maquette'!B36 -> UE 3 Cultures musicales | B36: ='S5 Maquette'!C36 -> UE | C36: ='S5 Maquette'!F37 -> 0 | D36: 1 | E36: OUI | G36: OUI | H36: OUI | I36: OUI | P36: Autres | S36: Recalcul | T36: on garde les 4 meilleures notes (la meilleure note de chaque ECUE)
A37: ='S5 Maquette'!B37 -> Ethnomusicologie 3 | B37: ='S5 Maquette'!C37 -> ECUE | C37: ='S5 Maquette'!F38 -> 0 | D37: 1 | E37: OUI | G37: OUI | H37: OUI | I37: OUI | K37: CCI (CC Intégral) | M37: 2 | P37: Autres | S37: Recalcul
A38: ='S5 Maquette'!B38 -> Musiques actuelles 3 | B38: ='S5 Maquette'!C38 -> ECUE | C38: ='S5 Maquette'!F39 -> 0 | D38: 1 | E38: OUI | G38: OUI | H38: OUI | I38: OUI | K38: CCI (CC Intégral) | M38: 2 | P38: Autres | S38: Recalcul
A39: ='S5 Maquette'!B39 -> Perspectives de recherches musicales et artistiques | B39: ='S5 Maquette'!C39 -> ECUE | C39: ='S5 Maquette'!F40 -> 0 | D39: 1 | E39: NON | F39: OUI | G39: NON | H39: OUI | I39: OUI | K39: CCI (CC Intégral) | M39: 2 | P39: Autres | S39: Recalcul
A40: ='S5 Maquette'!B40 -> Musique et médias (commentaire) | B40: ='S5 Maquette'!C40 -> ECUE | C40: ='S5 Maquette'!#REF! -> #REF! | D40: 1 | E40: OUI | G40: OUI | H40: OUI | I40: OUI | K40: CCI (CC Intégral) | M40: 2 | P40: Autres | S40: Recalcul
A41: ='S5 Maquette'!B41 -> UE 4 Pratiques musicales et musicologiques | B41: ='S5 Maquette'!C41 -> UE | C41: ='S5 Maquette'!F42 -> 0 | D41: 1 | E41: OUI | G41: OUI | H41: OUI | I41: NON | P41: Autres | S41: Recalcul | T41: on garde les 4 meilleures notes (la meilleure note de chaque ECUE) si obtention ECUE Enjeux
A42: ='S5 Maquette'!B42 -> Environnement professionnel UCA | B42: ='S5 Maquette'!C42 -> ECUE | C42: ='S5 Maquette'!F43 -> 0 | D42: 1 | E42: OUI | G42: OUI | H42: OUI | I42: OUI | K42: CCI (CC Intégral) | M42: 2 | P42: Autres | S42: Recalcul
A43: ='S5 Maquette'!B43 -> Enjeux de la musicologique, PPR ou stage | B43: ='S5 Maquette'!C43 -> ECUE | C43: ='S5 Maquette'!F44 -> 0 | D43: 1 | E43: OUI | G43: OUI | H43: OUI | I43: NON | K43: CCI (CC Intégral) | M43: 2 | P43: Autres | S43: Recalcul
A44: ='S5 Maquette'!B44 -> Pratiques chorales | B44: ='S5 Maquette'!C44 -> ECUE | C44: ='S5 Maquette'!F45 -> 0 | D44: 1 | E44: OUI | G44: OUI | H44: OUI | I44: OUI | K44: CCI (CC Intégral) | M44: 2 | P44: Autres | S44: Recalcul
A45: ='S5 Maquette'!B45 -> MAO et outils numériques | B45: ='S5 Maquette'!C45 -> ECUE | C45: ='S5 Maquette'!#REF! -> #REF! | D45: 1 | E45: OUI | G45: OUI | H45: OUI | I45: OUI | K45: CCI (CC Intégral) | M45: 2 | P45: Autres | S45: Recalcul
A46: ='S5 Maquette'!B46 -> PARCOURS Interprétation, composition ou pédagogie musicales | B46: ='S5 Maquette'!C46 -> BLOC | C46: ='S5 Maquette'!F48 -> 0
A47: ='S5 Maquette'!B47 -> UE 1 Pratiques musicales professionnalisantes | B47: ='S5 Maquette'!C47 -> UE | C47: ='S5 Maquette'!F49 -> 0 | D47: 1 | E47: OUI | G47: OUI | H47: OUI | I47: OUI | P47: Autres | S47: Recalcul | T47: calcul 2 meilleures notes (la meilleure note de chaque ECUE)
A48: ='S5 Maquette'!B48 -> Dsicpline principale (instrument/voix/direction/composition électroacoustique) | B48: ='S5 Maquette'!C48 -> ECUE | C48: ='S5 Maquette'!#REF! -> #REF! | D48: 1 | E48: OUI | G48: OUI | H48: OUI | I48: OUI | K48: CCI (CC Intégral) | M48: 2 | P48: Autres | S48: Recalcul
A49: ='S5 Maquette'!B49 -> Pratiques collectives non dirigées (musique de chambre, projet MAA, interprétation sur acousmonium) | B49: ='S5 Maquette'!C49 -> ECUE | C49: ='S5 Maquette'!F50 -> 0 | D49: 1 | E49: OUI | G49: OUI | H49: OUI | I49: OUI | K49: CCI (CC Intégral) | M49: 2 | P49: Autres | S49: Recalcul
A50: ='S5 Maquette'!B50 -> UE 2 Cultures musicales | B50: ='S5 Maquette'!C50 -> UE | C50: ='S5 Maquette'!F55 -> 0 | D50: 1 | E50: OUI | G50: OUI | H50: OUI | I50: OUI | P50: Autres | S50: Recalcul | T50: calcul 2 meilleures notes (la meilleure note de chaque ECUE)
A51: ='S5 Maquette'!B51 -> Analyse musicale 3 | B51: ='S5 Maquette'!C51 -> ECUE | C51: ='S5 Maquette'!F56 -> 0 | D51: 1 | E51: OUI | G51: OUI | H51: OUI | I51: OUI | K51: CCI (CC Intégral) | M51: 2 | P51: Autres | S51: Recalcul
...

Sheet S5 MCC NA
A7: Composante | B7: ='[1]Fiche Générale'!B3 -> 0 | C7: Diplôme | E7: ='[1]Fiche Générale'!B4 -> 0 | G7: Code diplôme | H7: ='[1]Fiche Générale'!B5 -> 0
C10: Parcours type | E10: ='[1]Fiche Générale'!B9 -> 0
M12: 1ère session | P12: Seconde Chance
A13: Année | B13: ='[1]S5 Maquette'!B13:B14 -> 3 ème Année de Licence | D13: Code Année | E13: ='[1]S5 Maquette'!E13:F14 -> 0
M14: Contrôle continu | N14: Contrôle Terminal
A15: Semestre | B15: ='[1]S5 Maquette'!B15:B16 -> Semestre 5 | D15: Code Semestre | E15: ='[1]S5 Maquette'!E15:F16 -> 0
A18: Libellé | B18: Nature | C18: Statut | D18: Coefficient | E18: Notes attendues | F18: Résultat attendu: (ACQ/AJ) | G18: Conservation note | H18: Capitalisable | I18: Compensable | J18: Seuil de compensation /20 | K18: Type de contrôle | L18: Si CC&CT coef du CT | M18: Nbre d'évalution minimum | N18: Nature | O18: Durée | P18: Format d'évaluation | Q18: Nature | R18: Durée | S18: Modalités de mise en œuvre | T18: Commentaires
A19: ='[1]S5 Maquette'!B19 -> UE Competences transversales 5 | B19: ='[1]S5 Maquette'!C19 -> UE | C19: ='[1]S5 Maquette'!F19 -> 0
A20: ='[1]S5 Maquette'!B20 -> Competences numeriques 3 | B20: ='[1]S5 Maquette'!C20 -> ECUE | C20: ='[1]S5 Maquette'!F20 -> 0
A21: ='[1]S5 Maquette'!B21 -> Competences informationnelles 3 | B21: ='[1]S5 Maquette'!C21 -> ECUE | C21: ='[1]S5 Maquette'!F21 -> 0
A22: ='[1]S5 Maquette'!B22 -> Langue vivante-5 | B22: ='[1]S5 Maquette'!C22 -> BLOC | C22: ='[1]S5 Maquette'!F22 -> 0
A23: ='[1]S5 Maquette'!B23 -> Min 1 Max 1 | B23: ='[1]S5 Maquette'!C23 -> OPTION
A24: ='[1]S5 Maquette'!B24 -> Anglais 5 | B24: ='[1]S5 Maquette'!C24 -> ECUE
A25: ='[1]S5 Maquette'!B25 -> Espagnol 5 | B25: ='[1]S5 Maquette'!C25 -> ECUE | C25: ='[1]S5 Maquette'!F25 -> 0
A26: ='[1]S5 Maquette'!B26 -> Italien 5 | B26: ='[1]S5 Maquette'!C26 -> ECUE | C26: ='[1]S5 Maquette'!F26 -> 0
A27: Choix du parcours de spécialité L3 | B27: OPTION | C27: ='[1]S5 Maquette'!F27 -> 0
A28: ='S5 Maquette'!B28 -> PARCOURS Études musicales | B28: ='S5 Maquette'!C28 -> BLOC | C28: ='[1]S5 Maquette'!F29 -> 0
A29: ='S5 Maquette'!B29 -> UE 1 Techniques musicales | B29: ='S5 Maquette'!C29 -> UE | C29: ='[1]S5 Maquette'!F30 -> 0 | D29: 1 | E29: OUI | G29: OUI | H29: OUI | I29: OUI | P29: Autres | S29: Recalcul | T29: on garde la meilleure note de chaque ECUE
A30: ='S5 Maquette'!B30 -> Formation musicale 5 | B30: ='S5 Maquette'!C30 -> ECUE | C30: ='[1]S5 Maquette'!F31 -> 0 | D30: 1 | E30: OUI | G30: OUI | H30: OUI | I30: OUI | K30: CCI (CC Intégral) | M30: 2 | P30: Autres | S30: écrit et oral
A31: ='S5 Maquette'!B31 -> Arrangement musical et écriture 5 | B31: ='S5 Maquette'!C31 -> ECUE | C31: ='[1]S5 Maquette'!F32 -> 0 | D31: 1 | E31: OUI | G31: OUI | H31: OUI | I31: OUI | K31: CCI (CC Intégral) | M31: 2 | P31: Autres | S31: écrit etoral
A32: ='S5 Maquette'!B32 -> UE 2 Outils d'anlayses et application musicale | B32: ='S5 Maquette'!C32 -> UE | C32: ='[1]S5 Maquette'!F34 -> 0 | D32: 1 | E32: OUI | G32: OUI | H32: OUI | I32: OUI | P32: Autres | S32: Recalcul | T32: on garde la meilleure note de chaque ECUE
A33: ='S5 Maquette'!B33 -> Analyse musicale 3 | B33: ='S5 Maquette'!C33 -> ECUE | C33: ='[1]S5 Maquette'!F35 -> 0 | D33: 1 | E33: OUI | G33: OUI | H33: OUI | I33: OUI | K33: CCI (CC Intégral) | M33: 2 | P33: Autres | S33: dossier écrit et oral
A34: ='S5 Maquette'!B34 -> Esthétique musicale 1 | B34: ='S5 Maquette'!C34 -> ECUE | C34: ='[1]S5 Maquette'!F36 -> 0 | D34: 1 | E34: OUI | G34: OUI | H34: OUI | I34: OUI | K34: CCI (CC Intégral) | M34: 2 | P34: Autres | S34: dossier écrit et oral
A35: ='S5 Maquette'!B35 -> Création et production musicale | B35: ='S5 Maquette'!C35 -> ECUE | C35: ='[1]S5 Maquette'!F37 -> 0 | D35: 1 | E35: OUI | G35: OUI | H35: OUI | I35: OUI | K35: CCI (CC Intégral) | M35: 2 | P35: Autres | S35: dossier écrit et oral
A36: ='S5 Maquette'!B36 -> UE 3 Cultures musicales | B36: ='S5 Maquette'!C36 -> UE | C36: ='[1]S5 Maquette'!F39 -> 0 | D36: 1 | E36: OUI | G36: OUI | H36: OUI | I36: OUI | P36: Autres | S36: Recalcul | T36: on garde la meilleure note de chaque ECUE
A37: ='S5 Maquette'!B37 -> Ethnomusicologie 3 | B37: ='S5 Maquette'!C37 -> ECUE | C37: ='[1]S5 Maquette'!F40 -> 0 | D37: 1 | E37: OUI | G37: OUI | H37: OUI | I37: OUI | K37: CCI (CC Intégral) | M37: 2 | P37: Autres | S37: dossier écrit et oral
A38: ='S5 Maquette'!B38 -> Musiques actuelles 3 | B38: ='S5 Maquette'!C38 -> ECUE | C38: ='[1]S5 Maquette'!F41 -> 0 | D38: 1 | E38: OUI | G38: OUI | H38: OUI | I38: OUI | K38: CCI (CC Intégral) | M38: 2 | P38: Autres | S38: dossier écrit et oral
A39: ='S5 Maquette'!B39 -> Perspectives de recherches musicales et artistiques | B39: ='S5 Maquette'!C39 -> ECUE | C39: ='[1]S5 Maquette'!F42 -> 0 | D39: 1 | E39: NON | F39: OUI | G39: NON | H39: OUI | I39: OUI
A40: ='S5 Maquette'!B40 -> Musique et médias (commentaire) | B40: ='S5 Maquette'!C40 -> ECUE | C40: ='[1]S5 Maquette'!F43 -> 0 | D40: 1 | E40: OUI | G40: OUI | H40: OUI | I40: OUI | K40: CCI (CC Intégral) | M40: 2 | P40: Autres | S40: dossier écrit et oral
A41: ='S5 Maquette'!B41 -> UE 4 Pratiques musicales et musicologiques | B41: ='S5 Maquette'!C41 -> UE | C41: ='[1]S5 Maquette'!F45 -> 0 | D41: 1 | E41: OUI | G41: OUI | H41: OUI | I41: NON | P41: Autres | S41: Recalcul | T41: on garde la meilleure note de chaque ECUE si obtention ECUE Enjeux
A42: ='S5 Maquette'!B42 -> Environnement professionnel UCA | B42: ='S5 Maquette'!C42 -> ECUE | C42: ='[1]S5 Maquette'!F46 -> 0 | D42: 1 | E42: OUI | G42: OUI | H42: OUI | I42: OUI | K42: CCI (CC Intégral) | M42: 2 | P42: Autres | S42: dossier écrit et oral
A43: ='S5 Maquette'!B43 -> Enjeux de la musicologique, PPR ou stage | B43: ='S5 Maquette'!C43 -> ECUE | C43: ='[1]S5 Maquette'!F47 -> 0 | D43: 1 | E43: OUI | G43: OUI | H43: OUI | I43: NON | K43: CCI (CC Intégral) | M43: 2 | P43: Autres | S43: dossier écrit et oral
A44: ='S5 Maquette'!B44 -> Pratiques chorales | B44: ='S5 Maquette'!C44 -> ECUE | C44: ='[1]S5 Maquette'!F48 -> 0 | D44: 1 | E44: OUI | G44: OUI | H44: OUI | I44: OUI | K44: CCI (CC Intégral) | M44: 2 | P44: Autres | S44: dossier écrit et oral
A45: ='S5 Maquette'!B45 -> MAO et outils numériques | B45: ='S5 Maquette'!C45 -> ECUE | C45: ='[1]S5 Maquette'!F49 -> 0 | D45: 1 | E45: OUI | G45: OUI | H45: OUI | I45: OUI | K45: CCI (CC Intégral) | M45: 2 | P45: Autres | S45: dossier écrit et oral
A46: ='S5 Maquette'!B46 -> PARCOURS Interprétation, composition ou pédagogie musicales | B46: ='S5 Maquette'!C46 -> BLOC | C46: ='[1]S5 Maquette'!F59 -> 0
A47: ='S5 Maquette'!B47 -> UE 1 Pratiques musicales professionnalisantes | B47: ='S5 Maquette'!C47 -> UE | C47: ='[1]S5 Maquette'!F60 -> 0 | D47: 1 | E47: OUI | G47: OUI | H47: OUI | I47: OUI | P47: Autres | S47: Recalcul | T47: on garde la meilleure note de chaque ECUE
A48: ='S5 Maquette'!B48 -> Dsicpline principale (instrument/voix/direction/composition électroacoustique) | B48: ='S5 Maquette'!C48 -> ECUE | C48: ='[1]S5 Maquette'!F61 -> 0 | D48: 1 | E48: OUI | G48: OUI | H48: OUI | I48: OUI | K48: CCI (CC Intégral) | M48: 2 | P48: Autres | S48: oral
A49: ='S5 Maquette'!B49 -> Pratiques collectives non dirigées (musique de chambre, projet MAA, interprétation sur acousmonium) | B49: ='S5 Maquette'!C49 -> ECUE | C49: ='[1]S5 Maquette'!F62 -> 0 | D49: 1 | E49: OUI | G49: OUI | H49: OUI | I49: OUI | K49: CCI (CC Intégral) | M49: 2 | P49: Autres | S49: oral
A50: ='S5 Maquette'!B50 -> UE 2 Cultures musicales | B50: ='S5 Maquette'!C50 -> UE | C50: ='[1]S5 Maquette'!F67 -> 0 | D50: 1 | E50: OUI | G50: OUI | H50: OUI | I50: OUI | P50: Autres | S50: Recalcul | T50: on garde la meilleure note de chaque ECUE
A51: ='S5 Maquette'!B51 -> Analyse musicale 3 | B51: ='S5 Maquette'!C51 -> ECUE | C51: ='[1]S5 Maquette'!F68 -> 0 | D51: 1 | E51: OUI | G51: OUI | H51: OUI | I51: OUI | K51: CCI (CC Intégral) | M51: 2 | P51: Autres | S51: dossier écrit et oral
...

Sheet S6 Maquette
A7: Composante | B7: ='Fiche Générale'!B3 -> 0 | C7: Diplôme | E7: ='Fiche Générale'!B4 -> 0 | G7: Code diplôme | H7: ='Fiche Générale'!B5 -> 0
C10: Parcours type | E10: ='Fiche Générale'!B9 -> 0
A13: Année | B13: ='S5 Maquette'!B13:B14 -> 3 ème Année de Licence | C13: Code année | E13: ='S5 Maquette'!E13:F14 -> 0 | G13: Heures Maquette | H13: =Calcul!D7 -> #REF! | J13: =SUM(I30:J45) -> 244
A15: Semestre | B15: Semestre 6 | C15: Code semestre | G15: Heures Valorisées | H15: =Calcul!D20 -> #REF!
A18: Niveau | B18: Libellé ELP | C18: Nature ELP | D18: ECTS | E18: Type | F18: Statut | G18: Code Apogée | H18: CNU | I18: Heure CM | J18: Heure TD | K18: Heure TP | L18: Langues | M18: Mutualisation | N18: Formation Porteuse | O18: Observations / Remarques ex: Intervention à titre gracieux / Capacité d'accueil max
A19: 0 | B19: UE Competences transversales 6 | C19: UE | D19: 6
A20: 0.1 | B20: Competences numeriques 3 | C20: ECUE
A21: 0.2 | B21: Competences informationnelles 3 | C21: ECUE
A22: 0.3 | B22: Langue vivante-6 | C22: BLOC
B23: Min 1 Max 1 | C23: OPTION
A24: 0.3.1 | B24: Anglais 6 | C24: ECUE
A25: 0.3.2 | B25: Espagnol 6 | C25: ECUE
A26: 0.3.3 | B26: Italien 6 | C26: ECUE
B27: Choix du bloc de spécialité L3 | C27: OPTION
A28: 1 | B28: PARCOURS Études musicales | C28: BLOC
A29: 1.1 | B29: UE 1 Techniques musicales | C29: UE | D29: 6
A30: 1.1.1 | B30: Formation musicale 6 | C30: ECUE | J30: 20 | M30: Porteuse
A31: 1.1.2 | B31: Arrangement musical et écriture 6 | C31: ECUE | J31: 24 | M31: Porteuse
A32: 1.2 | B32: UE 2 Outils d'anlayses et application musicale. | C32: UE | D32: 6
A33: 1.2.1 | B33: Analyse musicale 4 | C33: ECUE | I33: 12 | J33: 12 | M33: Porteuse | O33: Mutualisé avec le bloc interprètes (L3 S6)
A34: 1.2.2 | B34: Esthétique musicale 2 | C34: ECUE | I34: 12 | J34: 12 | M34: Porteuse | O34: Mutualisé avec le bloc interprètes (L3 S6)
A35: 1.2.3 | B35: Création et production musicale | C35: ECUE | J35: 20 | M35: Porteuse | O35: Mutualisé avec le bloc interprètes (L3 S6)
A36: 1.3 | B36: UE 3 Cultures musicales | C36: UE | D36: 6
A37: 1.3.1 | B37: Ethnomusicologie 3 | C37: ECUE | J37: 18 | M37: Porteuse | O37: Mutualisé avec le bloc interprètes (L3 S6)
A38: 1.3.2 | B38: Musiques actuelles 3 | C38: ECUE | J38: 18 | M38: Porteuse | O38: Mutualisé avec le bloc interprètes (L3 S6)
A39: 1.3.3 | B39: Perspectives de recherches musicales et artistiques | C39: ECUE | J39: 12 | M39: Porteuse | O39: Mutualisé avec le bloc interprètes (L3 S6)
A40: 1.3.4 | B40: Musique et médias | C40: ECUE | J40: 18 | M40: Porteuse | O40: Mutualisé avec le bloc interprètes (L3 S6)
A41: 1.4 | B41: UE 4 Pratiques musicales et musicologiques | C41: UE | D41: 6
A42: 1.4.1 | B42: Environnement professionnel UCA | C42: ECUE | J42: 18 | M42: Porteuse | O42: Mutualisé avec le bloc interprètes (L3 S6)
A43: 1.4.2 | B43: PPR ou stage | C43: ECUE | J43: 6 | M43: Porteuse | O43: Mutualisé avec le bloc interprètes (L3 S6)
A44: 1.4.3 | B44: Pratiques chorales | C44: ECUE | J44: 24 | M44: Portée | N44: L1 études musicales | O44: Mutualisé avec les autres années de la licence L1 et L2
A45: 1.4.4 | B45: MAO et outils numériques | C45: ECUE | J45: 18 | M45: Porteuse | O45: Mutualisé avec le parcours CLE2D (L3S6)
A46: 2 | B46: PARCOURS Interprétation, composition ou pédagogie musicales | C46: BLOC
A47: 2.1 | B47: UE 1 Pratiques musicales professionnalisantes | C47: UE | D47: 6 | O47: Les cours de cette UE sont pris en charge par le CRR de Nice dans le cadre de notre convention
A48: 2.1.1 | B48: Dsicpline principale (instrument/voix/direction/composition électroacoustique) | C48: ECUE | M48: Portée | N48: CRR
A49: 2.1.2 | B49: Pratiques collectives non dirigées (musique de chambre, projet MAA, interprétation sur acousmonium) | C49: ECUE | M49: Portée | N49: CRR
A50: 2.2 | B50: UE 2 Cultures musicales | C50: UE | D50: 6
A51: 2.2.1 | B51: Analyse musicale 3 | C51: ECUE
A52: 2.2.2 | B52: ECUE optionnelle | C52: ECUE
B53: 1 ECUE au choix | C53: OPTION
...

Sheet S6 MCC
A7: Composante | B7: ='Fiche Générale'!B3 -> 0 | C7: Diplôme | E7: ='Fiche Générale'!B4 -> 0 | G7: Code diplôme | H7: ='Fiche Générale'!B5 -> 0
C10: Parcours type | E10: ='Fiche Générale'!B9 -> 0
M12: 1ère session | P12: Seconde Chance
A13: Année | B13: ='S6 Maquette'!B13:B14 -> 3 ème Année de Licence | D13: Code Année | E13: ='S6 Maquette'!E13:F14 -> 0
M14: Contrôle continu | N14: Contrôle Terminal
A15: Semestre | B15: ='S6 Maquette'!B15:B16 -> Semestre 6 | D15: Code Semestre | E15: ='S6 Maquette'!E15:F16 -> 0
A18: Libellé | B18: Nature | C18: Statut | D18: Coefficient | E18: Notes attendues | F18: Résultat attendu: (ACQ/AJ) | G18: Conservation note | H18: Capitalisable | I18: Compensable | J18: Seuil de compensation /20 | K18: Type de contrôle | L18: Si CC&CT coef du CT | M18: Nbre d'évalution minimum | N18: Nature | O18: Durée | P18: Format d'évaluation | Q18: Nature | R18: Durée | S18: Modalités de mise en œuvre | T18: Commentaires
A19: ='S6 Maquette'!B19 -> UE Competences transversales 6 | B19: ='S6 Maquette'!C19 -> UE | C19: ='S6 Maquette'!F19 -> 0
A20: ='S6 Maquette'!B20 -> Competences numeriques 3 | B20: ='S6 Maquette'!C20 -> ECUE | C20: ='S6 Maquette'!F20 -> 0
A21: ='S6 Maquette'!B21 -> Competences informationnelles 3 | B21: ='S6 Maquette'!C21 -> ECUE | C21: ='S6 Maquette'!F21 -> 0
A22: ='S6 Maquette'!B22 -> Langue vivante-6 | B22: ='S6 Maquette'!C22 -> BLOC | C22: ='S6 Maquette'!F22 -> 0
A23: ='S6 Maquette'!B23 -> Min 1 Max 1 | B23: ='S6 Maquette'!C23 -> OPTION
A24: ='S6 Maquette'!B24 -> Anglais 6 | B24: ='S6 Maquette'!C24 -> ECUE
A25: ='S6 Maquette'!B25 -> Espagnol 6 | B25: ='S6 Maquette'!C25 -> ECUE | C25: ='S6 Maquette'!F25 -> 0
A26: ='S6 Maquette'!B26 -> Italien 6 | B26: ='S6 Maquette'!C26 -> ECUE
A27: Choix du bloc de spécialité L3 | B27: OPTION | C27: ='S6 Maquette'!F27 -> 0
A28: ='S6 Maquette'!B28 -> PARCOURS Études musicales | B28: ='S6 Maquette'!C28 -> BLOC | C28: ='S6 Maquette'!F29 -> 0
A29: ='S6 Maquette'!B29 -> UE 1 Techniques musicales | B29: ='S6 Maquette'!C29 -> UE | C29: ='S6 Maquette'!F30 -> 0 | D29: 1 | E29: OUI | G29: OUI | H29: OUI | I29: OUI | P29: Autres | S29: on garde les 2 meilleures notes (la meilleure note de chaque ECUE)
A30: ='S6 Maquette'!B30 -> Formation musicale 6 | B30: ='S6 Maquette'!C30 -> ECUE | C30: ='S6 Maquette'!F31 -> 0 | D30: 1 | E30: OUI | G30: OUI | H30: OUI | I30: OUI | K30: CCI (CC Intégral) | M30: 2 | P30: Autres
A31: ='S6 Maquette'!B31 -> Arrangement musical et écriture 6 | B31: ='S6 Maquette'!C31 -> ECUE | C31: ='S6 Maquette'!#REF! -> #REF! | D31: 1 | E31: OUI | G31: OUI | H31: OUI | I31: OUI | K31: CCI (CC Intégral) | M31: 2 | P31: Autres
A32: ='S6 Maquette'!B32 -> UE 2 Outils d'anlayses et application musicale. | B32: ='S6 Maquette'!C32 -> UE | C32: ='S6 Maquette'!F33 -> 0 | D32: 1 | E32: OUI | G32: OUI | H32: OUI | I32: OUI | P32: Autres | S32: on garde les 3 meilleures notes (la meilleure note de chaque ECUE)
A33: ='S6 Maquette'!B33 -> Analyse musicale 4 | B33: ='S6 Maquette'!C33 -> ECUE | C33: ='S6 Maquette'!F34 -> 0 | D33: 1 | E33: OUI | G33: OUI | H33: OUI | I33: OUI | K33: CCI (CC Intégral) | M33: 2 | P33: Autres
A34: ='S6 Maquette'!B34 -> Esthétique musicale 2 | B34: ='S6 Maquette'!C34 -> ECUE | C34: ='S6 Maquette'!F35 -> 0 | D34: 1 | E34: OUI | G34: OUI | H34: OUI | I34: OUI | K34: CCI (CC Intégral) | M34: 2 | P34: Autres
A35: ='S6 Maquette'!B35 -> Création et production musicale | B35: ='S6 Maquette'!C35 -> ECUE | C35: ='S6 Maquette'!#REF! -> #REF! | D35: 1 | E35: OUI | G35: OUI | H35: OUI | I35: OUI | K35: CCI (CC Intégral) | M35: 2 | P35: Autres
A36: ='S6 Maquette'!B36 -> UE 3 Cultures musicales | B36: ='S6 Maquette'!C36 -> UE | C36: ='S6 Maquette'!F37 -> 0 | D36: 1 | E36: OUI | G36: OUI | H36: OUI | I36: OUI | P36: Autres | S36: on garde les 4 meilleures notes (la meilleure note de chaque ECUE)
A37: ='S6 Maquette'!B37 -> Ethnomusicologie 3 | B37: ='S6 Maquette'!C37 -> ECUE | C37: ='S6 Maquette'!F38 -> 0 | D37: 1 | E37: OUI | G37: OUI | H37: OUI | I37: OUI | K37: CCI (CC Intégral) | M37: 2 | P37: Autres
A38: ='S6 Maquette'!B38 -> Musiques actuelles 3 | B38: ='S6 Maquette'!C38 -> ECUE | C38: ='S6 Maquette'!F39 -> 0 | D38: 1 | E38: OUI | G38: OUI | H38: OUI | I38: OUI | K38: CCI (CC Intégral) | M38: 2 | P38: Autres
A39: ='S6 Maquette'!B39 -> Perspectives de recherches musicales et artistiques | B39: ='S6 Maquette'!C39 -> ECUE | C39: ='S6 Maquette'!F40 -> 0 | D39: 1 | E39: NON | F39: OUI | G39: NON | H39: OUI | I39: OUI
A40: ='S6 Maquette'!B40 -> Musique et médias | B40: ='S6 Maquette'!C40 -> ECUE | C40: ='S6 Maquette'!#REF! -> #REF! | D40: 1 | E40: OUI | G40: OUI | H40: OUI | I40: OUI | K40: CCI (CC Intégral) | M40: 2 | P40: Autres
A41: ='S6 Maquette'!B41 -> UE 4 Pratiques musicales et musicologiques | B41: ='S6 Maquette'!C41 -> UE | C41: ='S6 Maquette'!F42 -> 0 | D41: 1 | E41: OUI | G41: OUI | H41: OUI | I41: NON | P41: Autres | S41: calcul 4 meilleures notes (la meilleure note de chaque ECUE) si obtention de l'ECUE Enjeux
A42: ='S6 Maquette'!B42 -> Environnement professionnel UCA | B42: ='S6 Maquette'!C42 -> ECUE | C42: ='S6 Maquette'!F45 -> 0 | D42: 1 | E42: OUI | G42: OUI | H42: OUI | I42: OUI | K42: CCI (CC Intégral) | M42: 2 | P42: Autres | S42: meilleure note de l'ECUE
A43: ='S6 Maquette'!B43 -> PPR ou stage | B43: ='S6 Maquette'!C43 -> ECUE | C43: ='S6 Maquette'!#REF! -> #REF! | D43: 1 | E43: OUI | G43: OUI | H43: OUI | I43: NON | K43: CCI (CC Intégral) | M43: 2 | P43: Autres
A44: ='S6 Maquette'!B44 -> Pratiques chorales | B44: ='S6 Maquette'!C44 -> ECUE | C44: ='S6 Maquette'!#REF! -> #REF! | D44: 1 | E44: OUI | G44: OUI | H44: OUI | I44: OUI | K44: CCI (CC Intégral) | M44: 2 | P44: Autres | S44: meilleure note de l'ECUE
A45: ='S6 Maquette'!B45 -> MAO et outils numériques | B45: ='S6 Maquette'!C45 -> ECUE | C45: ='S6 Maquette'!F47 -> 0 | D45: 1 | E45: OUI | G45: OUI | H45: OUI | I45: OUI | K45: CCI (CC Intégral) | M45: 2 | P45: Autres | S45: meilleure note de l'ECUE
A46: ='S6 Maquette'!B46 -> PARCOURS Interprétation, composition ou pédagogie musicales | B46: ='S6 Maquette'!C46 -> BLOC
A47: ='S6 Maquette'!B47 -> UE 1 Pratiques musicales professionnalisantes | B47: ='S6 Maquette'!C47 -> UE | C47: ='S6 Maquette'!#REF! -> #REF! | D47: 1 | E47: OUI | G47: OUI | H47: OUI | I47: OUI | P47: Autres | S47: on garde les 2 meilleures notes (la meilleure note de chaque ECUE)
A48: ='S6 Maquette'!B48 -> Dsicpline principale (instrument/voix/direction/composition électroacoustique) | B48: ='S6 Maquette'!C48 -> ECUE | C48: ='S6 Maquette'!F50 -> 0 | D48: 1 | E48: OUI | G48: OUI | H48: OUI | I48: OUI | K48: CCI (CC Intégral) | M48: 2 | P48: Autres
A49: ='S6 Maquette'!B49 -> Pratiques collectives non dirigées (musique de chambre, projet MAA, interprétation sur acousmonium) | B49: ='S6 Maquette'!C49 -> ECUE | C49: ='S6 Maquette'!F51 -> 0 | D49: 1 | E49: OUI | G49: OUI | H49: OUI | I49: OUI | K49: CCI (CC Intégral) | M49: 2 | P49: Autres
A50: ='S6 Maquette'!B50 -> UE 2 Cultures musicales | B50: ='S6 Maquette'!C50 -> UE | C50: ='S6 Maquette'!F52 -> 0 | D50: 1 | E50: OUI | G50: OUI | H50: OUI | I50: OUI | P50: Autres | S50: on garde les 2 meilleures notes (la meilleure note de chaque ECUE)
A51: ='S6 Maquette'!B51 -> Analyse musicale 3 | B51: ='S6 Maquette'!C51 -> ECUE | C51: ='S6 Maquette'!F53 -> 0 | D51: 1 | E51: OUI | G51: OUI | H51: OUI | I51: OUI | K51: CCI (CC Intégral) | M51: 2 | P51: Autres
...

Sheet S6 MCC NA
A7: Composante | B7: ='[1]Fiche Générale'!B3 -> 0 | C7: Diplôme | E7: ='[1]Fiche Générale'!B4 -> 0 | G7: Code diplôme | H7: ='[1]Fiche Générale'!B5 -> 0
C10: Parcours type | E10: ='[1]Fiche Générale'!B9 -> 0
M12: 1ère session | P12: Seconde Chance
A13: Année | B13: ='[1]S6 Maquette'!B13:B14 -> 3 ème Année de Licence | D13: Code Année | E13: ='[1]S6 Maquette'!E13:F14 -> 0
M14: Contrôle continu | N14: Contrôle Terminal
A15: Semestre | B15: ='[1]S6 Maquette'!B15:B16 -> Semestre 6 | D15: Code Semestre | E15: ='[1]S6 Maquette'!E15:F16 -> 0
A18: Libellé | B18: Nature | C18: Statut | D18: Coefficient | E18: Notes attendues | F18: Résultat attendu: (ACQ/AJ) | G18: Conservation note | H18: Capitalisable | I18: Compensable | J18: Seuil de compensation /20 | K18: Type de contrôle | L18: Si CC&CT coef du CT | M18: Nbre d'évalution minimum | N18: Nature | O18: Durée | P18: Format d'évaluation | Q18: Nature | R18: Durée | S18: Modalités de mise en œuvre | T18: Commentaires
A19: ='[1]S6 Maquette'!B19 -> UE Competences transversales 6 | B19: ='[1]S6 Maquette'!C19 -> UE | C19: ='[1]S6 Maquette'!F19 -> 0
A20: ='[1]S6 Maquette'!B20 -> Competences numeriques 3 | B20: ='[1]S6 Maquette'!C20 -> ECUE | C20: ='[1]S6 Maquette'!F20 -> 0
A21: ='[1]S6 Maquette'!B21 -> Competences informationnelles 3 | B21: ='[1]S6 Maquette'!C21 -> ECUE | C21: ='[1]S6 Maquette'!F21 -> 0
A22: ='[1]S6 Maquette'!B22 -> Langue vivante-6 | B22: ='[1]S6 Maquette'!C22 -> BLOC | C22: ='[1]S6 Maquette'!F22 -> 0
A23: ='[1]S6 Maquette'!B23 -> Min 1 Max 1 | B23: ='[1]S6 Maquette'!C23 -> OPTION
A24: ='[1]S6 Maquette'!B24 -> Anglais 6 | B24: ='[1]S6 Maquette'!C24 -> ECUE
A25: ='[1]S6 Maquette'!B25 -> Espagnol 6 | B25: ='[1]S6 Maquette'!C25 -> ECUE | C25: ='[1]S6 Maquette'!F25 -> 0
A26: ='[1]S6 Maquette'!B26 -> Italien 6 | B26: ='[1]S6 Maquette'!C26 -> ECUE
A27: Choix du bloc de spécialité L3 | B27: OPTION | C27: ='[1]S6 Maquette'!F27 -> 0
A28: ='S6 Maquette'!B28 -> PARCOURS Études musicales | B28: ='S6 Maquette'!C28 -> BLOC | C28: ='[1]S6 Maquette'!F29 -> 0
A29: ='S6 Maquette'!B29 -> UE 1 Techniques musicales | B29: ='S6 Maquette'!C29 -> UE | C29: ='[1]S6 Maquette'!F30 -> 0 | D29: 1 | E29: OUI | G29: OUI | H29: OUI | I29: OUI | P29: Autres | S29: on garde la meilleure note de chaque ECUE
A30: ='S6 Maquette'!B30 -> Formation musicale 6 | B30: ='S6 Maquette'!C30 -> ECUE | C30: ='[1]S6 Maquette'!F31 -> 0 | D30: 1 | E30: OUI | G30: OUI | H30: OUI | I30: OUI | K30: CCI (CC Intégral) | M30: 2 | P30: Autres | S30: écrit et oral
A31: ='S6 Maquette'!B31 -> Arrangement musical et écriture 6 | B31: ='S6 Maquette'!C31 -> ECUE | C31: ='[1]S6 Maquette'!F32 -> 0 | D31: 1 | E31: OUI | G31: OUI | H31: OUI | I31: OUI | K31: CCI (CC Intégral) | M31: 2 | P31: Autres | S31: écrit et oral
A32: ='S6 Maquette'!B32 -> UE 2 Outils d'anlayses et application musicale. | B32: ='S6 Maquette'!C32 -> UE | C32: ='[1]S6 Maquette'!F34 -> 0 | D32: 1 | E32: OUI | G32: OUI | H32: OUI | I32: OUI | P32: Autres | S32: on garde les 3 meilleures notes (la meilleure note de chaque ECUE)
A33: ='S6 Maquette'!B33 -> Analyse musicale 4 | B33: ='S6 Maquette'!C33 -> ECUE | C33: ='[1]S6 Maquette'!F35 -> 0 | D33: 1 | E33: OUI | G33: OUI | H33: OUI | I33: OUI | K33: CCI (CC Intégral) | M33: 2 | P33: Autres | S33: dossier écrit et oral
A34: ='S6 Maquette'!B34 -> Esthétique musicale 2 | B34: ='S6 Maquette'!C34 -> ECUE | C34: ='[1]S6 Maquette'!F36 -> 0 | D34: 1 | E34: OUI | G34: OUI | H34: OUI | I34: OUI | K34: CCI (CC Intégral) | M34: 2 | P34: Autres | S34: dossier écrit et oral
A35: ='S6 Maquette'!B35 -> Création et production musicale | B35: ='S6 Maquette'!C35 -> ECUE | C35: ='[1]S6 Maquette'!F37 -> 0 | D35: 1 | E35: OUI | G35: OUI | H35: OUI | I35: OUI | K35: CCI (CC Intégral) | M35: 2 | P35: Autres | S35: dossier écrit et oral
A36: ='S6 Maquette'!B36 -> UE 3 Cultures musicales | B36: ='S6 Maquette'!C36 -> UE | C36: ='[1]S6 Maquette'!F39 -> 0 | D36: 1 | E36: OUI | G36: OUI | H36: OUI | I36: OUI | P36: Autres | S36: on garde la meilleure note de chaque ECUE
A37: ='S6 Maquette'!B37 -> Ethnomusicologie 3 | B37: ='S6 Maquette'!C37 -> ECUE | C37: ='[1]S6 Maquette'!F40 -> 0 | D37: 1 | E37: OUI | G37: OUI | H37: OUI | I37: OUI | K37: CCI (CC Intégral) | M37: 2 | P37: Autres | S37: dossier écrit et oral
A38: ='S6 Maquette'!B38 -> Musiques actuelles 3 | B38: ='S6 Maquette'!C38 -> ECUE | C38: ='[1]S6 Maquette'!F41 -> 0 | D38: 1 | E38: OUI | G38: OUI | H38: OUI | I38: OUI | K38: CCI (CC Intégral) | M38: 2 | P38: Autres | S38: dossier écrit et oral
A39: ='S6 Maquette'!B39 -> Perspectives de recherches musicales et artistiques | B39: ='S6 Maquette'!C39 -> ECUE | C39: ='[1]S6 Maquette'!F42 -> 0 | D39: 1 | E39: NON | F39: OUI | G39: NON | H39: OUI | I39: OUI | S39: dossier écrit et oral
A40: ='S6 Maquette'!B40 -> Musique et médias | B40: ='S6 Maquette'!C40 -> ECUE | C40: ='[1]S6 Maquette'!F43 -> 0 | D40: 1 | E40: OUI | G40: OUI | H40: OUI | I40: OUI | K40: CCI (CC Intégral) | M40: 2 | P40: Autres | S40: dossier écrit et oral
A41: ='S6 Maquette'!B41 -> UE 4 Pratiques musicales et musicologiques | B41: ='S6 Maquette'!C41 -> UE | C41: ='[1]S6 Maquette'!F45 -> 0 | D41: 1 | E41: OUI | G41: OUI | H41: OUI | I41: NON | P41: Autres | S41: on garde la meilleure note de chaque ECUE si obtention de l'ECUE Enjeux
A42: ='S6 Maquette'!B42 -> Environnement professionnel UCA | B42: ='S6 Maquette'!C42 -> ECUE | C42: ='[1]S6 Maquette'!F48 -> 0 | D42: 1 | E42: OUI | G42: OUI | H42: OUI | I42: OUI | K42: CCI (CC Intégral) | M42: 2 | P42: Autres | S42: dossier écrit et oral
A43: ='S6 Maquette'!B43 -> PPR ou stage | B43: ='S6 Maquette'!C43 -> ECUE | C43: ='[1]S6 Maquette'!F49 -> 0 | D43: 1 | E43: OUI | G43: OUI | H43: OUI | I43: NON | K43: CCI (CC Intégral) | M43: 2 | P43: Autres | S43: dossier écrit et oral
A44: ='S6 Maquette'!B44 -> Pratiques chorales | B44: ='S6 Maquette'!C44 -> ECUE | C44: ='[1]S6 Maquette'!F50 -> 0 | D44: 1 | E44: OUI | G44: OUI | H44: OUI | I44: OUI | K44: CCI (CC Intégral) | M44: 2 | P44: Autres | S44: dossier écrit et oral
A45: ='S6 Maquette'!B45 -> MAO et outils numériques | B45: ='S6 Maquette'!C45 -> ECUE | C45: ='[1]S6 Maquette'!F52 -> 0 | D45: 1 | E45: OUI | G45: OUI | H45: OUI | I45: OUI | K45: CCI (CC Intégral) | M45: 2 | P45: Autres | S45: dossier écrit et oral
A46: ='S6 Maquette'!B46 -> PARCOURS Interprétation, composition ou pédagogie musicales | B46: ='S6 Maquette'!C46 -> BLOC
A47: ='S6 Maquette'!B47 -> UE 1 Pratiques musicales professionnalisantes | B47: ='S6 Maquette'!C47 -> UE | C47: ='[1]S6 Maquette'!F55 -> 0 | D47: 1 | E47: OUI | G47: OUI | H47: OUI | I47: OUI | P47: Autres | S47: on garde la meilleure note de chaque ECUE)
A48: ='S6 Maquette'!B48 -> Dsicpline principale (instrument/voix/direction/composition électroacoustique) | B48: ='S6 Maquette'!C48 -> ECUE | C48: ='[1]S6 Maquette'!F56 -> 0 | D48: 1 | E48: OUI | G48: OUI | H48: OUI | I48: OUI | K48: CCI (CC Intégral) | M48: 2 | P48: Autres | S48: oral
A49: ='S6 Maquette'!B49 -> Pratiques collectives non dirigées (musique de chambre, projet MAA, interprétation sur acousmonium) | B49: ='S6 Maquette'!C49 -> ECUE | C49: ='[1]S6 Maquette'!F57 -> 0 | D49: 1 | E49: OUI | G49: OUI | H49: OUI | I49: OUI | K49: CCI (CC Intégral) | M49: 2 | P49: Autres | S49: oral
A50: ='S6 Maquette'!B50 -> UE 2 Cultures musicales | B50: ='S6 Maquette'!C50 -> UE | C50: ='[1]S6 Maquette'!F58 -> 0 | D50: 1 | E50: OUI | G50: OUI | H50: OUI | I50: OUI | P50: Autres | S50: on garde la meilleure note de chaque ECUE)
A51: ='S6 Maquette'!B51 -> Analyse musicale 3 | B51: ='S6 Maquette'!C51 -> ECUE | C51: ='[1]S6 Maquette'!F59 -> 0 | D51: 1 | E51: OUI | G51: OUI | H51: OUI | I51: OUI | K51: CCI (CC Intégral) | M51: 2 | P51: Autres | S51: dossier écrit et oral
...
