Workbook
Name list_cmp: [1]Listes!$A$10:$G$10
Name list_cmp: [1]Listes!$A$10:$G$10
Name list_cmp: Listes!$A$10:$G$10
Name List_CNU: [1]Listes!$A$27:$A$83
Name List_CNU: [1]Listes!$A$27:$A$83
Name List_CNU: Listes!$A$27:$A$83
Name List_Controle: [1]Listes!$B$2:$B$6
Name List_Controle: [1]Listes!$B$2:$B$6
Name List_Controle: Listes!$B$2:$B$6
Name List_Controle2: [1]Listes!$A$2:$A$4
Name List_Controle2: [1]Listes!$A$2:$A$4
Name List_Controle2: Listes!$A$2:$A$4
Name List_Mutualisation: [1]Listes!$E$2:$E$3
Name List_Mutualisation: [1]Listes!$E$2:$E$3
Name List_Mutualisation: Listes!$E$2:$E$3
Name List_RegimeInscription: [1]Listes!$C$2:$C$3
Name List_RegimeInscription: [1]Listes!$C$2:$C$3
Name List_RegimeInscription: Listes!$C$2:$C$3
Name List_Statut: [1]Listes!$F$2:$F$4
Name List_Statut: [1]Listes!$F$2:$F$4
Name List_Statut: Listes!$F$2:$F$4
Name list_typdiplome: [1]Listes!$H$3:$H$4
Name list_typdiplome: [1]Listes!$H$3:$H$4
Name list_typdiplome: Listes!$H$3:$H$4
Name List_Type: [1]Listes!$G$2:$G$3
Name List_Type: [1]Listes!$G$2:$G$3
Name List_Type: Listes!$G$2:$G$3
Name liste_cmp: #REF!
Name liste_cmp: #REF!
Name liste_cmp: #REF!
Name liste_cmp: #REF!
Name liste_cmp: #REF!
Name liste_cmp: #REF!
Name liste_mention: #REF!
Name liste_mention: #REF!
Name liste_mention: #REF!
Name liste_mention: #REF!
Name liste_mention: #REF!
Name liste_mention: #REF!
Name Médecine: #REF!
Name Médecine: #REF!
Name Médecine: #REF!
Name Médecine: #REF!
Name Médecine: #REF!
Name Médecine: #REF!
Name Por: #REF!
Name Por: #REF!
Name Por: #REF!
Name Por: #REF!
Name Por: #REF!
Name Por: #REF!
Name Portail_Droit: Listes!$A$11:$A$12
Name Portail_EG: Listes!$B$11:$B$12
Name Portail_LLAC: Listes!$D$11:$D$19
Name Portail_SHS: #REF!
Name Portail_SHS: #REF!
Name Portail_SHS: #REF!
Name Portail_SHS: #REF!
Name Portail_SHS: #REF!
Name Portail_SHS: Listes!$C$11:$C$22

Sheet Listes
A1: Type contrôle | B1: Nature contrôle | C1: Régime d'inscription | D1: Nature ELP | E1: Mutualisation | F1: Statut | G1: Type | J1: Mention | K1: Codage Diplôme | L1: Codage double licence
A2: CCI (CC Intégral) | B2: Écrit | C2: Initiale Hors-Apprentissage / Formation Continue / Formation Permanente | D2: UE | E2: Porteuse | F2: Création | G2: Facultatif | H2: Type Diplôme | J2: Sciences de la Vie | K2: SLVIE18
A3: CT (Contrôle terminal) | B3: Oral | C3: Contrat d'Apprentissage/ Contrat de Professionnalisation | D3: ECUE | E3: Portée | F3: Modification | G3: Complémentaire | H3: Licence | J3: Droit | K3: DLDRT18
A4: CC&CT | B4: Écrit/Pratique | D4: BLOC | F4: Fermeture | H4: Double Licence | J4: Économie et gestion | K4: ILECG18
B5: Rapport/Mémoire | D5: OPTION | J5: Économie et gestion | K5: GLECG18
B6: Pratique sportive | D6: Parcours Pédagogique | J6: Information-communication | K6: HLICO18
J7: Arts du spectacle | K7: HLARS18
J8: Musicologie | K8: HLMUS18
J9: Lettres | K9: HLLET18
A10: Portail_Droit | B10: Portail_EG | C10: Portail_SHS | D10: Portail_LLAC | E10: Portail_ST | F10: Portail_SV | G10: Portail_STAPS | J10: Lettres étrangères appliquées (LEA) | K10: HLEAP18
A11: Droit | B11: Économie et gestion | C11: Sciences de l'homme, anthropologie, ethnologie | D11: Information-communication | E11: Sciences de la terre | F11: Sciences de la vie | G11: STAPS-Activité Physique Adaptée-Santé | J11: Langues, littératures et civilisations étrangères et régionales (LLCER) | K11: HLCER18
A12: Droit-Philosophie | B12: Économie-Sociologie | C12: Psychologie | D12: Arts du spectacle | E12: Sciences et technologies | F12: Sciences de la vie-Chimie | G12: STAPS-Education et Motricité | J12: Sciences de l'homme, anthropologie, ethnologie | K12: HLTSH18
C13: Histoire | D13: Musicologie | E13: Physique | F13: Sciences de la vie-Mathématiques | G13: STAPS-Entraînement Sportif | J13: Psychologie | K13: HLPSY18
C14: Sociologie | D14: Lettres | E14: Mathématiques | F14: Bio-Geo-Sciences | G14: STAPS-Management du Sport | J14: Sciences du langage | K14: HLNDL18
C15: Philosophie | D15: Lettres étrangères appliquées (LEA) | E15: Mathématiques et Informatique appliquées aux sciences humaines et sociales (MIASHS) | J15: Histoire | K15: HLHIS18
C16: Humanités | D16: Langues, littératures et civilisations étrangères et régionales (LLCER) | E16: Electronique, énergie électrique, automatique (EEA) | J16: Philosophie | K16: HLOPH18
C17: Géographie et aménagement | D17: Sciences du langage | E17: Informatique | J17: Sociologie | K17: HLSOC18
C18: Philosophie-Droit | D18: Lettres-Histoire | E18: Sciences de la terre-Sciences de la vie | J18: Sciences de la terre | K18: SLTER18
C19: Psychologie-Philosophie | D19: Musicologie - Sciences de l'homme, anthropologie, ethnologie | E19: Physique-Mathématiques | J19: Sciences et technologies | K19: SLSIT18
C20: Philosophie-Psychologie | E20: Mathématiques-Physique | J20: Chimie | K20: SLCHI18
C21: Histoire-Lettres | E21: Informatique-Mathématiques | J21: Physique | K21: SLPHY18
C22: Sociologie-Économie | E22: Mathématiques-Informatique | J22: Mathématiques | K22: SLMAT18
E23: Chimie-Sciences de la vie | J23: Mathématiques et Informatique appliquées aux sciences humaines et sociales (MIASHS) | K23: SLASH18
E24: Sciences de la terre-Physique | J24: Electronique, énergie électrique, automatique (EEA) | K24: SLELE18
E25: Physique-Sciences de la terre | J25: Informatique | K25: SLINF18
A26: CNU | E26: Mathématiques-Sciences de la vie | J26: Géographie et aménagement | K26: SLGEO18
A27: 01-Droit privé et sciences criminelles | J27: STAPS-Activité Physique Adaptée-Santé | K27: PLAPA18
A28: 02-Droit public | J28: STAPS-Education et Motricité | K28: PLEMO18
A29: 03-Histoire du droit et des institutions | J29: STAPS-Entraînement Sportif | K29: PLSES18
A30: 04-Science politique | J30: STAPS-Management du Sport | K30: PLMSP18
A31: 05-Sciences économiques | J31: Humanités | K31: HLBHU18
A32: 06-Sciences de gestion | J32: Sciences de la vie-Chimie | K32: SLVIE18 | L32: SLCHI18
A33: 07-Sciences du langage : linguistique et phonétique générales | F33: l | J33: Sciences de la vie-Mathématiques | K33: SLVIE18 | L33: SLMAT18
A34: 08-Langues et littératures anciennes | J34: Bio-Geo-Sciences | K34: SLVIE18 | L34: SLTER18
A35: 09-Langue et littérature françaises | J35: Sciences de la terre-Sciences de la vie | K35: SLTER18 | L35: SLVIE18
A36: 10-Littératures comparées | J36: Physique-Mathématiques | K36: SLPHY18 | L36: SLPHY18
A37: 11-Langues et littératures anglaises et anglo-saxonnes | J37: Mathématiques-Physique | K37: SLMAT18 | L37: SLMAT18
A38: 12-Langues et littératures germaniques et scandinaves | J38: Informatique-Mathématiques | K38: SLINF18 | L38: SLMAT18
A39: 13-Langues et littératures slaves | J39: Mathématiques-Informatique | K39: SLMAT18 | L39: SLINF18
A40: 14-Langues et littératures romanes : espagnol, italien, portugais, autres langues romanes | J40: Chimie-Sciences de la vie | K40: SLCHI18 | L40: SLVIE18
A41: 15-Langues et littératures arabes, chinoises, japonaises, hébraïques, d'autres domaines linguistiques | J41: Lettres-Histoire | K41: HLLET18 | L41: HLHIS18
A42: 16-Psychologie, psychologie clinique, psychologie sociale | J42: Musicologie - Sciences de l'homme, anthropologie, ethnologie | K42: HLTSH18
A43: 17-Philosophie | J43: Philosophie-Droit | K43: HLOPH18 | L43: DLDRT18
A44: 18-Architecture (ses théories et ses pratiques), arts appliqués, arts plastiques, arts du spectacle, épistémologie des enseignements artistiques, esthétique, musicologie, musique, sciences de l'art | J44: Psychologie-Philosophie | K44: HLPSY18 | L44: HLOPH18
A45: 19-Sociologie, démographie | J45: Philosophie-Psychologie | K45: HLOPH18 | L45: HLPSY18
A46: 20-Anthropologie biologique, ethnologie, préhistoire | J46: Histoire-Lettres | K46: HLHIS18 | L46: HLLET18
A47: 21-Histoire, civilisation, archéologie et art des mondes anciens et médiévaux | J47: Sociologie-Économie | K47: HLSOC18 | L47: ILECG18
A48: 22-Histoire et civilisations : histoire des mondes modernes, histoire du monde contemporain, de l'art, de la musique | J48: Économie-Sociologie | K48: ILECG18 | L48: HLSOC18
A49: 23-Géographie physique, humaine, économique et régionale | J49: Droit-Philosophie | K49: DLDRT18 | L49: HLOPH18
A50: 24-Aménagement de l'espace, urbanisme | J50: Sciences de la terre-Physique | K50: SLTER18 | L50: SLPHY18
A51: 25-Mathématiques | J51: Physique-Sciences de la terre | K51: SLPHY18 | L51: SLTER18
A52: 26-Mathématiques appliquées et applications des mathématiques | J52: Mathématiques-Sciences de la vie | K52: SLMAT18 | L52: SLVIE18
A53: 27-Informatique
A54: 28-Milieux denses et matériaux
A55: 29-Constituants élémentaires
A56: 30-Milieux dilués et optique
A57: 31-Chimie théorique, physique, analytique
A58: 32-Chimie organique, minérale, industrielle
A59: 33-Chimie des matériaux
A60: 34-Astronomie, astrophysique
A61: 35-Structure et évolution de la Terre et des autres planètes
A62: 36-Terre solide : géodynamique des enveloppes supérieures, paléo-biosphère
A63: 37-Météorologie, océanographie physique et physique de l'environnement
A64: 60-Mécanique, génie mécanique, génie civil
... A83: 87-Sciences biologiques pharmaceutiques

Sheet Calcul
A1: Heure Pédagogique | O1: Heure CM
A3: Semestre 5 | D3: Semestre 6 | O3: Semestre 5 | P3: Semestre 6
A4: Heure CM | B4: Heure TD | C4: Heure TP | D4: Heure CM | E4: Heure TD | F4: Heure TP | O4: ='S5 Maquette'!I19*1.5 -> 0 | P4: ='S6 Maquette'!I19*1.5 -> 0
A5: =SUM(O4:O291) -> #REF! | B5: =SUM('S5 Maquette'!J19:J264) -> 540 | C5: =SUM('S5 Maquette'!K19:K264) -> 0 | D5: =SUM(P4:P291) -> #REF! | E5: =SUM('S6 Maquette'!J19:J278) -> 596 | F5: =SUM('S6 Maquette'!K19:K278) -> 0 | O5: ='S5 Maquette'!I20*1.5 -> 0 | P5: ='S6 Maquette'!I20*1.5 -> 0
A6: Total | D6: Total | O6: ='S5 Maquette'!I21*1.5 -> 0 | P6: ='S6 Maquette'!I21*1.5 -> 0
A7: =SUM(A5,B5,C5) -> #REF! | D7: =SUM(D5,E5,F5) -> #REF! | O7: ='S5 Maquette'!I22*1.5 -> 0 | P7: ='S6 Maquette'!I22*1.5 -> 0
A8: Total | O8: ='S5 Maquette'!I23*1.5 -> 0 | P8: ='S6 Maquette'!I23*1.5 -> 0
O9: ='S5 Maquette'!I24*1.5 -> 0 | P9: ='S6 Maquette'!I24*1.5 -> 0
A10: =SUM(A7,D7) -> #REF! | O10: ='S5 Maquette'!I25*1.5 -> 0 | P10: ='S6 Maquette'!I25*1.5 -> 0
O11: ='S5 Maquette'!I26*1.5 -> 0 | P11: ='S6 Maquette'!I26*1.5 -> 0
O12: ='S5 Maquette'!I27*1.5 -> 0 | P12: ='S6 Maquette'!I27*1.5 -> 0
O13: ='S5 Maquette'!I29*1.5 -> 0 | P13: ='S6 Maquette'!I29*1.5 -> 0
A14: Heure Porté par la maquette | H14: Mutualisation Porteuse | O14: ='S5 Maquette'!I30*1.5 -> 0 | P14: ='S6 Maquette'!I30*1.5 -> 0
O15: ='S5 Maquette'!I31*1.5 -> 0 | P15: ='S6 Maquette'!I31*1.5 -> 0
A16: Semestre 5 | D16: Semestre 6 | H16: Semestre 5 | K16: Semestre 6 | O16: ='S5 Maquette'!#REF!*1.5 -> #REF! | P16: ='S6 Maquette'!#REF!*1.5 -> #REF!
A17: Heure CM | B17: Heure TD | C17: Heure TP | D17: Heure CM | E17: Heure TD | F17: Heure TP | H17: Heure CM | I17: Heure TD | J17: Heure TP | K17: Heure CM | L17: Heure TD | M17: Heure TP | O17: ='S5 Maquette'!I32*1.5 -> 0 | P17: ='S6 Maquette'!I32*1.5 -> 0
A18: =A5-H18 -> #REF! | B18: =B5-I18 -> 402 | C18: =C5-J18 -> 0 | D18: =D5-K18 -> #REF! | E18: =E5-L18 -> 404 | F18: =F5-M18 -> 0 | H18: =SUMIF('S5 Maquette'!M19:M264,"Portée",'S5 Maquette'!I19:I264)*1.5 -> 18 | I18: =SUMIF('S5 Maquette'!M19:M264,"Portée",'S5 Maquette'!J19:J264) -> 138 | J18: =SUMIF('S5 Maquette'!M19:M264,"Portée",'S5 Maquette'!K19:K264) -> 0 | K18: =SUMIF('S6 Maquette'!M19:M278,"Portée",'S6 Maquette'!I19:I278)*1.5 -> 18 | L18: =SUMIF('S6 Maquette'!M19:M278,"Portée",'S6 Maquette'!J19:J278) -> 192 | M18: =SUMIF('S6 Maquette'!M9:M278,"Portée",'S6 Maquette'!K19:K278) -> 0 | O18: ='S5 Maquette'!I33*1.5 -> 18 | P18: ='S6 Maquette'!I33*1.5 -> 18
A19: Total | D19: Total | O19: ='S5 Maquette'!I34*1.5 -> 18 | P19: ='S6 Maquette'!I34*1.5 -> 18
A20: =SUM(A18,B18,C18) -> #REF! | D20: =SUM(D18,E18,F18) -> #REF! | O20: ='S5 Maquette'!I35*1.5 -> 0 | P20: ='S6 Maquette'!I35*1.5 -> 0
A21: Total | O21: ='S5 Maquette'!#REF!*1.5 -> #REF! | P21: ='S6 Maquette'!#REF!*1.5 -> #REF!
A22: =SUM(A20,D20) -> #REF! | O22: ='S5 Maquette'!I36*1.5 -> 0 | P22: ='S6 Maquette'!I36*1.5 -> 0
O23: ='S5 Maquette'!I37*1.5 -> 0 | P23: ='S6 Maquette'!I37*1.5 -> 0
O24: ='S5 Maquette'!I38*1.5 -> 0 | P24: ='S6 Maquette'!I38*1.5 -> 0
O25: ='S5 Maquette'!I39*1.5 -> 0 | P25: ='S6 Maquette'!I39*1.5 -> 0
O26: ='S5 Maquette'!I40*1.5 -> 0 | P26: ='S6 Maquette'!I40*1.5 -> 0
O27: ='S5 Maquette'!#REF!*1.5 -> #REF! | P27: ='S6 Maquette'!#REF!*1.5 -> #REF!
O28: ='S5 Maquette'!I41*1.5 -> 0 | P28: ='S6 Maquette'!I41*1.5 -> 0
O29: ='S5 Maquette'!I42*1.5 -> 0 | P29: ='S6 Maquette'!I42*1.5 -> 0
O30: ='S5 Maquette'!I43*1.5 -> 0 | P30: ='S6 Maquette'!I43*1.5 -> 0
O31: ='S5 Maquette'!I44*1.5 -> 0 | P31: ='S6 Maquette'!I44*1.5 -> 0
O32: ='S5 Maquette'!I45*1.5 -> 0 | P32: ='S6 Maquette'!I45*1.5 -> 0
O33: ='S5 Maquette'!#REF!*1.5 -> #REF! | P33: ='S6 Maquette'!#REF!*1.5 -> #REF!
O34: ='S5 Maquette'!#REF!*1.5 -> #REF! | P34: ='S6 Maquette'!#REF!*1.5 -> #REF!
O35: ='S5 Maquette'!#REF!*1.5 -> #REF! | P35: ='S6 Maquette'!#REF!*1.5 -> #REF!
O36: ='S5 Maquette'!#REF!*1.5 -> #REF! | P36: ='S6 Maquette'!I46*1.5 -> 0
O37: ='S5 Maquette'!#REF!*1.5 -> #REF! | P37: ='S6 Maquette'!I47*1.5 -> 0
O38: ='S5 Maquette'!#REF!*1.5 -> #REF! | P38: ='S6 Maquette'!I48*1.5 -> 0
O39: ='S5 Maquette'!#REF!*1.5 -> #REF! | P39: ='S6 Maquette'!I50*1.5 -> 0
O40: ='S5 Maquette'!I46*1.5 -> 0 | P40: ='S6 Maquette'!I51*1.5 -> 0
O41: ='S5 Maquette'!I47*1.5 -> 0 | P41: ='S6 Maquette'!#REF!*1.5 -> #REF!
O42: ='S5 Maquette'!I48*1.5 -> 0 | P42: ='S6 Maquette'!I52*1.5 -> 0
O43: ='S5 Maquette'!I49*1.5 -> 0 | P43: ='S6 Maquette'!I53*1.5 -> 0
O44: ='S5 Maquette'!#REF!*1.5 -> #REF! | P44: ='S6 Maquette'!I54*1.5 -> 0
O45: ='S5 Maquette'!I50*1.5 -> 0 | P45: ='S6 Maquette'!I55*1.5 -> 0
O46: ='S5 Maquette'!I54*1.5 -> 0 | P46: ='S6 Maquette'!I60*1.5 -> 0
O47: ='S5 Maquette'!I55*1.5 -> 0 | P47: ='S6 Maquette'!I63*1.5 -> 0
O48: ='S5 Maquette'!I56*1.5 -> 18 | P48: ='S6 Maquette'!I65*1.5 -> 0
O49: ='S5 Maquette'!#REF!*1.5 -> #REF! | P49: ='S6 Maquette'!I66*1.5 -> 0
O50: ='S5 Maquette'!I57*1.5 -> 0 | P50: ='S6 Maquette'!I67*1.5 -> 0
O51: ='S5 Maquette'!I58*1.5 -> 0 | P51: ='S6 Maquette'!#REF!*1.5 -> #REF!
O52: ='S5 Maquette'!I59*1.5 -> 0 | P52: ='S6 Maquette'!#REF!*1.5 -> #REF!
O53: ='S5 Maquette'!I60*1.5 -> 0 | P53: ='S6 Maquette'!#REF!*1.5 -> #REF!
O54: ='S5 Maquette'!I61*1.5 -> 0 | P54: ='S6 Maquette'!#REF!*1.5 -> #REF!
O55: ='S5 Maquette'!I62*1.5 -> 0 | P55: ='S6 Maquette'!I68*1.5 -> 0
O56: ='S5 Maquette'!I63*1.5 -> 0 | P56: ='S6 Maquette'!I69*1.5 -> 0
O57: ='S5 Maquette'!I64*1.5 -> 0 | P57: ='S6 Maquette'!I71*1.5 -> 0
O58: ='S5 Maquette'!I66*1.5 -> 0 | P58: ='S6 Maquette'!I72*1.5 -> 0
O59: ='S5 Maquette'!I67*1.5 -> 0 | P59: ='S6 Maquette'!I73*1.5 -> 0
O60: ='S5 Maquette'!#REF!*1.5 -> #REF! | P60: ='S6 Maquette'!I74*1.5 -> 0
O61: ='S5 Maquette'!I68*1.5 -> 0 | P61: ='S6 Maquette'!I75*1.5 -> 0
O62: ='S5 Maquette'!I69*1.5 -> 0 | P62: ='S6 Maquette'!I76*1.5 -> 0
O63: ='S5 Maquette'!I71*1.5 -> 0 | P63: ='S6 Maquette'!I77*1.5 -> 0
O64: ='S5 Maquette'!I72*1.5 -> 0 | P64: ='S6 Maquette'!I78*1.5 -> 0
O65: ='S5 Maquette'!I73*1.5 -> 0 | P65: ='S6 Maquette'!#REF!*1.5 -> #REF!
O66: ='S5 Maquette'!I74*1.5 -> 0 | P66: ='S6 Maquette'!#REF!*1.5 -> #REF!
O67: ='S5 Maquette'!I75*1.5 -> 0 | P67: ='S6 Maquette'!#REF!*1.5 -> #REF!
O68: ='S5 Maquette'!#REF!*1.5 -> #REF! | P68: ='S6 Maquette'!#REF!*1.5 -> #REF!
O69: ='S5 Maquette'!#REF!*1.5 -> #REF! | P69: ='S6 Maquette'!#REF!*1.5 -> #REF!
O70: ='S5 Maquette'!#REF!*1.5 -> #REF! | P70: ='S6 Maquette'!#REF!*1.5 -> #REF!
O71: ='S5 Maquette'!#REF!*1.5 -> #REF! | P71: ='S6 Maquette'!#REF!*1.5 -> #REF!
O72: ='S5 Maquette'!#REF!*1.5 -> #REF! | P72: ='S6 Maquette'!#REF!*1.5 -> #REF!
O73: ='S5 Maquette'!#REF!*1.5 -> #REF! | P73: ='S6 Maquette'!#REF!*1.5 -> #REF!
O74: ='S5 Maquette'!#REF!*1.5 -> #REF! | P74: ='S6 Maquette'!#REF!*1.5 -> #REF!
O75: ='S5 Maquette'!#REF!*1.5 -> #REF! | P75: ='S6 Maquette'!#REF!*1.5 -> #REF!
O76: ='S5 Maquette'!#REF!*1.5 -> #REF! | P76: ='S6 Maquette'!#REF!*1.5 -> #REF!
O77: ='S5 Maquette'!#REF!*1.5 -> #REF! | P77: ='S6 Maquette'!#REF!*1.5 -> #REF!
O78: ='S5 Maquette'!#REF!*1.5 -> #REF! | P78: ='S6 Maquette'!#REF!*1.5 -> #REF!
O79: ='S5 Maquette'!#REF!*1.5 -> #REF! | P79: ='S6 Maquette'!#REF!*1.5 -> #REF!
... O85: ='S5 Maquette'!#REF!*1.5 -> #REF! | P85: ='S6 Maquette'!#REF!*1.5 -> #REF!
O86: ='S5 Maquette'!#REF!*1.5 -> #REF! | P86: ='S6 Maquette'!I79*1.5 -> 0
O87: ='S5 Maquette'!#REF!*1.5 -> #REF! | P87: ='S6 Maquette'!I80*1.5 -> 0
O88: ='S5 Maquette'!#REF!*1.5 -> #REF! | P88: ='S6 Maquette'!I81*1.5 -> 0
O89: ='S5 Maquette'!#REF!*1.5 -> #REF! | P89: ='S6 Maquette'!I82*1.5 -> 0
O90: ='S5 Maquette'!#REF!*1.5 -> #REF! | P90: ='S6 Maquette'!I83*1.5 -> 18
O91: ='S5 Maquette'!#REF!*1.5 -> #REF! | P91: ='S6 Maquette'!I84*1.5 -> 18
O92: ='S5 Maquette'!#REF!*1.5 -> #REF! | P92: ='S6 Maquette'!I85*1.5 -> 0
O93: ='S5 Maquette'!I76*1.5 -> 0 | P93: ='S6 Maquette'!I86*1.5 -> 0
O94: ='S5 Maquette'!I77*1.5 -> 0 | P94: ='S6 Maquette'!I87*1.5 -> 0
O95: ='S5 Maquette'!I78*1.5 -> 0 | P95: ='S6 Maquette'!I88*1.5 -> 0
O96: ='S5 Maquette'!I79*1.5 -> 0 | P96: ='S6 Maquette'!I89*1.5 -> 0
O97: ='S5 Maquette'!I82*1.5 -> 0 | P97: ='S6 Maquette'!I90*1.5 -> 0
O98: ='S5 Maquette'!I83*1.5 -> 18 | P98: ='S6 Maquette'!I91*1.5 -> 0
O99: ='S5 Maquette'!I84*1.5 -> 18 | P99: ='S6 Maquette'!I92*1.5 -> 0
O100: ='S5 Maquette'!I85*1.5 -> 0 | P100: ='S6 Maquette'!I93*1.5 -> 0
O101: ='S5 Maquette'!I87*1.5 -> 0 | P101: ='S6 Maquette'!I94*1.5 -> 0
O102: ='S5 Maquette'!I88*1.5 -> 0 | P102: ='S6 Maquette'!I95*1.5 -> 0
O103: ='S5 Maquette'!I89*1.5 -> 0 | P103: ='S6 Maquette'!I96*1.5 -> 0
O104: ='S5 Maquette'!I90*1.5 -> 0 | P104: ='S6 Maquette'!I97*1.5 -> 0
O105: ='S5 Maquette'!I91*1.5 -> 0 | P105: ='S6 Maquette'!I98*1.5 -> 0
O106: ='S5 Maquette'!I92*1.5 -> 0 | P106: ='S6 Maquette'!I99*1.5 -> 0
...

Sheet Fiche Générale
A1: Type Diplôme : Licence & Double Licence 3ème année
A2: Type diplôme
A3: COMPOSANTE
A4: MENTION
A5: CODE DIPLÔME
A6: Régime d'inscription
A8: Parcours Type en L3
A9: Parcours Type
A11: Heures Maquette | C11: Heures Valorisées
A18: COMPENSATION
A19: Les MCC déterminent le mode de compensation entre UE, semestre et année ainsi que la possibilité d’une note éliminatoire.
A20: Obtention des UE
A21: Par validation des ECUE, ou obtention de la moyenne dans l'UE (sauf pour l'UE4 - voir section "Note éliminatoire")
A24: Obtention du Semestre
A25: Compensation entre UE (sauf pour l'UE4 - voir section "Note éliminatoire")
A28: Obtention de l'Année
A29: Par validation de toutes les UE.
A32: Note éliminatoire/ Note seuil
A33: L'UE 4 de chaque parcours possède un ECUE non compensable, la note la plus basse pour obtenir cet ECUE est de 10/20 sinon l'ECUE n'est pas obtenue ni l'année. Il s'agit donc d'une note éliminatoire
A36: REDOUBLEMENT
A37: Limitation du nombre de redoublements : 2 fois en L1 ; 1 fois en L2 ; 1 fois en L3 ; au-delà, à titre dérogatoire. Le redoublement n’étant pas de droit, lorsqu’un ou une étudiante obtient entre 0 et 5 de moyenne annuelle, le jury est souverain pour décider d’un redoublement ou non, en tenant compte de sa situation personnelle (maladie, décès d’un proche, etc.).
... A41: Arrêté du 22 janvier 2014 fixant le cadre national des formations conduisant à la délivrance des diplômes nationaux de licence, de licence professionnelle et de master

Sheet S5 Maquette
A7: Composante | B7: ='Fiche Générale'!B3 -> 0 | C7: Diplôme | E7: ='Fiche Générale'!B4 -> 0 | G7: Code diplôme | H7: ='Fiche Générale'!B5 -> 0
C10: Parcours type | E10: ='Fiche Générale'!B9 -> 0
A13: Année | B13: 3 ème Année de Licence | C13: Code année | G13: Heures Maquette | H13: =Calcul!A7 -> #REF!
A15: Semestre | B15: Semestre 5 | C15: Code semestre | G15: Heures Valorisées | H15: =Calcul!A20 -> #REF!
A18: Niveau | B18: Libellé ELP | C18: Nature ELP | D18: ECTS | E18: Type | F18: Statut | G18: Code Apogée | H18: CNU | I18: Heure CM | J18: Heure TD | K18: Heure TP | L18: Langues | M18: Mutualisation | N18: Formation Porteuse | O18: Observations / Remarques ex: Intervention à titre gracieux / Capacité d'accueil max
A19: 0 | B19: UE Competences transversales 5 | C19: UE | D19: 6
A20: 0.1 | B20: Competences numeriques 3 | C20: ECUE
A21: 0.2 | B21: Competences informationnelles 3 | C21: ECUE
A22: 0.3 | B22: Langue vivante-5 | C22: BLOC
B23: Min 1 Max 1 | C23: OPTION
A24: 0.3.1 | B24: Anglais 5 | C24: ECUE
A25: 0.3.2 | B25: Espagnol 5 | C25: ECUE
A26: 0.3.3 | B26: Italien 5 | C26: ECUE
B27: Choix du parcours de spécialité L3 | C27: OPTION
A28: 1 | B28: PARCOURS Études musicales | C28: BLOC
A29: 1.1 | B29: UE 1 Techniques musicales | C29: UE | D29: 6
A30: 1.11 | B30: Formation musicale 5 | C30: ECUE | J30: 20 | M30: Porteuse | O30: Mutualisé avec le bloc musiciens interprètes et CLE2D
A31: 1.12 | B31: Arrangement musical et écriture 5 | C31: ECUE | J31: 24 | M31: Porteuse | O31: Mutualisé avec le bloc musiciens interprètes et CLE2D
A32: 1.2 | B32: UE 2 Outils d'anlayses et application musicale | C32: UE | D32: 6
A33: 1.21 | B33: Analyse musicale 3 | C33: ECUE | I33: 12 | J33: 12 | M33: Porteuse | O33: Mutualisé avec le bloc musiciens interprètes et CLE2D
A34: 1.22 | B34: Esthétique musicale 1 | C34: ECUE | I34: 12 | J34: 12 | M34: Porteuse | O34: Mutualisé avec le bloc musiciens interprètes et CLE2D
A35: 1.23 | B35: Création et production musicale | C35: ECUE | J35: 20 | M35: Porteuse | O35: Mutualisé avec le bloc musiciens interprètes et CLE2D
A36: 1.3 | B36: UE 3 Cultures musicales | C36: UE | D36: 6
A37: 1.31 | B37: Ethnomusicologie 3 | C37: ECUE | J37: 18 | M37: Porteuse | O37: Mutualisé avec le bloc musiciens interprètes et CLE2D
A38: 1.32 | B38: Musiques actuelles 3 | C38: ECUE | J38: 18 | M38: Porteuse | O38: Mutualisé avec le bloc musiciens interprètes et CLE2D
A39: 1.33 | B39: Perspectives de recherches musicales et artistiques | C39: ECUE | J39: 12 | M39: Porteuse | O39: Mutualisé avec le bloc musiciens interprètes et CLE2D
A40: 1.34 | B40: Musique et médias (commentaire) | C40: ECUE | J40: 18 | M40: Porteuse | O40: Mutualisé avec le bloc musiciens interprètes et CLE2D. Avec orientation concours.
A41: 1.4 | B41: UE 4 Pratiques musicales et musicologiques | C41: UE | D41: 6
A42: 1.41 | B42: Environnement professionnel UCA | C42: ECUE | J42: 18 | M42: Porteuse | O42: Mutualisé avec le bloc musiciens interprètes et CLE2D
A43: 1.42 | B43: Enjeux de la musicologique, PPR ou stage | C43: ECUE | J43: 6 | M43: Porteuse | O43: Mutualisé avec le bloc musiciens interprètes et CLE2D
A44: 1.43 | B44: Pratiques chorales | C44: ECUE | J44: 24 | M44: Portée | N44: L1 études musicales | O44: Mutualisé avec les autres années de la licence L1 et L2
A45: 1.44 | B45: MAO et outils numériques | C45: ECUE | J45: 18 | M45: Porteuse | O45: Mutualisé avec le bloc musiciens interprètes et CLE2D
A46: 2 | B46: PARCOURS Interprétation, composition ou pédagogie musicales | C46: BLOC
A47: 2.1 | B47: UE 1 Pratiques musicales professionnalisantes | C47: UE | D47: 6 | O47: Les cours de cette UE sont pris en charge par le CRR de Nice dans le cadre de notre convention
A48: 2.1.1 | B48: Dsicpline principale (instrument/voix/direction/composition électroacoustique) | C48: ECUE | M48: Portée | N48: CRR
A49: 2.1.2 | B49: Pratiques collectives non dirigées (musique de chambre, projet MAA, interprétation sur acousmonium) | C49: ECUE | M49: Portée | N49: CRR
A50: 2.2 | B50: UE 2 Cultures musicales | C50: UE | D50: 6
A51: 2.2.1 | B51: Analyse musicale 3 | C51: ECUE
A52: 2.2.3 | B52: ECUE au choix | C52: ECUE
B53: 1 ECUE au choix | C53: OPTION
A54: 2.2.3.1 | B54: Informatique musicale / conception et préparation au projet | C54: ECUE | M54: Portée | N54: CRR | O54: Les cours de cette ECUE sont pris en charge par le CRR de Nice dans le cadre de notre convention
A55: 2.2.3.2 | B55: Musiques actuelles 3 | C55: ECUE | J55: 18 | M55: Portée | N55: BLOC études musicales | O55: Mutualisé avec le parcours études musicales et CLE2D
A56: 2.2.3.3 | B56: Esthétique musicale 1 | C56: ECUE | I56: 12 | J56: 12 | M56: Portée | N56: BLOC études musicales | O56: Mutualisé avec le parcours études musicales et CLE2D
A57: 2.3 | B57: UE 3 Spécialisation professionnalisante appliquée | C57: UE | D57: 6
A58: 2.3.1 | B58: Ecriture, arrangement, orchestration | C58: ECUE | M58: Portée | N58: CRR | O58: Les cours de cette ECUE sont pris en charge par le CRR de Nice dans le cadre de notre convention
A59: 2.3.2 | B59: OPTION 1 | C59: ECUE | M59: Portée | N59: CRR | O59: Les cours de cette ECUE sont pris en charge par le CRR de Nice dans le cadre de notre convention
B60: 1 ECUE au choix | C60: OPTION | O60: Mutualisé avec le parcours études musicales
A61: 2.3.2.1 | B61: Préparation au concours | C61: ECUE | M61: Portée | N61: CRR | O61: Les cours de cette ECUE sont pris en charge par le CRR de Nice dans le cadre de notre convention
A62: 2.3.2.2 | B62: Stage de mise en situation professionnelle | C62: ECUE | M62: Portée | N62: CRR | O62: Les cours de cette ECUE sont pris en charge par le CRR de Nice dans le cadre de notre convention
A63: 2.3.2.3 | B63: Réalisation en informatique musicale / Projet personnel | C63: ECUE | M63: Portée | N63: CRR | O63: Les cours de cette ECUE sont pris en charge par le CRR de Nice dans le cadre de notre convention
A64: 2.3.3 | B64: OPTION 2 | C64: ECUE
B65: 1 ECUE au choix | C65: OPTION
A66: 2.3.3..1 | B66: Musique et médias | C66: ECUE | J66: 18 | M66: Portée | N66: BLOC études musicales | O66: Mutualisé avec le parcours études musicales et CLE2D
A67: 2.3.3.2 | B67: Ethnomusicologie 3 | C67: ECUE | J67: 18 | M67: Portée | N67: BLOC études musicales | O67: Mutualisé avec le parcours études musicales et CLE2D
A68: 2.4 | B68: UE 4 Spécialisation professionnalisante | C68: UE | D68: 6
A69: 2.4.1 | B69: Projet personnel | C69: ECUE | M69: Portée | N69: CRR | O69: Les cours de cette ECUE sont pris en charge par le CRR de Nice dans le cadre de notre convention
A70: 2.4.2 | B70: Environnement professionnel CRR | C70: ECUE | M70: Portée | N70: CRR | O70: Les cours de cette ECUE sont pris en charge par le CRR de Nice dans le cadre de notre convention
A71: 2.4.3 | B71: Conférences musicales et pédagogiques | C71: ECUE | M71: Portée | N71: CRR | O71: Les cours de cette ECUE sont pris en charge par le CRR de Nice dans le cadre de notre convention
A72: 2.4.4 | B72: 1 ECUE au choix | C72: ECUE | O72: Mutualisé avec le parcours études musicales
B73: 1 ECUE à choisir parmi : | C73: OPTION
A74: 2.4.4.1 | B74: Environnement professionnel UCA | C74: ECUE | J74: 18 | M74: Portée | N74: BLOC études musicales | O74: Mutualisé avec le parcours études musicales et CLE2D
A75: 2.4.4.2 | B75: Enjeux de la musicologie, PPR ou stage | C75: ECUE | J75: 6 | M75: Portée | N75: BLOC études musicales | O75: Mutualisé avec le parcours études musicales et CLE2D
A76: 3 | B76: PARCOURS Préparation CAPES Educ Mus Chant Choral | C76: BLOC
A77: 1.1 | B77: UE 1 Techniques musicales renforcées CAPES | C77: UE | D77: 6
A78: 1.11 | B78: Formation musicale 5 | C78: ECUE | J78: 20 | M78: Porteuse | O78: Mutualisé avec le bloc musiciens interprètes et CLE2D
A79: 1.12 | B79: Arrangement musical et écriture 5 | C79: ECUE | J79: 24 | M79: Porteuse | O79: Mutualisé avec le bloc musiciens interprètes et CLE2D
A80: 1.13 | B80: Prepa Ecoute musicale 1 | C80: ECUE | J80: 10h | M80: Portée | N80: INSPE - détachement educ Nat | O80: Détachement INSPE Frank Sana
A81: 1.14 | B81: Prepa Arrangement et Harmonisation 1 | C81: ECUE | J81: 32h | M81: Portée | N81: INSPE - détachement Agrégé | O81: Détachement agrégé Frank Sana
A82: 1.2 | B82: UE 2 Outils d'anlayses et application musicale | C82: UE | D82: 6
A83: 1.21 | B83: Analyse musicale 3 | C83: ECUE | I83: 12 | J83: 12 | M83: Porteuse | O83: Mutualisé avec le bloc musiciens interprètes et CLE2D
A84: 1.22 | B84: Esthétique musicale 1 | C84: ECUE | I84: 12 | J84: 12 | M84: Porteuse | O84: Mutualisé avec le bloc musiciens interprètes et CLE2D
A85: 1.23 | B85: Création et production musicale | C85: ECUE | J85: 20 | M85: Porteuse | O85: Mutualisé avec le bloc musiciens interprètes et CLE2D
A86: 1.24 | B86: Prepa Connaissance du répertoire musical 1 (épreuve analyse auditive et connaissance du rep)) 1 | C86: ECUE | J86: 12h
A87: 1.3 | B87: UE 3 Cultures musicales | C87: UE | D87: 6
A88: 1.31 | B88: Ethnomusicologie 3 | C88: ECUE | J88: 18 | M88: Porteuse | O88: Mutualisé avec le bloc musiciens interprètes et CLE2D
A89: 1.32 | B89: Musiques actuelles 3 | C89: ECUE | J89: 18 | M89: Porteuse | O89: Mutualisé avec le bloc musiciens interprètes et CLE2D
A90: 1.33 | B90: Préparation Culture musicale et artistique (grande épreuve) 1 | C90: ECUE | J90: 20 | M90: Porteuse | O90: Mutualisé avec le bloc musiciens interprètes et CLE2D
A91: 1.34 | B91: Musique et médias | C91: ECUE | J91: 18 | M91: Porteuse | O91: Mutualisé avec le bloc musiciens interprètes et CLE2D
A92: 1.4 | B92: UE 4 Pratiques musicales et musicologiques | C92: UE | D92: 6
A93: 1.41 | B93: Prepa Direction de Chœur | C93: ECUE | J93: 20 | M93: Porteuse | O93: Mutualisé avec le bloc musiciens interprètes et CLE2D
A94: 1.42 | B94: Pratiques chorales | C94: ECUE | J94: 24 | M94: Portée | N94: L1 études musicales | O94: Mutualisé avec les autres années de la licence L1 et L2
A95: 1.43 | B95: Prepa Preparation chant accompagné | C95: ECUE | J95: 12 | M95: Porteuse | O95: Mutualisé avec le bloc musiciens interprètes et CLE2D
A96: 1.44 | B96: épreuve de l'entretien et contexte professionnel | C96: ECUE | J96: 12
A97: 1.45 | B97: Technique vocale (avec L2) | C97: ECUE | M97: Portée | N97: L2/L3 | O97: mutualisée avec le cours de L2

Sheet S5 MCC
A7: Composante | B7: ='Fiche Générale'!B3 -> 0 | C7: Diplôme | E7: ='Fiche Générale'!B4 -> 0 | G7: Code diplôme | H7: ='Fiche Générale'!B5 -> 0
C10: Parcours type | E10: ='Fiche Générale'!B9 -> 0
M12: 1ère session | P12: Seconde Chance
A13: Année | B13: ='S5 Maquette'!B13:B14 -> 3 ème Année de Licence | D13: Code Année | E13: ='S5 Maquette'!E13:F14 -> 0
M14: Contrôle continu | N14: Contrôle Terminal
A15: Semestre | B15: ='S5 Maquette'!B15:B16 -> Semestre 5 | D15: Code Semestre | E15: ='S5 Maquette'!E15:F16 -> 0
A18: Libellé | B18: Nature | C18: Statut | D18: Coefficient | E18: Notes attendues | F18: Résultat attendu: (ACQ/AJ) | G18: Conservation note | H18: Capitalisable | I18: Compensable | J18: Seuil de compensation /20 | K18: Type de contrôle | L18: Si CC&CT coef du CT | M18: Nbre d'évalution minimum | N18: Nature | O18: Durée | P18: Format d'évaluation | Q18: Nature | R18: Durée | S18: Modalités de mise en œuvre | T18: Commentaires
A19: ='S5 Maquette'!B19 -> UE Competences transversales 5 | B19: ='S5 Maquette'!C19 -> UE | C19: ='S5 Maquette'!F19 -> 0
A20: ='S5 Maquette'!B20 -> Competences numeriques 3 | B20: ='S5 Maquette'!C20 -> ECUE | C20: ='S5 Maquette'!F20 -> 0
A21: ='S5 Maquette'!B21 -> Competences informationnelles 3 | B21: ='S5 Maquette'!C21 -> ECUE | C21: ='S5 Maquette'!F21 -> 0
A22: ='S5 Maquette'!B22 -> Langue vivante-5 | B22: ='S5 Maquette'!C22 -> BLOC | C22: ='S5 Maquette'!F22 -> 0
A23: ='S5 Maquette'!B23 -> Min 1 Max 1 | B23: ='S5 Maquette'!C23 -> OPTION
A24: ='S5 Maquette'!B24 -> Anglais 5 | B24: ='S5 Maquette'!C24 -> ECUE
A25: ='S5 Maquette'!B25 -> Espagnol 5 | B25: ='S5 Maquette'!C25 -> ECUE | C25: ='S5 Maquette'!F25 -> 0
A26: ='S5 Maquette'!B26 -> Italien 5 | B26: ='S5 Maquette'!C26 -> ECUE | C26: ='S5 Maquette'!F26 -> 0
A27: Choix du parcours de spécialité L3 | B27: OPTION | C27: ='S5 Maquette'!F27 -> 0
A28: ='S5 Maquette'!B28 -> PARCOURS Études musicales | B28: ='S5 Maquette'!C28 -> BLOC | C28: ='S5 Maquette'!F29 -> 0
A29: ='S5 Maquette'!B29 -> UE 1 Techniques musicales | B29: ='S5 Maquette'!C29 -> UE | C29: ='S5 Maquette'!F30 -> 0 | D29: 1 | E29: OUI | G29: OUI | H29: OUI | I29: OUI | P29: Autres | S29: Recalcul | T29: on garde les 2 meilleures notes (la meilleure note de chaque ECUE)
A30: ='S5 Maquette'!B30 -> Formation musicale 5 | B30: ='S5 Maquette'!C30 -> ECUE | C30: ='S5 Maquette'!F31 -> 0 | D30: 1 | E30: OUI | G30: OUI | H30: OUI | I30: OUI | K30: CCI (CC Intégral) | M30: 2 | P30: Autres | S30: Recalcul
A31: ='S5 Maquette'!B31 -> Arrangement musical et écriture 5 | B31: ='S5 Maquette'!C31 -> ECUE | C31: ='S5 Maquette'!#REF! -> #REF! | D31: 1 | E31: OUI | G31: OUI | H31: OUI | I31: OUI | K31: CCI (CC Intégral) | M31: 2 | P31: Autres | S31: Recalcul
A32: ='S5 Maquette'!B32 -> UE 2 Outils d'anlayses et application musicale | B32: ='S5 Maquette'!C32 -> UE | C32: ='S5 Maquette'!F33 -> 0 | D32: 1 | E32: OUI | G32: OUI | H32: OUI | I32: OUI | P32: Autres | S32: Recalcul | T32: on garde les 3 meilleures notes (la meilleure note de chaque ECUE)
A33: ='S5 Maquette'!B33 -> Analyse musicale 3 | B33: ='S5 Maquette'!C33 -> ECUE | C33: ='S5 Maquette'!F34 -> 0 | D33: 1 | E33: OUI | G33: OUI | H33: OUI | I33: OUI | K33: CCI (CC Intégral) | M33: 2 | P33: Autres | S33: Recalcul
A34: ='S5 Maquette'!B34 -> Esthétique musicale 1 | B34: ='S5 Maquette'!C34 -> ECUE | C34: ='S5 Maquette'!F35 -> 0 | D34: 1 | E34: OUI | G34: OUI | H34: OUI | I34: OUI | K34: CCI (CC Intégral) | M34: 2 | P34: Autres | S34: Recalcul
A35: ='S5 Maquette'!B35 -> Création et production musicale | B35: ='S5 Maquette'!C35 -> ECUE | C35: ='S5 Maquette'!#REF! -> #REF! | D35: 1 | E35: OUI | G35: OUI | H35: OUI | I35: OUI | K35: CCI (CC Intégral) | M35: 2 | P35: Autres | S35: Recalcul
A36: ='S5 Maquette'!B36 -> UE 3 Cultures musicales | B36: ='S5 Maquette'!C36 -> UE | C36: ='S5 Maquette'!F37 -> 0 | D36: 1 | E36: OUI | G36: OUI | H36: OUI | I36: OUI | P36: Autres | S36: Recalcul | T36: on garde les 4 meilleures notes (la meilleure note de chaque ECUE)
A37: ='S5 Maquette'!B37 -> Ethnomusicologie 3 | B37: ='S5 Maquette'!C37 -> ECUE | C37: ='S5 Maquette'!F38 -> 0 | D37: 1 | E37: OUI | G37: OUI | H37: OUI | I37: OUI | K37: CCI (CC Intégral) | M37: 2 | P37: Autres | S37: Recalcul
A38: ='S5 Maquette'!B38 -> Musiques actuelles 3 | B38: ='S5 Maquette'!C38 -> ECUE | C38: ='S5 Maquette'!F39 -> 0 | D38: 1 | E38: OUI | G38: OUI | H38: OUI | I38: OUI | K38: CCI (CC Intégral) | M38: 2 | P38: Autres | S38: Recalcul
A39: ='S5 Maquette'!B39 -> Perspectives de recherches musicales et artistiques | B39: ='S5 Maquette'!C39 -> ECUE | C39: ='S5 Maquette'!F40 -> 0 | D39: 1 | E39: NON | F39: OUI | G39: NON | H39: OUI | I39: OUI | K39: CCI (CC Intégral) | M39: 2 | P39: Autres | S39: Recalcul
A40: ='S5 Maquette'!B40 -> Musique et médias (commentaire) | B40: ='S5 Maquette'!C40 -> ECUE | C40: ='S5 Maquette'!#REF! -> #REF! | D40: 1 | E40: OUI | G40: OUI | H40: OUI | I40: OUI | K40: CCI (CC Intégral) | M40: 2 | P40: Autres | S40: Recalcul
A41: ='S5 Maquette'!B41 -> UE 4 Pratiques musicales et musicologiques | B41: ='S5 Maquette'!C41 -> UE | C41: ='S5 Maquette'!F42 -> 0 | D41: 1 | E41: OUI | G41: OUI | H41: OUI | I41: NON | P41: Autres | S41: Recalcul | T41: on garde les 4 meilleures notes (la meilleure note de chaque ECUE) si obtention ECUE Enjeux
A42: ='S5 Maquette'!B42 -> Environnement professionnel UCA | B42: ='S5 Maquette'!C42 -> ECUE | C42: ='S5 Maquette'!F43 -> 0 | D42: 1 | E42: OUI | G42: OUI | H42: OUI | I42: OUI | K42: CCI (CC Intégral) | M42: 2 | P42: Autres | S42: Recalcul
A43: ='S5 Maquette'!B43 -> Enjeux de la musicologique, PPR ou stage | B43: ='S5 Maquette'!C43 -> ECUE | C43: ='S5 Maquette'!F44 -> 0 | D43: 1 | E43: OUI | G43: OUI | H43: OUI | I43: NON | K43: CCI (CC Intégral) | M43: 2 | P43: Autres | S43: Recalcul
A44: ='S5 Maquette'!B44 -> Pratiques chorales | B44: ='S5 Maquette'!C44 -> ECUE | C44: ='S5 Maquette'!F45 -> 0 | D44: 1 | E44: OUI | G44: OUI | H44: OUI | I44: OUI | K44: CCI (CC Intégral) | M44: 2 | P44: Autres | S44: Recalcul
A45: ='S5 Maquette'!B45 -> MAO et outils numériques | B45: ='S5 Maquette'!C45 -> ECUE | C45: ='S5 Maquette'!#REF! -> #REF! | D45: 1 | E45: OUI | G45: OUI | H45: OUI | I45: OUI | K45: CCI (CC Intégral) | M45: 2 | P45: Autres | S45: Recalcul
A46: ='S5 Maquette'!B46 -> PARCOURS Interprétation, composition ou pédagogie musicales | B46: ='S5 Maquette'!C46 -> BLOC | C46: ='S5 Maquette'!F48 -> 0
A47: ='S5 Maquette'!B47 -> UE 1 Pratiques musicales professionnalisantes | B47: ='S5 Maquette'!C47 -> UE | C47: ='S5 Maquette'!F49 -> 0 | D47: 1 | E47: OUI | G47: OUI | H47: OUI | I47: OUI | P47: Autres | S47: Recalcul | T47: calcul 2 meilleures notes (la meilleure note de chaque ECUE)
A48: ='S5 Maquette'!B48 -> Dsicpline principale (instrument/voix/direction/composition électroacoustique) | B48: ='S5 Maquette'!C48 -> ECUE | C48: ='S5 Maquette'!#REF! -> #REF! | D48: 1 | E48: OUI | G48: OUI | H48: OUI | I48: OUI | K48: CCI (CC Intégral) | M48: 2 | P48: Autres | S48: Recalcul
A49: ='S5 Maquette'!B49 -> Pratiques collectives non dirigées (musique de chambre, projet MAA, interprétation sur acousmonium) | B49: ='S5 Maquette'!C49 -> ECUE | C49: ='S5 Maquette'!F50 -> 0 | D49: 1 | E49: OUI | G49: OUI | H49: OUI | I49: OUI | K49: CCI (CC Intégral) | M49: 2 | P49: Autres | S49: Recalcul
A50: ='S5 Maquette'!B50 -> UE 2 Cultures musicales | B50: ='S5 Maquette'!C50 -> UE | C50: ='S5 Maquette'!F55 -> 0 | D50: 1 | E50: OUI | G50: OUI | H50: OUI | I50: OUI | P50: Autres | S50: Recalcul | T50: calcul 2 meilleures notes (la meilleure note de chaque ECUE)
A51: ='S5 Maquette'!B51 -> Analyse musicale 3 | B51: ='S5 Maquette'!C51 -> ECUE | C51: ='S5 Maquette'!F56 -> 0 | D51: 1 | E51: OUI | G51: OUI | H51: OUI | I51: OUI | K51: CCI (CC Intégral) | M51: 2 | P51: Autres | S51: Recalcul
A52: ='S5 Maquette'!B52 -> ECUE au choix | B52: ='S5 Maquette'!C52 -> ECUE | C52: ='S5 Maquette'!F57 -> 0 | D52: 1 | E52: OUI | G52: OUI | H52: OUI | I52: OUI | K52: CCI (CC Intégral) | M52: 2 | P52: Autres | S52: Recalcul
A53: ='S5 Maquette'!B53 -> 1 ECUE au choix | B53: ='S5 Maquette'!C53 -> OPTION | C53: ='S5 Maquette'!F58 -> 0
A54: ='S5 Maquette'!B54 -> Informatique musicale / conception et préparation au projet | B54: ='S5 Maquette'!C54 -> ECUE | C54: ='S5 Maquette'!F59 -> 0 | D54: 1 | E54: OUI | G54: OUI | H54: OUI | I54: OUI | K54: CCI (CC Intégral) | M54: 2 | P54: Autres | S54: Recalcul
A55: ='S5 Maquette'!B55 -> Musiques actuelles 3 | B55: ='S5 Maquette'!C55 -> ECUE | C55: ='S5 Maquette'!F60 -> 0 | D55: 1 | E55: OUI | G55: OUI | H55: OUI | I55: OUI | K55: CCI (CC Intégral) | M55: 2 | P55: Autres | S55: Recalcul
A56: ='S5 Maquette'!B56 -> Esthétique musicale 1 | B56: ='S5 Maquette'!C56 -> ECUE | C56: ='S5 Maquette'!F61 -> 0 | D56: 1 | E56: OUI | G56: OUI | H56: OUI | I56: OUI | K56: CCI (CC Intégral) | M56: 2 | P56: Autres | S56: Recalcul
A57: ='S5 Maquette'!B57 -> UE 3 Spécialisation professionnalisante appliquée | B57: ='S5 Maquette'!C57 -> UE | C57: ='S5 Maquette'!F63 -> 0 | D57: 1 | E57: OUI | G57: OUI | H57: OUI | I57: OUI | P57: Autres | S57: Recalcul | T57: calcul 3 meilleures notes (la meilleure note de chaque ECUE)
A58: ='S5 Maquette'!B58 -> Ecriture, arrangement, orchestration | B58: ='S5 Maquette'!C58 -> ECUE | C58: ='S5 Maquette'!F64 -> 0 | D58: 1 | E58: OUI | G58: OUI | H58: OUI | I58: OUI | K58: CCI (CC Intégral) | M58: 2 | P58: Autres | S58: Recalcul
A59: ='S5 Maquette'!B59 -> OPTION 1 | B59: ='S5 Maquette'!C59 -> ECUE | C59: ='S5 Maquette'!F66 -> 0 | D59: 1 | E59: OUI | G59: OUI | H59: OUI | I59: OUI | K59: CCI (CC Intégral) | M59: 2 | P59: Autres | S59: Recalcul
A60: ='S5 Maquette'!B60 -> 1 ECUE au choix | B60: ='S5 Maquette'!C60 -> OPTION | C60: ='S5 Maquette'!F67 -> 0
A61: ='S5 Maquette'!B61 -> Préparation au concours | B61: ='S5 Maquette'!C61 -> ECUE | C61: ='S5 Maquette'!#REF! -> #REF! | D61: 1 | E61: OUI | G61: OUI | H61: OUI | I61: OUI | K61: CCI (CC Intégral) | M61: 2 | P61: Autres | S61: Recalcul
A62: ='S5 Maquette'!B62 -> Stage de mise en situation professionnelle | B62: ='S5 Maquette'!C62 -> ECUE | C62: ='S5 Maquette'!F68 -> 0 | D62: 1 | E62: OUI | G62: OUI | H62: OUI | I62: OUI | K62: CCI (CC Intégral) | M62: 2 | P62: Autres | S62: Recalcul
A63: ='S5 Maquette'!B63 -> Réalisation en informatique musicale / Projet personnel | B63: ='S5 Maquette'!C63 -> ECUE | C63: ='S5 Maquette'!F69 -> 0 | D63: 1 | E63: OUI | G63: OUI | H63: OUI | I63: OUI | K63: CCI (CC Intégral) | M63: 2 | P63: Autres | S63: Recalcul
A64: ='S5 Maquette'!B64 -> OPTION 2 | B64: ='S5 Maquette'!C64 -> ECUE | C64: ='S5 Maquette'!F71 -> 0 | D64: 1 | E64: OUI | G64: OUI | H64: OUI | I64: OUI | K64: CCI (CC Intégral) | M64: 2 | P64: Autres | S64: Recalcul
A65: ='S5 Maquette'!B65 -> 1 ECUE au choix | B65: ='S5 Maquette'!C65 -> OPTION | C65: ='S5 Maquette'!F72 -> 0
A66: ='S5 Maquette'!B66 -> Musique et médias | B66: ='S5 Maquette'!C66 -> ECUE | C66: ='S5 Maquette'!F73 -> 0 | D66: 1 | E66: OUI | G66: OUI | H66: OUI | I66: OUI | K66: CCI (CC Intégral) | M66: 2 | P66: Autres | S66: Recalcul
A67: ='S5 Maquette'!B67 -> Ethnomusicologie 3 | B67: ='S5 Maquette'!C67 -> ECUE | C67: ='S5 Maquette'!F74 -> 0 | D67: 1 | E67: OUI | G67: OUI | H67: OUI | I67: OUI | K67: CCI (CC Intégral) | M67: 2 | P67: Autres | S67: Recalcul
A68: ='S5 Maquette'!B68 -> UE 4 Spécialisation professionnalisante | B68: ='S5 Maquette'!C68 -> UE | C68: ='S5 Maquette'!#REF! -> #REF! | D68: 1 | E68: OUI | G68: OUI | H68: OUI | I68: NON | P68: Autres | S68: Recalcul | T68: calcul 4 meilleures notes (la meilleure note de chaque ECUE) si obtention ECUE Projet personnel
A69: ='S5 Maquette'!B69 -> Projet personnel | B69: ='S5 Maquette'!C69 -> ECUE | C69: ='S5 Maquette'!#REF! -> #REF! | D69: 1 | E69: OUI | G69: OUI | H69: OUI | I69: NON | K69: CCI (CC Intégral) | M69: 2 | P69: Autres | S69: Recalcul
A70: ='S5 Maquette'!B70 -> Environnement professionnel CRR | B70: ='S5 Maquette'!C70 -> ECUE | C70: ='S5 Maquette'!#REF! -> #REF! | D70: 1 | E70: OUI | G70: OUI | H70: OUI | I70: OUI | K70: CCI (CC Intégral) | M70: 2 | P70: Autres | S70: Recalcul
A71: ='S5 Maquette'!B71 -> Conférences musicales et pédagogiques | B71: ='S5 Maquette'!C71 -> ECUE | C71: ='S5 Maquette'!#REF! -> #REF! | D71: 1 | E71: OUI | G71: OUI | H71: OUI | I71: OUI | K71: CCI (CC Intégral) | M71: 2 | P71: Autres | S71: Recalcul
A72: ='S5 Maquette'!B72 -> 1 ECUE au choix | B72: ='S5 Maquette'!C72 -> ECUE | C72: ='S5 Maquette'!#REF! -> #REF! | D72: 1 | E72: OUI | G72: OUI | H72: OUI | I72: OUI | K72: CCI (CC Intégral) | M72: 2 | P72: Autres | S72: Recalcul
A73: ='S5 Maquette'!B73 -> 1 ECUE à choisir parmi : | B73: ='S5 Maquette'!C73 -> OPTION | C73: ='S5 Maquette'!#REF! -> #REF!
A74: ='S5 Maquette'!B74 -> Environnement professionnel UCA | B74: ='S5 Maquette'!C74 -> ECUE | C74: ='S5 Maquette'!#REF! -> #REF! | D74: 1 | E74: OUI | G74: OUI | H74: OUI | I74: OUI | K74: CCI (CC Intégral) | M74: 2 | P74: Autres | S74: Recalcul
A75: ='S5 Maquette'!B75 -> Enjeux de la musicologie, PPR ou stage | B75: ='S5 Maquette'!C75 -> ECUE | C75: ='S5 Maquette'!#REF! -> #REF! | D75: 1 | E75: OUI | G75: OUI | H75: OUI | I75: OUI | K75: CCI (CC Intégral) | M75: 2 | P75: Autres | S75: Recalcul
A76: ='S5 Maquette'!B76 -> PARCOURS Préparation CAPES Educ Mus Chant Choral | B76: ='S5 Maquette'!C76 -> BLOC | C76: ='S5 Maquette'!F94 -> 0
A77: ='S5 Maquette'!B77 -> UE 1 Techniques musicales renforcées CAPES | B77: ='S5 Maquette'!C77 -> UE | C77: ='S5 Maquette'!F95 -> 0
A78: ='S5 Maquette'!B78 -> Formation musicale 5 | B78: ='S5 Maquette'!C78 -> ECUE | C78: ='S5 Maquette'!#REF! -> #REF!
A79: ='S5 Maquette'!B79 -> Arrangement musical et écriture 5 | B79: ='S5 Maquette'!C79 -> ECUE | C79: ='S5 Maquette'!#REF! -> #REF!
A80: ='S5 Maquette'!B80 -> Prepa Ecoute musicale 1 | B80: ='S5 Maquette'!C80 -> ECUE | C80: ='S5 Maquette'!#REF! -> #REF!
A81: ='S5 Maquette'!B81 -> Prepa Arrangement et Harmonisation 1 | B81: ='S5 Maquette'!C81 -> ECUE | C81: ='S5 Maquette'!#REF! -> #REF!
A82: ='S5 Maquette'!B82 -> UE 2 Outils d'anlayses et application musicale | B82: ='S5 Maquette'!C82 -> UE | C82: ='S5 Maquette'!#REF! -> #REF!
A83: ='S5 Maquette'!B83 -> Analyse musicale 3 | B83: ='S5 Maquette'!C83 -> ECUE | C83: ='S5 Maquette'!#REF! -> #REF!
A84: ='S5 Maquette'!B84 -> Esthétique musicale 1 | B84: ='S5 Maquette'!C84 -> ECUE | C84: ='S5 Maquette'!#REF! -> #REF!
A85: ='S5 Maquette'!B85 -> Création et production musicale | B85: ='S5 Maquette'!C85 -> ECUE | C85: ='S5 Maquette'!F96 -> 0
A86: ='S5 Maquette'!B86 -> Prepa Connaissance du répertoire musical 1 (épreuve analyse auditive et connaissance du rep)) 1 | B86: ='S5 Maquette'!C86 -> ECUE | C86: ='S5 Maquette'!F98 -> 0
A87: ='S5 Maquette'!B87 -> UE 3 Cultures musicales | B87: ='S5 Maquette'!C87 -> UE | C87: ='S5 Maquette'!F99 -> 0
A88: ='S5 Maquette'!B88 -> Ethnomusicologie 3 | B88: ='S5 Maquette'!C88 -> ECUE | C88: ='S5 Maquette'!F100 -> 0
A89: ='S5 Maquette'!B89 -> Musiques actuelles 3 | B89: ='S5 Maquette'!C89 -> ECUE | C89: ='S5 Maquette'!F101 -> 0
A90: ='S5 Maquette'!B90 -> Préparation Culture musicale et artistique (grande épreuve) 1 | B90: ='S5 Maquette'!C90 -> ECUE | C90: ='S5 Maquette'!F102 -> 0
A91: ='S5 Maquette'!B91 -> Musique et médias | B91: ='S5 Maquette'!C91 -> ECUE | C91: ='S5 Maquette'!F103 -> 0
A92: ='S5 Maquette'!B92 -> UE 4 Pratiques musicales et musicologiques | B92: ='S5 Maquette'!C92 -> UE | C92: ='S5 Maquette'!F104 -> 0
A93: ='S5 Maquette'!B93 -> Prepa Direction de Chœur | B93: ='S5 Maquette'!C93 -> ECUE | C93: ='S5 Maquette'!F105 -> 0
A94: ='S5 Maquette'!B94 -> Pratiques chorales | B94: ='S5 Maquette'!C94 -> ECUE | C94: ='S5 Maquette'!F106 -> 0
A95: ='S5 Maquette'!B95 -> Prepa Preparation chant accompagné | B95: ='S5 Maquette'!C95 -> ECUE | C95: ='S5 Maquette'!F107 -> 0
A96: ='S5 Maquette'!B96 -> épreuve de l'entretien et contexte professionnel | B96: ='S5 Maquette'!C96 -> ECUE | C96: ='S5 Maquette'!F108 -> 0
A97: ='S5 Maquette'!B97 -> Technique vocale (avec L2) | B97: ='S5 Maquette'!C97 -> ECUE | C97: ='S5 Maquette'!F109 -> 0
... A206: ='S5 Maquette'!B206 -> 0 | B206: ='S5 Maquette'!C206 -> 0 | C206: ='S5 Maquette'!F218 -> 0
A207: ='S5 Maquette'!B219 -> 0 | B207: ='S5 Maquette'!C219 -> 0 | C207: ='S5 Maquette'!F219 -> 0
A208: ='S5 Maquette'!B220 -> 0 | B208: ='S5 Maquette'!C220 -> 0 | C208: ='S5 Maquette'!F220 -> 0
A209: ='S5 Maquette'!B221 -> 0 | B209: ='S5 Maquette'!C221 -> 0 | C209: ='S5 Maquette'!F221 -> 0
A210: ='S5 Maquette'!B222 -> 0 | B210: ='S5 Maquette'!C222 -> 0 | C210: ='S5 Maquette'!F222 -> 0
A211: ='S5 Maquette'!B223 -> 0 | B211: ='S5 Maquette'!C223 -> 0 | C211: ='S5 Maquette'!F223 -> 0
A212: ='S5 Maquette'!B224 -> 0 | B212: ='S5 Maquette'!C224 -> 0 | C212: ='S5 Maquette'!F224 -> 0
A213: ='S5 Maquette'!B225 -> 0 | B213: ='S5 Maquette'!C225 -> 0 | C213: ='S5 Maquette'!F225 -> 0
A214: ='S5 Maquette'!B226 -> 0 | B214: ='S5 Maquette'!C226 -> 0 | C214: ='S5 Maquette'!F226 -> 0
A215: ='S5 Maquette'!B227 -> 0 | B215: ='S5 Maquette'!C227 -> 0 | C215: ='S5 Maquette'!F227 -> 0
A216: ='S5 Maquette'!B228 -> 0 | B216: ='S5 Maquette'!C228 -> 0 | C216: ='S5 Maquette'!F228 -> 0
A217: ='S5 Maquette'!B229 -> 0 | B217: ='S5 Maquette'!C229 -> 0 | C217: ='S5 Maquette'!F229 -> 0
A218: ='S5 Maquette'!B230 -> 0 | B218: ='S5 Maquette'!C230 -> 0 | C218: ='S5 Maquette'!F230 -> 0
... A252: ='S5 Maquette'!B264 -> 0 | B252: ='S5 Maquette'!C264 -> 0 | C252: ='S5 Maquette'!F264 -> 0

Sheet S5 MCC NA
A7: Composante | B7: ='[1]Fiche Générale'!B3 -> 0 | C7: Diplôme | E7: ='[1]Fiche Générale'!B4 -> 0 | G7: Code diplôme | H7: ='[1]Fiche Générale'!B5 -> 0
C10: Parcours type | E10: ='[1]Fiche Générale'!B9 -> 0
M12: 1ère session | P12: Seconde Chance
A13: Année | B13: ='[1]S5 Maquette'!B13:B14 -> 3 ème Année de Licence | D13: Code Année | E13: ='[1]S5 Maquette'!E13:F14 -> 0
M14: Contrôle continu | N14: Contrôle Terminal
A15: Semestre | B15: ='[1]S5 Maquette'!B15:B16 -> Semestre 5 | D15: Code Semestre | E15: ='[1]S5 Maquette'!E15:F16 -> 0
A18: Libellé | B18: Nature | C18: Statut | D18: Coefficient | E18: Notes attendues | F18: Résultat attendu: (ACQ/AJ) | G18: Conservation note | H18: Capitalisable | I18: Compensable | J18: Seuil de compensation /20 | K18: Type de contrôle | L18: Si CC&CT coef du CT | M18: Nbre d'évalution minimum | N18: Nature | O18: Durée | P18: Format d'évaluation | Q18: Nature | R18: Durée | S18: Modalités de mise en œuvre | T18: Commentaires
A19: ='[1]S5 Maquette'!B19 -> UE Competences transversales 5 | B19: ='[1]S5 Maquette'!C19 -> UE | C19: ='[1]S5 Maquette'!F19 -> 0
A20: ='[1]S5 Maquette'!B20 -> Competences numeriques 3 | B20: ='[1]S5 Maquette'!C20 -> ECUE | C20: ='[1]S5 Maquette'!F20 -> 0
A21: ='[1]S5 Maquette'!B21 -> Competences informationnelles 3 | B21: ='[1]S5 Maquette'!C21 -> ECUE | C21: ='[1]S5 Maquette'!F21 -> 0
A22: ='[1]S5 Maquette'!B22 -> Langue vivante-5 | B22: ='[1]S5 Maquette'!C22 -> BLOC | C22: ='[1]S5 Maquette'!F22 -> 0
A23: ='[1]S5 Maquette'!B23 -> Min 1 Max 1 | B23: ='[1]S5 Maquette'!C23 -> OPTION
A24: ='[1]S5 Maquette'!B24 -> Anglais 5 | B24: ='[1]S5 Maquette'!C24 -> ECUE
A25: ='[1]S5 Maquette'!B25 -> Espagnol 5 | B25: ='[1]S5 Maquette'!C25 -> ECUE | C25: ='[1]S5 Maquette'!F25 -> 0
A26: ='[1]S5 Maquette'!B26 -> Italien 5 | B26: ='[1]S5 Maquette'!C26 -> ECUE | C26: ='[1]S5 Maquette'!F26 -> 0
A27: Choix du parcours de spécialité L3 | B27: OPTION | C27: ='[1]S5 Maquette'!F27 -> 0
A28: ='S5 Maquette'!B28 -> PARCOURS Études musicales | B28: ='S5 Maquette'!C28 -> BLOC | C28: ='[1]S5 Maquette'!F29 -> 0
A29: ='S5 Maquette'!B29 -> UE 1 Techniques musicales | B29: ='S5 Maquette'!C29 -> UE | C29: ='[1]S5 Maquette'!F30 -> 0 | D29: 1 | E29: OUI | G29: OUI | H29: OUI | I29: OUI | P29: Autres | S29: Recalcul | T29: on garde la meilleure note de chaque ECUE
A30: ='S5 Maquette'!B30 -> Formation musicale 5 | B30: ='S5 Maquette'!C30 -> ECUE | C30: ='[1]S5 Maquette'!F31 -> 0 | D30: 1 | E30: OUI | G30: OUI | H30: OUI | I30: OUI | K30: CCI (CC Intégral) | M30: 2 | P30: Autres | S30: écrit et oral
A31: ='S5 Maquette'!B31 -> Arrangement musical et écriture 5 | B31: ='S5 Maquette'!C31 -> ECUE | C31: ='[1]S5 Maquette'!F32 -> 0 | D31: 1 | E31: OUI | G31: OUI | H31: OUI | I31: OUI | K31: CCI (CC Intégral) | M31: 2 | P31: Autres | S31: écrit etoral
A32: ='S5 Maquette'!B32 -> UE 2 Outils d'anlayses et application musicale | B32: ='S5 Maquette'!C32 -> UE | C32: ='[1]S5 Maquette'!F34 -> 0 | D32: 1 | E32: OUI | G32: OUI | H32: OUI | I32: OUI | P32: Autres | S32: Recalcul | T32: on garde la meilleure note de chaque ECUE
A33: ='S5 Maquette'!B33 -> Analyse musicale 3 | B33: ='S5 Maquette'!C33 -> ECUE | C33: ='[1]S5 Maquette'!F35 -> 0 | D33: 1 | E33: OUI | G33: OUI | H33: OUI | I33: OUI | K33: CCI (CC Intégral) | M33: 2 | P33: Autres | S33: dossier écrit et oral
A34: ='S5 Maquette'!B34 -> Esthétique musicale 1 | B34: ='S5 Maquette'!C34 -> ECUE | C34: ='[1]S5 Maquette'!F36 -> 0 | D34: 1 | E34: OUI | G34: OUI | H34: OUI | I34: OUI | K34: CCI (CC Intégral) | M34: 2 | P34: Autres | S34: dossier écrit et oral
A35: ='S5 Maquette'!B35 -> Création et production musicale | B35: ='S5 Maquette'!C35 -> ECUE | C35: ='[1]S5 Maquette'!F37 -> 0 | D35: 1 | E35: OUI | G35: OUI | H35: OUI | I35: OUI | K35: CCI (CC Intégral) | M35: 2 | P35: Autres | S35: dossier écrit et oral
A36: ='S5 Maquette'!B36 -> UE 3 Cultures musicales | B36: ='S5 Maquette'!C36 -> UE | C36: ='[1]S5 Maquette'!F39 -> 0 | D36: 1 | E36: OUI | G36: OUI | H36: OUI | I36: OUI | P36: Autres | S36: Recalcul | T36: on garde la meilleure note de chaque ECUE
A37: ='S5 Maquette'!B37 -> Ethnomusicologie 3 | B37: ='S5 Maquette'!C37 -> ECUE | C37: ='[1]S5 Maquette'!F40 -> 0 | D37: 1 | E37: OUI | G37: OUI | H37: OUI | I37: OUI | K37: CCI (CC Intégral) | M37: 2 | P37: Autres | S37: dossier écrit et oral
A38: ='S5 Maquette'!B38 -> Musiques actuelles 3 | B38: ='S5 Maquette'!C38 -> ECUE | C38: ='[1]S5 Maquette'!F41 -> 0 | D38: 1 | E38: OUI | G38: OUI | H38: OUI | I38: OUI | K38: CCI (CC Intégral) | M38: 2 | P38: Autres | S38: dossier écrit et oral
A39: ='S5 Maquette'!B39 -> Perspectives de recherches musicales et artistiques | B39: ='S5 Maquette'!C39 -> ECUE | C39: ='[1]S5 Maquette'!F42 -> 0 | D39: 1 | E39: NON | F39: OUI | G39: NON | H39: OUI | I39: OUI
A40: ='S5 Maquette'!B40 -> Musique et médias (commentaire) | B40: ='S5 Maquette'!C40 -> ECUE | C40: ='[1]S5 Maquette'!F43 -> 0 | D40: 1 | E40: OUI | G40: OUI | H40: OUI | I40: OUI | K40: CCI (CC Intégral) | M40: 2 | P40: Autres | S40: dossier écrit et oral
A41: ='S5 Maquette'!B41 -> UE 4 Pratiques musicales et musicologiques | B41: ='S5 Maquette'!C41 -> UE | C41: ='[1]S5 Maquette'!F45 -> 0 | D41: 1 | E41: OUI | G41: OUI | H41: OUI | I41: NON | P41: Autres | S41: Recalcul | T41: on garde la meilleure note de chaque ECUE si obtention ECUE Enjeux
A42: ='S5 Maquette'!B42 -> Environnement professionnel UCA | B42: ='S5 Maquette'!C42 -> ECUE | C42: ='[1]S5 Maquette'!F46 -> 0 | D42: 1 | E42: OUI | G42: OUI | H42: OUI | I42: OUI | K42: CCI (CC Intégral) | M42: 2 | P42: Autres | S42: dossier écrit et oral
A43: ='S5 Maquette'!B43 -> Enjeux de la musicologique, PPR ou stage | B43: ='S5 Maquette'!C43 -> ECUE | C43: ='[1]S5 Maquette'!F47 -> 0 | D43: 1 | E43: OUI | G43: OUI | H43: OUI | I43: NON | K43: CCI (CC Intégral) | M43: 2 | P43: Autres | S43: dossier écrit et oral
A44: ='S5 Maquette'!B44 -> Pratiques chorales | B44: ='S5 Maquette'!C44 -> ECUE | C44: ='[1]S5 Maquette'!F48 -> 0 | D44: 1 | E44: OUI | G44: OUI | H44: OUI | I44: OUI | K44: CCI (CC Intégral) | M44: 2 | P44: Autres | S44: dossier écrit et oral
A45: ='S5 Maquette'!B45 -> MAO et outils numériques | B45: ='S5 Maquette'!C45 -> ECUE | C45: ='[1]S5 Maquette'!F49 -> 0 | D45: 1 | E45: OUI | G45: OUI | H45: OUI | I45: OUI | K45: CCI (CC Intégral) | M45: 2 | P45: Autres | S45: dossier écrit et oral
A46: ='S5 Maquette'!B46 -> PARCOURS Interprétation, composition ou pédagogie musicales | B46: ='S5 Maquette'!C46 -> BLOC | C46: ='[1]S5 Maquette'!F59 -> 0
A47: ='S5 Maquette'!B47 -> UE 1 Pratiques musicales professionnalisantes | B47: ='S5 Maquette'!C47 -> UE | C47: ='[1]S5 Maquette'!F60 -> 0 | D47: 1 | E47: OUI | G47: OUI | H47: OUI | I47: OUI | P47: Autres | S47: Recalcul | T47: on garde la meilleure note de chaque ECUE
A48: ='S5 Maquette'!B48 -> Dsicpline principale (instrument/voix/direction/composition électroacoustique) | B48: ='S5 Maquette'!C48 -> ECUE | C48: ='[1]S5 Maquette'!F61 -> 0 | D48: 1 | E48: OUI | G48: OUI | H48: OUI | I48: OUI | K48: CCI (CC Intégral) | M48: 2 | P48: Autres | S48: oral
A49: ='S5 Maquette'!B49 -> Pratiques collectives non dirigées (musique de chambre, projet MAA, interprétation sur acousmonium) | B49: ='S5 Maquette'!C49 -> ECUE | C49: ='[1]S5 Maquette'!F62 -> 0 | D49: 1 | E49: OUI | G49: OUI | H49: OUI | I49: OUI | K49: CCI (CC Intégral) | M49: 2 | P49: Autres | S49: oral
A50: ='S5 Maquette'!B50 -> UE 2 Cultures musicales | B50: ='S5 Maquette'!C50 -> UE | C50: ='[1]S5 Maquette'!F67 -> 0 | D50: 1 | E50: OUI | G50: OUI | H50: OUI | I50: OUI | P50: Autres | S50: Recalcul | T50: on garde la meilleure note de chaque ECUE
A51: ='S5 Maquette'!B51 -> Analyse musicale 3 | B51: ='S5 Maquette'!C51 -> ECUE | C51: ='[1]S5 Maquette'!F68 -> 0 | D51: 1 | E51: OUI | G51: OUI | H51: OUI | I51: OUI | K51: CCI (CC Intégral) | M51: 2 | P51: Autres | S51: dossier écrit et oral
A52: ='S5 Maquette'!B52 -> ECUE au choix | B52: ='S5 Maquette'!C52 -> ECUE | C52: ='[1]S5 Maquette'!F70 -> 0 | D52: 1 | E52: OUI | G52: OUI | H52: OUI | I52: OUI | K52: CCI (CC Intégral) | M52: 2 | P52: Autres | S52: dossier écrit et oral
A53: ='S5 Maquette'!B53 -> 1 ECUE au choix | B53: ='S5 Maquette'!C53 -> OPTION | C53: ='[1]S5 Maquette'!F71 -> 0
A54: ='S5 Maquette'!B54 -> Informatique musicale / conception et préparation au projet | B54: ='S5 Maquette'!C54 -> ECUE | C54: ='[1]S5 Maquette'!F72 -> 0 | D54: 1 | E54: OUI | G54: OUI | H54: OUI | I54: OUI | K54: CCI (CC Intégral) | M54: 2 | P54: Autres | S54: dossier écrit et oral
A55: ='S5 Maquette'!B55 -> Musiques actuelles 3 | B55: ='S5 Maquette'!C55 -> ECUE | C55: ='[1]S5 Maquette'!F73 -> 0 | D55: 1 | E55: OUI | G55: OUI | H55: OUI | I55: OUI | K55: CCI (CC Intégral) | M55: 2 | P55: Autres | S55: dossier écrit et oral
A56: ='S5 Maquette'!B56 -> Esthétique musicale 1 | B56: ='S5 Maquette'!C56 -> ECUE | C56: ='[1]S5 Maquette'!F74 -> 0 | D56: 1 | E56: OUI | G56: OUI | H56: OUI | I56: OUI | K56: CCI (CC Intégral) | M56: 2 | P56: Autres | S56: dossier écrit et oral
A57: ='S5 Maquette'!B57 -> UE 3 Spécialisation professionnalisante appliquée | B57: ='S5 Maquette'!C57 -> UE | C57: ='[1]S5 Maquette'!F76 -> 0 | D57: 1 | E57: OUI | G57: OUI | H57: OUI | I57: OUI | P57: Autres | S57: Recalcul | T57: on garde la meilleure note de chaque ECUE
A58: ='S5 Maquette'!B58 -> Ecriture, arrangement, orchestration | B58: ='S5 Maquette'!C58 -> ECUE | C58: ='[1]S5 Maquette'!F77 -> 0 | D58: 1 | E58: OUI | G58: OUI | H58: OUI | I58: OUI | K58: CCI (CC Intégral) | M58: 2 | P58: Autres | S58: dossier écrit et oral
A59: ='S5 Maquette'!B59 -> OPTION 1 | B59: ='S5 Maquette'!C59 -> ECUE | C59: ='[1]S5 Maquette'!F79 -> 0 | D59: 1 | E59: OUI | G59: OUI | H59: OUI | I59: OUI | K59: CCI (CC Intégral) | M59: 2 | P59: Autres | S59: dossier écrit et oral
A60: ='S5 Maquette'!B60 -> 1 ECUE au choix | B60: ='S5 Maquette'!C60 -> OPTION | C60: ='[1]S5 Maquette'!F80 -> 0
A61: ='S5 Maquette'!B61 -> Préparation au concours | B61: ='S5 Maquette'!C61 -> ECUE | C61: ='[1]S5 Maquette'!F81 -> 0 | D61: 1 | E61: OUI | G61: OUI | H61: OUI | I61: OUI | K61: CCI (CC Intégral) | M61: 2 | P61: Autres | S61: dossier écrit et oral
A62: ='S5 Maquette'!B62 -> Stage de mise en situation professionnelle | B62: ='S5 Maquette'!C62 -> ECUE | C62: ='[1]S5 Maquette'!F83 -> 0 | D62: 1 | E62: OUI | G62: OUI | H62: OUI | I62: OUI | K62: CCI (CC Intégral) | M62: 2 | P62: Autres | S62: dossier écrit et oral
A63: ='S5 Maquette'!B63 -> Réalisation en informatique musicale / Projet personnel | B63: ='S5 Maquette'!C63 -> ECUE | C63: ='[1]S5 Maquette'!F84 -> 0 | D63: 1 | E63: OUI | G63: OUI | H63: OUI | I63: OUI | K63: CCI (CC Intégral) | M63: 2 | P63: Autres | S63: dossier écrit et oral
A64: ='S5 Maquette'!B64 -> OPTION 2 | B64: ='S5 Maquette'!C64 -> ECUE | C64: ='[1]S5 Maquette'!F86 -> 0 | D64: 1 | E64: OUI | G64: OUI | H64: OUI | I64: OUI | K64: CCI (CC Intégral) | M64: 2 | P64: Autres | S64: dossier écrit et oral
A65: ='S5 Maquette'!B65 -> 1 ECUE au choix | B65: ='S5 Maquette'!C65 -> OPTION | C65: ='[1]S5 Maquette'!F87 -> 0
A66: ='S5 Maquette'!B66 -> Musique et médias | B66: ='S5 Maquette'!C66 -> ECUE | C66: ='[1]S5 Maquette'!F88 -> 0 | D66: 1 | E66: OUI | G66: OUI | H66: OUI | I66: OUI | K66: CCI (CC Intégral) | M66: 2 | P66: Autres | S66: dossier écrit et oral
A67: ='S5 Maquette'!B67 -> Ethnomusicologie 3 | B67: ='S5 Maquette'!C67 -> ECUE | C67: ='[1]S5 Maquette'!F89 -> 0 | D67: 1 | E67: OUI | G67: OUI | H67: OUI | I67: OUI | K67: CCI (CC Intégral) | M67: 2 | P67: Autres | S67: dossier écrit et oral
A68: ='S5 Maquette'!B68 -> UE 4 Spécialisation professionnalisante | B68: ='S5 Maquette'!C68 -> UE | C68: ='[1]S5 Maquette'!F92 -> 0 | D68: 1 | E68: OUI | G68: OUI | H68: OUI | I68: NON | P68: Autres | S68: Recalcul | T68: on garde la meilleure note de chaque ECUE si obtention ECUE Projet personnel
A69: ='S5 Maquette'!B69 -> Projet personnel | B69: ='S5 Maquette'!C69 -> ECUE | C69: ='[1]S5 Maquette'!F93 -> 0 | D69: 1 | E69: OUI | G69: OUI | H69: OUI | I69: NON | K69: CCI (CC Intégral) | M69: 2 | P69: Autres | S69: dossier écrit et oral
A70: ='S5 Maquette'!B70 -> Environnement professionnel CRR | B70: ='S5 Maquette'!C70 -> ECUE | C70: ='[1]S5 Maquette'!F94 -> 0 | D70: 1 | E70: OUI | G70: OUI | H70: OUI | I70: OUI | K70: CCI (CC Intégral) | M70: 2 | P70: Autres | S70: dossier écrit et oral
A71: ='S5 Maquette'!B71 -> Conférences musicales et pédagogiques | B71: ='S5 Maquette'!C71 -> ECUE | C71: ='[1]S5 Maquette'!F95 -> 0 | D71: 1 | E71: OUI | G71: OUI | H71: OUI | I71: OUI | K71: CCI (CC Intégral) | M71: 2 | P71: Autres | S71: dossier écrit et oral
A72: ='S5 Maquette'!B72 -> 1 ECUE au choix | B72: ='S5 Maquette'!C72 -> ECUE | C72: ='[1]S5 Maquette'!F96 -> 0 | D72: 1 | E72: OUI | G72: OUI | H72: OUI | I72: OUI | K72: CCI (CC Intégral) | M72: 2 | P72: Autres | S72: dossier écrit et oral
A73: ='S5 Maquette'!B73 -> 1 ECUE à choisir parmi : | B73: ='S5 Maquette'!C73 -> OPTION | C73: ='[1]S5 Maquette'!F97 -> 0
A74: ='S5 Maquette'!B74 -> Environnement professionnel UCA | B74: ='S5 Maquette'!C74 -> ECUE | C74: ='[1]S5 Maquette'!F98 -> 0 | D74: 1 | E74: OUI | G74: OUI | H74: OUI | I74: OUI | K74: CCI (CC Intégral) | M74: 2 | P74: Autres | S74: dossier écrit et oral
A75: ='S5 Maquette'!B75 -> Enjeux de la musicologie, PPR ou stage | B75: ='S5 Maquette'!C75 -> ECUE | C75: ='[1]S5 Maquette'!F99 -> 0 | D75: 1 | E75: OUI | G75: OUI | H75: OUI | I75: OUI | K75: CCI (CC Intégral) | M75: 2 | P75: Autres | S75: dossier écrit et oral
A76: ='[1]S5 Maquette'!B116 -> 0 | B76: ='[1]S5 Maquette'!C115 -> 0 | C76: ='[1]S5 Maquette'!F124 -> 0
A77: ='[1]S5 Maquette'!B117 -> 0 | B77: ='[1]S5 Maquette'!C116 -> 0 | C77: ='[1]S5 Maquette'!F125 -> 0
A78: ='[1]S5 Maquette'!B118 -> 0 | B78: ='[1]S5 Maquette'!C117 -> 0 | C78: ='[1]S5 Maquette'!F126 -> 0
A79: ='[1]S5 Maquette'!B119 -> 0 | B79: ='[1]S5 Maquette'!C118 -> 0 | C79: ='[1]S5 Maquette'!F127 -> 0
A80: ='[1]S5 Maquette'!B120 -> 0 | B80: ='[1]S5 Maquette'!C119 -> 0 | C80: ='[1]S5 Maquette'!F128 -> 0
A81: ='[1]S5 Maquette'!B121 -> 0 | B81: ='[1]S5 Maquette'!C120 -> 0 | C81: ='[1]S5 Maquette'!F129 -> 0
A82: ='[1]S5 Maquette'!B122 -> 0 | B82: ='[1]S5 Maquette'!C121 -> 0 | C82: ='[1]S5 Maquette'!F130 -> 0
A83: ='[1]S5 Maquette'!B123 -> 0 | B83: ='[1]S5 Maquette'!C122 -> 0 | C83: ='[1]S5 Maquette'!F131 -> 0
A84: ='[1]S5 Maquette'!B124 -> 0 | B84: ='[1]S5 Maquette'!C123 -> 0 | C84: ='[1]S5 Maquette'!F132 -> 0
A85: ='[1]S5 Maquette'!B125 -> 0 | B85: ='[1]S5 Maquette'!C124 -> 0 | C85: ='[1]S5 Maquette'!F133 -> 0
A86: ='[1]S5 Maquette'!B126 -> 0 | B86: ='[1]S5 Maquette'!C125 -> 0 | C86: ='[1]S5 Maquette'!F134 -> 0
A87: ='[1]S5 Maquette'!B127 -> 0 | B87: ='[1]S5 Maquette'!C126 -> 0 | C87: ='[1]S5 Maquette'!F135 -> 0
... A101: ='[1]S5 Maquette'!B141 -> 0 | B101: ='[1]S5 Maquette'!C140 -> 0 | C101: ='[1]S5 Maquette'!F149 -> 0
A102: ='[1]S5 Maquette'!B150 -> 0 | B102: ='[1]S5 Maquette'!C150 -> 0 | C102: ='[1]S5 Maquette'!F150 -> 0
A103: ='[1]S5 Maquette'!B151 -> 0 | B103: ='[1]S5 Maquette'!C151 -> 0 | C103: ='[1]S5 Maquette'!F151 -> 0
A104: ='[1]S5 Maquette'!B152 -> 0 | B104: ='[1]S5 Maquette'!C152 -> 0 | C104: ='[1]S5 Maquette'!F152 -> 0
A105: ='[1]S5 Maquette'!B153 -> 0 | B105: ='[1]S5 Maquette'!C153 -> 0 | C105: ='[1]S5 Maquette'!F153 -> 0
A106: ='[1]S5 Maquette'!B154 -> 0 | B106: ='[1]S5 Maquette'!C154 -> 0 | C106: ='[1]S5 Maquette'!F154 -> 0
A107: ='[1]S5 Maquette'!B155 -> 0 | B107: ='[1]S5 Maquette'!C155 -> 0 | C107: ='[1]S5 Maquette'!F155 -> 0
A108: ='[1]S5 Maquette'!B156 -> 0 | B108: ='[1]S5 Maquette'!C156 -> 0 | C108: ='[1]S5 Maquette'!F156 -> 0
A109: ='[1]S5 Maquette'!B157 -> 0 | B109: ='[1]S5 Maquette'!C157 -> 0 | C109: ='[1]S5 Maquette'!F157 -> 0
A110: ='[1]S5 Maquette'!B158 -> 0 | B110: ='[1]S5 Maquette'!C158 -> 0 | C110: ='[1]S5 Maquette'!F158 -> 0
A111: ='[1]S5 Maquette'!B159 -> 0 | B111: ='[1]S5 Maquette'!C159 -> 0 | C111: ='[1]S5 Maquette'!F159 -> 0
A112: ='[1]S5 Maquette'!B160 -> 0 | B112: ='[1]S5 Maquette'!C160 -> 0 | C112: ='[1]S5 Maquette'!F160 -> 0
A113: ='[1]S5 Maquette'!B161 -> 0 | B113: ='[1]S5 Maquette'!C161 -> 0 | C113: ='[1]S5 Maquette'!F161 -> 0
... A260: ='[1]S5 Maquette'!B308 -> 0 | B260: ='[1]S5 Maquette'!C308 -> 0 | C260: ='[1]S5 Maquette'!F308 -> 0

Sheet S6 Maquette
A7: Composante | B7: ='Fiche Générale'!B3 -> 0 | C7: Diplôme | E7: ='Fiche Générale'!B4 -> 0 | G7: Code diplôme | H7: ='Fiche Générale'!B5 -> 0
C10: Parcours type | E10: ='Fiche Générale'!B9 -> 0
A13: Année | B13: ='S5 Maquette'!B13:B14 -> 3 ème Année de Licence | C13: Code année | E13: ='S5 Maquette'!E13:F14 -> 0 | G13: Heures Maquette | H13: =Calcul!D7 -> #REF! | J13: =SUM(I30:J45) -> 244
A15: Semestre | B15: Semestre 6 | C15: Code semestre | G15: Heures Valorisées | H15: =Calcul!D20 -> #REF!
A18: Niveau | B18: Libellé ELP | C18: Nature ELP | D18: ECTS | E18: Type | F18: Statut | G18: Code Apogée | H18: CNU | I18: Heure CM | J18: Heure TD | K18: Heure TP | L18: Langues | M18: Mutualisation | N18: Formation Porteuse | O18: Observations / Remarques ex: Intervention à titre gracieux / Capacité d'accueil max
A19: 0 | B19: UE Competences transversales 6 | C19: UE | D19: 6
A20: 0.1 | B20: Competences numeriques 3 | C20: ECUE
A21: 0.2 | B21: Competences informationnelles 3 | C21: ECUE
A22: 0.3 | B22: Langue vivante-6 | C22: BLOC
B23: Min 1 Max 1 | C23: OPTION
A24: 0.3.1 | B24: Anglais 6 | C24: ECUE
A25: 0.3.2 | B25: Espagnol 6 | C25: ECUE
A26: 0.3.3 | B26: Italien 6 | C26: ECUE
B27: Choix du bloc de spécialité L3 | C27: OPTION
A28: 1 | B28: PARCOURS Études musicales | C28: BLOC
A29: 1.1 | B29: UE 1 Techniques musicales | C29: UE | D29: 6
A30: 1.1.1 | B30: Formation musicale 6 | C30: ECUE | J30: 20 | M30: Porteuse
A31: 1.1.2 | B31: Arrangement musical et écriture 6 | C31: ECUE | J31: 24 | M31: Porteuse
A32: 1.2 | B32: UE 2 Outils d'anlayses et application musicale. | C32: UE | D32: 6
A33: 1.2.1 | B33: Analyse musicale 4 | C33: ECUE | I33: 12 | J33: 12 | M33: Porteuse | O33: Mutualisé avec le bloc interprètes (L3 S6)
A34: 1.2.2 | B34: Esthétique musicale 2 | C34: ECUE | I34: 12 | J34: 12 | M34: Porteuse | O34: Mutualisé avec le bloc interprètes (L3 S6)
A35: 1.2.3 | B35: Création et production musicale | C35: ECUE | J35: 20 | M35: Porteuse | O35: Mutualisé avec le bloc interprètes (L3 S6)
A36: 1.3 | B36: UE 3 Cultures musicales | C36: UE | D36: 6
A37: 1.3.1 | B37: Ethnomusicologie 3 | C37: ECUE | J37: 18 | M37: Porteuse | O37: Mutualisé avec le bloc interprètes (L3 S6)
A38: 1.3.2 | B38: Musiques actuelles 3 | C38: ECUE | J38: 18 | M38: Porteuse | O38: Mutualisé avec le bloc interprètes (L3 S6)
A39: 1.3.3 | B39: Perspectives de recherches musicales et artistiques | C39: ECUE | J39: 12 | M39: Porteuse | O39: Mutualisé avec le bloc interprètes (L3 S6)
A40: 1.3.4 | B40: Musique et médias | C40: ECUE | J40: 18 | M40: Porteuse | O40: Mutualisé avec le bloc interprètes (L3 S6)
A41: 1.4 | B41: UE 4 Pratiques musicales et musicologiques | C41: UE | D41: 6
A42: 1.4.1 | B42: Environnement professionnel UCA | C42: ECUE | J42: 18 | M42: Porteuse | O42: Mutualisé avec le bloc interprètes (L3 S6)
A43: 1.4.2 | B43: PPR ou stage | C43: ECUE | J43: 6 | M43: Porteuse | O43: Mutualisé avec le bloc interprètes (L3 S6)
A44: 1.4.3 | B44: Pratiques chorales | C44: ECUE | J44: 24 | M44: Portée | N44: L1 études musicales | O44: Mutualisé avec les autres années de la licence L1 et L2
A45: 1.4.4 | B45: MAO et outils numériques | C45: ECUE | J45: 18 | M45: Porteuse | O45: Mutualisé avec le parcours CLE2D (L3S6)
A46: 2 | B46: PARCOURS Interprétation, composition ou pédagogie musicales | C46: BLOC
A47: 2.1 | B47: UE 1 Pratiques musicales professionnalisantes | C47: UE | D47: 6 | O47: Les cours de cette UE sont pris en charge par le CRR de Nice dans le cadre de notre convention
A48: 2.1.1 | B48: Dsicpline principale (instrument/voix/direction/composition électroacoustique) | C48: ECUE | M48: Portée | N48: CRR
A49: 2.1.2 | B49: Pratiques collectives non dirigées (musique de chambre, projet MAA, interprétation sur acousmonium) | C49: ECUE | M49: Portée | N49: CRR
A50: 2.2 | B50: UE 2 Cultures musicales | C50: UE | D50: 6
A51: 2.2.1 | B51: Analyse musicale 3 | C51: ECUE
A52: 2.2.2 | B52: ECUE optionnelle | C52: ECUE
B53: 1 ECUE au choix | C53: OPTION
A54: 2.2.2.1 | B54: Informatique musicale | C54: ECUE | M54: Portée | N54: CRR | O54: Les cours de cette ECUE sont pris en charge par le CRR de Nice dans le cadre de notre convention
A55: 2.2.2.2 | B55: Musiques actuelles 3 | C55: ECUE | J55: 18 | M55: Portée | N55: BLOC études musicales | O55: Mutualisé avec le parcours études musicales et CLE2D (L3S6)
A56: 2.2.2.3 | B56: Esthétique musicale 2 | C56: ECUE | I56: 12 | J56: 12 | M56: Portée | N56: BLOC études musicales | O56: Mutualisé avec le parcours études musicales et CLE2D (L3S6)
A57: 2.3 | B57: UE 3 Spécialisation professionnalisante appliquée | C57: UE | D57: 6
A58: 2.3.1. | B58: Ecriture, arrangement, orchestration | C58: ECUE | M58: Portée | N58: CRR | O58: Les cours de cette ECUE sont pris en charge par le CRR de Nice dans le cadre de notre convention
A59: 2.3.2 | B59: OPTION 1 | C59: ECUE
B60: 1 ECUE à choisir parmi : | C60: OPTION
A61: 2.3.2.1 | B61: réalisation en informatique musicale | C61: ECUE | M61: Portée | N61: CRR | O61: Les cours de cette ECUE sont pris en charge par le CRR de Nice dans le cadre de notre convention
A62: 2.3.2.2 | B62: Stage de mise en situation professionnelle | C62: ECUE | M62: Portée | N62: CRR | O62: Les cours de cette ECUE sont pris en charge par le CRR de Nice dans le cadre de notre convention
A63: 2.3.2.3 | B63: Préparation au concours | C63: ECUE | M63: Portée | N63: CRR | O63: Les cours de cette ECUE sont pris en charge par le CRR de Nice dans le cadre de notre convention
A64: 2.3.3 | B64: OPTION 2 | C64: ECUE
B65: 1 ECUE à choisir parmi : | C65: OPTION
A66: 2.3.3.1 | B66: Ethnomusicologie 3 | C66: ECUE | J66: 18 | M66: Portée | N66: BLOC études musicales | O66: Mutualisé avec le parcours études musicales et CLE2D (L3S6)
A67: 2.3.3.2 | B67: Musique et médias | C67: ECUE | J67: 18 | M67: Portée | N67: BLOC études musicales | O67: Mutualisé avec le parcours études musicales et CLE2D (L3S6)
A68: 2.5 | B68: UE 4 Spécialisation professionnalisante | C68: UE | D68: 6
A69: 2.5.1 | B69: Conférences musicales et pédagogiques | C69: ECUE | M69: Portée | N69: CRR | O69: Les cours de cette ECUE sont pris en charge par le CRR de Nice dans le cadre de notre convention
A70: 2.5.2 | B70: Environnement professionnel CRR | C70: ECUE | M70: Portée | N70: CRR | O70: Les cours de cette ECUE sont pris en charge par le CRR de Nice dans le cadre de notre convention
A71: 2.5.3 | B71: Projet personnel | C71: ECUE | M71: Portée | N71: CRR | O71: Les cours de cette ECUE sont pris en charge par le CRR de Nice dans le cadre de notre convention
A72: 2.5.4 | B72: ECUE optionnelle | C72: ECUE
B73: 1 ECUE au choix | C73: OPTION
A74: 2.5.4.1 | B74: Environnement professionnel UCA | C74: ECUE | J74: 18 | M74: Portée | N74: BLOC études musicales | O74: Mutualisé avec le parcours études musicales et CLE2D (L3S6)
A75: 2.5.4.2 | B75: PPR ou stage | C75: ECUE | J75: 6 | M75: Portée | N75: BLOC études musicales | O75: Mutualisé avec le parcours études musicales et CLE2D (L3S6)
A76: 3 | B76: PARCOURS Préparation CAPES Educ Mus Chant Choral | C76: BLOC
A77: 1.1 | B77: UE 1 Techniques musicales renforcées CAPES | C77: UE | D77: 6
A78: 1.11 | B78: Formation musicale 6 | C78: ECUE | J78: 20 | M78: Porteuse | O78: Mutualisé avec le bloc musiciens interprètes et CLE2D
A79: 1.12 | B79: Arrangement musical et écriture 6 | C79: ECUE | J79: 24 | M79: Porteuse | O79: Mutualisé avec le bloc musiciens interprètes et CLE2D
A80: 1.13 | B80: Prepa Ecoute musicale 2 | C80: ECUE | J80: 4 | M80: Portée | N80: INSPE - détachement educ Nat | O80: Détachement INSPE Frank Sana
A81: 1.14 | B81: Prepa Arrangement et Harmonisation 2 | C81: ECUE | J81: 20 | M81: Portée | N81: INSPE - détachement Agrégé | O81: Détachement agrégé Frank Sana
A82: 1.2 | B82: UE 2 Outils d'anlayses et application musicale | C82: UE | D82: 6
A83: 1.21 | B83: Analyse musicale 3 | C83: ECUE | I83: 12 | J83: 12 | M83: Porteuse | O83: Mutualisé avec le bloc musiciens interprètes et CLE2D
A84: 1.22 | B84: Esthétique musicale 2 | C84: ECUE | I84: 12 | J84: 12 | M84: Porteuse | O84: Mutualisé avec le bloc musiciens interprètes et CLE2D
A85: 1.23 | B85: Création et production musicale | C85: ECUE | J85: 20 | M85: Porteuse | O85: Mutualisé avec le bloc musiciens interprètes et CLE2D
A86: 1.24 | B86: Prepa Connaissance du répertoire musical 2 (épreuve analyse auditive et connaissance du rep)) 2 | C86: ECUE | J86: 6 | M86: Portée | N86: INSPE - détachement educ Nat | O86: Détachement INSPE Frank Sana
A87: 1.3 | B87: UE 3 Cultures musicales | C87: UE | D87: 6
A88: 1.31 | B88: Ethnomusicologie 3 | C88: ECUE | J88: 18 | M88: Porteuse | O88: Mutualisé avec le bloc musiciens interprètes et CLE2D
A89: 1.32 | B89: Musiques actuelles 3 | C89: ECUE | J89: 18 | M89: Porteuse | O89: Mutualisé avec le bloc musiciens interprètes et CLE2D
A90: 1.33 | B90: Préparation Culture musicale et artistique (grande épreuve) 2 | C90: ECUE | J90: 20 | M90: Porteuse | O90: Mutualisé avec le bloc musiciens interprètes et CLE2D
A91: 1.34 | B91: Musique et médias | C91: ECUE | J91: 18 | M91: Porteuse | O91: Mutualisé avec le bloc musiciens interprètes et CLE2D
A92: 1.4 | B92: UE 4 Pratiques musicales et musicologiques | C92: UE | D92: 6
A93: 1.41 | B93: Prepa Direction de Chœur 2 | C93: ECUE | J93: 20 | M93: Porteuse | O93: Mutualisé avec le bloc musiciens interprètes et CLE2D
A94: 1.42 | B94: Pratiques chorales | C94: ECUE | J94: 24 | M94: Portée | N94: L1 études musicales | O94: Mutualisé avec les autres années de la licence L1 et L2
A95: 1.43 | B95: Prepa Preparation chant accompagné 2 | C95: ECUE | J95: 24 | M95: Portée | N95: INSPE - détachement educ Nat | O95: Détachement INSPE Frank Sana
A96: 1.44 | B96: épreuve de l'entretien et contexte professionnel 2 | C96: ECUE | J96: 18
A97: 1.45 | B97: Technique vocale (avec L2) | C97: ECUE | J97: 8 | M97: Porteuse | O97: Mutualisée avec L2 pour le semestre, 8h spécifique concours pour l'oral en juin.

Sheet S6 MCC
A7: Composante | B7: ='Fiche Générale'!B3 -> 0 | C7: Diplôme | E7: ='Fiche Générale'!B4 -> 0 | G7: Code diplôme | H7: ='Fiche Générale'!B5 -> 0
C10: Parcours type | E10: ='Fiche Générale'!B9 -> 0
M12: 1ère session | P12: Seconde Chance
A13: Année | B13: ='S6 Maquette'!B13:B14 -> 3 ème Année de Licence | D13: Code Année | E13: ='S6 Maquette'!E13:F14 -> 0
M14: Contrôle continu | N14: Contrôle Terminal
A15: Semestre | B15: ='S6 Maquette'!B15:B16 -> Semestre 6 | D15: Code Semestre | E15: ='S6 Maquette'!E15:F16 -> 0
A18: Libellé | B18: Nature | C18: Statut | D18: Coefficient | E18: Notes attendues | F18: Résultat attendu: (ACQ/AJ) | G18: Conservation note | H18: Capitalisable | I18: Compensable | J18: Seuil de compensation /20 | K18: Type de contrôle | L18: Si CC&CT coef du CT | M18: Nbre d'évalution minimum | N18: Nature | O18: Durée | P18: Format d'évaluation | Q18: Nature | R18: Durée | S18: Modalités de mise en œuvre | T18: Commentaires
A19: ='S6 Maquette'!B19 -> UE Competences transversales 6 | B19: ='S6 Maquette'!C19 -> UE | C19: ='S6 Maquette'!F19 -> 0
A20: ='S6 Maquette'!B20 -> Competences numeriques 3 | B20: ='S6 Maquette'!C20 -> ECUE | C20: ='S6 Maquette'!F20 -> 0
A21: ='S6 Maquette'!B21 -> Competences informationnelles 3 | B21: ='S6 Maquette'!C21 -> ECUE | C21: ='S6 Maquette'!F21 -> 0
A22: ='S6 Maquette'!B22 -> Langue vivante-6 | B22: ='S6 Maquette'!C22 -> BLOC | C22: ='S6 Maquette'!F22 -> 0
A23: ='S6 Maquette'!B23 -> Min 1 Max 1 | B23: ='S6 Maquette'!C23 -> OPTION
A24: ='S6 Maquette'!B24 -> Anglais 6 | B24: ='S6 Maquette'!C24 -> ECUE
A25: ='S6 Maquette'!B25 -> Espagnol 6 | B25: ='S6 Maquette'!C25 -> ECUE | C25: ='S6 Maquette'!F25 -> 0
A26: ='S6 Maquette'!B26 -> Italien 6 | B26: ='S6 Maquette'!C26 -> ECUE
A27: Choix du bloc de spécialité L3 | B27: OPTION | C27: ='S6 Maquette'!F27 -> 0
A28: ='S6 Maquette'!B28 -> PARCOURS Études musicales | B28: ='S6 Maquette'!C28 -> BLOC | C28: ='S6 Maquette'!F29 -> 0
A29: ='S6 Maquette'!B29 -> UE 1 Techniques musicales | B29: ='S6 Maquette'!C29 -> UE | C29: ='S6 Maquette'!F30 -> 0 | D29: 1 | E29: OUI | G29: OUI | H29: OUI | I29: OUI | P29: Autres | S29: on garde les 2 meilleures notes (la meilleure note de chaque ECUE)
A30: ='S6 Maquette'!B30 -> Formation musicale 6 | B30: ='S6 Maquette'!C30 -> ECUE | C30: ='S6 Maquette'!F31 -> 0 | D30: 1 | E30: OUI | G30: OUI | H30: OUI | I30: OUI | K30: CCI (CC Intégral) | M30: 2 | P30: Autres
A31: ='S6 Maquette'!B31 -> Arrangement musical et écriture 6 | B31: ='S6 Maquette'!C31 -> ECUE | C31: ='S6 Maquette'!#REF! -> #REF! | D31: 1 | E31: OUI | G31: OUI | H31: OUI | I31: OUI | K31: CCI (CC Intégral) | M31: 2 | P31: Autres
A32: ='S6 Maquette'!B32 -> UE 2 Outils d'anlayses et application musicale. | B32: ='S6 Maquette'!C32 -> UE | C32: ='S6 Maquette'!F33 -> 0 | D32: 1 | E32: OUI | G32: OUI | H32: OUI | I32: OUI | P32: Autres | S32: on garde les 3 meilleures notes (la meilleure note de chaque ECUE)
A33: ='S6 Maquette'!B33 -> Analyse musicale 4 | B33: ='S6 Maquette'!C33 -> ECUE | C33: ='S6 Maquette'!F34 -> 0 | D33: 1 | E33: OUI | G33: OUI | H33: OUI | I33: OUI | K33: CCI (CC Intégral) | M33: 2 | P33: Autres
A34: ='S6 Maquette'!B34 -> Esthétique musicale 2 | B34: ='S6 Maquette'!C34 -> ECUE | C34: ='S6 Maquette'!F35 -> 0 | D34: 1 | E34: OUI | G34: OUI | H34: OUI | I34: OUI | K34: CCI (CC Intégral) | M34: 2 | P34: Autres
A35: ='S6 Maquette'!B35 -> Création et production musicale | B35: ='S6 Maquette'!C35 -> ECUE | C35: ='S6 Maquette'!#REF! -> #REF! | D35: 1 | E35: OUI | G35: OUI | H35: OUI | I35: OUI | K35: CCI (CC Intégral) | M35: 2 | P35: Autres
A36: ='S6 Maquette'!B36 -> UE 3 Cultures musicales | B36: ='S6 Maquette'!C36 -> UE | C36: ='S6 Maquette'!F37 -> 0 | D36: 1 | E36: OUI | G36: OUI | H36: OUI | I36: OUI | P36: Autres | S36: on garde les 4 meilleures notes (la meilleure note de chaque ECUE)
A37: ='S6 Maquette'!B37 -> Ethnomusicologie 3 | B37: ='S6 Maquette'!C37 -> ECUE | C37: ='S6 Maquette'!F38 -> 0 | D37: 1 | E37: OUI | G37: OUI | H37: OUI | I37: OUI | K37: CCI (CC Intégral) | M37: 2 | P37: Autres
A38: ='S6 Maquette'!B38 -> Musiques actuelles 3 | B38: ='S6 Maquette'!C38 -> ECUE | C38: ='S6 Maquette'!F39 -> 0 | D38: 1 | E38: OUI | G38: OUI | H38: OUI | I38: OUI | K38: CCI (CC Intégral) | M38: 2 | P38: Autres
A39: ='S6 Maquette'!B39 -> Perspectives de recherches musicales et artistiques | B39: ='S6 Maquette'!C39 -> ECUE | C39: ='S6 Maquette'!F40 -> 0 | D39: 1 | E39: NON | F39: OUI | G39: NON | H39: OUI | I39: OUI
A40: ='S6 Maquette'!B40 -> Musique et médias | B40: ='S6 Maquette'!C40 -> ECUE | C40: ='S6 Maquette'!#REF! -> #REF! | D40: 1 | E40: OUI | G40: OUI | H40: OUI | I40: OUI | K40: CCI (CC Intégral) | M40: 2 | P40: Autres
A41: ='S6 Maquette'!B41 -> UE 4 Pratiques musicales et musicologiques | B41: ='S6 Maquette'!C41 -> UE | C41: ='S6 Maquette'!F42 -> 0 | D41: 1 | E41: OUI | G41: OUI | H41: OUI | I41: NON | P41: Autres | S41: calcul 4 meilleures notes (la meilleure note de chaque ECUE) si obtention de l'ECUE Enjeux
A42: ='S6 Maquette'!B42 -> Environnement professionnel UCA | B42: ='S6 Maquette'!C42 -> ECUE | C42: ='S6 Maquette'!F45 -> 0 | D42: 1 | E42: OUI | G42: OUI | H42: OUI | I42: OUI | K42: CCI (CC Intégral) | M42: 2 | P42: Autres | S42: meilleure note de l'ECUE
A43: ='S6 Maquette'!B43 -> PPR ou stage | B43: ='S6 Maquette'!C43 -> ECUE | C43: ='S6 Maquette'!#REF! -> #REF! | D43: 1 | E43: OUI | G43: OUI | H43: OUI | I43: NON | K43: CCI (CC Intégral) | M43: 2 | P43: Autres
A44: ='S6 Maquette'!B44 -> Pratiques chorales | B44: ='S6 Maquette'!C44 -> ECUE | C44: ='S6 Maquette'!#REF! -> #REF! | D44: 1 | E44: OUI | G44: OUI | H44: OUI | I44: OUI | K44: CCI (CC Intégral) | M44: 2 | P44: Autres | S44: meilleure note de l'ECUE
A45: ='S6 Maquette'!B45 -> MAO et outils numériques | B45: ='S6 Maquette'!C45 -> ECUE | C45: ='S6 Maquette'!F47 -> 0 | D45: 1 | E45: OUI | G45: OUI | H45: OUI | I45: OUI | K45: CCI (CC Intégral) | M45: 2 | P45: Autres | S45: meilleure note de l'ECUE
A46: ='S6 Maquette'!B46 -> PARCOURS Interprétation, composition ou pédagogie musicales | B46: ='S6 Maquette'!C46 -> BLOC
A47: ='S6 Maquette'!B47 -> UE 1 Pratiques musicales professionnalisantes | B47: ='S6 Maquette'!C47 -> UE | C47: ='S6 Maquette'!#REF! -> #REF! | D47: 1 | E47: OUI | G47: OUI | H47: OUI | I47: OUI | P47: Autres | S47: on garde les 2 meilleures notes (la meilleure note de chaque ECUE)
A48: ='S6 Maquette'!B48 -> Dsicpline principale (instrument/voix/direction/composition électroacoustique) | B48: ='S6 Maquette'!C48 -> ECUE | C48: ='S6 Maquette'!F50 -> 0 | D48: 1 | E48: OUI | G48: OUI | H48: OUI | I48: OUI | K48: CCI (CC Intégral) | M48: 2 | P48: Autres
A49: ='S6 Maquette'!B49 -> Pratiques collectives non dirigées (musique de chambre, projet MAA, interprétation sur acousmonium) | B49: ='S6 Maquette'!C49 -> ECUE | C49: ='S6 Maquette'!F51 -> 0 | D49: 1 | E49: OUI | G49: OUI | H49: OUI | I49: OUI | K49: CCI (CC Intégral) | M49: 2 | P49: Autres
A50: ='S6 Maquette'!B50 -> UE 2 Cultures musicales | B50: ='S6 Maquette'!C50 -> UE | C50: ='S6 Maquette'!F52 -> 0 | D50: 1 | E50: OUI | G50: OUI | H50: OUI | I50: OUI | P50: Autres | S50: on garde les 2 meilleures notes (la meilleure note de chaque ECUE)
A51: ='S6 Maquette'!B51 -> Analyse musicale 3 | B51: ='S6 Maquette'!C51 -> ECUE | C51: ='S6 Maquette'!F53 -> 0 | D51: 1 | E51: OUI | G51: OUI | H51: OUI | I51: OUI | K51: CCI (CC Intégral) | M51: 2 | P51: Autres
A52: ='S6 Maquette'!B52 -> ECUE optionnelle | B52: ='S6 Maquette'!C52 -> ECUE | C52: ='S6 Maquette'!F55 -> 0 | D52: 1 | E52: OUI | G52: OUI | H52: OUI | I52: OUI | K52: CCI (CC Intégral)
A53: ='S6 Maquette'!B53 -> 1 ECUE au choix | B53: ='S6 Maquette'!C53 -> OPTION | C53: ='S6 Maquette'!F60 -> 0
A54: ='S6 Maquette'!B54 -> Informatique musicale | B54: ='S6 Maquette'!C54 -> ECUE | C54: ='S6 Maquette'!F63 -> 0 | D54: 1 | E54: OUI | G54: OUI | H54: OUI | I54: OUI | K54: CCI (CC Intégral) | M54: 2 | P54: Autres
A55: ='S6 Maquette'!B55 -> Musiques actuelles 3 | B55: ='S6 Maquette'!C55 -> ECUE | C55: ='S6 Maquette'!F65 -> 0 | D55: 1 | E55: OUI | G55: OUI | H55: OUI | I55: OUI | K55: CCI (CC Intégral) | M55: 2 | P55: Autres
A56: ='S6 Maquette'!B56 -> Esthétique musicale 2 | B56: ='S6 Maquette'!C56 -> ECUE | C56: ='S6 Maquette'!F66 -> 0 | D56: 1 | E56: OUI | G56: OUI | H56: OUI | I56: OUI | K56: CCI (CC Intégral) | M56: 2 | P56: Autres
A57: ='S6 Maquette'!B57 -> UE 3 Spécialisation professionnalisante appliquée | B57: ='S6 Maquette'!C57 -> UE | C57: ='S6 Maquette'!#REF! -> #REF! | D57: 1 | E57: OUI | G57: OUI | H57: OUI | I57: OUI | P57: Autres | S57: on garde les 3 meilleures notes (la meilleure note de chaque ECUE)
A58: ='S6 Maquette'!B58 -> Ecriture, arrangement, orchestration | B58: ='S6 Maquette'!C58 -> ECUE | C58: ='S6 Maquette'!#REF! -> #REF! | D58: 1 | E58: OUI | G58: OUI | H58: OUI | I58: OUI | K58: CCI (CC Intégral) | M58: 2 | P58: Autres
A59: ='S6 Maquette'!B59 -> OPTION 1 | B59: ='S6 Maquette'!C59 -> ECUE | C59: ='S6 Maquette'!#REF! -> #REF! | D59: 1 | E59: OUI | G59: OUI | H59: OUI | I59: OUI | K59: CCI (CC Intégral)
A60: ='S6 Maquette'!B60 -> 1 ECUE à choisir parmi : | B60: ='S6 Maquette'!C60 -> OPTION | C60: ='S6 Maquette'!#REF! -> #REF!
A61: ='S6 Maquette'!B61 -> réalisation en informatique musicale | B61: ='S6 Maquette'!C61 -> ECUE | C61: ='S6 Maquette'!F68 -> 0 | D61: 1 | E61: OUI | G61: OUI | H61: OUI | I61: OUI | K61: CCI (CC Intégral) | M61: 2 | P61: Autres
A62: ='S6 Maquette'!B62 -> Stage de mise en situation professionnelle | B62: ='S6 Maquette'!C62 -> ECUE | C62: ='S6 Maquette'!F69 -> 0 | D62: 1 | E62: OUI | G62: OUI | H62: OUI | I62: OUI | K62: CCI (CC Intégral) | M62: 2 | P62: Autres
A63: ='S6 Maquette'!B63 -> Préparation au concours | B63: ='S6 Maquette'!C63 -> ECUE | C63: ='S6 Maquette'!F71 -> 0 | D63: 1 | E63: OUI | G63: OUI | H63: OUI | I63: OUI | K63: CCI (CC Intégral) | M63: 2 | P63: Autres
A64: ='S6 Maquette'!B64 -> OPTION 2 | B64: ='S6 Maquette'!C64 -> ECUE | C64: ='S6 Maquette'!F72 -> 0 | D64: 1 | E64: OUI | G64: OUI | H64: OUI | I64: OUI
A65: ='S6 Maquette'!B65 -> 1 ECUE à choisir parmi : | B65: ='S6 Maquette'!C65 -> OPTION | C65: ='S6 Maquette'!F73 -> 0
A66: ='S6 Maquette'!B66 -> Ethnomusicologie 3 | B66: ='S6 Maquette'!C66 -> ECUE | C66: ='S6 Maquette'!F74 -> 0 | D66: 1 | E66: OUI | G66: OUI | H66: OUI | I66: OUI | K66: CCI (CC Intégral) | M66: 2 | P66: Autres
A67: ='S6 Maquette'!B67 -> Musique et médias | B67: ='S6 Maquette'!C67 -> ECUE | C67: ='S6 Maquette'!F75 -> 0 | D67: 1 | E67: OUI | G67: OUI | H67: OUI | I67: OUI | K67: CCI (CC Intégral) | M67: 2 | P67: Autres
A68: ='S6 Maquette'!B68 -> UE 4 Spécialisation professionnalisante | B68: ='S6 Maquette'!C68 -> UE | C68: ='S6 Maquette'!#REF! -> #REF! | D68: 1 | E68: OUI | G68: OUI | H68: OUI | I68: NON | P68: Autres | S68: calcul 4 meilleures notes (la meilleure note de chaque ECUE) si obtention de l'ECUE projet personnel
A69: ='S6 Maquette'!B69 -> Conférences musicales et pédagogiques | B69: ='S6 Maquette'!C69 -> ECUE | C69: ='S6 Maquette'!#REF! -> #REF! | D69: 1 | E69: OUI | G69: OUI | H69: OUI | I69: OUI | K69: CCI (CC Intégral) | M69: 2 | P69: Autres | S69: meilleure note de l'ECUE
A70: ='S6 Maquette'!B70 -> Environnement professionnel CRR | B70: ='S6 Maquette'!C70 -> ECUE | C70: ='S6 Maquette'!#REF! -> #REF! | D70: 1 | E70: OUI | G70: OUI | H70: OUI | I70: OUI | K70: CCI (CC Intégral) | M70: 2 | P70: Autres | S70: meilleure note de l'ECUE
A71: ='S6 Maquette'!B71 -> Projet personnel | B71: ='S6 Maquette'!C71 -> ECUE | C71: ='S6 Maquette'!#REF! -> #REF! | D71: 1 | E71: OUI | G71: OUI | H71: OUI | I71: NON | K71: CCI (CC Intégral) | M71: 2
A72: ='S6 Maquette'!B72 -> ECUE optionnelle | B72: ='S6 Maquette'!C72 -> ECUE | C72: ='S6 Maquette'!#REF! -> #REF! | D72: 1 | E72: OUI | G72: OUI | H72: OUI | I72: OUI
A73: ='S6 Maquette'!B73 -> 1 ECUE au choix | B73: ='S6 Maquette'!C73 -> OPTION | C73: ='S6 Maquette'!#REF! -> #REF!
A74: ='S6 Maquette'!B74 -> Environnement professionnel UCA | B74: ='S6 Maquette'!C74 -> ECUE | C74: ='S6 Maquette'!#REF! -> #REF! | D74: 1 | E74: OUI | G74: OUI | H74: OUI | I74: OUI | K74: CCI (CC Intégral) | M74: 2 | P74: Autres
A75: ='S6 Maquette'!B75 -> PPR ou stage | B75: ='S6 Maquette'!C75 -> ECUE | C75: ='S6 Maquette'!#REF! -> #REF! | D75: 1 | E75: OUI | G75: OUI | H75: OUI | I75: OUI | K75: CCI (CC Intégral) | M75: 2 | P75: Autres
A76: ='S6 Maquette'!B76 -> PARCOURS Préparation CAPES Educ Mus Chant Choral | B76: ='S6 Maquette'!C76 -> BLOC | C76: ='S6 Maquette'!F91 -> 0
A77: ='S6 Maquette'!B77 -> UE 1 Techniques musicales renforcées CAPES | B77: ='S6 Maquette'!C77 -> UE | C77: ='S6 Maquette'!F92 -> 0
A78: ='S6 Maquette'!B78 -> Formation musicale 6 | B78: ='S6 Maquette'!C78 -> ECUE | C78: ='S6 Maquette'!F93 -> 0
A79: ='S6 Maquette'!B79 -> Arrangement musical et écriture 6 | B79: ='S6 Maquette'!C79 -> ECUE | C79: ='S6 Maquette'!F94 -> 0
A80: ='S6 Maquette'!B80 -> Prepa Ecoute musicale 2 | B80: ='S6 Maquette'!C80 -> ECUE | C80: ='S6 Maquette'!F95 -> 0
A81: ='S6 Maquette'!B81 -> Prepa Arrangement et Harmonisation 2 | B81: ='S6 Maquette'!C81 -> ECUE | C81: ='S6 Maquette'!F96 -> 0
A82: ='S6 Maquette'!B82 -> UE 2 Outils d'anlayses et application musicale | B82: ='S6 Maquette'!C82 -> UE | C82: ='S6 Maquette'!F97 -> 0
A83: ='S6 Maquette'!B83 -> Analyse musicale 3 | B83: ='S6 Maquette'!C83 -> ECUE | C83: ='S6 Maquette'!F98 -> 0
A84: ='S6 Maquette'!B84 -> Esthétique musicale 2 | B84: ='S6 Maquette'!C84 -> ECUE | C84: ='S6 Maquette'!F99 -> 0
A85: ='S6 Maquette'!B85 -> Création et production musicale | B85: ='S6 Maquette'!C85 -> ECUE | C85: ='S6 Maquette'!F100 -> 0
A86: ='S6 Maquette'!B86 -> Prepa Connaissance du répertoire musical 2 (épreuve analyse auditive et connaissance du rep)) 2 | B86: ='S6 Maquette'!C86 -> ECUE | C86: ='S6 Maquette'!F101 -> 0
A87: ='S6 Maquette'!B87 -> UE 3 Cultures musicales | B87: ='S6 Maquette'!C87 -> UE | C87: ='S6 Maquette'!F102 -> 0
... A185: ='S6 Maquette'!B185 -> 0 | B185: ='S6 Maquette'!C185 -> 0 | C185: ='S6 Maquette'!F200 -> 0
A186: ='S6 Maquette'!B201 -> 0 | B186: ='S6 Maquette'!C201 -> 0 | C186: ='S6 Maquette'!F201 -> 0
A187: ='S6 Maquette'!B202 -> 0 | B187: ='S6 Maquette'!C202 -> 0 | C187: ='S6 Maquette'!F202 -> 0
A188: ='S6 Maquette'!B203 -> 0 | B188: ='S6 Maquette'!C203 -> 0 | C188: ='S6 Maquette'!F203 -> 0
A189: ='S6 Maquette'!B204 -> 0 | B189: ='S6 Maquette'!C204 -> 0 | C189: ='S6 Maquette'!F204 -> 0
A190: ='S6 Maquette'!B205 -> 0 | B190: ='S6 Maquette'!C205 -> 0 | C190: ='S6 Maquette'!F205 -> 0
A191: ='S6 Maquette'!B206 -> 0 | B191: ='S6 Maquette'!C206 -> 0 | C191: ='S6 Maquette'!F206 -> 0
A192: ='S6 Maquette'!B207 -> 0 | B192: ='S6 Maquette'!C207 -> 0 | C192: ='S6 Maquette'!F207 -> 0
A193: ='S6 Maquette'!B208 -> 0 | B193: ='S6 Maquette'!C208 -> 0 | C193: ='S6 Maquette'!F208 -> 0
A194: ='S6 Maquette'!B209 -> 0 | B194: ='S6 Maquette'!C209 -> 0 | C194: ='S6 Maquette'!F209 -> 0
A195: ='S6 Maquette'!B210 -> 0 | B195: ='S6 Maquette'!C210 -> 0 | C195: ='S6 Maquette'!F210 -> 0
A196: ='S6 Maquette'!B211 -> 0 | B196: ='S6 Maquette'!C211 -> 0 | C196: ='S6 Maquette'!F211 -> 0
A197: ='S6 Maquette'!B212 -> 0 | B197: ='S6 Maquette'!C212 -> 0 | C197: ='S6 Maquette'!F212 -> 0
... A263: ='S6 Maquette'!B278 -> 0 | B263: ='S6 Maquette'!C278 -> 0 | C263: ='S6 Maquette'!F278 -> 0

Sheet S6 MCC NA
A7: Composante | B7: ='[1]Fiche Générale'!B3 -> 0 | C7: Diplôme | E7: ='[1]Fiche Générale'!B4 -> 0 | G7: Code diplôme | H7: ='[1]Fiche Générale'!B5 -> 0
C10: Parcours type | E10: ='[1]Fiche Générale'!B9 -> 0
M12: 1ère session | P12: Seconde Chance
A13: Année | B13: ='[1]S6 Maquette'!B13:B14 -> 3 ème Année de Licence | D13: Code Année | E13: ='[1]S6 Maquette'!E13:F14 -> 0
M14: Contrôle continu | N14: Contrôle Terminal
A15: Semestre | B15: ='[1]S6 Maquette'!B15:B16 -> Semestre 6 | D15: Code Semestre | E15: ='[1]S6 Maquette'!E15:F16 -> 0
A18: Libellé | B18: Nature | C18: Statut | D18: Coefficient | E18: Notes attendues | F18: Résultat attendu: (ACQ/AJ) | G18: Conservation note | H18: Capitalisable | I18: Compensable | J18: Seuil de compensation /20 | K18: Type de contrôle | L18: Si CC&CT coef du CT | M18: Nbre d'évalution minimum | N18: Nature | O18: Durée | P18: Format d'évaluation | Q18: Nature | R18: Durée | S18: Modalités de mise en œuvre | T18: Commentaires
A19: ='[1]S6 Maquette'!B19 -> UE Competences transversales 6 | B19: ='[1]S6 Maquette'!C19 -> UE | C19: ='[1]S6 Maquette'!F19 -> 0
A20: ='[1]S6 Maquette'!B20 -> Competences numeriques 3 | B20: ='[1]S6 Maquette'!C20 -> ECUE | C20: ='[1]S6 Maquette'!F20 -> 0
A21: ='[1]S6 Maquette'!B21 -> Competences informationnelles 3 | B21: ='[1]S6 Maquette'!C21 -> ECUE | C21: ='[1]S6 Maquette'!F21 -> 0
A22: ='[1]S6 Maquette'!B22 -> Langue vivante-6 | B22: ='[1]S6 Maquette'!C22 -> BLOC | C22: ='[1]S6 Maquette'!F22 -> 0
A23: ='[1]S6 Maquette'!B23 -> Min 1 Max 1 | B23: ='[1]S6 Maquette'!C23 -> OPTION
A24: ='[1]S6 Maquette'!B24 -> Anglais 6 | B24: ='[1]S6 Maquette'!C24 -> ECUE
A25: ='[1]S6 Maquette'!B25 -> Espagnol 6 | B25: ='[1]S6 Maquette'!C25 -> ECUE | C25: ='[1]S6 Maquette'!F25 -> 0
A26: ='[1]S6 Maquette'!B26 -> Italien 6 | B26: ='[1]S6 Maquette'!C26 -> ECUE
A27: Choix du bloc de spécialité L3 | B27: OPTION | C27: ='[1]S6 Maquette'!F27 -> 0
A28: ='S6 Maquette'!B28 -> PARCOURS Études musicales | B28: ='S6 Maquette'!C28 -> BLOC | C28: ='[1]S6 Maquette'!F29 -> 0
A29: ='S6 Maquette'!B29 -> UE 1 Techniques musicales | B29: ='S6 Maquette'!C29 -> UE | C29: ='[1]S6 Maquette'!F30 -> 0 | D29: 1 | E29: OUI | G29: OUI | H29: OUI | I29: OUI | P29: Autres | S29: on garde la meilleure note de chaque ECUE
A30: ='S6 Maquette'!B30 -> Formation musicale 6 | B30: ='S6 Maquette'!C30 -> ECUE | C30: ='[1]S6 Maquette'!F31 -> 0 | D30: 1 | E30: OUI | G30: OUI | H30: OUI | I30: OUI | K30: CCI (CC Intégral) | M30: 2 | P30: Autres | S30: écrit et oral
A31: ='S6 Maquette'!B31 -> Arrangement musical et écriture 6 | B31: ='S6 Maquette'!C31 -> ECUE | C31: ='[1]S6 Maquette'!F32 -> 0 | D31: 1 | E31: OUI | G31: OUI | H31: OUI | I31: OUI | K31: CCI (CC Intégral) | M31: 2 | P31: Autres | S31: écrit et oral
A32: ='S6 Maquette'!B32 -> UE 2 Outils d'anlayses et application musicale. | B32: ='S6 Maquette'!C32 -> UE | C32: ='[1]S6 Maquette'!F34 -> 0 | D32: 1 | E32: OUI | G32: OUI | H32: OUI | I32: OUI | P32: Autres | S32: on garde les 3 meilleures notes (la meilleure note de chaque ECUE)
A33: ='S6 Maquette'!B33 -> Analyse musicale 4 | B33: ='S6 Maquette'!C33 -> ECUE | C33: ='[1]S6 Maquette'!F35 -> 0 | D33: 1 | E33: OUI | G33: OUI | H33: OUI | I33: OUI | K33: CCI (CC Intégral) | M33: 2 | P33: Autres | S33: dossier écrit et oral
A34: ='S6 Maquette'!B34 -> Esthétique musicale 2 | B34: ='S6 Maquette'!C34 -> ECUE | C34: ='[1]S6 Maquette'!F36 -> 0 | D34: 1 | E34: OUI | G34: OUI | H34: OUI | I34: OUI | K34: CCI (CC Intégral) | M34: 2 | P34: Autres | S34: dossier écrit et oral
A35: ='S6 Maquette'!B35 -> Création et production musicale | B35: ='S6 Maquette'!C35 -> ECUE | C35: ='[1]S6 Maquette'!F37 -> 0 | D35: 1 | E35: OUI | G35: OUI | H35: OUI | I35: OUI | K35: CCI (CC Intégral) | M35: 2 | P35: Autres | S35: dossier écrit et oral
A36: ='S6 Maquette'!B36 -> UE 3 Cultures musicales | B36: ='S6 Maquette'!C36 -> UE | C36: ='[1]S6 Maquette'!F39 -> 0 | D36: 1 | E36: OUI | G36: OUI | H36: OUI | I36: OUI | P36: Autres | S36: on garde la meilleure note de chaque ECUE
A37: ='S6 Maquette'!B37 -> Ethnomusicologie 3 | B37: ='S6 Maquette'!C37 -> ECUE | C37: ='[1]S6 Maquette'!F40 -> 0 | D37: 1 | E37: OUI | G37: OUI | H37: OUI | I37: OUI | K37: CCI (CC Intégral) | M37: 2 | P37: Autres | S37: dossier écrit et oral
A38: ='S6 Maquette'!B38 -> Musiques actuelles 3 | B38: ='S6 Maquette'!C38 -> ECUE | C38: ='[1]S6 Maquette'!F41 -> 0 | D38: 1 | E38: OUI | G38: OUI | H38: OUI | I38: OUI | K38: CCI (CC Intégral) | M38: 2 | P38: Autres | S38: dossier écrit et oral
A39: ='S6 Maquette'!B39 -> Perspectives de recherches musicales et artistiques | B39: ='S6 Maquette'!C39 -> ECUE | C39: ='[1]S6 Maquette'!F42 -> 0 | D39: 1 | E39: NON | F39: OUI | G39: NON | H39: OUI | I39: OUI | S39: dossier écrit et oral
A40: ='S6 Maquette'!B40 -> Musique et médias | B40: ='S6 Maquette'!C40 -> ECUE | C40: ='[1]S6 Maquette'!F43 -> 0 | D40: 1 | E40: OUI | G40: OUI | H40: OUI | I40: OUI | K40: CCI (CC Intégral) | M40: 2 | P40: Autres | S40: dossier écrit et oral
A41: ='S6 Maquette'!B41 -> UE 4 Pratiques musicales et musicologiques | B41: ='S6 Maquette'!C41 -> UE | C41: ='[1]S6 Maquette'!F45 -> 0 | D41: 1 | E41: OUI | G41: OUI | H41: OUI | I41: NON | P41: Autres | S41: on garde la meilleure note de chaque ECUE si obtention de l'ECUE Enjeux
A42: ='S6 Maquette'!B42 -> Environnement professionnel UCA | B42: ='S6 Maquette'!C42 -> ECUE | C42: ='[1]S6 Maquette'!F48 -> 0 | D42: 1 | E42: OUI | G42: OUI | H42: OUI | I42: OUI | K42: CCI (CC Intégral) | M42: 2 | P42: Autres | S42: dossier écrit et oral
A43: ='S6 Maquette'!B43 -> PPR ou stage | B43: ='S6 Maquette'!C43 -> ECUE | C43: ='[1]S6 Maquette'!F49 -> 0 | D43: 1 | E43: OUI | G43: OUI | H43: OUI | I43: NON | K43: CCI (CC Intégral) | M43: 2 | P43: Autres | S43: dossier écrit et oral
A44: ='S6 Maquette'!B44 -> Pratiques chorales | B44: ='S6 Maquette'!C44 -> ECUE | C44: ='[1]S6 Maquette'!F50 -> 0 | D44: 1 | E44: OUI | G44: OUI | H44: OUI | I44: OUI | K44: CCI (CC Intégral) | M44: 2 | P44: Autres | S44: dossier écrit et oral
A45: ='S6 Maquette'!B45 -> MAO et outils numériques | B45: ='S6 Maquette'!C45 -> ECUE | C45: ='[1]S6 Maquette'!F52 -> 0 | D45: 1 | E45: OUI | G45: OUI | H45: OUI | I45: OUI | K45: CCI (CC Intégral) | M45: 2 | P45: Autres | S45: dossier écrit et oral
A46: ='S6 Maquette'!B46 -> PARCOURS Interprétation, composition ou pédagogie musicales | B46: ='S6 Maquette'!C46 -> BLOC
A47: ='S6 Maquette'!B47 -> UE 1 Pratiques musicales professionnalisantes | B47: ='S6 Maquette'!C47 -> UE | C47: ='[1]S6 Maquette'!F55 -> 0 | D47: 1 | E47: OUI | G47: OUI | H47: OUI | I47: OUI | P47: Autres | S47: on garde la meilleure note de chaque ECUE)
A48: ='S6 Maquette'!B48 -> Dsicpline principale (instrument/voix/direction/composition électroacoustique) | B48: ='S6 Maquette'!C48 -> ECUE | C48: ='[1]S6 Maquette'!F56 -> 0 | D48: 1 | E48: OUI | G48: OUI | H48: OUI | I48: OUI | K48: CCI (CC Intégral) | M48: 2 | P48: Autres | S48: oral
A49: ='S6 Maquette'!B49 -> Pratiques collectives non dirigées (musique de chambre, projet MAA, interprétation sur acousmonium) | B49: ='S6 Maquette'!C49 -> ECUE | C49: ='[1]S6 Maquette'!F57 -> 0 | D49: 1 | E49: OUI | G49: OUI | H49: OUI | I49: OUI | K49: CCI (CC Intégral) | M49: 2 | P49: Autres | S49: oral
A50: ='S6 Maquette'!B50 -> UE 2 Cultures musicales | B50: ='S6 Maquette'!C50 -> UE | C50: ='[1]S6 Maquette'!F58 -> 0 | D50: 1 | E50: OUI | G50: OUI | H50: OUI | I50: OUI | P50: Autres | S50: on garde la meilleure note de chaque ECUE)
A51: ='S6 Maquette'!B51 -> Analyse musicale 3 | B51: ='S6 Maquette'!C51 -> ECUE | C51: ='[1]S6 Maquette'!F59 -> 0 | D51: 1 | E51: OUI | G51: OUI | H51: OUI | I51: OUI | K51: CCI (CC Intégral) | M51: 2 | P51: Autres | S51: dossier écrit et oral
A52: ='S6 Maquette'!B52 -> ECUE optionnelle | B52: ='S6 Maquette'!C52 -> ECUE | C52: ='[1]S6 Maquette'!F61 -> 0 | D52: 1 | E52: OUI | G52: OUI | H52: OUI | I52: OUI | K52: CCI (CC Intégral)
A53: ='S6 Maquette'!B53 -> 1 ECUE au choix | B53: ='S6 Maquette'!C53 -> OPTION | C53: ='[1]S6 Maquette'!F67 -> 0
A54: ='S6 Maquette'!B54 -> Informatique musicale | B54: ='S6 Maquette'!C54 -> ECUE | C54: ='[1]S6 Maquette'!F70 -> 0 | D54: 1 | E54: OUI | G54: OUI | H54: OUI | I54: OUI | K54: CCI (CC Intégral) | M54: 2 | P54: Autres | S54: dossier écrit et oral
A55: ='S6 Maquette'!B55 -> Musiques actuelles 3 | B55: ='S6 Maquette'!C55 -> ECUE | C55: ='[1]S6 Maquette'!F72 -> 0 | D55: 1 | E55: OUI | G55: OUI | H55: OUI | I55: OUI | K55: CCI (CC Intégral) | M55: 2 | P55: Autres | S55: dossier écrit et oral
A56: ='S6 Maquette'!B56 -> Esthétique musicale 2 | B56: ='S6 Maquette'!C56 -> ECUE | C56: ='[1]S6 Maquette'!F73 -> 0 | D56: 1 | E56: OUI | G56: OUI | H56: OUI | I56: OUI | K56: CCI (CC Intégral) | M56: 2 | P56: Autres | S56: dossier écrit et oral
A57: ='S6 Maquette'!B57 -> UE 3 Spécialisation professionnalisante appliquée | B57: ='S6 Maquette'!C57 -> UE | C57: ='[1]S6 Maquette'!F75 -> 0 | D57: 1 | E57: OUI | G57: OUI | H57: OUI | I57: OUI | P57: Autres | S57: on garde la meilleure note de chaque ECUE)
A58: ='S6 Maquette'!B58 -> Ecriture, arrangement, orchestration | B58: ='S6 Maquette'!C58 -> ECUE | C58: ='[1]S6 Maquette'!F76 -> 0 | D58: 1 | E58: OUI | G58: OUI | H58: OUI | I58: OUI | K58: CCI (CC Intégral) | M58: 2 | P58: Autres | S58: écrit et oral
A59: ='S6 Maquette'!B59 -> OPTION 1 | B59: ='S6 Maquette'!C59 -> ECUE | C59: ='[1]S6 Maquette'!F77 -> 0 | D59: 1 | E59: OUI | G59: OUI | H59: OUI | I59: OUI | K59: CCI (CC Intégral)
A60: ='S6 Maquette'!B60 -> 1 ECUE à choisir parmi : | B60: ='S6 Maquette'!C60 -> OPTION | C60: ='[1]S6 Maquette'!F78 -> 0
A61: ='S6 Maquette'!B61 -> réalisation en informatique musicale | B61: ='S6 Maquette'!C61 -> ECUE | C61: ='[1]S6 Maquette'!F79 -> 0 | D61: 1 | E61: OUI | G61: OUI | H61: OUI | I61: OUI | K61: CCI (CC Intégral) | M61: 2 | P61: Autres | S61: dossier écrit et oral
A62: ='S6 Maquette'!B62 -> Stage de mise en situation professionnelle | B62: ='S6 Maquette'!C62 -> ECUE | C62: ='[1]S6 Maquette'!F80 -> 0 | D62: 1 | E62: OUI | G62: OUI | H62: OUI | I62: OUI | K62: CCI (CC Intégral) | M62: 2 | P62: Autres | S62: dossier écrit et oral
A63: ='S6 Maquette'!B63 -> Préparation au concours | B63: ='S6 Maquette'!C63 -> ECUE | C63: ='[1]S6 Maquette'!F82 -> 0 | D63: 1 | E63: OUI | G63: OUI | H63: OUI | I63: OUI | K63: CCI (CC Intégral) | M63: 2 | P63: Autres | S63: dossier écrit et oral
A64: ='S6 Maquette'!B64 -> OPTION 2 | B64: ='S6 Maquette'!C64 -> ECUE | C64: ='[1]S6 Maquette'!F83 -> 0 | D64: 1 | E64: OUI | G64: OUI | H64: OUI | I64: OUI
A65: ='S6 Maquette'!B65 -> 1 ECUE à choisir parmi : | B65: ='S6 Maquette'!C65 -> OPTION | C65: ='[1]S6 Maquette'!F84 -> 0
A66: ='S6 Maquette'!B66 -> Ethnomusicologie 3 | B66: ='S6 Maquette'!C66 -> ECUE | C66: ='[1]S6 Maquette'!F85 -> 0 | D66: 1 | E66: OUI | G66: OUI | H66: OUI | I66: OUI | K66: CCI (CC Intégral) | M66: 2 | P66: Autres | S66: dossier écrit et oral
A67: ='S6 Maquette'!B67 -> Musique et médias | B67: ='S6 Maquette'!C67 -> ECUE | C67: ='[1]S6 Maquette'!F86 -> 0 | D67: 1 | E67: OUI | G67: OUI | H67: OUI | I67: OUI | K67: CCI (CC Intégral) | M67: 2 | P67: Autres | S67: dossier écrit et oral
A68: ='S6 Maquette'!B68 -> UE 4 Spécialisation professionnalisante | B68: ='S6 Maquette'!C68 -> UE | C68: ='[1]S6 Maquette'!F91 -> 0 | D68: 1 | E68: OUI | G68: OUI | H68: OUI | I68: NON | P68: Autres | S68: on prends la meilleure note de chaque ECUE, si obtention de l'ECUE projet personnel
A69: ='S6 Maquette'!B69 -> Conférences musicales et pédagogiques | B69: ='S6 Maquette'!C69 -> ECUE | C69: ='[1]S6 Maquette'!F92 -> 0 | D69: 1 | E69: OUI | G69: OUI | H69: OUI | I69: OUI | K69: CCI (CC Intégral) | M69: 2 | P69: Autres | S69: dossier écrit et oral
A70: ='S6 Maquette'!B70 -> Environnement professionnel CRR | B70: ='S6 Maquette'!C70 -> ECUE | C70: ='[1]S6 Maquette'!F93 -> 0 | D70: 1 | E70: OUI | G70: OUI | H70: OUI | I70: OUI | K70: CCI (CC Intégral) | M70: 2 | P70: Autres | S70: dossier écrit et oral
A71: ='S6 Maquette'!B71 -> Projet personnel | B71: ='S6 Maquette'!C71 -> ECUE | C71: ='[1]S6 Maquette'!F94 -> 0 | D71: 1 | E71: OUI | G71: OUI | H71: OUI | I71: NON | K71: CCI (CC Intégral) | M71: 2
A72: ='S6 Maquette'!B72 -> ECUE optionnelle | B72: ='S6 Maquette'!C72 -> ECUE | C72: ='[1]S6 Maquette'!F95 -> 0 | D72: 1 | E72: OUI | G72: OUI | H72: OUI | I72: OUI
A73: ='S6 Maquette'!B73 -> 1 ECUE au choix | B73: ='S6 Maquette'!C73 -> OPTION | C73: ='[1]S6 Maquette'!F96 -> 0
A74: ='S6 Maquette'!B74 -> Environnement professionnel UCA | B74: ='S6 Maquette'!C74 -> ECUE | C74: ='[1]S6 Maquette'!F97 -> 0 | D74: 1 | E74: OUI | G74: OUI | H74: OUI | I74: OUI | K74: CCI (CC Intégral) | M74: 2 | P74: Autres | S74: dossier écrit et oral
A75: ='S6 Maquette'!B75 -> PPR ou stage | B75: ='S6 Maquette'!C75 -> ECUE | C75: ='[1]S6 Maquette'!F98 -> 0 | D75: 1 | E75: OUI | G75: OUI | H75: OUI | I75: OUI | K75: CCI (CC Intégral) | M75: 2 | P75: Autres | S75: dossier écrit et oral
A76: ='S6 Maquette'!B76 -> PARCOURS Préparation CAPES Educ Mus Chant Choral | B76: ='S6 Maquette'!C76 -> BLOC | C76: ='[1]S6 Maquette'!F99 -> 0
A77: ='S6 Maquette'!B77 -> UE 1 Techniques musicales renforcées CAPES | B77: ='S6 Maquette'!C77 -> UE | C77: ='[1]S6 Maquette'!F100 -> 0
A78: ='S6 Maquette'!B78 -> Formation musicale 6 | B78: ='S6 Maquette'!C78 -> ECUE | C78: ='[1]S6 Maquette'!F101 -> 0
A79: ='S6 Maquette'!B79 -> Arrangement musical et écriture 6 | B79: ='S6 Maquette'!C79 -> ECUE | C79: ='[1]S6 Maquette'!F147 -> 0
A80: ='S6 Maquette'!B80 -> Prepa Ecoute musicale 2 | B80: ='S6 Maquette'!C80 -> ECUE | C80: ='[1]S6 Maquette'!F148 -> 0
A81: ='S6 Maquette'!B81 -> Prepa Arrangement et Harmonisation 2 | B81: ='S6 Maquette'!C81 -> ECUE | C81: ='[1]S6 Maquette'!F149 -> 0
A82: ='S6 Maquette'!B82 -> UE 2 Outils d'anlayses et application musicale | B82: ='S6 Maquette'!C82 -> UE | C82: ='[1]S6 Maquette'!F150 -> 0
A83: ='S6 Maquette'!B83 -> Analyse musicale 3 | B83: ='S6 Maquette'!C83 -> ECUE | C83: ='[1]S6 Maquette'!F151 -> 0
A84: ='S6 Maquette'!B84 -> Esthétique musicale 2 | B84: ='S6 Maquette'!C84 -> ECUE | C84: ='[1]S6 Maquette'!F152 -> 0
A85: ='S6 Maquette'!B85 -> Création et production musicale | B85: ='S6 Maquette'!C85 -> ECUE | C85: ='[1]S6 Maquette'!F153 -> 0
A86: ='S6 Maquette'!B86 -> Prepa Connaissance du répertoire musical 2 (épreuve analyse auditive et connaissance du rep)) 2 | B86: ='S6 Maquette'!C86 -> ECUE | C86: ='[1]S6 Maquette'!F154 -> 0
A87: ='S6 Maquette'!B87 -> UE 3 Cultures musicales | B87: ='S6 Maquette'!C87 -> UE | C87: ='[1]S6 Maquette'!F155 -> 0
A88: ='S6 Maquette'!B88 -> Ethnomusicologie 3 | B88: ='S6 Maquette'!C88 -> ECUE | C88: ='[1]S6 Maquette'!F156 -> 0
A89: ='S6 Maquette'!B89 -> Musiques actuelles 3 | B89: ='S6 Maquette'!C89 -> ECUE | C89: ='[1]S6 Maquette'!F157 -> 0
A90: ='S6 Maquette'!B90 -> Préparation Culture musicale et artistique (grande épreuve) 2 | B90: ='S6 Maquette'!C90 -> ECUE | C90: ='[1]S6 Maquette'!F158 -> 0
... A101: ='S6 Maquette'!B101 -> 0 | B101: ='S6 Maquette'!C101 -> 0 | C101: ='[1]S6 Maquette'!F169 -> 0
A102: ='[1]S6 Maquette'!B170 -> 0 | B102: ='[1]S6 Maquette'!C170 -> 0 | C102: ='[1]S6 Maquette'!F170 -> 0
A103: ='[1]S6 Maquette'!B171 -> 0 | B103: ='[1]S6 Maquette'!C171 -> 0 | C103: ='[1]S6 Maquette'!F171 -> 0
A104: ='[1]S6 Maquette'!B172 -> 0 | B104: ='[1]S6 Maquette'!C172 -> 0 | C104: ='[1]S6 Maquette'!F172 -> 0
A105: ='[1]S6 Maquette'!B173 -> 0 | B105: ='[1]S6 Maquette'!C173 -> 0 | C105: ='[1]S6 Maquette'!F173 -> 0
A106: ='[1]S6 Maquette'!B174 -> 0 | B106: ='[1]S6 Maquette'!C174 -> 0 | C106: ='[1]S6 Maquette'!F174 -> 0
A107: ='[1]S6 Maquette'!B175 -> 0 | B107: ='[1]S6 Maquette'!C175 -> 0 | C107: ='[1]S6 Maquette'!F175 -> 0
A108: ='[1]S6 Maquette'!B176 -> 0 | B108: ='[1]S6 Maquette'!C176 -> 0 | C108: ='[1]S6 Maquette'!F176 -> 0
A109: ='[1]S6 Maquette'!B177 -> 0 | B109: ='[1]S6 Maquette'!C177 -> 0 | C109: ='[1]S6 Maquette'!F177 -> 0
A110: ='[1]S6 Maquette'!B178 -> 0 | B110: ='[1]S6 Maquette'!C178 -> 0 | C110: ='[1]S6 Maquette'!F178 -> 0
A111: ='[1]S6 Maquette'!B179 -> 0 | B111: ='[1]S6 Maquette'!C179 -> 0 | C111: ='[1]S6 Maquette'!F179 -> 0
A112: ='[1]S6 Maquette'!B180 -> 0 | B112: ='[1]S6 Maquette'!C180 -> 0 | C112: ='[1]S6 Maquette'!F180 -> 0
A113: ='[1]S6 Maquette'!B181 -> 0 | B113: ='[1]S6 Maquette'!C181 -> 0 | C113: ='[1]S6 Maquette'!F181 -> 0
... A242: ='[1]S6 Maquette'!B310 -> 0 | B242: ='[1]S6 Maquette'!C310 -> 0 | C242: ='[1]S6 Maquette'!F310 -> 0
