Workbook
Name list_cmp: Listes!$A$10:$G$10
Name List_CNU: Listes!$A$27:$A$83
Name List_Controle: Listes!$B$2:$B$6
Name List_Controle2: Listes!$A$2:$A$4
Name List_Mutualisation: Listes!$E$2:$E$3
Name List_RegimeInscription: Listes!$C$2:$C$3
Name List_Statut: Listes!$F$2:$F$4
Name list_typdiplome: Listes!$H$3:$H$4
Name List_Type: Listes!$G$2:$G$3
Name liste_cmp: #REF!
Name liste_cmp: #REF!
Name liste_cmp: #REF!
Name liste_cmp: #REF!
Name liste_cmp: #REF!
Name liste_cmp: #REF!
Name liste_mention: #REF!
Name liste_mention: #REF!
Name liste_mention: #REF!
Name liste_mention: #REF!
Name liste_mention: #REF!
Name liste_mention: #REF!
Name Médecine: #REF!
Name Médecine: #REF!
Name Médecine: #REF!
Name Médecine: #REF!
Name Médecine: #REF!
Name Médecine: #REF!
Name Por: #REF!
Name Por: #REF!
Name Por: #REF!
Name Por: #REF!
Name Por: #REF!
Name Por: #REF!
Name Portail_Droit: Listes!$A$11:$A$12
Name Portail_EG: Listes!$B$11:$B$12
Name Portail_LLAC: Listes!$D$11:$D$19
Name Portail_SHS: #REF!
Name Portail_SHS: #REF!
Name Portail_SHS: #REF!
Name Portail_SHS: #REF!
Name Portail_SHS: #REF!
Name Portail_SHS: Listes!$C$11:$C$22
Name Portail_ST: Listes!$E$11:$E$26
Name Portail_STAPS: Listes!$G$11:$G$14
Name Portail_SV: Listes!$F$11:$F$14
Name tab_code: #REF!
Name tab_code: #REF!
Name tab_code: #REF!
Name tab_code: #REF!
Name tab_code: #REF!
Name tab_code: #REF!
Name tab_code_dip: Listes!$J$1:$L$51

Sheet Listes
A1: Type contrôle | B1: Nature contrôle | C1: Régime d'inscription | D1: Nature ELP | E1: Mutualisation | F1: Statut | G1: Type | J1: Mention | K1: Codage Diplôme | L1: Codage double licence
A2: CCI (CC Intégral) | B2: Écrit | C2: Initiale Hors-Apprentissage / Formation Continue / Formation Permanente | D2: UE | E2: Porteuse | F2: Création | G2: Facultatif | H2: Type Diplôme | J2: Sciences de la Vie | K2: SLVIE18
A3: CT (Contrôle terminal) | B3: Oral | C3: Contrat d'Apprentissage/ Contrat de Professionnalisation | D3: ECUE | E3: Portée | F3: Modification | G3: Complémentaire | H3: Licence | J3: Droit | K3: DLDRT18
A4: CC&CT | B4: Écrit/Pratique | D4: BLOC | F4: Fermeture | H4: Double Licence | J4: Économie et gestion | K4: ILECG18
B5: Rapport/Mémoire | D5: OPTION | J5: Économie et gestion | K5: GLECG18
B6: Pratique sportive | D6: Parcours Pédagogique | J6: Information-communication | K6: HLICO18
J7: Arts du spectacle | K7: HLARS18
J8: Musicologie | K8: HLMUS18
J9: Lettres | K9: HLLET18
A10: Portail_Droit | B10: Portail_EG | C10: Portail_SHS | D10: Portail_LLAC | E10: Portail_ST | F10: Portail_SV | G10: Portail_STAPS | J10: Lettres étrangères appliquées (LEA) | K10: HLEAP18
A11: Droit | B11: Économie et gestion | C11: Sciences de l'homme, anthropologie, ethnologie | D11: Information-communication | E11: Sciences de la terre | F11: Sciences de la vie | G11: STAPS-Activité Physique Adaptée-Santé | J11: Langues, littératures et civilisations étrangères et régionales (LLCER) | K11: HLCER18
A12: Droit-Philosophie | B12: Économie-Sociologie | C12: Psychologie | D12: Arts du spectacle | E12: Sciences et technologies | F12: Sciences de la vie-Chimie | G12: STAPS-Education et Motricité | J12: Sciences de l'homme, anthropologie, ethnologie | K12: HLTSH18
C13: Histoire | D13: Musicologie | E13: Physique | F13: Sciences de la vie-Mathématiques | G13: STAPS-Entraînement Sportif | J13: Psychologie | K13: HLPSY18
C14: Sociologie | D14: Lettres | E14: Mathématiques | F14: Bio-Geo-Sciences | G14: STAPS-Management du Sport | J14: Sciences du langage | K14: HLNDL18
C15: Philosophie | D15: Lettres étrangères appliquées (LEA) | E15: Mathématiques et Informatique appliquées aux sciences humaines et sociales (MIASHS) | J15: Histoire | K15: HLHIS18
C16: Humanités | D16: Langues, littératures et civilisations étrangères et régionales (LLCER) | E16: Electronique, énergie électrique, automatique (EEA) | J16: Philosophie | K16: HLOPH18
C17: Géographie et aménagement | D17: Sciences du langage | E17: Informatique | J17: Sociologie | K17: HLSOC18
C18: Philosophie-Droit | D18: Lettres-Histoire | E18: Sciences de la terre-Sciences de la vie | J18: Sciences de la terre | K18: SLTER18
C19: Psychologie-Philosophie | D19: Musicologie - Sciences de l'homme, anthropologie, ethnologie | E19: Physique-Mathématiques | J19: Sciences et technologies | K19: SLSIT18
C20: Philosophie-Psychologie | E20: Mathématiques-Physique | J20: Chimie | K20: SLCHI18
C21: Histoire-Lettres | E21: Informatique-Mathématiques | J21: Physique | K21: SLPHY18
C22: Sociologie-Économie | E22: Mathématiques-Informatique | J22: Mathématiques | K22: SLMAT18
E23: Chimie-Sciences de la vie | J23: Mathématiques et Informatique appliquées aux sciences humaines et sociales (MIASHS) | K23: SLASH18
E24: Sciences de la terre-Physique | J24: Electronique, énergie électrique, automatique (EEA) | K24: SLELE18
E25: Physique-Sciences de la terre | J25: Informatique | K25: SLINF18
A26: CNU | E26: Mathématiques-Sciences de la vie | J26: Géographie et aménagement | K26: SLGEO18
A27: 01-Droit privé et sciences criminelles | J27: STAPS-Activité Physique Adaptée-Santé | K27: PLAPA18
A28: 02-Droit public | J28: STAPS-Education et Motricité | K28: PLEMO18
A29: 03-Histoire du droit et des institutions | J29: STAPS-Entraînement Sportif | K29: PLSES18
A30: 04-Science politique | J30: STAPS-Management du Sport | K30: PLMSP18
A31: 05-Sciences économiques | J31: Humanités | K31: HLBHU18
A32: 06-Sciences de gestion | J32: Sciences de la vie-Chimie | K32: SLVIE18 | L32: SLCHI18
A33: 07-Sciences du langage : linguistique et phonétique générales | F33: l | J33: Sciences de la vie-Mathématiques | K33: SLVIE18 | L33: SLMAT18
A34: 08-Langues et littératures anciennes | J34: Bio-Geo-Sciences | K34: SLVIE18 | L34: SLTER18
A35: 09-Langue et littérature françaises | J35: Sciences de la terre-Sciences de la vie | K35: SLTER18 | L35: SLVIE18
A36: 10-Littératures comparées | J36: Physique-Mathématiques | K36: SLPHY18 | L36: SLPHY18
A37: 11-Langues et littératures anglaises et anglo-saxonnes | J37: Mathématiques-Physique | K37: SLMAT18 | L37: SLMAT18
A38: 12-Langues et littératures germaniques et scandinaves | J38: Informatique-Mathématiques | K38: SLINF18 | L38: SLMAT18
A39: 13-Langues et littératures slaves | J39: Mathématiques-Informatique | K39: SLMAT18 | L39: SLINF18
A40: 14-Langues et littératures romanes : espagnol, italien, portugais, autres langues romanes | J40: Chimie-Sciences de la vie | K40: SLCHI18 | L40: SLVIE18
A41: 15-Langues et littératures arabes, chinoises, japonaises, hébraïques, d'autres domaines linguistiques | J41: Lettres-Histoire | K41: HLLET18 | L41: HLHIS18
A42: 16-Psychologie, psychologie clinique, psychologie sociale | J42: Musicologie - Sciences de l'homme, anthropologie, ethnologie | K42: HLTSH18
A43: 17-Philosophie | J43: Philosophie-Droit | K43: HLOPH18 | L43: DLDRT18
A44: 18-Architecture (ses théories et ses pratiques), arts appliqués, arts plastiques, arts du spectacle, épistémologie des enseignements artistiques, esthétique, musicologie, musique, sciences de l'art | J44: Psychologie-Philosophie | K44: HLPSY18 | L44: HLOPH18
A45: 19-Sociologie, démographie | J45: Philosophie-Psychologie | K45: HLOPH18 | L45: HLPSY18
A46: 20-Anthropologie biologique, ethnologie, préhistoire | J46: Histoire-Lettres | K46: HLHIS18 | L46: HLLET18
A47: 21-Histoire, civilisation, archéologie et art des mondes anciens et médiévaux | J47: Sociologie-Économie | K47: HLSOC18 | L47: ILECG18
A48: 22-Histoire et civilisations : histoire des mondes modernes, histoire du monde contemporain, de l'art, de la musique | J48: Économie-Sociologie | K48: ILECG18 | L48: HLSOC18
A49: 23-Géographie physique, humaine, économique et régionale | J49: Droit-Philosophie | K49: DLDRT18 | L49: HLOPH18
A50: 24-Aménagement de l'espace, urbanisme | J50: Sciences de la terre-Physique | K50: SLTER18 | L50: SLPHY18
A51: 25-Mathématiques | J51: Physique-Sciences de la terre | K51: SLPHY18 | L51: SLTER18
A52: 26-Mathématiques appliquées et applications des mathématiques | J52: Mathématiques-Sciences de la vie | K52: SLMAT18 | L52: SLVIE18
A53: 27-Informatique
A54: 28-Milieux denses et matériaux
A55: 29-Constituants élémentaires
A56: 30-Milieux dilués et optique
A57: 31-Chimie théorique, physique, analytique
A58: 32-Chimie organique, minérale, industrielle
A59: 33-Chimie des matériaux
A60: 34-Astronomie, astrophysique
A61: 35-Structure et évolution de la Terre et des autres planètes
A62: 36-Terre solide : géodynamique des enveloppes supérieures, paléo-biosphère
A63: 37-Météorologie, océanographie physique et physique de l'environnement
A64: 60-Mécanique, génie mécanique, génie civil
... A83: 87-Sciences biologiques pharmaceutiques

Sheet Calcul
A1: Heure Pédagogique | O1: Heure CM
A3: Semestre 5 | D3: Semestre 6 | O3: Semestre 5 | P3: Semestre 6
A4: Heure CM | B4: Heure TD | C4: Heure TP | D4: Heure CM | E4: Heure TD | F4: Heure TP | O4: ='S5 Maquette'!I19*1.5 -> 0 | P4: ='S6 Maquette'!I19*1.5 -> 0
A5: =SUM(O4:O291) -> #REF! | B5: =SUM('S5 Maquette'!J19:J295) -> 164 | C5: =SUM('S5 Maquette'!K19:K295) -> 0 | D5: =SUM(P4:P291) -> #REF! | E5: =SUM('S6 Maquette'!J19:J300) -> 132 | F5: =SUM('S6 Maquette'!K19:K300) -> 0 | O5: ='S5 Maquette'!I20*1.5 -> 0 | P5: ='S6 Maquette'!I20*1.5 -> 0
A6: Total | D6: Total | O6: ='S5 Maquette'!I21*1.5 -> 0 | P6: ='S6 Maquette'!I21*1.5 -> 0
A7: =SUM(A5,B5,C5) -> #REF! | D7: =SUM(D5,E5,F5) -> #REF! | O7: ='S5 Maquette'!I22*1.5 -> 0 | P7: ='S6 Maquette'!I22*1.5 -> 0
A8: Total | O8: ='S5 Maquette'!I23*1.5 -> 0 | P8: ='S6 Maquette'!I23*1.5 -> 0
O9: ='S5 Maquette'!I24*1.5 -> 0 | P9: ='S6 Maquette'!I24*1.5 -> 0
A10: =SUM(A7,D7) -> #REF! | O10: ='S5 Maquette'!I25*1.5 -> 0 | P10: ='S6 Maquette'!I25*1.5 -> 0
O11: ='S5 Maquette'!I26*1.5 -> 0 | P11: ='S6 Maquette'!I26*1.5 -> 0
O12: ='S5 Maquette'!I27*1.5 -> 0 | P12: ='S6 Maquette'!I27*1.5 -> 0
O13: ='S5 Maquette'!I28*1.5 -> 24 | P13: ='S6 Maquette'!I28*1.5 -> 0
A14: Heure Porté par la maquette | H14: Mutualisation Porteuse | O14: ='S5 Maquette'!I29*1.5 -> 54 | P14: ='S6 Maquette'!I29*1.5 -> 0
O15: ='S5 Maquette'!#REF!*1.5 -> #REF! | P15: ='S6 Maquette'!I30*1.5 -> 13.5
A16: Semestre 5 | D16: Semestre 6 | H16: Semestre 5 | K16: Semestre 6 | O16: ='S5 Maquette'!I31*1.5 -> 0 | P16: ='S6 Maquette'!#REF!*1.5 -> #REF!
A17: Heure CM | B17: Heure TD | C17: Heure TP | D17: Heure CM | E17: Heure TD | F17: Heure TP | H17: Heure CM | I17: Heure TD | J17: Heure TP | K17: Heure CM | L17: Heure TD | M17: Heure TP | O17: ='S5 Maquette'!#REF!*1.5 -> #REF! | P17: ='S6 Maquette'!I32*1.5 -> 0
A18: =A5-H18 -> #REF! | B18: =B5-I18 -> 134 | C18: =C5-J18 -> 0 | D18: =D5-K18 -> #REF! | E18: =E5-L18 -> 102 | F18: =F5-M18 -> 0 | H18: =SUMIF('S5 Maquette'!M19:M295,"Portée",'S5 Maquette'!I19:I295)*1.5 -> 81 | I18: =SUMIF('S5 Maquette'!M19:M295,"Portée",'S5 Maquette'!J19:J295) -> 30 | J18: =SUMIF('S5 Maquette'!M19:M295,"Portée",'S5 Maquette'!K19:K295) -> 0 | K18: =SUMIF('S6 Maquette'!M19:M300,"Portée",'S6 Maquette'!I19:I300)*1.5 -> 13.5 | L18: =SUMIF('S6 Maquette'!M19:M300,"Portée",'S6 Maquette'!J19:J300) -> 30 | M18: =SUMIF('S6 Maquette'!M9:M300,"Portée",'S6 Maquette'!K19:K300) -> 0 | O18: ='S5 Maquette'!I32*1.5 -> 0 | P18: ='S6 Maquette'!I33*1.5 -> 0
A19: Total | D19: Total | O19: ='S5 Maquette'!I33*1.5 -> 0 | P19: ='S6 Maquette'!I34*1.5 -> 0
A20: =SUM(A18,B18,C18) -> #REF! | D20: =SUM(D18,E18,F18) -> #REF! | O20: ='S5 Maquette'!I34*1.5 -> 0 | P20: ='S6 Maquette'!#REF!*1.5 -> #REF!
A21: Total | O21: ='S5 Maquette'!I35*1.5 -> 0 | P21: ='S6 Maquette'!I35*1.5 -> 0
A22: =SUM(A20,D20) -> #REF! | O22: ='S5 Maquette'!#REF!*1.5 -> #REF! | P22: ='S6 Maquette'!#REF!*1.5 -> #REF!
O23: ='S5 Maquette'!I37*1.5 -> 0 | P23: ='S6 Maquette'!I36*1.5 -> 0
O24: ='S5 Maquette'!I38*1.5 -> 0 | P24: ='S6 Maquette'!#REF!*1.5 -> #REF!
O25: ='S5 Maquette'!#REF!*1.5 -> #REF! | P25: ='S6 Maquette'!I37*1.5 -> 0
O26: ='S5 Maquette'!I39*1.5 -> 0 | P26: ='S6 Maquette'!I41*1.5 -> 0
O27: ='S5 Maquette'!#REF!*1.5 -> #REF! | P27: ='S6 Maquette'!I38*1.5 -> 0
O28: ='S5 Maquette'!I40*1.5 -> 0 | P28: ='S6 Maquette'!I43*1.5 -> 0
O29: ='S5 Maquette'!#REF!*1.5 -> #REF! | P29: ='S6 Maquette'!I44*1.5 -> 0
O30: ='S5 Maquette'!#REF!*1.5 -> #REF! | P30: ='S6 Maquette'!I45*1.5 -> 0
O31: ='S5 Maquette'!I41*1.5 -> 0 | P31: ='S6 Maquette'!I46*1.5 -> 0
O32: ='S5 Maquette'!I42*1.5 -> 0 | P32: ='S6 Maquette'!I47*1.5 -> 0
O33: ='S5 Maquette'!I43*1.5 -> 0 | P33: ='S6 Maquette'!I48*1.5 -> 0
O34: ='S5 Maquette'!I44*1.5 -> 0 | P34: ='S6 Maquette'!I49*1.5 -> 0
O35: ='S5 Maquette'!I45*1.5 -> 0 | P35: ='S6 Maquette'!I50*1.5 -> 0
O36: ='S5 Maquette'!I46*1.5 -> 0 | P36: ='S6 Maquette'!I51*1.5 -> 0
O37: ='S5 Maquette'!I47*1.5 -> 0 | P37: ='S6 Maquette'!I52*1.5 -> 0
O38: ='S5 Maquette'!I48*1.5 -> 0 | P38: ='S6 Maquette'!I53*1.5 -> 0
O39: ='S5 Maquette'!I49*1.5 -> 0 | P39: ='S6 Maquette'!I54*1.5 -> 0
O40: ='S5 Maquette'!I50*1.5 -> 0 | P40: ='S6 Maquette'!I55*1.5 -> 0
O41: ='S5 Maquette'!I51*1.5 -> 0 | P41: ='S6 Maquette'!I56*1.5 -> 0
O42: ='S5 Maquette'!I52*1.5 -> 0 | P42: ='S6 Maquette'!I57*1.5 -> 0
... O291: ='S5 Maquette'!I301*1.5 -> 0 | P291: ='S6 Maquette'!I306*1.5 -> 0

Sheet Fiche Générale
A1: Type Diplôme : Licence & Double Licence 3ème année
A2: Type diplôme | B2: Licence
A3: COMPOSANTE | B3: Portail_LLAC
A4: MENTION
A5: CODE DIPLÔME | B5: Mention : Humanités
A6: Régime d'inscription | B6: Initiale Hors-Apprentissage / Formation Continue / Formation Permanente
A8: Parcours Type en L3
A9: Parcours Type | B9: Arts et Métiers de l'Image
A11: Heures Maquette | C11: Heures Valorisées
A18: COMPENSATION
A19: Les MCC déterminent le mode de compensation entre UE, semestre et année ainsi que la possibilité d’une note éliminatoire.
A20: Obtention des UE
A21: UE obtenue avec moyenne de 10/20. Les ECUE sont compensables entre eux. Calcul seconde chance à l'ECUE : multiplier par deux la meilleure note
A24: Obtention du Semestre
A25: Semestre obtenu avec une moyenne de 10/20.
A28: Obtention de l'Année
A29: Année obtenue avec une moyenne de 10/20. Les semestres se compensent.
A32: Note éliminatoire/ Note seuil
A33: Non Les étudiants concernés peuvent bénéficier, sur autorisation des responsables de formation, d'une dispense d'assiduité.
A36: REDOUBLEMENT
A37: Limitation du nombre de redoublements : 2 fois en L1 ; 1 fois en L2 ; 1 fois en L3 ; au-delà, à titre dérogatoire. Le redoublement n’étant pas de droit, lorsqu’un ou une étudiante obtient entre 0 et 5 de moyenne annuelle, le jury est souverain pour décider d’un redoublement ou non, en tenant compte de sa situation personnelle (maladie, décès d’un proche, etc.).
... A45: - Semestre 5 : « Tout étudiant ou étudiante ayant une note inférieure ou égale à 10 dans au moins deux évaluations de contrôle continu (tous ECUE confondus) à la mi-novembre, ou tout étudiant ou étudiante qui rencontrera des difficultés importantes (observées par l'équipe pédagogique et/ou déclarées par l'étudiant ou l'étudiante) devra obligatoirement suivre les cours de renforcement. » - Semestre 6 : « Tout étudiant ou étudiante ayant une note inférieure ou égale à 10 en moyenne générale à l’issue du semestre impair devra obligatoirement suivre les cours de renforcement ».

Sheet S5 Maquette
A7: Composante | B7: ='Fiche Générale'!B3 -> Portail_LLAC | C7: Diplôme | E7: ='Fiche Générale'!B4 -> 0 | G7: Code diplôme | H7: ='Fiche Générale'!B5 -> Mention : Humanités
C10: Parcours type | E10: ='Fiche Générale'!B9 -> Arts et Métiers de l'Image
A13: Année | B13: 3 ème Année de Licence | C13: Code année | G13: Heures Maquette
A15: Semestre | B15: Semestre 5 | C15: Code semestre | G15: Heures Valorisées
A18: Niveau | B18: Libellé ELP | C18: Nature ELP | D18: ECTS | E18: Type | F18: Statut | G18: Code Apogée | H18: CNU | I18: Heure CM | J18: Heure TD | K18: Heure TP | L18: Langues | M18: Mutualisation | N18: Formation Porteuse | O18: Observations / Remarques ex: Intervention à titre gracieux / Capacité d'accueil max
A19: 0 | B19: UE Competences transversales 5 | C19: UE | D19: 6
A20: 0.1 | B20: Competences numeriques 3 | C20: ECUE
A21: 0.2 | B21: Competences informationnelles 3 | C21: ECUE
A22: 0.3 | B22: Langue vivante-5 | C22: BLOC
B23: Min 1 Max 1 | C23: OPTION
A24: 0.3.1 | B24: Anglais 5 | C24: ECUE
A25: 0.3.2 | B25: Espagnol 5 | C25: ECUE
A26: 0.3.3 | B26: Italien 5 | C26: ECUE
A27: 1 | B27: UE 1 Iconographie et culture visuelle | C27: UE | D27: 6
A28: 1.1 | B28: Iconographies et nouvelles images | C28: ECUE | I28: 16 | M28: Porteuse
A29: 1.2 | B29: Analyses transversales 1 (Philosophie des images) | C29: ECUE | I29: 36 | M29: Portée | N29: M1 Philosophie
A30: 1.3 | B30: Politique des représentation médiatiques | C30: ECUE | I30: 18 | M30: Portée | N30: L3 InfoCom | O30: Nouvelle mutualisation
A31: 1.4 | B31: Ciné-club | C31: ECUE | J31: 12 | M31: Portée | N31: DE Scénarios et Narrations
A32: 2 | B32: UE 2 Nouvelles écritures et immersivité | C32: UE | D32: 6
A33: 2.1 | B33: Réalisation audiovisuelle | C33: ECUE | J33: 36 | M33: Porteuse
A34: 2.2 | B34: Nouvelles images Nouvelles écritures | C34: ECUE | J34: 18 | M34: Porteuse
A35: 2.3 | B35: Scénarisation | C35: ECUE | J35: 18 | M35: Porteuse
A36: 2.4 | B36: Musique et médias | C36: ECUE | J36: 18 | M36: Portée | N36: L3 Musicologie
A37: 3 | B37: UE 3 Professionnalisation | C37: UE | D37: 6
A38: 3.1 | B38: Gestion de projet | C38: ECUE | J38: 20 | M38: Porteuse
A39: 3.3 | B39: Coaching CV | C39: ECUE | J39: 10 | M39: Porteuse
A40: 4 | B40: UE 4 Méthodologies | C40: UE | D40: 6
A41: 4.1 | B41: Méthodes d'enquête et de recherche | C41: ECUE | J41: 16 | M41: Porteuse
A42: 4.2 | B42: Méthodes de création et processus créatif | C42: ECUE | J42: 16 | M42: Porteuse

Sheet S5 MCC
A7: Composante | B7: ='Fiche Générale'!B3 -> Portail_LLAC | C7: Diplôme | E7: ='Fiche Générale'!B4 -> 0 | G7: Code diplôme | H7: ='Fiche Générale'!B5 -> Mention : Humanités
C10: Parcours type | E10: ='Fiche Générale'!B9 -> Arts et Métiers de l'Image
M12: 1ère session | P12: Seconde Chance
A13: Année | B13: ='S5 Maquette'!B13:B14 -> 3 ème Année de Licence | D13: Code Année | E13: ='S5 Maquette'!E13:F14 -> 0
M14: Contrôle continu | N14: Contrôle Terminal
A15: Semestre | B15: ='S5 Maquette'!B15:B16 -> Semestre 5 | D15: Code Semestre | E15: ='S5 Maquette'!E15:F16 -> 0
A18: Libellé | B18: Nature | C18: Statut | D18: Coefficient | E18: Notes attendues | F18: Résultat attendu: (ACQ/AJ) | G18: Conservation note | H18: Capitalisable | I18: Compensable | J18: Seuil de compensation /20 | K18: Type de contrôle | L18: Si CC&CT coef du CT | M18: Nbre d'évalution minimum | N18: Nature | O18: Durée | P18: Format d'évaluation | Q18: Nature | R18: Durée | S18: Modalités de mise en œuvre | T18: Commentaires
A19: ='S5 Maquette'!B19 -> UE Competences transversales 5 | B19: ='S5 Maquette'!C19 -> UE | C19: ='S5 Maquette'!F19 -> 0
A20: ='S5 Maquette'!B20 -> Competences numeriques 3 | B20: ='S5 Maquette'!C20 -> ECUE | C20: ='S5 Maquette'!F20 -> 0
A21: ='S5 Maquette'!B21 -> Competences informationnelles 3 | B21: ='S5 Maquette'!C21 -> ECUE | C21: ='S5 Maquette'!F21 -> 0
A22: ='S5 Maquette'!B22 -> Langue vivante-5 | B22: ='S5 Maquette'!C22 -> BLOC | C22: ='S5 Maquette'!F22 -> 0
A23: ='S5 Maquette'!B23 -> Min 1 Max 1 | B23: ='S5 Maquette'!C23 -> OPTION
A24: ='S5 Maquette'!B24 -> Anglais 5 | B24: ='S5 Maquette'!C24 -> ECUE
A25: ='S5 Maquette'!B25 -> Espagnol 5 | B25: ='S5 Maquette'!C25 -> ECUE | C25: ='S5 Maquette'!F25 -> 0
A26: ='S5 Maquette'!B26 -> Italien 5 | B26: ='S5 Maquette'!C26 -> ECUE | C26: ='S5 Maquette'!F26 -> 0
A27: ='S5 Maquette'!B27 -> UE 1 Iconographie et culture visuelle | B27: ='S5 Maquette'!C27 -> UE | C27: ='S5 Maquette'!F27 -> 0 | D27: 1 | E27: OUI | F27: OUI | G27: OUI | H27: OUI | I27: OUI
A28: ='S5 Maquette'!B28 -> Iconographies et nouvelles images | B28: ='S5 Maquette'!C28 -> ECUE | C28: ='S5 Maquette'!F28 -> 0 | D28: 1 | E28: OUI | F28: OUI | G28: OUI | H28: OUI | I28: OUI | K28: CCI (CC Intégral) | M28: 2
A29: ='S5 Maquette'!B29 -> Analyses transversales 1 (Philosophie des images) | B29: ='S5 Maquette'!C29 -> ECUE | C29: ='S5 Maquette'!F29 -> 0 | D29: 1 | E29: OUI | F29: OUI | G29: OUI | H29: OUI | I29: OUI | K29: CCI (CC Intégral) | S29: ECUE porté
A30: ='S5 Maquette'!B30 -> Politique des représentation médiatiques | B30: ='S5 Maquette'!C30 -> ECUE | D30: 1 | J30: cf MCC InfoCom
A31: ='S5 Maquette'!B31 -> Ciné-club | B31: ='S5 Maquette'!C31 -> ECUE | C31: ='S5 Maquette'!F31 -> 0 | D31: 1 | E31: OUI | F31: OUI | G31: OUI | H31: OUI | I31: OUI | K31: CCI (CC Intégral) | S31: ECUE porté
A32: ='S5 Maquette'!B32 -> UE 2 Nouvelles écritures et immersivité | B32: ='S5 Maquette'!C32 -> UE | C32: ='S5 Maquette'!F32 -> 0 | D32: 1 | E32: OUI | F32: OUI | G32: OUI | H32: OUI | I32: OUI
A33: ='S5 Maquette'!B33 -> Réalisation audiovisuelle | B33: ='S5 Maquette'!C33 -> ECUE | C33: ='S5 Maquette'!F33 -> 0 | D33: 1 | E33: OUI | F33: OUI | G33: OUI | H33: OUI | I33: OUI | K33: CCI (CC Intégral) | M33: 2 | S33: CCI = doublement de la meilleure note puis recalcul avec trois notes
A34: ='S5 Maquette'!B34 -> Nouvelles images Nouvelles écritures | B34: ='S5 Maquette'!C34 -> ECUE | C34: ='S5 Maquette'!F34 -> 0 | D34: 1 | E34: OUI | F34: OUI | G34: OUI | H34: OUI | I34: OUI | K34: CCI (CC Intégral) | M34: 2 | S34: CCI = doublement de la meilleure note puis recalcul avec trois notes
A35: ='S5 Maquette'!B35 -> Scénarisation | B35: ='S5 Maquette'!C35 -> ECUE | C35: ='S5 Maquette'!F35 -> 0 | D35: 1 | E35: OUI | F35: OUI | G35: OUI | H35: OUI | I35: OUI | K35: CCI (CC Intégral) | M35: 2 | S35: CCI = doublement de la meilleure note puis recalcul avec trois notes
A36: ='S5 Maquette'!B36 -> Musique et médias | B36: ='S5 Maquette'!C36 -> ECUE | C36: ='S5 Maquette'!#REF! -> #REF! | D36: 1 | J36: cf MCC Musique | S36: ECUE porté
A37: ='S5 Maquette'!B37 -> UE 3 Professionnalisation | B37: ='S5 Maquette'!C37 -> UE | C37: ='S5 Maquette'!F38 -> 0 | D37: 1 | E37: OUI | F37: OUI | G37: OUI | H37: OUI | I37: OUI
A38: ='S5 Maquette'!B38 -> Gestion de projet | B38: ='S5 Maquette'!C38 -> ECUE | C38: ='S5 Maquette'!#REF! -> #REF! | D38: 1 | E38: OUI | F38: OUI | G38: OUI | H38: OUI | I38: OUI | K38: CT (Contrôle terminal) | N38: Oral
A39: ='S5 Maquette'!B39 -> Coaching CV | B39: ='S5 Maquette'!C39 -> ECUE | C39: ='S5 Maquette'!#REF! -> #REF! | D39: 1 | E39: NON | F39: OUI | G39: NON | H39: OUI | I39: OUI | K39: CT (Contrôle terminal) | N39: Oral
A40: ='S5 Maquette'!B40 -> UE 4 Méthodologies | B40: ='S5 Maquette'!C40 -> UE | C40: ='S5 Maquette'!#REF! -> #REF! | D40: 1 | E40: OUI | F40: OUI | G40: OUI | H40: OUI | I40: OUI
A41: ='S5 Maquette'!B41 -> Méthodes d'enquête et de recherche | B41: ='S5 Maquette'!C41 -> ECUE | C41: ='S5 Maquette'!F43 -> 0 | D41: 1 | E41: OUI | F41: OUI | G41: OUI | H41: OUI | I41: OUI | K41: CCI (CC Intégral) | M41: 2 | S41: CCI = doublement de la meilleure note puis recalcul avec trois notes
A42: ='S5 Maquette'!B42 -> Méthodes de création et processus créatif | B42: ='S5 Maquette'!C42 -> ECUE | C42: ='S5 Maquette'!F44 -> 0 | D42: 1 | E42: OUI | F42: OUI | G42: OUI | H42: OUI | I42: OUI | K42: CCI (CC Intégral) | M42: 2 | S42: CCI = doublement de la meilleure note puis recalcul avec trois notes
A43: ='S5 Maquette'!B45 -> 0 | B43: ='S5 Maquette'!C45 -> 0 | C43: ='S5 Maquette'!F45 -> 0
A44: ='S5 Maquette'!B46 -> 0 | B44: ='S5 Maquette'!C46 -> 0 | C44: ='S5 Maquette'!F46 -> 0
A45: ='S5 Maquette'!B47 -> 0 | B45: ='S5 Maquette'!C47 -> 0 | C45: ='S5 Maquette'!F47 -> 0
A46: ='S5 Maquette'!B48 -> 0 | B46: ='S5 Maquette'!C48 -> 0 | C46: ='S5 Maquette'!F48 -> 0
A47: ='S5 Maquette'!B49 -> 0 | B47: ='S5 Maquette'!C49 -> 0 | C47: ='S5 Maquette'!F49 -> 0
A48: ='S5 Maquette'!B50 -> 0 | B48: ='S5 Maquette'!C50 -> 0 | C48: ='S5 Maquette'!F50 -> 0
A49: ='S5 Maquette'!B51 -> 0 | B49: ='S5 Maquette'!C51 -> 0 | C49: ='S5 Maquette'!F51 -> 0
A50: ='S5 Maquette'!B52 -> 0 | B50: ='S5 Maquette'!C52 -> 0 | C50: ='S5 Maquette'!F52 -> 0
A51: ='S5 Maquette'!B53 -> 0 | B51: ='S5 Maquette'!C53 -> 0 | C51: ='S5 Maquette'!F53 -> 0
A52: ='S5 Maquette'!B54 -> 0 | B52: ='S5 Maquette'!C54 -> 0 | C52: ='S5 Maquette'!F54 -> 0
A53: ='S5 Maquette'!B55 -> 0 | B53: ='S5 Maquette'!C55 -> 0 | C53: ='S5 Maquette'!F55 -> 0
A54: ='S5 Maquette'!B56 -> 0 | B54: ='S5 Maquette'!C56 -> 0 | C54: ='S5 Maquette'!F56 -> 0
... A293: ='S5 Maquette'!B295 -> 0 | B293: ='S5 Maquette'!C295 -> 0 | C293: ='S5 Maquette'!F295 -> 0

Sheet S5 MCC NA
A7: Composante | B7: ='Fiche Générale'!B3 -> Portail_LLAC | C7: Diplôme | E7: ='Fiche Générale'!B4 -> 0 | G7: Code diplôme | H7: ='Fiche Générale'!B5 -> Mention : Humanités
C10: Parcours type | E10: ='Fiche Générale'!B9 -> Arts et Métiers de l'Image
M12: 1ère session | P12: Seconde Chance
A13: Année | B13: ='S5 Maquette'!B13:B14 -> 3 ème Année de Licence | D13: Code Année | E13: ='S5 Maquette'!E13:F14 -> 0
M14: Contrôle continu | N14: Contrôle Terminal
A15: Semestre | B15: ='S5 Maquette'!B15:B16 -> Semestre 5 | D15: Code Semestre | E15: ='S5 Maquette'!E15:F16 -> 0
A18: Libellé | B18: Nature | C18: Statut | D18: Coefficient | E18: Notes attendues | F18: Résultat attendu: (ACQ/AJ) | G18: Conservation note | H18: Capitalisable | I18: Compensable | J18: Seuil de compensation /20 | K18: Type de contrôle | L18: Si CC&CT coef du CT | M18: Nbre d'évalution minimum | N18: Nature | O18: Durée | P18: Format d'évaluation | Q18: Nature | R18: Durée | S18: Modalités de mise en œuvre | T18: Commentaires
A19: ='S5 Maquette'!B19 -> UE Competences transversales 5 | B19: ='S5 Maquette'!C19 -> UE | C19: ='S5 Maquette'!F19 -> 0
A20: ='S5 Maquette'!B20 -> Competences numeriques 3 | B20: ='S5 Maquette'!C20 -> ECUE | C20: ='S5 Maquette'!F20 -> 0
A21: ='S5 Maquette'!B21 -> Competences informationnelles 3 | B21: ='S5 Maquette'!C21 -> ECUE | C21: ='S5 Maquette'!F21 -> 0
A22: ='S5 Maquette'!B22 -> Langue vivante-5 | B22: ='S5 Maquette'!C22 -> BLOC | C22: ='S5 Maquette'!F22 -> 0
A23: ='S5 Maquette'!B23 -> Min 1 Max 1 | B23: ='S5 Maquette'!C23 -> OPTION
A24: ='S5 Maquette'!B24 -> Anglais 5 | B24: ='S5 Maquette'!C24 -> ECUE
A25: ='S5 Maquette'!B25 -> Espagnol 5 | B25: ='S5 Maquette'!C25 -> ECUE | C25: ='S5 Maquette'!F25 -> 0
A26: ='S5 Maquette'!B26 -> Italien 5 | B26: ='S5 Maquette'!C26 -> ECUE | C26: ='S5 Maquette'!F26 -> 0
A27: ='S5 Maquette'!B27 -> UE 1 Iconographie et culture visuelle | B27: ='S5 Maquette'!C27 -> UE | C27: ='S5 Maquette'!F27 -> 0 | D27: 1 | E27: OUI | F27: OUI | G27: OUI | H27: OUI | I27: OUI
A28: ='S5 Maquette'!B28 -> Iconographies et nouvelles images | B28: ='S5 Maquette'!C28 -> ECUE | C28: ='S5 Maquette'!F28 -> 0 | D28: 1 | E28: OUI | F28: OUI | G28: OUI | H28: OUI | I28: OUI | K28: CCI (CC Intégral) | M28: 2 | S28: Non assidus = conservation de la meilleure note
A29: ='S5 Maquette'!B29 -> Analyses transversales 1 (Philosophie des images) | B29: ='S5 Maquette'!C29 -> ECUE | C29: ='S5 Maquette'!F29 -> 0 | D29: 1 | E29: OUI | F29: OUI | G29: OUI | H29: OUI | I29: OUI | K29: CCI (CC Intégral) | S29: ECUE porté
A30: ='S5 Maquette'!B30 -> Politique des représentation médiatiques | B30: ='S5 Maquette'!C30 -> ECUE | D30: 1 | J30: cf MCC InfoCom | S30: Non assidus = conservation de la meilleure note
A31: ='S5 Maquette'!B31 -> Ciné-club | B31: ='S5 Maquette'!C31 -> ECUE | C31: ='S5 Maquette'!F31 -> 0 | D31: 1 | E31: OUI | F31: OUI | G31: OUI | H31: OUI | I31: OUI | K31: CCI (CC Intégral) | S31: ECUE porté
A32: ='S5 Maquette'!B32 -> UE 2 Nouvelles écritures et immersivité | B32: ='S5 Maquette'!C32 -> UE | C32: ='S5 Maquette'!F32 -> 0 | D32: 1 | E32: OUI | F32: OUI | G32: OUI | H32: OUI | I32: OUI
A33: ='S5 Maquette'!B33 -> Réalisation audiovisuelle | B33: ='S5 Maquette'!C33 -> ECUE | C33: ='S5 Maquette'!F33 -> 0 | D33: 1 | E33: OUI | F33: OUI | G33: OUI | H33: OUI | I33: OUI | K33: CCI (CC Intégral) | M33: 2 | S33: Non assidus = conservation de la meilleure note
A34: ='S5 Maquette'!B34 -> Nouvelles images Nouvelles écritures | B34: ='S5 Maquette'!C34 -> ECUE | C34: ='S5 Maquette'!F34 -> 0 | D34: 1 | E34: OUI | F34: OUI | G34: OUI | H34: OUI | I34: OUI | K34: CCI (CC Intégral) | M34: 2 | S34: Non assidus = conservation de la meilleure note
A35: ='S5 Maquette'!B35 -> Scénarisation | B35: ='S5 Maquette'!C35 -> ECUE | C35: ='S5 Maquette'!F35 -> 0 | D35: 1 | E35: OUI | F35: OUI | G35: OUI | H35: OUI | I35: OUI | K35: CCI (CC Intégral) | M35: 2 | S35: Non assidus = conservation de la meilleure note
A36: ='S5 Maquette'!B36 -> Musique et médias | B36: ='S5 Maquette'!C36 -> ECUE | C36: ='S5 Maquette'!#REF! -> #REF! | D36: 1 | J36: cf MCC Musique | S36: ECUE porté
A37: ='S5 Maquette'!B37 -> UE 3 Professionnalisation | B37: ='S5 Maquette'!C37 -> UE | C37: ='S5 Maquette'!F38 -> 0 | D37: 1 | E37: OUI | F37: OUI | G37: OUI | H37: OUI | I37: OUI
A38: ='S5 Maquette'!B38 -> Gestion de projet | B38: ='S5 Maquette'!C38 -> ECUE | C38: ='S5 Maquette'!#REF! -> #REF! | D38: 1 | E38: OUI | F38: OUI | G38: OUI | H38: OUI | I38: OUI | K38: CT (Contrôle terminal) | N38: Oral
A39: ='S5 Maquette'!B39 -> Coaching CV | B39: ='S5 Maquette'!C39 -> ECUE | C39: ='S5 Maquette'!#REF! -> #REF! | D39: 1 | E39: NON | F39: OUI | G39: NON | H39: OUI | I39: OUI | K39: CT (Contrôle terminal) | N39: Oral
A40: ='S5 Maquette'!B40 -> UE 4 Méthodologies | B40: ='S5 Maquette'!C40 -> UE | C40: ='S5 Maquette'!#REF! -> #REF! | D40: 1 | E40: OUI | F40: OUI | G40: OUI | H40: OUI | I40: OUI
A41: ='S5 Maquette'!B41 -> Méthodes d'enquête et de recherche | B41: ='S5 Maquette'!C41 -> ECUE | C41: ='S5 Maquette'!F43 -> 0 | D41: 1 | E41: OUI | F41: OUI | G41: OUI | H41: OUI | I41: OUI | K41: CCI (CC Intégral) | M41: 2 | S41: Non assidus = conservation de la meilleure note
A42: ='S5 Maquette'!B42 -> Méthodes de création et processus créatif | B42: ='S5 Maquette'!C42 -> ECUE | C42: ='S5 Maquette'!F44 -> 0 | D42: 1 | E42: OUI | F42: OUI | G42: OUI | H42: OUI | I42: OUI | K42: CCI (CC Intégral) | M42: 2 | S42: Non assidus = conservation de la meilleure note
A43: ='S5 Maquette'!B45 -> 0 | B43: ='S5 Maquette'!C45 -> 0 | C43: ='S5 Maquette'!F45 -> 0
A44: ='S5 Maquette'!B46 -> 0 | B44: ='S5 Maquette'!C46 -> 0 | C44: ='S5 Maquette'!F46 -> 0
A45: ='S5 Maquette'!B47 -> 0 | B45: ='S5 Maquette'!C47 -> 0 | C45: ='S5 Maquette'!F47 -> 0
A46: ='S5 Maquette'!B48 -> 0 | B46: ='S5 Maquette'!C48 -> 0 | C46: ='S5 Maquette'!F48 -> 0
A47: ='S5 Maquette'!B49 -> 0 | B47: ='S5 Maquette'!C49 -> 0 | C47: ='S5 Maquette'!F49 -> 0
A48: ='S5 Maquette'!B50 -> 0 | B48: ='S5 Maquette'!C50 -> 0 | C48: ='S5 Maquette'!F50 -> 0
A49: ='S5 Maquette'!B51 -> 0 | B49: ='S5 Maquette'!C51 -> 0 | C49: ='S5 Maquette'!F51 -> 0
A50: ='S5 Maquette'!B52 -> 0 | B50: ='S5 Maquette'!C52 -> 0 | C50: ='S5 Maquette'!F52 -> 0
A51: ='S5 Maquette'!B53 -> 0 | B51: ='S5 Maquette'!C53 -> 0 | C51: ='S5 Maquette'!F53 -> 0
A52: ='S5 Maquette'!B54 -> 0 | B52: ='S5 Maquette'!C54 -> 0 | C52: ='S5 Maquette'!F54 -> 0
A53: ='S5 Maquette'!B55 -> 0 | B53: ='S5 Maquette'!C55 -> 0 | C53: ='S5 Maquette'!F55 -> 0
A54: ='S5 Maquette'!B56 -> 0 | B54: ='S5 Maquette'!C56 -> 0 | C54: ='S5 Maquette'!F56 -> 0
... A293: ='S5 Maquette'!B295 -> 0 | B293: ='S5 Maquette'!C295 -> 0 | C293: ='S5 Maquette'!F295 -> 0

Sheet S6 Maquette
A7: Composante | B7: ='Fiche Générale'!B3 -> Portail_LLAC | C7: Diplôme | E7: ='Fiche Générale'!B4 -> 0 | G7: Code diplôme | H7: ='Fiche Générale'!B5 -> Mention : Humanités
C10: Parcours type | E10: ='Fiche Générale'!B9 -> Arts et Métiers de l'Image
A13: Année | B13: ='S5 Maquette'!B13:B14 -> 3 ème Année de Licence | C13: Code année | E13: ='S5 Maquette'!E13:F14 -> 0 | G13: Heures Maquette
A15: Semestre | B15: Semestre 6 | C15: Code semestre | G15: Heures Valorisées
A18: Niveau | B18: Libellé ELP | C18: Nature ELP | D18: ECTS | E18: Type | F18: Statut | G18: Code Apogée | H18: CNU | I18: Heure CM | J18: Heure TD | K18: Heure TP | L18: Langues | M18: Mutualisation | N18: Formation Porteuse | O18: Observations / Remarques ex: Intervention à titre gracieux / Capacité d'accueil max
A19: 0 | B19: UE Competences transversales 6 | C19: UE | D19: 6
A20: 0.1 | B20: Competences numeriques 3 | C20: ECUE
A21: 0.2 | B21: Competences informationnelles 3 | C21: ECUE
A22: 0.3 | B22: Langue vivante-6 | C22: BLOC
B23: Min 1 Max 1 | C23: OPTION
A24: 0.3.1 | B24: Anglais 6 | C24: ECUE
A25: 0.3.2 | B25: Espagnol 6 | C25: ECUE
A26: 0.3.3 | B26: Italien 6 | C26: ECUE
A27: 1 | B27: UE 1 Nouvelles écritures et immersivité | C27: UE | D27: 6
A28: 1.1 | B28: Nouvelles images Nouvelles écritures | C28: ECUE | J28: 18 | M28: Porteuse
A29: 1.2 | B29: Scénarisation | C29: ECUE | J29: 18 | M29: Porteuse
A30: 1.3 | B30: Acteurs et spectateurs dans les dispositifs spectaculaires à l'ère du numérique | C30: ECUE | I30: 9 | J30: 12 | M30: Portée | N30: Licence Théâtre
A31: 1.4 | B31: Musique et médias | C31: ECUE | J31: 18 | M31: Portée | N31: L3 Musicologie
A32: 2 | B32: UE 2 Réalisation | C32: UE | D32: 6
A33: 2.1 | B33: Réalisation d'un court-métrage de fiction | C33: ECUE | J33: 36 | M33: Porteuse
A34: 2.2 | B34: Ciné-club | C34: ECUE | J34: 12 | M34: Porteuse
A35: 3 | B35: UE 3 Projet de recherche | C35: UE | D35: 6
A36: 3.2 | B36: Méthodologie du mini-mémoire | C36: ECUE | J36: 18 | M36: Porteuse
A37: 4 | B37: UE 4 Professionnalisation | C37: UE | D37: 6
A38: 4.1 | B38: Masterclass | C38: ECUE
A39: 4.2 | B39: Choix de professionnalisation | C39: ECUE
B40: 1 ECUE au choix | C40: OPTION
A41: 4.21 | B41: Stage | C41: ECUE
A42: 4.22 | B42: Projet créatif | C42: ECUE

Sheet S6 MCC
A7: Composante | B7: ='Fiche Générale'!B3 -> Portail_LLAC | C7: Diplôme | E7: ='Fiche Générale'!B4 -> 0 | G7: Code diplôme | H7: ='Fiche Générale'!B5 -> Mention : Humanités
C10: Parcours type | E10: ='Fiche Générale'!B9 -> Arts et Métiers de l'Image
M12: 1ère session | P12: Seconde Chance
A13: Année | B13: ='S6 Maquette'!B13:B14 -> 3 ème Année de Licence | D13: Code Année | E13: ='S6 Maquette'!E13:F14 -> 0
M14: Contrôle continu | N14: Contrôle Terminal
A15: Semestre | B15: ='S6 Maquette'!B15:B16 -> Semestre 6 | D15: Code Semestre | E15: ='S6 Maquette'!E15:F16 -> 0
A18: Libellé | B18: Nature | C18: Statut | D18: Coefficient | E18: Notes attendues | F18: Résultat attendu: (ACQ/AJ) | G18: Conservation note | H18: Capitalisable | I18: Compensable | J18: Seuil de compensation /20 | K18: Type de contrôle | L18: Si CC&CT coef du CT | M18: Nbre d'évalution minimum | N18: Nature | O18: Durée | P18: Format d'évaluation | Q18: Nature | R18: Durée | S18: Modalités de mise en œuvre | T18: Commentaires
A19: ='S6 Maquette'!B19 -> UE Competences transversales 6 | B19: ='S6 Maquette'!C19 -> UE | C19: ='S6 Maquette'!F19 -> 0
A20: ='S6 Maquette'!B20 -> Competences numeriques 3 | B20: ='S6 Maquette'!C20 -> ECUE | C20: ='S6 Maquette'!F20 -> 0
A21: ='S6 Maquette'!B21 -> Competences informationnelles 3 | B21: ='S6 Maquette'!C21 -> ECUE | C21: ='S6 Maquette'!F21 -> 0
A22: ='S6 Maquette'!B22 -> Langue vivante-6 | B22: ='S6 Maquette'!C22 -> BLOC | C22: ='S6 Maquette'!F22 -> 0
A23: ='S6 Maquette'!B23 -> Min 1 Max 1 | B23: ='S6 Maquette'!C23 -> OPTION
A24: ='S6 Maquette'!B24 -> Anglais 6 | B24: ='S6 Maquette'!C24 -> ECUE
A25: ='S6 Maquette'!B25 -> Espagnol 6 | B25: ='S6 Maquette'!C25 -> ECUE | C25: ='S6 Maquette'!F25 -> 0
A26: ='S6 Maquette'!B26 -> Italien 6 | B26: ='S6 Maquette'!C26 -> ECUE
A27: ='S6 Maquette'!B27 -> UE 1 Nouvelles écritures et immersivité | B27: ='S6 Maquette'!C27 -> UE | C27: ='S6 Maquette'!F27 -> 0 | D27: 1 | E27: OUI | F27: OUI | G27: OUI | H27: OUI | I27: OUI
A28: ='S6 Maquette'!B28 -> Nouvelles images Nouvelles écritures | B28: ='S6 Maquette'!C28 -> ECUE | C28: ='S6 Maquette'!F28 -> 0 | D28: 1 | E28: OUI | F28: OUI | G28: OUI | H28: OUI | I28: OUI | K28: CCI (CC Intégral) | M28: 2 | S28: CCI = doublement de la meilleure note puis recalcul avec trois notes/ Non assidus = conservation de la meilleure note
A29: ='S6 Maquette'!B29 -> Scénarisation | B29: ='S6 Maquette'!C29 -> ECUE | C29: ='S6 Maquette'!F29 -> 0 | D29: 1 | E29: OUI | F29: OUI | G29: OUI | H29: OUI | I29: OUI | K29: CCI (CC Intégral) | M29: 2 | S29: CCI = doublement de la meilleure note puis recalcul avec trois notes/ Non assidus = conservation de la meilleure note
A30: ='S6 Maquette'!B30 -> Acteurs et spectateurs dans les dispositifs spectaculaires à l'ère du numérique | B30: ='S6 Maquette'!C30 -> ECUE | C30: ='S6 Maquette'!#REF! -> #REF! | D30: 1 | E30: OUI | F30: OUI | G30: OUI | H30: OUI | I30: OUI | K30: CCI (CC Intégral) | M30: 2 | S30: ECUE porté
A31: ='S6 Maquette'!B31 -> Musique et médias | B31: ='S6 Maquette'!C31 -> ECUE | C31: ='S6 Maquette'!F32 -> 0 | D31: 1 | J31: cf MCC Musique
A32: ='S6 Maquette'!B32 -> UE 2 Réalisation | B32: ='S6 Maquette'!C32 -> UE | C32: ='S6 Maquette'!F33 -> 0 | D32: 1 | E32: OUI | F32: OUI | G32: OUI | H32: OUI | I32: OUI
A33: ='S6 Maquette'!B33 -> Réalisation d'un court-métrage de fiction | B33: ='S6 Maquette'!C33 -> ECUE | C33: ='S6 Maquette'!F34 -> 0 | D33: 1 | E33: OUI | F33: OUI | G33: OUI | H33: OUI | I33: OUI | K33: CCI (CC Intégral) | M33: 2 | S33: CCI = doublement de la meilleure note puis recalcul avec trois notes/ Non assidus = conservation de la meilleure note
A34: ='S6 Maquette'!B34 -> Ciné-club | B34: ='S6 Maquette'!C34 -> ECUE | C34: ='S6 Maquette'!#REF! -> #REF! | D34: 1 | E34: OUI | F34: OUI | G34: OUI | H34: OUI | I34: OUI | K34: CCI (CC Intégral) | M34: 2 | S34: CCI = doublement de la meilleure note puis recalcul avec trois notes/ Non assidus = conservation de la meilleure note
A35: ='S6 Maquette'!B35 -> UE 3 Projet de recherche | B35: ='S6 Maquette'!C35 -> UE | C35: ='S6 Maquette'!#REF! -> #REF! | D35: 1 | E35: OUI | F35: OUI | G35: OUI | H35: OUI | I35: OUI
A36: ='S6 Maquette'!B36 -> Méthodologie du mini-mémoire | B36: ='S6 Maquette'!C36 -> ECUE | C36: ='S6 Maquette'!#REF! -> #REF! | D36: 1 | E36: OUI | F36: OUI | G36: OUI | H36: OUI | I36: OUI | K36: CCI (CC Intégral) | M36: 2 | S36: CCI = doublement de la meilleure note puis recalcul avec trois notes/ Non assidus = conservation de la meilleure note
A37: ='S6 Maquette'!B37 -> UE 4 Professionnalisation | B37: ='S6 Maquette'!C37 -> UE | C37: ='S6 Maquette'!F41 -> 0 | D37: 1 | E37: OUI | F37: OUI | G37: OUI | H37: OUI | I37: OUI
A38: ='S6 Maquette'!B38 -> Masterclass | B38: ='S6 Maquette'!C38 -> ECUE | C38: ='S6 Maquette'!F38 -> 0 | E38: NON | F38: NON | G38: NON | H38: NON | I38: NON
A39: ='S6 Maquette'!B39 -> Choix de professionnalisation | B39: OPTION | D39: 1 | E39: NON | F39: NON
A40: ='S6 Maquette'!B41 -> Stage | B40: ='S6 Maquette'!C41 -> ECUE | E40: NON | F40: OUI | G40: NON | H40: OUI | I40: OUI | K40: CT (Contrôle terminal)
A41: ='S6 Maquette'!B42 -> Projet créatif | B41: ='S6 Maquette'!C42 -> ECUE | E41: NON | F41: OUI | G41: NON | H41: OUI | I41: OUI | K41: CT (Contrôle terminal)
A42: ='S6 Maquette'!B75 -> 0 | B42: ='S6 Maquette'!C75 -> 0 | C42: ='S6 Maquette'!F75 -> 0
A43: ='S6 Maquette'!B76 -> 0 | B43: ='S6 Maquette'!C76 -> 0 | C43: ='S6 Maquette'!F76 -> 0
A44: ='S6 Maquette'!B77 -> 0 | B44: ='S6 Maquette'!C77 -> 0 | C44: ='S6 Maquette'!F77 -> 0
A45: ='S6 Maquette'!B78 -> 0 | B45: ='S6 Maquette'!C78 -> 0 | C45: ='S6 Maquette'!F78 -> 0
A46: ='S6 Maquette'!B79 -> 0 | B46: ='S6 Maquette'!C79 -> 0 | C46: ='S6 Maquette'!F79 -> 0
A47: ='S6 Maquette'!B80 -> 0 | B47: ='S6 Maquette'!C80 -> 0 | C47: ='S6 Maquette'!F80 -> 0
A48: ='S6 Maquette'!B81 -> 0 | B48: ='S6 Maquette'!C81 -> 0 | C48: ='S6 Maquette'!F81 -> 0
A49: ='S6 Maquette'!B82 -> 0 | B49: ='S6 Maquette'!C82 -> 0 | C49: ='S6 Maquette'!F82 -> 0
A50: ='S6 Maquette'!B83 -> 0 | B50: ='S6 Maquette'!C83 -> 0 | C50: ='S6 Maquette'!F83 -> 0
A51: ='S6 Maquette'!B84 -> 0 | B51: ='S6 Maquette'!C84 -> 0 | C51: ='S6 Maquette'!F84 -> 0
A52: ='S6 Maquette'!B85 -> 0 | B52: ='S6 Maquette'!C85 -> 0 | C52: ='S6 Maquette'!F85 -> 0
A53: ='S6 Maquette'!B86 -> 0 | B53: ='S6 Maquette'!C86 -> 0 | C53: ='S6 Maquette'!F86 -> 0
... A267: ='S6 Maquette'!B300 -> 0 | B267: ='S6 Maquette'!C300 -> 0 | C267: ='S6 Maquette'!F300 -> 0

Sheet S6 MCC NA
A7: Composante | B7: ='Fiche Générale'!B3 -> Portail_LLAC | C7: Diplôme | E7: ='Fiche Générale'!B4 -> 0 | G7: Code diplôme | H7: ='Fiche Générale'!B5 -> Mention : Humanités
C10: Parcours type | E10: ='Fiche Générale'!B9 -> Arts et Métiers de l'Image
M12: 1ère session | P12: Seconde Chance
A13: Année | B13: ='S6 Maquette'!B13:B14 -> 3 ème Année de Licence | D13: Code Année | E13: ='S6 Maquette'!E13:F14 -> 0
M14: Contrôle continu | N14: Contrôle Terminal
A15: Semestre | B15: ='S6 Maquette'!B15:B16 -> Semestre 6 | D15: Code Semestre | E15: ='S6 Maquette'!E15:F16 -> 0
A18: Libellé | B18: Nature | C18: Statut | D18: Coefficient | E18: Notes attendues | F18: Résultat attendu: (ACQ/AJ) | G18: Conservation note | H18: Capitalisable | I18: Compensable | J18: Seuil de compensation /20 | K18: Type de contrôle | L18: Si CC&CT coef du CT | M18: Nbre d'évalution minimum | N18: Nature | O18: Durée | P18: Format d'évaluation | Q18: Nature | R18: Durée | S18: Modalités de mise en œuvre | T18: Commentaires
A19: ='S6 Maquette'!B19 -> UE Competences transversales 6 | B19: ='S6 Maquette'!C19 -> UE | C19: ='S6 Maquette'!F19 -> 0
A20: ='S6 Maquette'!B20 -> Competences numeriques 3 | B20: ='S6 Maquette'!C20 -> ECUE | C20: ='S6 Maquette'!F20 -> 0
A21: ='S6 Maquette'!B21 -> Competences informationnelles 3 | B21: ='S6 Maquette'!C21 -> ECUE | C21: ='S6 Maquette'!F21 -> 0
A22: ='S6 Maquette'!B22 -> Langue vivante-6 | B22: ='S6 Maquette'!C22 -> BLOC | C22: ='S6 Maquette'!F22 -> 0
A23: ='S6 Maquette'!B23 -> Min 1 Max 1 | B23: ='S6 Maquette'!C23 -> OPTION
A24: ='S6 Maquette'!B24 -> Anglais 6 | B24: ='S6 Maquette'!C24 -> ECUE
A25: ='S6 Maquette'!B25 -> Espagnol 6 | B25: ='S6 Maquette'!C25 -> ECUE | C25: ='S6 Maquette'!F25 -> 0
A26: ='S6 Maquette'!B26 -> Italien 6 | B26: ='S6 Maquette'!C26 -> ECUE
A27: ='S6 Maquette'!B27 -> UE 1 Nouvelles écritures et immersivité | B27: ='S6 Maquette'!C27 -> UE | C27: ='S6 Maquette'!F27 -> 0 | D27: 1 | E27: OUI | F27: OUI | G27: OUI | H27: OUI | I27: OUI
A28: ='S6 Maquette'!B28 -> Nouvelles images Nouvelles écritures | B28: ='S6 Maquette'!C28 -> ECUE | C28: ='S6 Maquette'!F28 -> 0 | D28: 1 | E28: OUI | F28: OUI | G28: OUI | H28: OUI | I28: OUI | K28: CCI (CC Intégral) | M28: 2 | S28: CCI = doublement de la meilleure note puis recalcul avec trois notes/ Non assidus = conservation de la meilleure note
A29: ='S6 Maquette'!B29 -> Scénarisation | B29: ='S6 Maquette'!C29 -> ECUE | C29: ='S6 Maquette'!F29 -> 0 | D29: 1 | E29: OUI | F29: OUI | G29: OUI | H29: OUI | I29: OUI | K29: CCI (CC Intégral) | M29: 2 | S29: CCI = doublement de la meilleure note puis recalcul avec trois notes/ Non assidus = conservation de la meilleure note
A30: ='S6 Maquette'!B30 -> Acteurs et spectateurs dans les dispositifs spectaculaires à l'ère du numérique | B30: ='S6 Maquette'!C30 -> ECUE | C30: ='S6 Maquette'!#REF! -> #REF! | D30: 1 | E30: OUI | F30: OUI | G30: OUI | H30: OUI | I30: OUI | K30: CCI (CC Intégral) | M30: 2 | S30: ECUE porté
A31: ='S6 Maquette'!B31 -> Musique et médias | B31: ='S6 Maquette'!C31 -> ECUE | C31: ='S6 Maquette'!F32 -> 0 | D31: 1 | J31: cf MCC Musique
A32: ='S6 Maquette'!B32 -> UE 2 Réalisation | B32: ='S6 Maquette'!C32 -> UE | C32: ='S6 Maquette'!F33 -> 0 | D32: 1 | E32: OUI | F32: OUI | G32: OUI | H32: OUI | I32: OUI
A33: ='S6 Maquette'!B33 -> Réalisation d'un court-métrage de fiction | B33: ='S6 Maquette'!C33 -> ECUE | C33: ='S6 Maquette'!F34 -> 0 | D33: 1 | E33: OUI | F33: OUI | G33: OUI | H33: OUI | I33: OUI | K33: CCI (CC Intégral) | M33: 2 | S33: CCI = doublement de la meilleure note puis recalcul avec trois notes/ Non assidus = conservation de la meilleure note
A34: ='S6 Maquette'!B34 -> Ciné-club | B34: ='S6 Maquette'!C34 -> ECUE | C34: ='S6 Maquette'!#REF! -> #REF! | D34: 1 | E34: OUI | F34: OUI | G34: OUI | H34: OUI | I34: OUI | K34: CCI (CC Intégral) | M34: 2 | S34: CCI = doublement de la meilleure note puis recalcul avec trois notes/ Non assidus = conservation de la meilleure note
A35: ='S6 Maquette'!B35 -> UE 3 Projet de recherche | B35: ='S6 Maquette'!C35 -> UE | C35: ='S6 Maquette'!#REF! -> #REF! | D35: 1 | E35: OUI | F35: OUI | G35: OUI | H35: OUI | I35: OUI
A36: ='S6 Maquette'!B36 -> Méthodologie du mini-mémoire | B36: ='S6 Maquette'!C36 -> ECUE | C36: ='S6 Maquette'!#REF! -> #REF! | D36: 1 | E36: OUI | F36: OUI | G36: OUI | H36: OUI | I36: OUI | K36: CCI (CC Intégral) | M36: 2 | S36: CCI = doublement de la meilleure note puis recalcul avec trois notes/ Non assidus = conservation de la meilleure note
A37: ='S6 Maquette'!B37 -> UE 4 Professionnalisation | B37: ='S6 Maquette'!C37 -> UE | C37: ='S6 Maquette'!F41 -> 0 | D37: 1 | E37: OUI | F37: OUI | G37: OUI | H37: OUI | I37: OUI
A38: ='S6 Maquette'!B38 -> Masterclass | B38: ='S6 Maquette'!C38 -> ECUE | C38: ='S6 Maquette'!F38 -> 0 | E38: NON | F38: NON | G38: NON | H38: NON | I38: NON
A39: ='S6 Maquette'!B39 -> Choix de professionnalisation | B39: OPTION | D39: 1
A40: ='S6 Maquette'!B41 -> Stage | B40: ='S6 Maquette'!C41 -> ECUE | E40: NON | F40: OUI | G40: NON | H40: OUI | I40: OUI | K40: CT (Contrôle terminal)
A41: ='S6 Maquette'!B42 -> Projet créatif | B41: ='S6 Maquette'!C42 -> ECUE | E41: NON | F41: OUI | G41: NON | H41: OUI | I41: OUI | K41: CT (Contrôle terminal)
A42: ='S6 Maquette'!B75 -> 0 | B42: ='S6 Maquette'!C75 -> 0 | C42: ='S6 Maquette'!F75 -> 0
A43: ='S6 Maquette'!B76 -> 0 | B43: ='S6 Maquette'!C76 -> 0 | C43: ='S6 Maquette'!F76 -> 0
A44: ='S6 Maquette'!B77 -> 0 | B44: ='S6 Maquette'!C77 -> 0 | C44: ='S6 Maquette'!F77 -> 0
A45: ='S6 Maquette'!B78 -> 0 | B45: ='S6 Maquette'!C78 -> 0 | C45: ='S6 Maquette'!F78 -> 0
A46: ='S6 Maquette'!B79 -> 0 | B46: ='S6 Maquette'!C79 -> 0 | C46: ='S6 Maquette'!F79 -> 0
A47: ='S6 Maquette'!B80 -> 0 | B47: ='S6 Maquette'!C80 -> 0 | C47: ='S6 Maquette'!F80 -> 0
A48: ='S6 Maquette'!B81 -> 0 | B48: ='S6 Maquette'!C81 -> 0 | C48: ='S6 Maquette'!F81 -> 0
A49: ='S6 Maquette'!B82 -> 0 | B49: ='S6 Maquette'!C82 -> 0 | C49: ='S6 Maquette'!F82 -> 0
A50: ='S6 Maquette'!B83 -> 0 | B50: ='S6 Maquette'!C83 -> 0 | C50: ='S6 Maquette'!F83 -> 0
A51: ='S6 Maquette'!B84 -> 0 | B51: ='S6 Maquette'!C84 -> 0 | C51: ='S6 Maquette'!F84 -> 0
A52: ='S6 Maquette'!B85 -> 0 | B52: ='S6 Maquette'!C85 -> 0 | C52: ='S6 Maquette'!F85 -> 0
A53: ='S6 Maquette'!B86 -> 0 | B53: ='S6 Maquette'!C86 -> 0 | C53: ='S6 Maquette'!F86 -> 0
... A267: ='S6 Maquette'!B300 -> 0 | B267: ='S6 Maquette'!C300 -> 0 | C267: ='S6 Maquette'!F300 -> 0
