Workbook
Name _ftn1: '1. NOTE PRESENTATION'!#REF!
Name _ftnref1: '1. NOTE PRESENTATION'!#REF!

Sheet NOTICE

Sheet 1. NOTE PRESENTATION
A1: Note de présentation du projet en vue de la création, de la modification ou du renouvellement d’une formation d’établissement diplômante
A3: Intitulé de la formation : DU Showrunner
A4: Objet du projet de formation : | B4: Renouvellement
A5: Composante : CREATES | B5: EUR CREATES
A6: Secteur disciplinaire : Arts | B6: 21 - ARTS
A7: Responsable de la formation (Nom Prénom) : Sophie RAIMOND
A8: Fonction : MCF Grade : Hors Classe
A9: Téléphone : 06 74 07 30 87 Mail : serge.milan@univ-cotedazur.fr
A10: Etude du marché / Opportunité économique et/ou pédagogique de l’action de formation (Contexte et enjeux de la formation, besoin et identification de la demande du marché, ancrage territorial, offres concurrentes…)² en 3 lignes maximum : Action du CMQ ICC en partenariat avec l'INA (cf. Annexe)
A11: Public visé : FI et FC
A12: Cycle du diplôme
A13: Niveau d'entrée minimal (bac, bac+1, bac+2 …) : | B13: Bac+4
A14: Niveau estimé de sortie bac, bac+1, bac+2 ...) : | B14: Bac+4
A15: Prérequis : Etudes en InfoCom, Arts, Cinéma, Littérature
A16: Objectif pédagogique exprimé en compétences/métiers : E1102 - Ecriture d'ouvrages, de livres ; L1304 - Réalisation cinématographique et audiovisuelle
A17: Modalités pédagogiques (Synchrone/asychrone) | B17: Synchrone
A18: Modalités pédagogiques (Présentiel/Distanciel/Hybride) | B18: Hybride
A19: Aspect formation continue² :
A20: *- Souhait d’ouvrir la formation à la formation continue : | B20: Oui
A21: *- Souhait d’enregistrer la formation au RNCP ou RSCH : | B21: Oui
A22: Logistique (lieu de la formation, capacité salle, spécificités salles) : Campus de Cannes
A23: Langue(s) d’enseignement : Français, Anglais
A24: Nombre visé de participants par session : 20
A25: Nombre de sessions par an et périodes de l’année : 1
A26: Durée de la formation | B26: < 6 mois
A27: Rythme de la formation (journée, soir, samedi, alternance, séquences de cours groupés, cours du soir, séance de regroupement…) : une semaine intensive
A28: Stage | B28: Non
A29: Durée du stage : une semaine
A30: Partenariat public ou privé financier : Ville de Cannes ; INA
A31: Partenariat public ou privé académique :
A32: Informations complémentaires : Cf. Convention tripartite ; https://univ-cotedazur.fr/showrunner-school-2021
A33: 1. Avis COPIL composante (avec soutenabilité du site) :
A34: Arguments (alignement stratégique, intérêt financier, intérêt d’image, intérêt pour l’insertion professionnelle des étudiants, ...) : Date COPIL composante :
A35: 2. Date de remise de l’opportunité au Vice-président formation :
A36: 3. Accord du Vice-président formation pour instruction du dossier :
A37: Date d’accord du Vice-président formation :
A39: ² Soutien proposé par le Service Formation Continue : contact soutien étude de marché : Cyrine AYEB
A41: *Ne pas écrire dans les lignes colorées en gris - sélectionner une valeur dans le menu déroulant au bout de la ligne*

Sheet 2.DESCRIPTION FORMATION
A1: 2. DESCRIPTION DE LA FORMATION
A2: 2.1. Objectifs de la formation/compétences attendues
A3: Indiquez : - les objectifs spécifiques de la formation - les connaissances et compétences attendues des étudiants à l’issue de la formation (sous forme d’une fiche RNCP pour les formations souhaitant bénéficier des fonds de la formation professionnelle et continue).
A4: "Ce DU dédié à la Direction artistique des productions sérielles et des séries audiovisuelles propose une semaine de cours en présentiel donnés par des professionnels et des EC, précédés d'un cours en distanciel et d'encadrement assurés par des EC UCA (soit en tout 48h eqTD par des professionnels, et 16h eqTD par des EC ). Ces cours sont consacrés à la définition et aux fonctions du showrunner, et sont surtout assurés par des professionnels français et étrangers des séries de fiction. Il s'agit ainsi d'appréhender la profession de showrunner et les dispositifs de production des séries en France et dans le monde, en plus d'acquérir des bases théoriques narratologiques, scénographiques et managériales : direction et management d’atelier d’écriture ; techniques de la production exécutive et de la production déléguée ; techniques de budgétisation d’un programme et contraintes de production ; enjeux de diffusion et de programmation ; management des équipes de tournage, accompagnement et direction artistique ; spécificités de la fonction de showrunner à la française." Compétences attendues en fin de formation (REM : dossier France Compétences en cours d'élaboration en collaboration avec le Service Formation Continue d'UCA) : • Rassembler des éléments bibliographiques, filmographiques et iconographiques pour fixer l’univers visuel et sonore de la fiction. • Inscrire le scénario dans un genre fictionnel ou dans une esthétique originale, dans un contexte spatial, social et historique cohérent. • Synthétiser un projet de scénario sous forme de synopsis plus ou moins courts. • Prendre en compte, dans l’écriture, les contraintes économiques et artistiques. • Intégrer au scénario les modifications indispensables pour en établir une version de tournage. • Estimer la faisabilité financière du projet de fiction et son public potentiel ainsi que la disponibilité des droits en cas d’adaptation. • Contrôler les choix esthétiques et artistiques initiaux (qualité du regard et du jugement créatif) pour garantir une cohérence d'ensemble du projet de communication visuelle. • Construire un récit récurrent ou déclinable en épisodes sur le long terme. • Raconter l’histoire et les intentions du scénario dans un pitch oral de quelques minutes. • Mettre en valeur les lignes de force et les spécificités du projet de fiction dans un pitch. • Argumenter ses choix au regard de la cohérence dramatique et économique du projet de fiction. • Recueillir et analyser les retours des collaborateurs artistiques et financiers en vue d'améliorer le scénario.
A17: 2.2. Organisation pédagogique
A18: • Commentaires explicitant la cohérence des contenus, l’articulation des unités d’enseignements et le choix de l’équipe pédagogique au regard des objectifs. • La maquette des enseignements ainsi que la liste des intervenants seront fournis dans le feuillet 5 "Maquette" et le feuillet 3
A19: Organisation : Sophie Raimond, Serge Milan (Mcf UCA CREATES), Jean-François Trubert (Pr UCA CREATES), Mireille Maurice (responsable pôle régional INA Sud) Comité Scientifique, jury et sélection des intervenants : Sophie Raimond, Serge Milan (Mcf UCA CREATES), Jean-François Trubert (Pr UCA CREATES), Jean-Claude Mocik (responsable pédagogique INA) - Cours introductif (distanciel) : Eléments de narratologie sérielle Jour 1 Missions, statut Les fonctions, responsabilités et activités du showrunner Description et analyse du statut du showrunner La responsabilité du showrunner face au producteur Le relationnel 360° Jour 2 Droit / Budget et financement Le statut contractuel du showrunner : analyse du statut d’auteur et de producteur (producteur, producteur artistique, producteur intégré, producteur délégué) La répartition des droits en atelier Les contrats avec le producteur : rappel des fondamentaux Budget d’écriture / Budget de production - Enveloppes d’écriture - Ventilation des postes - Plan de financement Comment s’adapte le showrunner ? Études de cas : « Plus belle la vie » v. « X Company » et « Flashpoint » Jour 3 Casting des scénaristes et recrutement Séquencier / dialogue Spécificités des scénaristes Encadrement d’une équipe d’auteurs "L’univers de la série" : codes et vision techniques et artistiques de la série Les outils du management : - Gestion des relations humaines / Gestion des conflits (Rapports de force et leadership) - Gestion du temps et d’un planning Jour 4 Élaborer un dossier artistique Identité visuelle et sonore Casting Mise en scène et décors Retours d’expérience : Le tandem Producteur / Showrunner Jour 5 Les étapes de la post-production Les fondamentaux du montage et de la post-production L’étalonnage, l’illustration sonore, le sound design, le mixage, la post-synchro Notion de workflow et de format pivot Le design et les univers infographiques Budgets et timing de la post-production Bilan de la formation - Pitch final et notesde production écrite des participants (distanciel ou présentiel)
A32: 2.3. Positionnement dans la stratégie de la composante et de l'établissement
A33: • Le positionnement et la valeur ajoutée de la formation au sein de la composante et de l'établissement
A34: Il n'existe en France pratiquement pas de formation à visée fortement professionnalisante permettant à des professionnels ou à des étudiants avancés qui permettent de saisir l'ensemble des phases et corps de métiers à l'œuvre dans le process de création d'une série audiovisuelle. Crée par l'INA en 2012, la Summer School "Showrunner" a débuté à Cannes en 2019 avec le soutien fort d'UCA (financement permettant la gratuité pour les stagiaires, cf. convention en pj) et de la Mairie de Cannes (logistique et locaux de la Médiathèque Romain Gary). Dans le cadre de l'offre de formation autour des Ecritures créatives proposée à partir de septembre 2020 sur le nouveau campus cannois, nous avons proposé à l'INA de repenser et d'organiser conjointement un stage déjà proposé dans des versions moins élaborées par l'INA depuis sept ans déjà et de le transformer en Summer School (Ecole d'été Internationale financée par UCA Jedi, cf. pj), puis en DU. Pendant la semaine de cours, les différents professionnels sont rassemblés et accueillis par Jean-Claude Mocik, responsable INA et référent présent tout au long de la formation, réunissant différents profils d’experts français et étrangers afin de couvrir le processus complet de création d'une série audiovisuelle : showrunners, scénaristes, producteurs, réalisateurs, post-producteurs. Pour l'édition 2021 étaient présent(e)s : Marie-Pierre Thomas - scénariste, Marc Ellis et Stéphanie Morgenstern - showrunners, Fred Garson - auteur/réalisateur, Jean Delduc - pré- et post- producteur. La seconde édition de ce DU – Summer School Showrunner a permis de mettre en place un atelier plus réflexif : quelle relation entretient le scénariste avec la production ? Comment repenser le travail d’écriture collective ? Nous espérons pouvoir accueillir un panel plus large de professionnels et d’étudiants spécialisés afin de définir des enjeux en termes de gestion de projet, de production et de narratologie. En positionnement sur le campus de Cannes, ce DU – Summer school constituera un bénéfice pour toutes les structures internes à l’EUR CREATES, y compris les écoles d’art associées (et en particulier pour l’ERACM qui est composante UCA et qui est à proximité du site cannois, mais aussi pour la Villa Arson). Après une subvention IDEX en 2019 et les difficulté des 2 dernières éditions liées au COVID, nous avons demandé à bénéficier d'un nouveau modèle économique, lié aux financement CMQ ICC FICCTION PIA4 France 2030 (dossier déposé le 15/12/2022).
A47: 2.4. Public visé et effectifs attendus
A48: Indiquez le public visé, les effectifs attendus pour chacun de ces publics et si nécessaire la mise en place de tarifs préférentiels
... A63: • Préciser si des subventions ou conventions sont prévues pour ce diplôme
B64: Financeur | C64: Montant (en €) | D64: Elements de preuves (joints au dossier) + état d'avancement
A65: Subvention / convention 1 | B65: Caisse de dépôts | C65: 18885 | D65: FICCTION
A66: Subvention / convention 2
A67: Subvention / convention 3
A68: Subvention / convention 4
A69: Subvention / convention 5
A70: Total | C70: =SUM(C65:C69) -> 18885

Sheet 3. ETUDE MARCHE PRIX
A1: 3. ETUDE DE MARCHE ET DU PRIX
A2: A renseigner par le porteur de projet (onglet vérifié par la Direction de la Formation continue)
A3: 3.1. Qualification du besoin du marché visé :
A4: Indiquez :
A18: 3.2. Analyse concurrentielle portant sur l'étude des caractéristiques d'actions de formation analogues réalisées par des offreurs concurrents privés et publics
A19: (La zone géographique visée : France ou international) sur la base d'étude des offres sur internet et sur le site du CPF, et leur comparaison)
A33: 3.3. Analyse concurrentielle des prix de vente et proposition de positionnement
A35: Formation | C35: Etablissement | E35: Privé/public | G35: Nb d'heures de la formation | I35: Prix de la formation | K35: Coût horaire | M35: Présentiel /à distance | O35: Répartition TP/ CM | Q35: Financement CPF | S35: Financement DPC (médical) | T35: Financement FIFPL (médical) | U35: Autre infos
A46: Commentaires de la Direction Formation continue :

Sheet 4. EQUIPE PEDAGOGIQUE
A1: 4. EQUIPE PEDAGOGIQUE
A2: ENSEIGNANTS (y compris d’autres établissements d’enseignement supérieur) | G2: INTERVENANTS PROFESSIONNELS (vacations)
A3: Nom Prénom | B3: Statut | C3: Établissement de rattachement | D3: Coordonnées (y compris courriel) | E3: Volume horaire assuré | G3: Nom Prénom | H3: Profession | I3: Organisme de rattachement | J3: Coordonnées (y compris courriel) | K3: Volume horaire assuré | L3: Apports au regard des objectifs de la formation
A4: Jean-François Trubert (Pr) | C4: UCA | D4: Jean-françois.trubert@univ-cotedazur.fr | E4: 3h TD encadrement | G4: Marie-Pierre Thomas | I4: mariepierre.thomas@gmail.com | J4: 8hCM | K4: scénariste - coordinatrice de la formation
A5: Serge Milan (Mcf) | C5: UCA | D5: Serge.milan@univ-cotedazur.fr | E5: 4h TD encadrement | G5: Jean Delduc | I5: <jcmocik@ina.fr> | J5: 4hCM | K5: Post-producteur
A6: Ilias Yocaris | C6: UCA | D6: Ilias.Yocaris@univ-cotedazur.fr | E6: 2hCM | G6: Fred Garson | I6: <jcmocik@ina.fr> | J6: 4hCM | K6: Réalisateur
A7: Marc Marti | C7: UCA | D7: marc.marti@univ-cotedazur.fr | E7: 2h CM | G7: Stéphanie Morgenstern | I7: <jcmocik@ina.fr> | J7: 4hCM | K7: Scénariste
A8: Celine Masoni-Lacroix | C8: UCA | D8: celine.masoni-lacroix@univ-cotedazur.fr | E8: 2h CM | G8: Marc Ellis | I8: <jcmocik@ina.fr> | J8: 4hCM | K8: Scénariste
E9: 7h TD encadrement + 6h CM cours | J9: 32h CM
E10: 16h eqTD | J10: 48h eqTD

Sheet 5. SELECTION
A1: 5. SELECTION
A2: Date d'ouverture de la campagne : | B2: mi-avril
A3: Date de fermeture de la campagne : | B3: mi-septembre
A4: Date prévsionnelle de la commission de sélection : | B4: mi-septembre
A5: Capacité d'accueil : | B5: 20
A6: PIECES CONSTITUTIVES DU DOSSIER | C6: CRITERES D'APPRECIATION
A7: Relevé de notes du baccalauréat : | B7: Non | C7: Matières examinées :
A8: Relevé de notes des études supérieures : | B8: Oui | C8: Matières examinées :
A9: Lettre de motivation et descriptif du projet professionnel : | B9: Oui | C9: Cohérence entre le diplôme envisagé et le descriptif du projet professionnel. Qualité rédactionnelle (orthographe, défaut de structure ou de syntaxe). Cohérence de la réflexion (développement de l’argumentaire).
A10: Curriculum Vitae détaillé : | B10: Oui | C10: Elément de synthèse permettant de découvrir les compétences utiles acquises dans le cadre d’expériences précédentes et de cerner des éléments de personnalité du candidat.
A11: Lettres de recommandation : | B11: Oui | C11: Facultatif | D11: Ne rentre pas dans les critères de sélection mais permet d’apporter un soutien à la candidature.
A12: Niveau de langue en français pour les candidats titulaires d'un diplôme étranger : | B12: Oui | C12: Facultatif | D12: Niveau CECRL attendu : | F12: B2
A13: Niveau de langue en anglais : | B13: Oui | C13: Facultatif | D13: Niveau CECRL attendu : | F13: B2
A14: Productions personnelles (dossier, bibliographie, mémoire, etc.) | B14: Oui | C14: Facultatif | D14: Elément permettant d’évaluer la pertinence des travaux effectués au regard du diplôme souhaité.
A15: Justificatifs d'expérience professionnelle : | B15: Oui | C15: Facultatif | D15: Elément permettant d’apprécier l’adaptation du profil aux exigences du diplôme souhaité.
A16: Document attestant d'une compétence complémentaire : | B16: Oui | C16: Facultatif | D16: Préciser les critères : | F16: Toute écriture et travail créatif littéraire ouu audiovisuel
A17: Autre document (précisez): | B17: Oui | C17: Facultatif | D17: Préciser les critères :
A18: Entretien Oral : | B18: Oui | C18: L’entretien oral fait suite à une phase de présélection sur dossier. Il permet d’apprécier les qualités du candidat sur leur savoir être, l'expression, la clarté et la cohérence d'un raisonnement, le degré de motivation du candidat et la pertinence des réponses supposant une préparation à cet entretien.

Sheet 6. MAQUETTE
A1: 6.MAQUETTE
A2: Semestre 1/ou annualisé
A3: UE DISCIPLINAIRES | B3: Nombre à choisir par l'étudiant :
A4: Intitulé UE (précisez si obligatoire) / PARCOURS | B4: ECTS | C4: Intitulé des matières (Eléments constitutifs d’UE – ECUE) | D4: Coeff. des ECUE | E4: Heures CM | F4: Mutalisée ? Oui / Non | G4: Heures TD | H4: Mutalisée ? Oui / Non | I4: Heures TP (+ projets tutorés et suivi de stages) | J4: Mutalisée ? Oui / Non | K4: Total Heures UE en HETD | L4: Heures à valoriser
A5: UE1 Showrunner | D5: 1 | E5: 35 | F5: NON | G5: 8 | H5: NON | K5: =E5*1.5+G5+I5*2/3 -> 60.5 | L5: =IF(F5="oui",0,E5*1.5)+IF(H5="oui",0,G5*1)+IF(J5="oui",0,I5*2/3) -> 60.5
K6: =E6*1.5+G6+I6*2/3 -> 0 | L6: =IF(F6="oui",0,E6*1.5)+IF(H6="oui",0,G6*1)+IF(J6="oui",0,I6*2/3) -> 0
K7: =E7*1.5+G7+I7*2/3 -> 0 | L7: =IF(F7="oui",0,E7*1.5)+IF(H7="oui",0,G7*1)+IF(J7="oui",0,I7*2/3) -> 0
K8: =E8*1.5+G8+I8*2/3 -> 0 | L8: =IF(F8="oui",0,E8*1.5)+IF(H8="oui",0,G8*1)+IF(J8="oui",0,I8*2/3) -> 0
K9: =E9*1.5+G9+I9*2/3 -> 0 | L9: =IF(F9="oui",0,E9*1.5)+IF(H9="oui",0,G9*1)+IF(J9="oui",0,I9*2/3) -> 0
K10: =E10*1.5+G10+I10*2/3 -> 0 | L10: =IF(F10="oui",0,E10*1.5)+IF(H10="oui",0,G10*1)+IF(J10="oui",0,I10*2/3) -> 0
K11: =E11*1.5+G11+I11*2/3 -> 0 | L11: =IF(F11="oui",0,E11*1.5)+IF(H11="oui",0,G11*1)+IF(J11="oui",0,I11*2/3) -> 0
K12: =E12*1.5+G12+I12*2/3 -> 0 | L12: =IF(F12="oui",0,E12*1.5)+IF(H12="oui",0,G12*1)+IF(J12="oui",0,I12*2/3) -> 0
K13: =E13*1.5+G13+I13*2/3 -> 0 | L13: =IF(F13="oui",0,E13*1.5)+IF(H13="oui",0,G13*1)+IF(J13="oui",0,I13*2/3) -> 0
K14: =E14*1.5+G14+I14*2/3 -> 0 | L14: =IF(F14="oui",0,E14*1.5)+IF(H14="oui",0,G14*1)+IF(J14="oui",0,I14*2/3) -> 0
K15: =E15*1.5+G15+I15*2/3 -> 0 | L15: =IF(F15="oui",0,E15*1.5)+IF(H15="oui",0,G15*1)+IF(J15="oui",0,I15*2/3) -> 0
K16: =E16*1.5+G16+I16*2/3 -> 0 | L16: =IF(F16="oui",0,E16*1.5)+IF(H16="oui",0,G16*1)+IF(J16="oui",0,I16*2/3) -> 0
K17: =E17*1.5+G17+I17*2/3 -> 0 | L17: =IF(F17="oui",0,E17*1.5)+IF(H17="oui",0,G17*1)+IF(J17="oui",0,I17*2/3) -> 0
... K35: =E35*1.5+G35+I35*2/3 -> 0 | L35: =IF(F35="oui",0,E35*1.5)+IF(H35="oui",0,G35*1)+IF(J35="oui",0,I35*2/3) -> 0
D36: total | E36: =SUM(E5:E35) -> 35 | G36: =SUM(G5:G35) -> 8 | I36: =SUM(I5:I35) -> 0 | K36: =SUM(K5:K35) -> 60.5 | L36: =SUM(L5:L35) -> 60.5
A38: Semestre 2 (le cas échéant)
A39: UE DISCIPLINAIRES | B39: Nombre à choisir par l'étudiant :
A40: Intitulé UE (précisez si obligatoire) / PARCOURS | B40: ECTS | C40: Intitulé des matières (Eléments constitutifs d’UE – ECUE) | D40: Coeff. des ECUE | E40: Heures CM | F40: Mutalisée ? Oui / Non | G40: Heures TD | H40: Mutalisée ? Oui / Non | I40: Heures TP (+ projets tutorés et suivi de stages) | J40: Mutalisée ? Oui / Non | K40: Total Heures UE en HETD | L40: Heures à valoriser
K41: =E41*1.5+G41+I41*2/3 -> 0 | L41: =IF(F41="oui",0,E41*1.5)+IF(H41="oui",0,G41*1)+IF(J41="oui",0,I41*2/3) -> 0
K42: =E42*1.5+G42+I42*2/3 -> 0 | L42: =IF(F42="oui",0,E42*1.5)+IF(H42="oui",0,G42*1)+IF(J42="oui",0,I42*2/3) -> 0
K43: =E43*1.5+G43+I43*2/3 -> 0 | L43: =IF(F43="oui",0,E43*1.5)+IF(H43="oui",0,G43*1)+IF(J43="oui",0,I43*2/3) -> 0
K44: =E44*1.5+G44+I44*2/3 -> 0 | L44: =IF(F44="oui",0,E44*1.5)+IF(H44="oui",0,G44*1)+IF(J44="oui",0,I44*2/3) -> 0
K45: =E45*1.5+G45+I45*2/3 -> 0 | L45: =IF(F45="oui",0,E45*1.5)+IF(H45="oui",0,G45*1)+IF(J45="oui",0,I45*2/3) -> 0
K46: =E46*1.5+G46+I46*2/3 -> 0 | L46: =IF(F46="oui",0,E46*1.5)+IF(H46="oui",0,G46*1)+IF(J46="oui",0,I46*2/3) -> 0
K47: =E47*1.5+G47+I47*2/3 -> 0 | L47: =IF(F47="oui",0,E47*1.5)+IF(H47="oui",0,G47*1)+IF(J47="oui",0,I47*2/3) -> 0
K48: =E48*1.5+G48+I48*2/3 -> 0 | L48: =IF(F48="oui",0,E48*1.5)+IF(H48="oui",0,G48*1)+IF(J48="oui",0,I48*2/3) -> 0
K49: =E49*1.5+G49+I49*2/3 -> 0 | L49: =IF(F49="oui",0,E49*1.5)+IF(H49="oui",0,G49*1)+IF(J49="oui",0,I49*2/3) -> 0
K50: =E50*1.5+G50+I50*2/3 -> 0 | L50: =IF(F50="oui",0,E50*1.5)+IF(H50="oui",0,G50*1)+IF(J50="oui",0,I50*2/3) -> 0
K51: =E51*1.5+G51+I51*2/3 -> 0 | L51: =IF(F51="oui",0,E51*1.5)+IF(H51="oui",0,G51*1)+IF(J51="oui",0,I51*2/3) -> 0
K52: =E52*1.5+G52+I52*2/3 -> 0 | L52: =IF(F52="oui",0,E52*1.5)+IF(H52="oui",0,G52*1)+IF(J52="oui",0,I52*2/3) -> 0
... K71: =E71*1.5+G71+I71*2/3 -> 0 | L71: =IF(F71="oui",0,E71*1.5)+IF(H71="oui",0,G71*1)+IF(J71="oui",0,I71*2/3) -> 0
D72: total | E72: =SUM(E41:E71) -> 0 | F72: =SUM(F41:F71) -> 0 | G72: =SUM(G41:G71) -> 0 | H72: =SUM(H41:H71) -> 0 | I72: =SUM(I41:I71) -> 0 | J72: =SUM(J41:J71) -> 0 | K72: =SUM(K41:K71) -> 0 | L72: =SUM(L41:L71) -> 0
A74: Semestre 3 (le cas échéant)
A75: UE DISCIPLINAIRES | B75: Nombre à choisir par l'étudiant :
A76: Intitulé UE (précisez si obligatoire) / PARCOURS | B76: ECTS | C76: Intitulé des matières (Eléments constitutifs d’UE – ECUE) | D76: Coeff. des ECUE | E76: Heures CM | F76: Mutalisée ? Oui / Non | G76: Heures TD | H76: Mutalisée ? Oui / Non | I76: Heures TP (+ projets tutorés et suivi de stages) | J76: Mutalisée ? Oui / Non | K76: Total Heures UE en HETD | L76: Heures à valoriser
K77: =E77*1.5+G77+I77*2/3 -> 0 | L77: =IF(F77="oui",0,E77*1.5)+IF(H77="oui",0,G77*1)+IF(J77="oui",0,I77*2/3) -> 0
...

Sheet 7. SOUTENABILITE FIN
A1: 7. SOUTENABILITE FINANCIERE DE LA FORMATION | M1: ! Seules les cases jaunes sont à remplir !
A2: Détermination des droits d'inscription
A3: Droits systématiques : | B3: 57 | C3: Indiqué pour information. Ne rentrent pas dans le calcul d'autofinancement de la formation car recette fléchée pour la bibliothèque et l'université lors de l'inscription | M3: C'est le tarif moyen par étudiant pour garantir l'équilibre du DU : si le groupe était complet (15 étudiants), il faudrait en théorie que chacun des étudiants paient ce montant pour couvrir les dépenses.
A4: Droit d'inscription plein tarif n°1 : | B4: 1600 | C4: Droits d'inscription moyen équilibre pour 15 étudiants : | G4: =H24+(H15/15)+(H29/15) -> 848.83234
A5: Droit d'inscription n°2 (DI 2): | B5: 300 | C5: Précisez pour quels types d'apprenants cela s'applique : | G5: Etudiants UniCA
A6: Droit d'inscription n°3 (DI 3): | B6: 2500 | C6: Précisez pour quels types d'apprenants cela s'applique : | G6: Formation Continue
A7: Droit d'inscription n°4 (DI 4): | C7: Précisez pour quels types d'apprenants cela s'applique :
A8: Nombre d'apprenants | M8: Cela implique de fixer un tarif d'inscription plein tarif supérieur à ce montant, afin de : -garantir la rentabilité du DU avec un nombre d'étudiants inscrits < 15 (voir cellule C35); - permettre les inscriptions d'étudiants exonérés ou en tarifs réduits
A9: Nb d'apprenants plein tarif: | B9: 4 | C9: Le nombre d'étudiants inscrits par tarif est reporté dans le tableau des simulations de recettes en bas de page.
A10: Nb d'apprenants DI 2: | B10: 10
A11: Nb d'apprenants DI 3: | B11: 1
A12: Nb d'apprenants DI 4:
A13: Equilibre financier
C14: CM (en HETD) | D14: TD | E14: TP (en HETD) | F14: TOTAL DU (en HETD) | G14: dont heures non mutualisées | H14: Coût affecté TD pour 1 groupe
A15: Coût de l'enseignement | B15: TOTAL Heures de formation (en HETD) | C15: =SUM(C16:C21) -> 52.5 | D15: =SUM(D16:D21) -> 8 | E15: =SUM(E16:E21) -> 0 | F15: =SUM(F16:F21) -> 60.5 | G15: =SUM(G16:G21) -> 60.5 | H15: =G15*51.39 -> 3109.095 | J15: C'est le coût dédié à l'enseignement du DU. Valorisation des heures non mutualisées au coût moyen d'une vacation
B16: semestre 1 | C16: ='6. MAQUETTE'!E36*1.5 -> 52.5 | D16: ='6. MAQUETTE'!G36 -> 8 | E16: ='6. MAQUETTE'!I5*2/3 -> 0 | F16: =C16+D16+E16 -> 60.5 | G16: ='6. MAQUETTE'!L36 -> 60.5 | H16: =G16*51.39 -> 3109.095
B17: semestre 2 | C17: ='6. MAQUETTE'!E72*1.5 -> 0 | D17: ='6. MAQUETTE'!G72 -> 0 | E17: ='6. MAQUETTE'!I72*2/3 -> 0 | F17: =C17+D17+E17 -> 0 | G17: ='6. MAQUETTE'!L72 -> 0 | H17: =G17*51.39 -> 0
B18: semestre 3 | C18: ='6. MAQUETTE'!E108*1.5 -> 0 | D18: ='6. MAQUETTE'!G108 -> 0 | E18: ='6. MAQUETTE'!I108*2/3 -> 0 | F18: =C18+D18+E18 -> 0 | G18: ='6. MAQUETTE'!L108 -> 0 | H18: =G18*51.39 -> 0
B19: semestre 4 | C19: ='6. MAQUETTE'!E144*1.5 -> 0 | D19: ='6. MAQUETTE'!G144 -> 0 | E19: ='6. MAQUETTE'!I144*2/3 -> 0 | F19: =C19+D19+E19 -> 0 | G19: ='6. MAQUETTE'!L144 -> 0 | H19: =G19*51.39 -> 0
B20: semestre 5 | H20: =G20*51.39 -> 0
B21: semestre 6 | H21: =G21*51.39 -> 0
A22: Coût indirect (gestion administrative / utilisation des infrastructures) | B22: Nombre d'heures moy. Diplôme UCA (en HETD) | F22: 573
B23: Coût support d'un étudiant UCA (en €) | F23: 1467
B24: Coût administratif par étudiant DU (Hetd DU / 573) x 1467 € | H24: =IF(F15>F22,F23,(F15/F22)*F23) -> 154.89267 | J24: C'est le montant minimum auquel doit être fixé le tarif d'inscription des étudiants non soumis au plein tarif, afin de couvrir leur coût indirect
A25: Coût de fonctionnement spécifique | B25: Fournitures spécifiques diverses
B26: déplacements des intervenants | H26: 7300
B27: Frais de réception
B28: Autres prestations
B29: TOTA dépenses de fonctionnement | H29: =SUM(H25:H28) -> 7300
A31: Seuil de rentabilité (nb d'inscrits minimum au plein tarif) | C31: =(H15+H29)/(B4-H24) -> 7.2029909 | J31: Si ce nombre d'étudiants est inscrit au plein tarif, le DU est forcément autofinancé (valable pour 1 groupe).
A32: Nombre de groupes | C32: =IF(C31/15<0,"--",IF(C31/15<=1,1,C31/15)) -> 1
C34: Simulation Résultat net (dépenses- recettes) | F34: Simulation recettes | K34: Outils d'aide et de simulation
F35: Nbre d'inscrits prévisionnel | G35: Tarifs | H35: Recettes
A36: Dépenses | B36: Dépenses enseignement | C36: =H15*F43 -> 3109.095 | E36: Plein tarif n°1 | F36: =B9 -> 4 | G36: =B4 -> 1600 | H36: =F36*G36 -> 6400
B37: Dépenses indirectes | C37: =F40*H24 -> 2323.3901 | E37: Tarif réduit n°2 | F37: =B10 -> 10 | G37: =B5 -> 300 | H37: =F37*G37 -> 3000
B38: Dépenses de fonctionnement | C38: =H29 -> 7300 | E38: Tarif réduit n°3 | F38: =B11 -> 1 | G38: =B6 -> 2500 | H38: =F38*G38 -> 2500
B39: Total dépenses | C39: =C36+C37+C38 -> 12732.485 | E39: Tarif réduit n°4 | F39: =B12 -> 0 | G39: =B7 -> 0 | H39: =F39*G39 -> 0
B40: Coût moyen par étudiant | C40: =IFERROR(C39/F40,"0 €") -> 848.83234 | E40: Total | F40: =SUM(F36:F39) -> 15 | H40: =SUM(H36:H39) -> 11900
A41: Recettes | B41: Total Recettes | C41: =H36+H37+H38+H39 -> 11900 | E41: Recette moyenne par étudiant | H41: =IFERROR(H40/F40,0) -> 793.33333
B42: Recette moyenne par étudiant | C42: =IFERROR(C41/F40,"0 €") -> 793.33333
...

Sheet 8. Suivi du processus
A1: 8. SUIVI DU PROCESSUS
A2: Merci de renseigner les visas et avis et dates des différentes étapes du porcessus d'instruction
A3: Vu par le service de scolarité : | C3: en date du: | E3: Nom de l'agent :
A4: Vu par le SPOF : | C4: en date du: | E4: Nom de l'agent :
A5: Avis du COSUP DE | C5: en date du: | E5: Commentaires :
A6: Avis du COSP (ou autre comité de gestion) de la composante : | C6: en date du: | E6: Commentaires :
A7: DECISION :
A8: Avis du conseil académique : | C8: en date du: | E8: Commentaires :
A9: Décision du conseil d'administration : | C9: en date du: | E9: Commentaires :
A10: Ne rien écrire dans les zones orangées

Sheet 9. SOUTENABILITE RH
A1: 9. SOUTENABILITE RH DE LA FORMATION
A2: A renseigner par la direction des Ressources Humaines
A3: FICHE DE SOUTENABILITE Enseignement
B4: Statutaire | C4: Complementaire
A5: Nombre heures d'enseignement sur la discipline
A6: Masse salariale heures enseignement sur la discpline | B6: 0 | C6: 0
A7: Ratio sur la MS des heures d'enseignement
A8: potentiel enseignant sur la disicpline
A9: Nombre d'enseignants en sous service sur la discpline
A10: Nombre d'enseignants en sur service sur la discpline
A11: Taux de pression de la discipline
A12: Potentiel enseignant sur la composante
A13: Nombre d'enseignants en sous service sur la composante
A14: Nombre d'enseignants en sur service sur la composante
A15: Taux de pression de la composante
A20: Avis DRH (commentaires) :

Sheet Données
A1: Cycle | D1: Composante | F1: Niveau | G1: Secteur disciplinaire | H1: Nature | I1: Objet demande | J1: Durée formation | K1: FOAD | L1: Session
A2: Licence | B2: Oui | C2: Obligatoire | D2: EUR CREATES | E2: BSS | F2: Bac/Niveau bac | G2: 01 - MATHÉMATIQUES | H2: UE | I2: Création | J2: < 6 mois | K2: NON | L2: session unique
A3: Master | B3: Non | C3: Facultatif | D3: EUR DS4H | E3: DSPEG | F3: Bac+1 | G3: 02 - PHYSIQUE | H3: MODULE | I3: Modification | J3: < 1 an | K3: OUI - Partiellement | L3: 2 sessions
A4: Doctorat | D4: EUR ELMI | E4: EEF | F4: Bac+2 | G4: 03 - CHIMIE | H4: ECUE | I4: Renouvellement | J4: 1 an | K4: OUI - Entièrement
A5: Autre (précisez) | B5: Favorable | D5: EUR HEALTHY | E5: LLAC | F5: Bac+3 | G5: 04 - MATHÉMATIQUES APPLIQUÉES AUX SCIENCES SOCIALES (MASS) | H5: UF | J5: 2 ans
B6: Défavorable | D6: EUR LEX@Société | E6: SHS | F6: Bac+4 | G6: 05 - SCIENCES DE L'UNIVERS, DE LA TERRE, DE L'ESPACE | J6: 3 ans
B7: Favorable sous réserve | D7: EUR LIFE | E7: SITE | F7: Bac+5 | G7: 06 - SCIENCES DE LA VIE, BIOLOGIE, SANTÉ | J7: > 3 ans
D8: EUR ODYSSEE | E8: Inter-champ | F8: Bac+6 et plus | G8: 07 - MÉDECINE
D9: EUR SPECTRUM | G9: 08 - ODONTOLOGIE
D10: IAE | G10: 10 - STAPS
D11: IDPD | G11: 11 - MÉCANIQUE, GÉNIE MÉCANIQUE, INGÉNIERIE MÉCANIQUE
D12: INSPE | G12: 12 - GÉNIE CIVIL
D13: IUT | G13: 13 - GÉNIE DES PROCÉDÉS, MATÉRIAUX
D14: Médecine | G14: 14 - INFORMATIQUE
D15: Odontologie | G15: 15 - ÉLECTRONIQUE, GÉNIE ÉLECTRIQUE, EEA
D16: POLYTECH | G16: 16 - SCIENCES ET TECHNOLOGIES INDUSTRIELLES
D17: Service de Formation Continue | G17: 17 - SCIENCES DU LANGAGE - LINGUISTIQUE
D18: UCA IDEX | G18: 18 - LANGUES ET LITTÉRATURES ANCIENNES
D19: IMREDD | G19: 19 - LANGUES ET LITTÉRATURES FRANCAISES
G20: 20 - LITTÉRATURE GÉNÉRALE ET COMPARÉE
G21: 21 - ARTS
G22: 22 - Français LANGUE ÉTRANGÈRE
G23: 23 - LANGUES ET LITTÉRATURES ÉTRANGÈRES
G24: 24 - LANGUES ET LITTÉRATURES APPLIQUÉES
G25: 25 - CULTURES ET LANGUES RÉGIONALES
G26: 26 - PHILOSOPHIE, ÉPISTÉMIOLOGIE
G27: 27 - HISTOIRE
G28: 28 - GÉOGRAPHIE
G29: 29 - AMÉNAGEMENT
G30: 30 - ARCHÉOLOGIE, ETHNO, PRÉHISTOIRE, ANTHROPOLOGIE
G31: 31 - SCIENCES RELIGIEUSES
... G53: 71 - PLURI SANTÉ
