Workbook
Name _ftn1: '1. NOTE PRESENTATION'!#REF!
Name _ftnref1: '1. NOTE PRESENTATION'!#REF!

Sheet NOTICE

Sheet 1. NOTE PRESENTATION
A1: Note de présentation du projet en vue de la création, de la modification ou du renouvellement d’une formation d’établissement diplômante
A3: Intitulé de la formation : Diplôme d'Etablissement Scénarios et Narrations
A4: Objet du projet de formation : | B4: Modification
A5: Composante : | B5: CREATES
A6: Secteur disciplinaire : | B6: ARTS
A7: Responsable de la formation (Nom Prénom) : TAILLIBERT Chistel
A8: Fonction : Professeure des Universités Grade :
A9: Téléphone : 06 62 44 80 77 Mail : christel.taillibert@univ-cotedazur.fr ;
A10: Etude du marché / Opportunité économique et/ou pédagogique de l’action de formation (Contexte et enjeux de la formation, besoin et identification de la demande du marché, ancrage territorial, offres concurrentes…)² en 3 lignes maximum : Peu de diplômes nationaux et universitaires de scénaristes en France, aucun en région PACA. Contexte très favorable du nouveau campus Méliès à Cannes (Hôtel d'entreprises du secteur ICC ; Commission du Film 06 ; soutiens de la Région Sud et du CG06 pour le Secteur) et des structures crées par CREATES (Campus de métiers et Qualifications ; Fondation MIN4CI ; EIT ICC) ; liens avec les festivals CanneSéries et la Quinzaine des Cinéastes du Festival International du Film de Cannes.
A11: Public visé : Formation initiale et continue.
A12: Cycle du diplôme : | B12: Master
A13: Niveau d'entrée minimal (bac, bac+1, bac+2 …) : | B13: BAC+3
A14: Niveau estimé de sortie bac, bac+1, bac+2 ...) : | B14: BAC +5
A15: Prérequis : Maîtrise linguistique français C1, anglais B1
A16: Objectif pédagogique exprimé en compétences/métiers : Scénariste, Lecteur, Script docteur, Mentor, Consultant (E1102)
A17: Modalités pédagogiques (Synchrone/asychrone) : | B17: Synchrone
A18: Modalités pédagogiques (Présentiel/Distanciel/Hybride) : | B18: Présentiel
A19: Aspect formation continue² :
A20: *- Souhait d’ouvrir la formation à la formation continue : | B20: Oui
A21: *- Souhait d’enregistrer la formation au RNCP ou RSCH : | B21: Oui
A22: Logistique (lieu de la formation, capacité salle, spécificités salles) : Cannes Campus Méliès, Salle de 15 étudiants, Salle équipée audiovisuel
A23: Langue(s) d’enseignement : Français, Anglais
A24: Nombre visé de participants par session : 15
A25: Nombre de sessions par an et périodes de l’année : 1 session par an
A26: Durée de la formation : | B26: 2 ans
A27: Rythme de la formation (journée, soir, samedi, alternance, séquences de cours groupés, cours du soir, séance de regroupement…) : Journée, 2 semestres
A28: Stage | B28: Oui
A29: Durée du stage : 12 semaines min.
A30: Partenariat public ou privé financier : CMQ Industries Culturelles et Créatives
A31: Partenariat public ou privé académique : CMQ Industries Culturelles et Créatives ; Lycée Carnot Cannes ; Mairie de Cannes ; CACPL ; Festival CanneSéries ; Quinzaine des cinéastes ; Un Festival c'est trop court ; Résidence du Sud ; Tigobo School ; Adastra Studio ; ESRA ; University of Utah ; Chambre de Commerce de Nice ; Cannes Cinéma ; Commission du Film 06 ; La Napoule Art Foundation ; La Belle Equipe
A32: Informations complémentaires : Le Diplôme d'Etablissement équivalent Master écritures créatives « Scénarios et Narrations » de l'Ecole Universitaire de Recherche UCA CREATES Arts et Humanités forme aux métiers de la scénarisation et du management de projets audiovisuels. Il permet, en formation initiale ou continue, de reprendre les fondements de l'esthétique audiovisuelle et d'approfondir les bases et la pratique de la narration (courts et longs métrages de fiction, séries, jeux vidéo et expériences virtuelles et numériques), tout en mettant l'accent sur les circuits économiques de production et de distribution au travers de projets de management concrets inscrits dans ce secteur. Son originalité réside dans sa dimension fortement professionnalisante et dans ses trois grands axes pédagogiques d’importance comparable : théorie narrative, pratique de l'écriture scénaristique et management.
A33: 1. Avis COPIL composante (avec soutenabilité du site) :
A34: Arguments (alignement stratégique, intérêt financier, intérêt d’image, intérêt pour l’insertion professionnelle des étudiants, ...) : Date COPIL composante :
A35: 2. Date de remise de l’opportunité au Vice-président formation :
A36: 3. Accord du Vice-président formation pour instruction du dossier :
A37: Date d’accord du Vice-président formation :
A39: ² Soutien proposé par le Service Formation Continue : contact soutien étude de marché : Cyrine AYEB
A41: *Ne pas écrire dans les lignes colorées en gris - sélectionner une valeur dans le menu déroulant au bout de la ligne*

Sheet 2.DESCRIPTION FORMATION
A1: 2. DESCRIPTION DE LA FORMATION
A2: 2.1. Objectifs de la formation/compétences attendues
A3: Indiquez : - les objectifs spécifiques de la formation - les connaissances et compétences attendues des étudiants à l’issue de la formation (sous forme d’une fiche RNCP pour les formations souhaitant bénéficier des fonds de la formation professionnelle et continue).
A4: Le Diplôme d'Établissement Scénarios et Narrations offre aux inscrits la possibilité de se former aux métiers de la scénarisation audiovisuelle et du management de projets pour une TPE ou PME dans ce domaine. Il permet, en formation initiale ou continue, de reprendre et d'approfondir les fondements de l'esthétique et de la pratique de la narration audiovisuelle (courts et longs métrages de fiction, séries, jeux vidéo et expériences virtuelles et numériques), tout en mettant l'accent sur les circuits économiques de production et de distribution des œuvres audiovisuelles au travers de projets de management concrets inscrits dans ce secteur. Son originalité réside dans sa dimension fortement professionnalisante, avec un double accent mis sur la pratique de l'écriture scénaristique et du management.
A17: 2.2. Organisation pédagogique
A18: • Commentaires explicitant la cohérence des contenus, l’articulation des unités d’enseignements et le choix de l’équipe pédagogique au regard des objectifs. • La maquette des enseignements ainsi que la liste des intervenants seront fournis dans le feuillet 5 "Maquette" et le feuillet 3
A19: L'élaboration de la maquette s'est faite en concertation avec des professionnels du secteur (scénaristes, réalisateurs, producteurs) et est régulièrement affinée par le Conseil de Perfectionnement du diplôme. Les trois premiers semestres sont répartis en cours théoriques et pratiques de production AV et d'écriture créative en lien avec l'étude des publics, des imaginaires populaires, et des instruments de la narratologie appliqués à la scénarisation portés par des enseignants-chercheurs et des professionnels ; en ateliers d'écritures en langue anglaise et française assurés par des professionnels reconnus du secteur ; enfin en UE de type management et entreprenariat. Le quatrième semestre, dédié à l'écriture d'un scénario ou d'une bible et au stage en entreprise (12 sem. minimum), pourra également être proposé, sur dossier, sous forme de résidence en écriture (collaborations avec Résidence du Sud, Talent Unlimited, La Napoule Art Foundation). Les nombreux partenariats (cf. infra) et la participation importante des professionnels de l'écriture créative, ainsi que le milieu favorable du technopôle cannois (CMQ Industries Culturelles et Créatives, Hôtel d'entreprises de ce secteur, ESRA, Cité Européenne des Scénaristes, etc.), assurent au DE une forte dimension professionnalisante.
A32: 2.3. Positionnement dans la stratégie de la composante et de l'établissement
A33: • Le positionnement et la valeur ajoutée de la formation au sein de la composante et de l'établissement
A34: Le DE Scénarios et Narrations est un diplôme central du nouveau campus cannois Georges Méliès, dédié aux écritures créatives et aux industries culturelles. Partant du constat que la création de contenu suit une pente ascendante (notamment avec la multiplication des plateformes, mais pas uniquement), et en accord avec la guilde des scénaristes , la formation a pour but de répondre à plusieurs demandes dans le domaine de la création de récits. Récits de vie et vision du monde tout d'abord – pour ce qui concerne les scénarios de films long métrage et de séries TV –, en proposant une pratique intensive scénaristique aux différents stades du récit dans le cadre d'écritures personnelles et collectives en langue française et anglaise ; mais aussi réponses entrepreneuriales aux appels récurrents dans le domaine d'industries créatives, comme la création de publicités, de nouveau formats, de jeux de plateau et jeux vidéo. Un autre aspect important pour l'environnement UCA est la possibilité d'interagir avec les programme de recherche dans le domaine des industries créatives et culturelles concernant le patrimoine et le design des expériences numériques (scénarisation du patrimoine, muséographie, etc.), mais aussi le domaine de la santé (jeux sérieux, scénarisations de situations, etc.).
A47: 2.4. Public visé et effectifs attendus
A48: Indiquez le public visé, les effectifs attendus pour chacun de ces publics et si nécessaire la mise en place de tarifs préférentiels
... A63: • Préciser si des subventions ou conventions sont prévues pour ce diplôme
B64: Financeur | C64: Montant (en €) | D64: Elements de preuves (joints au dossier) + état d'avancement
A65: Subvention / convention 1 | B65: Lycée Carnot | C65: Apport en industrie | D65: signé
A66: Subvention / convention 2 | B66: Talent Unlimited | C66: Apport en industrie | D66: signé
A67: Subvention / convention 3 | B67: Héliotrope | C67: Apport en industrie | D67: signé
A68: Subvention / convention 4 | B68: Héliotrope | C68: Apport en industrie | D68: signé
A69: Subvention / convention 5 | B69: Apprentis Auteuil | C69: Apport en industrie | D69: signé
A70: Subvention / convention 6 | B70: Nos plumes | C70: Apport en industrie | D70: en cours
A71: Subvention / convention 7 | B71: CACPL | C71: Apport en industrie | D71: signé
A72: Subvention / convention 8 | B72: Caisse de dépôt | C72: 100000 | D72: FICCTION
A73: Total | C73: 100000

Sheet 3. ETUDE MARCHE PRIX
A1: 3. ETUDE DE MARCHE ET DU PRIX
A2: A renseigner par le porteur de projet (onglet vérifié par la Direction de la Formation continue)
A3: 3.1. Qualification du besoin du marché visé :
A4: Indiquez :
A5: Industries Créatives et Culturelles - Ecritures Créatives - Scénarisation -
A18: 3.2. Analyse concurrentielle portant sur l'étude des caractéristiques d'actions de formation analogues réalisées par des offreurs concurrents privés et publics
A19: (La zone géographique visée : France ou international) sur la base d'étude des offres sur internet et sur le site du CPF, et leur comparaison)
A20: Zone géographique visée : France, Région Sud. Par ailleurs, nous avons prévu un important dispositif de communication sur ce DE, qui fait partie désormais des actions du projet UCA : CMA FICCTION porté par JF Trubert dans le cadre de France 2030 (action 1a5). « Le projet Fédération des Industries Culturelles et Créatives pour un Territoire de l’Innovation et de l’Orientation – FICCTION – est porté par le Campus des Métiers et des Qualifications Excellence Industries Culturelles et Créatives (CMQe ICC) de la Région Provence Alpes Côte d'Azur, avec comme établissement support Université Côte d'Azur. Il regroupe le Rectorat Académique de région, la Région Provence Alpes Côte d’Azur, les quatre Universités de la Région (Aix Marseille Université, Avignon Université, Toulon Université et Université Côte d'Azur) ainsi que les collectivités territoriales, des entreprises locales et leur opérateur de compétence ; il assure un maillage inédit du territoire régional, en profitant de sa maturité et de ses lieux emblématiques, la Villa Créative à Avignon, le Campus Méliès à Cannes, les plateformes de formation, création et diffusion du réseau CISAM+, à savoir le pôle d’Arles, l’IMERA et Turbulences à Marseille, le CUBE et l’Hôtel Maynier d’Oppède à Aix-en-Provence, le pôle SATIS à Aubagne, et enfin la plateforme Telomedia à Toulon. FICCTION propose un projet à l’échelle de la région sur les secteurs de l’audiovisuel et du spectacle vivant, répondant aux grands enjeux de France 2030 : • FORMER : 27 actions de formations innovantes seront développées sur le territoire régional afin d’accompagner le développement des métiers et compétences en tension et les métiers d’avenir, en faisant, de fait, un réel levier d’accélération dans le secteur des ICC. • INTERNATIONALISER : en innovant dans les filières et en s’appuyant sur les réseaux européens de structuration des ICC comme l’EIT Culture and Creativity, FICCTION propose plusieurs actions pour le rayonnement international. • ANCRER : en développant des actions de recherche et de développement, des plateformes techniques et des actions clés de sensibilisation aux métiers et à l’orientation, FICCTION viendra irriguer l’ensemble du territoire régional PACA et créer une véritable communauté d’acteurs. • INNOVER : Des actions pour accompagner la transition numérique et des nouveaux enjeux de la création, des techniques, des savoirs. • RESPONSABILISER : FICCTION entend faire des ICC un modèle pour les autres secteurs en termes de responsabilité sociale, sociétale et environnementale, pour aborder les questions de genres, de l’égalité femme-homme, de l’inclusion au niveau du territoire. Plusieurs actions seront développées, en ayant à cœur de sensibiliser l’ensemble du réseau CMQe ICC et son consortium aux questions liées à la RSE. Les connaissances interdisciplinaires sont nécessaires pour l’expérimentation de nouveaux modèles de créativité : le silo traditionnel qui voudrait qu’une formation corresponde à un métier s’estompe progressivement. Ce besoin d’affiner le couple « formation-métier » par une vision « compétence-insertion » s’est imposé au cœur du projet. Le développement des dynamiques entrepreneuriales et managériales fait appel à de nouvelles compétences intersectorielles, telles que la gestion financière, la fiscalité́ , le droit des associations et des sociétés, le droit du travail ou encore le droit de la propriété́ intellectuelle, la créativité. En ce sens, le projet FICCTION permettra : • la création de différents diplômes, • la mutualisation de plateformes techniques, • la dissémination et la valorisation de la recherche dans le tissu socio-économique, • le développement des formations fonctionnant sur la base du mode projet, • l’intervention régulière de professionnels du métier, en mixant formation longue et formation courte. Les actions soutenues par le PIA4 CMA renforceront par conséquent la compétitivité du tissu économique des entreprises et combleront les lacunes constatées au sein du maillage socio-professionnel des ICC au service d’un territoire plus dynamique, plus créatif, mais aussi plus responsable et plus inclusif. »
A33: 3.3. Analyse concurrentielle des prix de vente et proposition de positionnement
A35: Formation | C35: Etablissement | E35: Privé/public | G35: Nb d'heures de la formation | I35: Prix de la formation | K35: Coût horaire | M35: Présentiel /à distance | O35: Répartition TP/ CM | Q35: Financement CPF | S35: Financement DPC (médical) | T35: Financement FIFPL (médical) | U35: Autre infos
A46: Commentaires de la Direction Formation continue :

Sheet 4. EQUIPE PEDAGOGIQUE
A1: 4. EQUIPE PEDAGOGIQUE
A2: ENSEIGNANTS (y compris d’autres établissements d’enseignement supérieur) | G2: INTERVENANTS PROFESSIONNELS (vacations)
A3: Nom Prénom | B3: Statut | C3: Établissement de rattachement | D3: Coordonnées (y compris courriel) | E3: Volume horaire assuré | G3: Nom Prénom | H3: Profession | I3: Organisme de rattachement | J3: Coordonnées (y compris courriel) | K3: Volume horaire assuré | L3: Apports au regard des objectifs de la formation
A4: Serge Milan | B4: E/C | C4: UCA | D4: Serge.Milan@univ-cotedazur.fr | E4: 12 TD | G4: Yann Apperry | H4: scénariste | J4: yannapperry@yahoo.fr | K4: 20 CM | L4: cf. profession
A5: Marc Marti | B5: E/C | C5: UCA | D5: Marc.Marti@univ-cotedazur.fr | E5: 20 CM | G5: Sarah Wikler | H5: consultante script doctor | I5: Vivendi | J5: sara.wikler@icloud.com | K5: 20 CM | L5: cf. profession
A6: Natasha Cyrulnik | B6: E/C | C6: AMU | D6: natacha.cyrulnik@univ-amu.fr | E6: 12 TD | G6: Philippe Barrière | H6: scénariste | J6: ph.barriere@gmail.com | K6: 20 CM | L6: cf. profession
A7: Sophie Raimond | B7: E/C | C7: UCA | D7: Sophie.Raimond@univ-cotedazur.fr | E7: 6 + 6 TD | G7: Loic Nicoloff | H7: scénariste | I7: La belle équipe | J7: tuteur@loicnicoloff.com | K7: 40 CM | L7: cf. profession
A8: Fabrice Siriainen | B8: E/C | C8: UCA | D8: Fabrice.Siriainen@univ-cotedazur.fr | E8: 18 CM | G8: Laurent Trémaux | H8: directeur artistique | I8: Héliotrope | J8: laurent@nicefilmfestival.com | K8: 12 CM | L8: cf. profession
A9: Sandrine Montin | B9: E/C | C9: UCA | D9: Sandrine.Montin@univ-cotedazur.fr | E9: 12+12 TD | G9: Guillaume Levil | H9: scénariste | J9: guillaumelevil@gmail.com | K9: 20 CM | L9: cf. profession
A10: Laurent Moretti | B10: E/C | C10: UCA | D10: Laurent.Moretti@univ-cotedazur.fr | E10: 6 + 6 TD | G10: Tigrane Minassian | H10: réalisateur | I10: Adastra | J10: Tigrane.minassian@adastra-films.com | K10: 6 + 6 TD | L10: cf. profession
G11: Melvin Amador Vazquez | H11: Réalisateur | J11: mavcannes@gmail.com | K11: 30 CM | L11: cf. profession
G12: Renaud Armanet | H12: graphiste | I12: Tigobo Studios | J12: tigoboanimation@hotmail.fr | K12: 6 + 6 TD | L12: cf. profession
G13: Leslie Jacob | H13: productrice | I13: Adastra | J13: leslie.jacob@adastra-films.com | K13: 12 CM | L13: cf. profession

Sheet 5. SELECTION
A1: 5. SELECTION
A2: Date d'ouverture de la campagne : | B2: début mars
A3: Date de fermeture de la campagne : | B3: mi septembre
A4: Date prévsionnelle de la commission de sélection : | B4: fin juin, mi septembre
A5: Capacité d'accueil : | B5: 15
A6: PIECES CONSTITUTIVES DU DOSSIER | C6: CRITERES D'APPRECIATION
A7: Relevé de notes du baccalauréat : | B7: Non | C7: Matières examinées :
A8: Relevé de notes des études supérieures : | B8: Oui | C8: Matières examinées : | D8: toutes
A9: Lettre de motivation et descriptif du projet professionnel : | B9: Oui | C9: Cohérence entre le diplôme envisagé et le descriptif du projet professionnel. Qualité rédactionnelle (orthographe, défaut de structure ou de syntaxe). Cohérence de la réflexion (développement de l’argumentaire).
A10: Curriculum Vitae détaillé : | B10: Oui | C10: Elément de synthèse permettant de découvrir les compétences utiles acquises dans le cadre d’expériences précédentes et de cerner des éléments de personnalité du candidat.
A11: Lettres de recommandation : | B11: Oui | C11: Facultatif | D11: Ne rentre pas dans les critères de sélection mais permet d’apporter un soutien à la candidature.
A12: Niveau de langue en français pour les candidats titulaires d'un diplôme étranger : | B12: Oui | C12: Obligatoire | D12: Niveau CECRL attendu : | F12: C1
A13: Niveau de langue en anglais : | B13: Oui | C13: Obligatoire | D13: Niveau CECRL attendu : | F13: B1
A14: Productions personnelles (dossier, bibliographie, mémoire, etc.) | B14: Oui | C14: Facultatif | D14: Elément permettant d’évaluer la pertinence des travaux effectués au regard du diplôme souhaité.
A15: Justificatifs d'expérience professionnelle : | B15: Oui | C15: Facultatif | D15: Elément permettant d’apprécier l’adaptation du profil aux exigences du diplôme souhaité.
A16: Document attestant d'une compétence complémentaire : | B16: Oui | C16: Facultatif | D16: Préciser les critères : | F16: écritures créatives, spectacle vivant et productions AV
A17: Autre document (précisez): | B17: Oui | C17: Facultatif | D17: Préciser les critères : | F17: écritures créatives, spectacle vivant et productions AV
A18: Entretien Oral : | B18: Oui | C18: L’entretien oral fait suite à une phase de présélection sur dossier. Il permet d’apprécier les qualités du candidat sur leur savoir être, l'expression, la clarté et la cohérence d'un raisonnement, le degré de motivation du candidat et la pertinence des réponses supposant une préparation à cet entretien.

Sheet 6. MAQUETTE
A1: 6.MAQUETTE
A2: ANNEE 1
A3: UE DISCIPLINAIRES | B3: Nombre à choisir par l'étudiant : PAS DE CHOIX
A4: Intitulé UE (précisez si obligatoire) / PARCOURS | B4: ECTS | C4: Intitulé des matières (Eléments constitutifs d’UE – ECUE) | D4: Coeff. des ECUE | E4: Heures CM | F4: Mutalisée ? Oui / Non | G4: Heures TD | H4: Mutalisée ? Oui / Non | I4: Heures TP (+ projets tutorés et suivi de stages) | J4: Mutalisée ? Oui / Non | K4: Total Heures UE en HETD | L4: Heures à valoriser
A5: UECM INTRODUCTION A LA NARRATOLOGIE | B5: 3 | D5: 1 | E5: 20 | F5: OUI | K5: =E5*1.5+G5+I5*2/3 -> 30 | L5: =IF(F5="oui",0,E5*1.5)+IF(H5="oui",0,G5*1)+IF(J5="oui",0,I5*2/3) -> 0 | M5: Porté par Master MAJIC
A8: ATELIERS d'ECRITURE 1 | B8: 6
C9: Écritures dialoguées Écritures dialoguées 1 : les bases de l’écriture dialoguée | D9: 1 | E9: 20 | F9: NON | K9: =E9*1.5+G9+I9*2/3 -> 30 | L9: =IF(F9="oui",0,E9*1.5)+IF(H9="oui",0,G9*1)+IF(J9="oui",0,I9*2/3) -> 30
A11: ENGLISH & FRENCH FILMWRITING 1 LES BASES DE L'ECRITURE SCENARISTIQUE 1 | B11: 6
C12: Script Writing Scénario et Récit 1 : Repères dramaturgiques | D12: 1 | E12: 20 | F12: NON | K12: =E12*1.5+G12+I12*2/3 -> 30 | L12: =IF(F12="oui",0,E12*1.5)+IF(H12="oui",0,G12*1)+IF(J12="oui",0,I12*2/3) -> 30
C13: Pitch & Script Du pitch au scenario 1 : les bases du film à venir | D13: 1 | E13: 20 | F13: NON | K13: =E13*1.5+G13+I13*2/3 -> 30 | L13: =IF(F13="oui",0,E13*1.5)+IF(H13="oui",0,G13*1)+IF(J13="oui",0,I13*2/3) -> 30
A15: NARRATIONS & PRODUCTIONS AUDIOVISUELLES 1 | B15: 6
C16: Littérature et Théâtre | D16: 1 | E16: 12 | F16: OUI | G16: 12 | H16: OUI | K16: =E16*1.5+G16+I16*2/3 -> 30 | L16: =IF(F16="oui",0,E16*1.5)+IF(H16="oui",0,G16*1)+IF(J16="oui",0,I16*2/3) -> 0 | M16: Porté par Master Lettres Mod.
C17: Atelier de micro-récits | D17: 1 | E17: 6 | F17: NON | G17: 6 | H17: NON | K17: =E17*1.5+G17+I17*2/3 -> 15 | L17: =IF(F17="oui",0,E17*1.5)+IF(H17="oui",0,G17*1)+IF(J17="oui",0,I17*2/3) -> 15
C18: Script Analysis Analyse de scénarios | D18: 1 | E18: 12 | F18: NON | K18: 18 | L18: 18
A19: OUTILS de l'ENTREPREUNARIAT 1 (Propriété Intellectuelle) | B19: 6 | D19: 1 | E19: 18 | F19: NON | K19: =E19*1.5+G19+I19*2/3 -> 27 | L19: =IF(F19="oui",0,E19*1.5)+IF(H19="oui",0,G19*1)+IF(J19="oui",0,I19*2/3) -> 27 | M19: mutualisé mais porté par le DESN
A21: UE CLASSIQUES DU CINEMA 1 | B21: 3 | D21: 1 | G21: 12 | H21: NON | K21: =E21*1.5+G21+I21*2/3 -> 12 | L21: =IF(F21="oui",0,E21*1.5)+IF(H21="oui",0,G21*1)+IF(J21="oui",0,I21*2/3) -> 12 | M21: mutualisé avec Semestre 3, mais porté par S1
A23: BONUS CULTURE | B23: 0 | D23: 1 | E23: 0 | F23: OUI | G23: 0 | H23: OUI | K23: =E23*1.5+G23+I23*2/3 -> 0 | L23: =IF(F23="oui",0,E23*1.5)+IF(H23="oui",0,G23*1)+IF(J23="oui",0,I23*2/3) -> 0
B24: 30 | D24: total | E24: =SUM(E5:E23) -> 128 | G24: =SUM(G5:G23) -> 30 | K24: =SUM(K5:K23) -> 222 | L24: =SUM(L5:L23) -> 162 | M24: Porté par UCArts
A27: UE DISCIPLINAIRES | B27: Nombre à choisir par l'étudiant : PAS DE CHOIX
A28: Intitulé UE (précisez si obligatoire) / PARCOURS | B28: ECTS | C28: Intitulé des matières (Eléments constitutifs d’UE – ECUE) | D28: Coeff. des ECUE | E28: Heures CM | F28: Mutalisée ? Oui / Non | G28: Heures TD | H28: Mutalisée ? Oui / Non | I28: Heures TP (+ projets tutorés et suivi de stages) | J28: Mutalisée ? Oui / Non | K28: Total Heures UE en HETD | L28: Heures à valoriser
A29: ARTS & ENTREPRENEURSHIP | B29: 6 | D29: 1 | E29: 40 | F29: OUI | K29: 60 | L29: 0 | M29: Porté par MSC Sound Design
A31: UE ECRITURE DOCUMENTAIRE ÉCRITURES DOCUMENTAIRES | B31: 6 | D31: 1 | G31: 12 | H31: NON | K31: =E31*1.5+G31+I31*2/3 -> 12 | L31: =IF(F31="oui",0,E31*1.5)+IF(H31="oui",0,G31*1)+IF(J31="oui",0,I31*2/3) -> 12
A33: ATELIERS d'ECRITURE 2 | B33: 6
C34: Storyboarding | D34: 1 | E34: 6 | F34: NON | G34: 6 | H34: NON | K34: =E34*1.5+G34+I34*2/3 -> 15 | L34: =IF(F34="oui",0,E34*1.5)+IF(H34="oui",0,G34*1)+IF(J34="oui",0,I34*2/3) -> 15
C35: Ecritures dialoguées Écritures dialoguées 2 : La place des dialogues dans la construction du récit | D35: 1 | E35: 20 | F35: NON | K35: =E35*1.5+G35+I35*2/3 -> 30 | L35: =IF(F35="oui",0,E35*1.5)+IF(H35="oui",0,G35*1)+IF(J35="oui",0,I35*2/3) -> 30
A37: ENGLISH & FRENCH FILMWRITING 2 LES BASES DE L'ECRITURE SCENARISTIQUE 2 | B37: 6
C38: Script Writing Scénario et Récit 2 : Analyse structurale du scénario, lire le film à venir | D38: 1 | E38: 20 | F38: NON | K38: =E38*1.5+G38+I38*2/3 -> 30 | L38: =IF(F38="oui",0,E38*1.5)+IF(H38="oui",0,G38*1)+IF(J38="oui",0,I38*2/3) -> 30
C39: Pitch & Script Du pitch au scenario 2 : Dramatisation et narration, écrire le film à venir | D39: 1 | E39: 20 | F39: NON | K39: =E39*1.5+G39+I39*2/3 -> 30 | L39: =IF(F39="oui",0,E39*1.5)+IF(H39="oui",0,G39*1)+IF(J39="oui",0,I39*2/3) -> 30
A41: NARRATIONS & PRODUCTIONS AUDIOVISUELLES 2 | B41: 3
C42: Montage et narration filmique | D42: 1 | E42: 6 | F42: NON | G42: 6 | H42: NON | K42: =E42*1.5+G42+I42*2/3 -> 15 | L42: =IF(F42="oui",0,E42*1.5)+IF(H42="oui",0,G42*1)+IF(J42="oui",0,I42*2/3) -> 15
C43: Carte Blanche project | D43: 1 | G43: 6 | H43: OUI | K43: =E43*1.5+G43+I43*2/3 -> 6 | L43: =IF(F43="oui",0,E43*1.5)+IF(H43="oui",0,G43*1)+IF(J43="oui",0,I43*2/3) -> 0 | M43: Porté par MCS Sound Design | N43: ATTENTION, il faut mettre 8h TD mais la configuration m'empêche d'entrer ce chiffre…
A45: UE CLASSIQUES DU CINEMA 2 | B45: 3 | D45: 1 | G45: 12 | H45: OUI | K45: =E45*1.5+G45+I45*2/3 -> 12 | L45: =IF(F45="oui",0,E45*1.5)+IF(H45="oui",0,G45*1)+IF(J45="oui",0,I45*2/3) -> 0 | M45: Porté par ESRA
A47: BONUS CULTURE | B47: 0 | D47: 1 | E47: 0 | F47: OUI | G47: 0 | H47: OUI | K47: =E47*1.5+G47+I47*2/3 -> 0 | L47: =IF(F47="oui",0,E47*1.5)+IF(H47="oui",0,G47*1)+IF(J47="oui",0,I47*2/3) -> 0 | M47: Porté par UCArts
B48: 30 | D48: total | E48: =SUM(E29:E47) -> 112 | F48: =SUM(F29:F47) -> 0 | G48: =SUM(G29:G47) -> 42 | H48: =SUM(H29:H47) -> 0 | I48: =SUM(I29:I47) -> 0 | J48: =SUM(J29:J47) -> 0 | K48: =SUM(K29:K47) -> 210 | L48: =SUM(L29:L47) -> 132
A50: ANNEE 2
A51: UE DISCIPLINAIRES | B51: Nombre à choisir par l'étudiant : PAS DE CHOIX
A52: Intitulé UE (précisez si obligatoire) / PARCOURS | B52: ECTS | C52: Intitulé des matières (Eléments constitutifs d’UE – ECUE) | D52: Coeff. des ECUE | E52: Heures CM | F52: Mutalisée ? Oui / Non | G52: Heures TD | H52: Mutalisée ? Oui / Non | I52: Heures TP (+ projets tutorés et suivi de stages) | J52: Mutalisée ? Oui / Non | K52: Total Heures UE en HETD | L52: Heures à valoriser
A53: ATELIERS d'ECRITURE 3 | B53: 6 | K53: =E53*1.5+G53+I53*2/3 -> 0 | L53: =IF(F53="oui",0,E53*1.5)+IF(H53="oui",0,G53*1)+IF(J53="oui",0,I53*2/3) -> 0
C54: Ecritures dialoguées Ecritures dialoguées 3 : L'écriture fine de la continuité dialoguée | D54: 1 | E54: 20 | F54: NON | K54: =E54*1.5+G54+I54*2/3 -> 30 | L54: =IF(F54="oui",0,E54*1.5)+IF(H54="oui",0,G54*1)+IF(J54="oui",0,I54*2/3) -> 30
A56: ENGLISH & FRENCH FILMWRITING 3 LES BASES DE L'ECRITURE SCENARISTIQUE 3 | B56: 6 | K56: =E56*1.5+G56+I56*2/3 -> 0 | L56: =IF(F56="oui",0,E56*1.5)+IF(H56="oui",0,G56*1)+IF(J56="oui",0,I56*2/3) -> 0
...

Sheet 7. SOUTENABILITE FIN
A1: 7. SOUTENABILITE FINANCIERE DE LA FORMATION | M1: ! Seules les cases jaunes sont à remplir !
A2: Détermination des droits d'inscription
A3: Droits systématiques : | B3: 57 | C3: Indiqué pour information. Ne rentrent pas dans le calcul d'autofinancement de la formation car recette fléchée pour la bibliothèque et l'université lors de l'inscription | M3: C'est le tarif moyen par étudiant pour garantir l'équilibre du DU : si le groupe était complet (15 étudiants), il faudrait en théorie que chacun des étudiants paient ce montant pour couvrir les dépenses.
A4: Droit d'inscription plein tarif n°1 : | B4: 3000 | C4: Droits d'inscription moyen équilibre pour 15 étudiants : | G4: =H24+(H15/15)+(H29/15) -> 3214.26
A5: Droit d'inscription n°2 (DI 2): | B5: 2000 | C5: Précisez pour quels types d'apprenants cela s'applique : | G5: Etudiants issus d'UniCA
A6: Droit d'inscription n°3 (DI 3): | B6: 1000 | C6: Précisez pour quels types d'apprenants cela s'applique : | G6: Etudiants revenus ou revenus parents inférieurs à 36000 euros/an
A7: Droit d'inscription n°4 (DI 4): | B7: 7500 | C7: Précisez pour quels types d'apprenants cela s'applique : | G7: Formation continue financée par entreprise
A8: Nombre d'apprenants | M8: Cela implique de fixer un tarif d'inscription plein tarif supérieur à ce montant, afin de : -garantir la rentabilité du DU avec un nombre d'étudiants inscrits < 15 (voir cellule C35); - permettre les inscriptions d'étudiants exonérés ou en tarifs réduits
A9: Nb d'apprenants plein tarif: | B9: 7 | C9: Le nombre d'étudiants inscrits par tarif est reporté dans le tableau des simulations de recettes en bas de page.
A10: Nb d'apprenants DI 2: | B10: 2
A11: Nb d'apprenants DI 3: | B11: 3
A12: Nb d'apprenants DI 4: | B12: 3
A13: Equilibre financier
C14: CM (en HETD) | D14: TD | E14: TP (en HETD) | F14: TOTAL DU (en HETD) | G14: dont heures non mutualisées | H14: Coût affecté TD pour 1 groupe
A15: Coût de l'enseignement | B15: TOTAL Heures de formation (en HETD) | C15: =SUM(C16:C21) -> 504 | D15: =SUM(D16:D21) -> 100 | E15: =SUM(E16:E21) -> 0 | F15: =SUM(F16:F21) -> 604 | G15: =SUM(G16:G21) -> 510 | H15: =G15*51.39 -> 26208.9 | J15: C'est le coût dédié à l'enseignement du DU. Valorisation des heures non mutualisées au coût moyen d'une vacation
B16: semestre 1 | C16: ='6. MAQUETTE'!E24*1.5 -> 192 | D16: ='6. MAQUETTE'!G24 -> 30 | E16: ='6. MAQUETTE'!I5*2/3 -> 0 | F16: =C16+D16+E16 -> 222 | G16: ='6. MAQUETTE'!L24 -> 162 | H16: =G16*51.39 -> 8325.18
B17: semestre 2 | C17: ='6. MAQUETTE'!E48*1.5 -> 168 | D17: ='6. MAQUETTE'!G48 -> 42 | E17: ='6. MAQUETTE'!I48*2/3 -> 0 | F17: =C17+D17+E17 -> 210 | G17: ='6. MAQUETTE'!L48 -> 132 | H17: =G17*51.39 -> 6783.48
B18: semestre 3 | C18: ='6. MAQUETTE'!E70*1.5 -> 144 | D18: ='6. MAQUETTE'!G70 -> 28 | E18: ='6. MAQUETTE'!I70*2/3 -> 0 | F18: =C18+D18+E18 -> 172 | G18: ='6. MAQUETTE'!L70 -> 108 | H18: =G18*51.39 -> 5550.12
B19: semestre 4 | C19: ='6. MAQUETTE'!E86*1.5 -> 0 | D19: ='6. MAQUETTE'!G86 -> 0 | E19: ='6. MAQUETTE'!I86*2/3 -> 0 | F19: =C19+D19+E19 -> 0 | G19: ='6. MAQUETTE'!L86 -> 108 | H19: =G19*51.39 -> 5550.12
B20: semestre 5 | H20: =G20*51.39 -> 0
B21: semestre 6 | H21: =G21*51.39 -> 0
A22: Coût indirect (gestion administrative / utilisation des infrastructures) | B22: Nombre d'heures moy. Diplôme UCA (en HETD) | F22: 573
B23: Coût support d'un étudiant UCA (en €) | F23: 1467
B24: Coût administratif par étudiant DU (Hetd DU / 573) x 1467 € | H24: =IF(F15>F22,F23,(F15/F22)*F23) -> 1467 | J24: C'est le montant minimum auquel doit être fixé le tarif d'inscription des étudiants non soumis au plein tarif, afin de couvrir leur coût indirect
A25: Coût de fonctionnement spécifique | B25: Fournitures spécifiques diverses
B26: déplacements des intervenants
B27: Frais de réception
B28: Autres prestations
B29: TOTA dépenses de fonctionnement | H29: =SUM(H25:H28) -> 0
A31: Seuil de rentabilité (nb d'inscrits minimum au plein tarif) | C31: =(H15+H29)/(B4-H24) -> 17.096477 | J31: Si ce nombre d'étudiants est inscrit au plein tarif, le DU est forcément autofinancé (valable pour 1 groupe).
A32: Nombre de groupes | C32: =IF(C31/15<0,"--",IF(C31/15<=1,1,C31/15)) -> 1.1397652
C34: Simulation Résultat net (dépenses- recettes) | F34: Simulation recettes | K34: Outils d'aide et de simulation
F35: Nbre d'inscrits prévisionnel | G35: Tarifs | H35: Recettes
A36: Dépenses | B36: Dépenses enseignement | C36: =H15*F43 -> 26208.9 | E36: Plein tarif n°1 | F36: =B9 -> 7 | G36: =B4 -> 3000 | H36: =F36*G36 -> 21000
B37: Dépenses indirectes | C37: =F40*H24 -> 22005 | E37: Tarif réduit n°2 | F37: =B10 -> 2 | G37: =B5 -> 2000 | H37: =F37*G37 -> 4000
B38: Dépenses de fonctionnement | C38: =H29 -> 0 | E38: Tarif réduit n°3 | F38: =B11 -> 3 | G38: =B6 -> 1000 | H38: =F38*G38 -> 3000
B39: Total dépenses | C39: =C36+C37+C38 -> 48213.9 | E39: Tarif réduit n°4 | F39: =B12 -> 3 | G39: =B7 -> 7500 | H39: =F39*G39 -> 22500
B40: Coût moyen par étudiant | C40: =IFERROR(C39/F40,"0 €") -> 3214.26 | E40: Total | F40: =SUM(F36:F39) -> 15 | H40: =SUM(H36:H39) -> 50500
A41: Recettes | B41: Total Recettes | C41: =H36+H37+H38+H39 -> 50500 | E41: Recette moyenne par étudiant | H41: =IFERROR(H40/F40,0) -> 3366.6667
B42: Recette moyenne par étudiant | C42: =IFERROR(C41/F40,"0 €") -> 3366.6667
...

Sheet 8. Suivi du processus
A1: 8. SUIVI DU PROCESSUS
A2: Merci de renseigner les visas et avis et dates des différentes étapes du porcessus d'instruction
A3: Vu par le service de scolarité : | C3: en date du: 15/12/2022 | E3: Nom de l'agent : GUINET SEBASTIEN
A4: Vu par le SPOF : | C4: en date du: | E4: Nom de l'agent :
A5: Avis du COSUP DE | C5: en date du: | E5: Commentaires :
A6: Avis du COSP (ou autre comité de gestion) de la composante : | C6: en date du: | E6: Commentaires :
A7: DECISION :
A8: Avis du conseil académique : | C8: en date du: | E8: Commentaires :
A9: Décision du conseil d'administration : | C9: en date du: | E9: Commentaires :
A10: Ne rien écrire dans les zones orangées

Sheet 9. SOUTENABILITE RH
A1: 9. SOUTENABILITE RH DE LA FORMATION
A2: A renseigner par la direction des Ressources Humaines
A3: FICHE DE SOUTENABILITE Enseignement
B4: Statutaire | C4: Complementaire
A5: Nombre heures d'enseignement sur la discipline
A6: Masse salariale heures enseignement sur la discpline | B6: 0 | C6: 0
A7: Ratio sur la MS des heures d'enseignement
A8: potentiel enseignant sur la disicpline
A9: Nombre d'enseignants en sous service sur la discpline
A10: Nombre d'enseignants en sur service sur la discpline
A11: Taux de pression de la discipline
A12: Potentiel enseignant sur la composante
A13: Nombre d'enseignants en sous service sur la composante
A14: Nombre d'enseignants en sur service sur la composante
A15: Taux de pression de la composante
A20: Avis DRH (commentaires) :

Sheet Données
A1: Cycle | D1: Composante | F1: Niveau | G1: Secteur disciplinaire | H1: Nature | I1: Objet demande | J1: Durée formation | K1: FOAD | L1: Session
A2: Licence | B2: Oui | C2: Obligatoire | D2: EUR CREATES | E2: BSS | F2: Bac/Niveau bac | G2: 01 - MATHÉMATIQUES | H2: UE | I2: Création | J2: < 6 mois | K2: NON | L2: session unique
A3: Master | B3: Non | C3: Facultatif | D3: EUR DS4H | E3: DSPEG | F3: Bac+1 | G3: 02 - PHYSIQUE | H3: MODULE | I3: Modification | J3: < 1 an | K3: OUI - Partiellement | L3: 2 sessions
A4: Doctorat | D4: EUR ELMI | E4: EEF | F4: Bac+2 | G4: 03 - CHIMIE | H4: ECUE | I4: Renouvellement | J4: 1 an | K4: OUI - Entièrement
A5: Autre (précisez) | B5: Favorable | D5: EUR HEALTHY | E5: LLAC | F5: Bac+3 | G5: 04 - MATHÉMATIQUES APPLIQUÉES AUX SCIENCES SOCIALES (MASS) | H5: UF | J5: 2 ans
B6: Défavorable | D6: EUR LEX@Société | E6: SHS | F6: Bac+4 | G6: 05 - SCIENCES DE L'UNIVERS, DE LA TERRE, DE L'ESPACE | J6: 3 ans
B7: Favorable sous réserve | D7: EUR LIFE | E7: SITE | F7: Bac+5 | G7: 06 - SCIENCES DE LA VIE, BIOLOGIE, SANTÉ | J7: > 3 ans
D8: EUR ODYSSEE | E8: Inter-champ | F8: Bac+6 et plus | G8: 07 - MÉDECINE
D9: EUR SPECTRUM | G9: 08 - ODONTOLOGIE
D10: IAE | G10: 10 - STAPS
D11: IDPD | G11: 11 - MÉCANIQUE, GÉNIE MÉCANIQUE, INGÉNIERIE MÉCANIQUE
D12: INSPE | G12: 12 - GÉNIE CIVIL
D13: IUT | G13: 13 - GÉNIE DES PROCÉDÉS, MATÉRIAUX
D14: Médecine | G14: 14 - INFORMATIQUE
D15: Odontologie | G15: 15 - ÉLECTRONIQUE, GÉNIE ÉLECTRIQUE, EEA
D16: POLYTECH | G16: 16 - SCIENCES ET TECHNOLOGIES INDUSTRIELLES
D17: Service de Formation Continue | G17: 17 - SCIENCES DU LANGAGE - LINGUISTIQUE
D18: UCA IDEX | G18: 18 - LANGUES ET LITTÉRATURES ANCIENNES
D19: IMREDD | G19: 19 - LANGUES ET LITTÉRATURES FRANCAISES
G20: 20 - LITTÉRATURE GÉNÉRALE ET COMPARÉE
G21: 21 - ARTS
G22: 22 - Français LANGUE ÉTRANGÈRE
G23: 23 - LANGUES ET LITTÉRATURES ÉTRANGÈRES
G24: 24 - LANGUES ET LITTÉRATURES APPLIQUÉES
G25: 25 - CULTURES ET LANGUES RÉGIONALES
G26: 26 - PHILOSOPHIE, ÉPISTÉMIOLOGIE
G27: 27 - HISTOIRE
G28: 28 - GÉOGRAPHIE
G29: 29 - AMÉNAGEMENT
G30: 30 - ARCHÉOLOGIE, ETHNO, PRÉHISTOIRE, ANTHROPOLOGIE
G31: 31 - SCIENCES RELIGIEUSES
... G53: 71 - PLURI SANTÉ
