Workbook
Name list_cmp: [1]Listes!$A$10:$G$10
Name list_cmp: [1]Listes!$A$10:$G$10
Name list_cmp: Listes!$A$10:$G$10
Name List_CNU: [1]Listes!$A$27:$A$83
Name List_CNU: [1]Listes!$A$27:$A$83
Name List_CNU: Listes!$A$27:$A$83
Name List_Controle: [1]Listes!$B$2:$B$6
Name List_Controle: [1]Listes!$B$2:$B$6
Name List_Controle: Listes!$B$2:$B$6
Name List_Controle2: [1]Listes!$A$2:$A$4
Name List_Controle2: [1]Listes!$A$2:$A$4
Name List_Controle2: Listes!$A$2:$A$4
Name List_Mutualisation: [1]Listes!$E$2:$E$3
Name List_Mutualisation: [1]Listes!$E$2:$E$3
Name List_Mutualisation: Listes!$E$2:$E$3
Name List_RegimeInscription: [1]Listes!$C$2:$C$3
Name List_RegimeInscription: [1]Listes!$C$2:$C$3
Name List_RegimeInscription: Listes!$C$2:$C$3
Name List_Statut: [1]Listes!$F$2:$F$4
Name List_Statut: [1]Listes!$F$2:$F$4
Name List_Statut: Listes!$F$2:$F$4
Name list_typdiplome: [1]Listes!$H$3:$H$4
Name list_typdiplome: [1]Listes!$H$3:$H$4
Name list_typdiplome: Listes!$H$3:$H$4
Name List_Type: [1]Listes!$G$2:$G$3
Name List_Type: [1]Listes!$G$2:$G$3
Name List_Type: Listes!$G$2:$G$3
Name liste_cmp: #REF!
Name liste_cmp: #REF!
Name liste_cmp: #REF!
Name liste_cmp: #REF!
Name liste_cmp: #REF!
Name liste_cmp: #REF!
Name liste_mention: #REF!
Name liste_mention: #REF!
Name liste_mention: #REF!
Name liste_mention: #REF!
Name liste_mention: #REF!
Name liste_mention: #REF!
Name Médecine: #REF!
Name Médecine: #REF!
Name Médecine: #REF!
Name Médecine: #REF!
Name Médecine: #REF!
Name Médecine: #REF!
Name Por: #REF!
Name Por: #REF!
Name Por: #REF!
Name Por: #REF!
Name Por: #REF!
Name Por: #REF!
Name Portail_Droit: Listes!$A$11:$A$12
Name Portail_EG: Listes!$B$11:$B$12
Name Portail_LLAC: Listes!$D$11:$D$19
Name Portail_SHS: #REF!
Name Portail_SHS: #REF!
Name Portail_SHS: #REF!
Name Portail_SHS: #REF!
Name Portail_SHS: #REF!
Name Portail_SHS: Listes!$C$11:$C$22

Sheet Listes
A1: Type contrôle | B1: Nature contrôle | C1: Régime d'inscription | D1: Nature ELP | E1: Mutualisation | F1: Statut | G1: Type | J1: Mention | K1: Codage Diplôme | L1: Codage double licence
A2: CCI (CC Intégral) | B2: Écrit | C2: Initiale Hors-Apprentissage / Formation Continue / Formation Permanente | D2: UE | E2: Porteuse | F2: Création | G2: Facultatif | H2: Type Diplôme | J2: Sciences de la Vie | K2: SLVIE18
A3: CT (Contrôle terminal) | B3: Oral | C3: Contrat d'Apprentissage/ Contrat de Professionnalisation | D3: ECUE | E3: Portée | F3: Modification | G3: Complémentaire | H3: Licence | J3: Droit | K3: DLDRT18
A4: CC&CT | B4: Écrit/Pratique | D4: BLOC | F4: Fermeture | H4: Double Licence | J4: Économie et gestion | K4: ILECG18
B5: Rapport/Mémoire | D5: OPTION | J5: Économie et gestion | K5: GLECG18
B6: Pratique sportive | D6: Parcours Pédagogique | J6: Information-communication | K6: HLICO18
J7: Arts du spectacle | K7: HLARS18
J8: Musicologie | K8: HLMUS18
J9: Lettres | K9: HLLET18
A10: Portail_Droit | B10: Portail_EG | C10: Portail_SHS | D10: Portail_LLAC | E10: Portail_ST | F10: Portail_SV | G10: Portail_STAPS | J10: Lettres étrangères appliquées (LEA) | K10: HLEAP18
A11: Droit | B11: Économie et gestion | C11: Sciences de l'homme, anthropologie, ethnologie | D11: Information-communication | E11: Sciences de la terre | F11: Sciences de la vie | G11: STAPS-Activité Physique Adaptée-Santé | J11: Langues, littératures et civilisations étrangères et régionales (LLCER) | K11: HLCER18
A12: Droit-Philosophie | B12: Économie-Sociologie | C12: Psychologie | D12: Arts du spectacle | E12: Sciences et technologies | F12: Sciences de la vie-Chimie | G12: STAPS-Education et Motricité | J12: Sciences de l'homme, anthropologie, ethnologie | K12: HLTSH18
C13: Histoire | D13: Musicologie | E13: Physique | F13: Sciences de la vie-Mathématiques | G13: STAPS-Entraînement Sportif | J13: Psychologie | K13: HLPSY18
C14: Sociologie | D14: Lettres | E14: Mathématiques | F14: Bio-Geo-Sciences | G14: STAPS-Management du Sport | J14: Sciences du langage | K14: HLNDL18
C15: Philosophie | D15: Lettres étrangères appliquées (LEA) | E15: Mathématiques et Informatique appliquées aux sciences humaines et sociales (MIASHS) | J15: Histoire | K15: HLHIS18
C16: Humanités | D16: Langues, littératures et civilisations étrangères et régionales (LLCER) | E16: Electronique, énergie électrique, automatique (EEA) | J16: Philosophie | K16: HLOPH18
C17: Géographie et aménagement | D17: Sciences du langage | E17: Informatique | J17: Sociologie | K17: HLSOC18
C18: Philosophie-Droit | D18: Lettres-Histoire | E18: Sciences de la terre-Sciences de la vie | J18: Sciences de la terre | K18: SLTER18
C19: Psychologie-Philosophie | D19: Musicologie - Sciences de l'homme, anthropologie, ethnologie | E19: Physique-Mathématiques | J19: Sciences et technologies | K19: SLSIT18
C20: Philosophie-Psychologie | E20: Mathématiques-Physique | J20: Chimie | K20: SLCHI18
C21: Histoire-Lettres | E21: Informatique-Mathématiques | J21: Physique | K21: SLPHY18
C22: Sociologie-Économie | E22: Mathématiques-Informatique | J22: Mathématiques | K22: SLMAT18
E23: Chimie-Sciences de la vie | J23: Mathématiques et Informatique appliquées aux sciences humaines et sociales (MIASHS) | K23: SLASH18
E24: Sciences de la terre-Physique | J24: Electronique, énergie électrique, automatique (EEA) | K24: SLELE18
E25: Physique-Sciences de la terre | J25: Informatique | K25: SLINF18
A26: CNU | E26: Mathématiques-Sciences de la vie | J26: Géographie et aménagement | K26: SLGEO18
A27: 01-Droit privé et sciences criminelles | J27: STAPS-Activité Physique Adaptée-Santé | K27: PLAPA18
A28: 02-Droit public | J28: STAPS-Education et Motricité | K28: PLEMO18
A29: 03-Histoire du droit et des institutions | J29: STAPS-Entraînement Sportif | K29: PLSES18
A30: 04-Science politique | J30: STAPS-Management du Sport | K30: PLMSP18
A31: 05-Sciences économiques | J31: Humanités | K31: HLBHU18
A32: 06-Sciences de gestion | J32: Sciences de la vie-Chimie | K32: SLVIE18 | L32: SLCHI18
A33: 07-Sciences du langage : linguistique et phonétique générales | F33: l | J33: Sciences de la vie-Mathématiques | K33: SLVIE18 | L33: SLMAT18
A34: 08-Langues et littératures anciennes | J34: Bio-Geo-Sciences | K34: SLVIE18 | L34: SLTER18
A35: 09-Langue et littérature françaises | J35: Sciences de la terre-Sciences de la vie | K35: SLTER18 | L35: SLVIE18
A36: 10-Littératures comparées | J36: Physique-Mathématiques | K36: SLPHY18 | L36: SLPHY18
A37: 11-Langues et littératures anglaises et anglo-saxonnes | J37: Mathématiques-Physique | K37: SLMAT18 | L37: SLMAT18
A38: 12-Langues et littératures germaniques et scandinaves | J38: Informatique-Mathématiques | K38: SLINF18 | L38: SLMAT18
A39: 13-Langues et littératures slaves | J39: Mathématiques-Informatique | K39: SLMAT18 | L39: SLINF18
A40: 14-Langues et littératures romanes : espagnol, italien, portugais, autres langues romanes | J40: Chimie-Sciences de la vie | K40: SLCHI18 | L40: SLVIE18
...

Sheet Calcul
A1: Heure Pédagogique | O1: Heure CM
A3: Semestre 5 | D3: Semestre 6 | O3: Semestre 5 | P3: Semestre 6
A4: Heure CM | B4: Heure TD | C4: Heure TP | D4: Heure CM | E4: Heure TD | F4: Heure TP | O4: ='S5 Maquette'!I19*1.5 -> 0 | P4: ='S6 Maquette'!I19*1.5 -> 0
A5: =SUM(O4:O291) -> 189 | B5: =SUM('S5 Maquette'!J19:J300) -> 18 | C5: =SUM('S5 Maquette'!K19:K300) -> 0 | D5: =SUM(P4:P291) -> 216 | E5: =SUM('S6 Maquette'!J19:J300) -> 0 | F5: =SUM('S6 Maquette'!K19:K300) -> 0 | O5: ='S5 Maquette'!I20*1.5 -> 0 | P5: ='S6 Maquette'!I20*1.5 -> 0
A6: Total | D6: Total | O6: ='S5 Maquette'!I21*1.5 -> 0 | P6: ='S6 Maquette'!I21*1.5 -> 0
A7: =SUM(A5,B5,C5) -> 207 | D7: =SUM(D5,E5,F5) -> 216 | O7: ='S5 Maquette'!I22*1.5 -> 0 | P7: ='S6 Maquette'!I22*1.5 -> 0
A8: Total | O8: ='S5 Maquette'!I23*1.5 -> 0 | P8: ='S6 Maquette'!I23*1.5 -> 0
O9: ='S5 Maquette'!I24*1.5 -> 0 | P9: ='S6 Maquette'!I24*1.5 -> 0
A10: =SUM(A7,D7) -> 423 | O10: ='S5 Maquette'!I25*1.5 -> 0 | P10: ='S6 Maquette'!I25*1.5 -> 0
O11: ='S5 Maquette'!I26*1.5 -> 0 | P11: ='S6 Maquette'!I26*1.5 -> 0
O12: ='S5 Maquette'!I27*1.5 -> 54 | P12: ='S6 Maquette'!I27*1.5 -> 54
O13: ='S5 Maquette'!I28*1.5 -> 54 | P13: ='S6 Maquette'!I28*1.5 -> 54
A14: Heure Porté par la maquette | H14: Mutualisation Porteuse | O14: ='S5 Maquette'!I29*1.5 -> 54 | P14: ='S6 Maquette'!I29*1.5 -> 54
O15: ='S5 Maquette'!I30*1.5 -> 27 | P15: ='S6 Maquette'!I30*1.5 -> 54
A16: Semestre 5 | D16: Semestre 6 | H16: Semestre 5 | K16: Semestre 6 | O16: ='S5 Maquette'!I31*1.5 -> 0 | P16: ='S6 Maquette'!I31*1.5 -> 0
A17: Heure CM | B17: Heure TD | C17: Heure TP | D17: Heure CM | E17: Heure TD | F17: Heure TP | H17: Heure CM | I17: Heure TD | J17: Heure TP | K17: Heure CM | L17: Heure TD | M17: Heure TP | O17: ='S5 Maquette'!I32*1.5 -> 0 | P17: ='S6 Maquette'!I32*1.5 -> 0
A18: =A5-H18 -> 189 | B18: =B5-I18 -> 18 | C18: =C5-J18 -> 0 | D18: =D5-K18 -> 216 | E18: =E5-L18 -> 0 | F18: =F5-M18 -> 0 | H18: =SUMIF('S5 Maquette'!M19:M300,"Portée",'S5 Maquette'!I19:I300)*1.5 -> 0 | I18: =SUMIF('S5 Maquette'!M19:M300,"Portée",'S5 Maquette'!J19:J300) -> 0 | J18: =SUMIF('S5 Maquette'!M19:M300,"Portée",'S5 Maquette'!K19:K300) -> 0 | K18: =SUMIF('S6 Maquette'!M19:M300,"Portée",'S6 Maquette'!I19:I300)*1.5 -> 0 | L18: =SUMIF('S6 Maquette'!M19:M300,"Portée",'S6 Maquette'!J19:J300) -> 0 | M18: =SUMIF('S6 Maquette'!M9:M300,"Portée",'S6 Maquette'!K19:K300) -> 0 | O18: ='S5 Maquette'!I33*1.5 -> 0 | P18: ='S6 Maquette'!I33*1.5 -> 0
A19: Total | D19: Total | O19: ='S5 Maquette'!I34*1.5 -> 0 | P19: ='S6 Maquette'!I34*1.5 -> 0
A20: =SUM(A18,B18,C18) -> 207 | D20: =SUM(D18,E18,F18) -> 216 | O20: ='S5 Maquette'!I35*1.5 -> 0 | P20: ='S6 Maquette'!I35*1.5 -> 0
A21: Total | O21: ='S5 Maquette'!I36*1.5 -> 0 | P21: ='S6 Maquette'!I36*1.5 -> 0
A22: =SUM(A20,D20) -> 423 | O22: ='S5 Maquette'!I37*1.5 -> 0 | P22: ='S6 Maquette'!I37*1.5 -> 0
O23: ='S5 Maquette'!I38*1.5 -> 0 | P23: ='S6 Maquette'!I38*1.5 -> 0
O24: ='S5 Maquette'!I39*1.5 -> 0 | P24: ='S6 Maquette'!I39*1.5 -> 0
O25: ='S5 Maquette'!I40*1.5 -> 0 | P25: ='S6 Maquette'!I40*1.5 -> 0
O26: ='S5 Maquette'!I41*1.5 -> 0 | P26: ='S6 Maquette'!I41*1.5 -> 0
O27: ='S5 Maquette'!I42*1.5 -> 0 | P27: ='S6 Maquette'!I42*1.5 -> 0
O28: ='S5 Maquette'!I43*1.5 -> 0 | P28: ='S6 Maquette'!I43*1.5 -> 0
O29: ='S5 Maquette'!I44*1.5 -> 0 | P29: ='S6 Maquette'!I44*1.5 -> 0
O30: ='S5 Maquette'!I45*1.5 -> 0 | P30: ='S6 Maquette'!I45*1.5 -> 0
O31: ='S5 Maquette'!I46*1.5 -> 0 | P31: ='S6 Maquette'!I46*1.5 -> 0
O32: ='S5 Maquette'!I47*1.5 -> 0 | P32: ='S6 Maquette'!I47*1.5 -> 0
O33: ='S5 Maquette'!I48*1.5 -> 0 | P33: ='S6 Maquette'!I48*1.5 -> 0
O34: ='S5 Maquette'!I49*1.5 -> 0 | P34: ='S6 Maquette'!I49*1.5 -> 0
... O291: ='S5 Maquette'!I306*1.5 -> 0 | P291: ='S6 Maquette'!I306*1.5 -> 0

Sheet Fiche Générale
A1: Type Diplôme : Licence & Double Licence 3ème année
A2: Type diplôme | B2: Licence
A3: COMPOSANTE | B3: Portail_LLAC
A4: MENTION
A5: CODE DIPLÔME
A6: Régime d'inscription | B6: Initiale Hors-Apprentissage / Formation Continue / Formation Permanente
A8: Parcours Type en L3
A9: Parcours Type | B9: Philosophie
A11: Heures Maquette | C11: Heures Valorisées
A13: =Calcul!A10 -> 423 | C13: =Calcul!A22 -> 423
A18: COMPENSATION
A19: Les MCC déterminent le mode de compensation entre UE, semestre et année ainsi que la possibilité d’une note éliminatoire.
A20: Obtention des UE
A21: Compensation entre UE : la moyenne sur le semestre ou sur l'année permet d'obtenir les UE par compensation. Seconde chance : diviser par deux le coefficient de la plus mauvaise note.
A24: Obtention du Semestre
A25: Compensation entre semestres : la moyenne sur l'année permet d'obtenir un semestre par compensation
A28: Obtention de l'Année
A29: Obtention globale de la moyenne
A32: Note éliminatoire/ Note seuil
A33: Néant
A36: REDOUBLEMENT
A37: Limitation du nombre de redoublements : 2 fois en L1 ; 1 fois en L2 ; 1 fois en L3 ; au-delà, à titre dérogatoire. Le redoublement n’étant pas de droit, lorsqu’un ou une étudiante obtient entre 0 et 5 de moyenne annuelle, le jury est souverain pour décider d’un redoublement ou non, en tenant compte de sa situation personnelle (maladie, décès d’un proche, etc.).
... A41: Arrêté du 22 janvier 2014 fixant le cadre national des formations conduisant à la délivrance des diplômes nationaux de licence, de licence professionnelle et de master

Sheet S5 Maquette
A7: Composante | B7: ='Fiche Générale'!B3 -> Portail_LLAC | C7: Diplôme | E7: ='Fiche Générale'!B4 -> 0 | G7: Code diplôme | H7: ='Fiche Générale'!B5 -> 0
C10: Parcours type | E10: ='Fiche Générale'!B9 -> Philosophie
A13: Année | B13: 3 ème Année de Licence | C13: Code année | G13: Heures Maquette | H13: =Calcul!A7 -> 207
A15: Semestre | B15: Semestre 5 | C15: Code semestre | G15: Heures Valorisées | H15: =Calcul!A20 -> 207
A18: Niveau | B18: Libellé ELP | C18: Nature ELP | D18: ECTS | E18: Type | F18: Statut | G18: Code Apogée | H18: CNU | I18: Heure CM | J18: Heure TD | K18: Heure TP | L18: Langues | M18: Mutualisation | N18: Formation Porteuse | O18: Observations / Remarques ex: Intervention à titre gracieux / Capacité d'accueil max
A19: 0 | B19: UE Competences transversales 5 | C19: UE | D19: 6
A20: 0.1 | B20: Competences numeriques 3 | C20: ECUE
A21: 0.2 | B21: Competences informationnelles 3 | C21: ECUE
A22: 0.3 | B22: Langue vivante-5 | C22: BLOC
B23: Min 1 Max 1 | C23: OPTION
A24: 0.3.1 | B24: Anglais 5 | C24: ECUE
A25: 0.3.2 | B25: Espagnol 5 | C25: ECUE
A26: 0.3.3 | B26: Italien 5 | C26: ECUE
A27: 1 | B27: Histoire de la Philosophie : Philosophie antique ou médiévale 5 | C27: UE | D27: 6 | I27: 36 | M27: Porteuse | O27: Capacités d'encadrement : EC = 1728h ; PRAG = 768h ; Décharges = 262h. Total : 2234 heures
A28: 2 | B28: Histoire de la Philosophie : Philosophie moderne ou contemporaine 5 | C28: UE | D28: 6 | I28: 36 | M28: Porteuse | O28: Coût licence : 1246 HETD ; coût master : 570 HETD ; coût cours philo INSPE : 384 HETD. Total = 2200 HETD
A29: 3 | B29: Philosophie générale 12 | C29: UE | D29: 6 | I29: 36 | M29: Porteuse
A30: 4 | B30: Methodes philosophiques | C30: UE | D30: 6 | I30: 18 | J30: 18 | M30: Porteuse

Sheet S5 MCC
A7: Composante | B7: ='Fiche Générale'!B3 -> Portail_LLAC | C7: Diplôme | E7: ='Fiche Générale'!B4 -> 0 | G7: Code diplôme | H7: ='Fiche Générale'!B5 -> 0
C10: Parcours type | E10: ='Fiche Générale'!B9 -> Philosophie
M12: 1ère session | P12: Seconde Chance
A13: Année | B13: ='S5 Maquette'!B13:B14 -> 3 ème Année de Licence | D13: Code Année | E13: ='S5 Maquette'!E13:F14 -> 0
M14: Contrôle continu | N14: Contrôle Terminal
A15: Semestre | B15: ='S5 Maquette'!B15:B16 -> Semestre 5 | D15: Code Semestre | E15: ='S5 Maquette'!E15:F16 -> 0
A18: Libellé | B18: Nature | C18: Statut | D18: Coefficient | E18: Notes attendues | F18: Résultat attendu: (ACQ/AJ) | G18: Conservation note | H18: Capitalisable | I18: Compensable | J18: Seuil de compensation /20 | K18: Type de contrôle | L18: Si CC&CT coef du CT | M18: Nbre d'évalution minimum | N18: Nature | O18: Durée | P18: Format d'évaluation | Q18: Nature | R18: Durée | S18: Modalités de mise en œuvre | T18: Commentaires
A19: ='S5 Maquette'!B19 -> UE Competences transversales 5 | B19: ='S5 Maquette'!C19 -> UE | C19: ='S5 Maquette'!F19 -> 0
A20: ='S5 Maquette'!B20 -> Competences numeriques 3 | B20: ='S5 Maquette'!C20 -> ECUE | C20: ='S5 Maquette'!F20 -> 0
A21: ='S5 Maquette'!B21 -> Competences informationnelles 3 | B21: ='S5 Maquette'!C21 -> ECUE | C21: ='S5 Maquette'!F21 -> 0
A22: ='S5 Maquette'!B22 -> Langue vivante-5 | B22: ='S5 Maquette'!C22 -> BLOC | C22: ='S5 Maquette'!F22 -> 0
A23: ='S5 Maquette'!B23 -> Min 1 Max 1 | B23: ='S5 Maquette'!C23 -> OPTION
A24: ='S5 Maquette'!B24 -> Anglais 5 | B24: ='S5 Maquette'!C24 -> ECUE
A25: ='S5 Maquette'!B25 -> Espagnol 5 | B25: ='S5 Maquette'!C25 -> ECUE | C25: ='S5 Maquette'!F25 -> 0
A26: ='S5 Maquette'!B26 -> Italien 5 | B26: ='S5 Maquette'!C26 -> ECUE | C26: ='S5 Maquette'!F26 -> 0
A27: ='S5 Maquette'!B27 -> Histoire de la Philosophie : Philosophie antique ou médiévale 5 | B27: ='S5 Maquette'!C27 -> UE | C27: ='S5 Maquette'!F27 -> 0 | D27: 1 | E27: OUI | G27: OUI | H27: OUI | I27: OUI | K27: CCI (CC Intégral) | M27: 2 | P27: Autres | S27: seconde chance : mettre un coef 0,5 à la pire des notes.
A28: ='S5 Maquette'!B28 -> Histoire de la Philosophie : Philosophie moderne ou contemporaine 5 | B28: ='S5 Maquette'!C28 -> UE | C28: ='S5 Maquette'!F28 -> 0 | D28: 1 | E28: OUI | G28: OUI | H28: OUI | I28: OUI | K28: CCI (CC Intégral) | M28: 2 | P28: Autres | S28: seconde chance : mettre un coef 0,5 à la pire des notes.
A29: ='S5 Maquette'!B29 -> Philosophie générale 12 | B29: ='S5 Maquette'!C29 -> UE | C29: ='S5 Maquette'!F29 -> 0 | D29: 1 | E29: OUI | G29: OUI | H29: OUI | I29: OUI | K29: CCI (CC Intégral) | M29: 2 | P29: Autres | S29: seconde chance : mettre un coef 0,5 à la pire des notes.
A30: ='S5 Maquette'!B30 -> Methodes philosophiques | B30: ='S5 Maquette'!C30 -> UE | C30: ='S5 Maquette'!F30 -> 0 | D30: 1 | E30: OUI | G30: OUI | H30: OUI | I30: OUI | K30: CCI (CC Intégral) | M30: 2 | P30: Autres | S30: seconde chance : mettre un coef 0,5 à la pire des notes.
A31: ='S5 Maquette'!B31 -> 0 | B31: ='S5 Maquette'!C31 -> 0 | C31: ='S5 Maquette'!F31 -> 0
A32: ='S5 Maquette'!B32 -> 0 | B32: ='S5 Maquette'!C32 -> 0 | C32: ='S5 Maquette'!F32 -> 0
A33: ='S5 Maquette'!B33 -> 0 | B33: ='S5 Maquette'!C33 -> 0 | C33: ='S5 Maquette'!F33 -> 0
A34: ='S5 Maquette'!B34 -> 0 | B34: ='S5 Maquette'!C34 -> 0 | C34: ='S5 Maquette'!F34 -> 0
A35: ='S5 Maquette'!B35 -> 0 | B35: ='S5 Maquette'!C35 -> 0 | C35: ='S5 Maquette'!F35 -> 0
A36: ='S5 Maquette'!B36 -> 0 | B36: ='S5 Maquette'!C36 -> 0 | C36: ='S5 Maquette'!F36 -> 0
A37: ='S5 Maquette'!B37 -> 0 | B37: ='S5 Maquette'!C37 -> 0 | C37: ='S5 Maquette'!F37 -> 0
A38: ='S5 Maquette'!B38 -> 0 | B38: ='S5 Maquette'!C38 -> 0 | C38: ='S5 Maquette'!F38 -> 0
A39: ='S5 Maquette'!B39 -> 0 | B39: ='S5 Maquette'!C39 -> 0 | C39: ='S5 Maquette'!F39 -> 0
A40: ='S5 Maquette'!B40 -> 0 | B40: ='S5 Maquette'!C40 -> 0 | C40: ='S5 Maquette'!F40 -> 0
A41: ='S5 Maquette'!B41 -> 0 | B41: ='S5 Maquette'!C41 -> 0 | C41: ='S5 Maquette'!F41 -> 0
A42: ='S5 Maquette'!B42 -> 0 | B42: ='S5 Maquette'!C42 -> 0 | C42: ='S5 Maquette'!F42 -> 0
... A300: ='S5 Maquette'!B300 -> 0 | B300: ='S5 Maquette'!C300 -> 0 | C300: ='S5 Maquette'!F300 -> 0

Sheet S5 MCC_DA
A7: Composante | B7: ='[1]Fiche Générale'!B3 -> Portail_LLAC | C7: Diplôme | E7: ='[1]Fiche Générale'!B4 -> 0 | G7: Code diplôme | H7: ='[1]Fiche Générale'!B5 -> 0
C10: Parcours type | E10: ='[1]Fiche Générale'!B9 -> Philosophie
M12: 1ère session pour les dispensés d'assiduité | P12: Seconde Chance pour les dispensés d'assiduité
A13: Année | B13: ='[1]S5 Maquette'!B13:B14 -> 3 ème Année de Licence | D13: Code Année | E13: ='[1]S5 Maquette'!E13:F14 -> 0
M14: Contrôle continu | N14: Contrôle Terminal
A15: Semestre | B15: ='[1]S5 Maquette'!B15:B16 -> Semestre 5 | D15: Code Semestre | E15: ='[1]S5 Maquette'!E15:F16 -> 0
A18: Libellé | B18: Nature | C18: Statut | D18: Coefficient | E18: Notes attendues | F18: Résultat attendu: (ACQ/AJ) | G18: Conservation note | H18: Capitalisable | I18: Compensable | J18: Seuil de compensation /20 | K18: Type de contrôle | L18: Si CC&CT coef du CT | M18: Nbre d'évalution minimum | N18: Nature | O18: Durée | P18: Format d'évaluation | Q18: Nature | R18: Durée | S18: Modalités de mise en œuvre | T18: Commentaires
A19: ='[1]S5 Maquette'!B19 -> UE Competences transversales 5 | B19: ='[1]S5 Maquette'!C19 -> UE | C19: ='[1]S5 Maquette'!F19 -> 0
A20: ='[1]S5 Maquette'!B20 -> Competences numeriques 3 | B20: ='[1]S5 Maquette'!C20 -> ECUE | C20: ='[1]S5 Maquette'!F20 -> 0
A21: ='[1]S5 Maquette'!B21 -> Competences informationnelles 3 | B21: ='[1]S5 Maquette'!C21 -> ECUE | C21: ='[1]S5 Maquette'!F21 -> 0
A22: ='[1]S5 Maquette'!B22 -> Langue vivante-5 | B22: ='[1]S5 Maquette'!C22 -> BLOC | C22: ='[1]S5 Maquette'!F22 -> 0
A23: ='[1]S5 Maquette'!B23 -> Min 1 Max 1 | B23: ='[1]S5 Maquette'!C23 -> OPTION
A24: ='[1]S5 Maquette'!B24 -> Anglais 5 | B24: ='[1]S5 Maquette'!C24 -> ECUE
A25: ='[1]S5 Maquette'!B25 -> Espagnol 5 | B25: ='[1]S5 Maquette'!C25 -> ECUE | C25: ='[1]S5 Maquette'!F25 -> 0
A26: ='[1]S5 Maquette'!B26 -> Italien 5 | B26: ='[1]S5 Maquette'!C26 -> ECUE | C26: ='[1]S5 Maquette'!F26 -> 0
A27: ='[1]S5 Maquette'!B27 -> Histoire de la Philosophie : Philosophie antique ou médiévale 5 | B27: ='[1]S5 Maquette'!C27 -> UE | C27: ='[1]S5 Maquette'!F27 -> 0 | D27: 1 | E27: OUI | G27: OUI | H27: OUI | I27: OUI | K27: CCI (CC Intégral) | M27: 2 | P27: Autres | S27: La moyenne de 2de chance est calculée en divisant par deux le coefficient de la plus mauvaise note.
A28: ='[1]S5 Maquette'!B28 -> Histoire de la Philosophie : Philosophie moderne ou contemporaine 5 | B28: ='[1]S5 Maquette'!C28 -> UE | C28: ='[1]S5 Maquette'!F28 -> 0 | D28: 1 | E28: OUI | G28: OUI | H28: OUI | I28: OUI | K28: CCI (CC Intégral) | M28: 2 | P28: Autres | S28: La moyenne de 2de chance est calculée en divisant par deux le coefficient de la plus mauvaise note.
A29: ='[1]S5 Maquette'!B29 -> Philosophie générale 12 | B29: ='[1]S5 Maquette'!C29 -> UE | C29: ='[1]S5 Maquette'!F29 -> 0 | D29: 1 | E29: OUI | G29: OUI | H29: OUI | I29: OUI | K29: CCI (CC Intégral) | M29: 2 | P29: Autres | S29: La moyenne de 2de chance est calculée en divisant par deux le coefficient de la plus mauvaise note.
A30: ='[1]S5 Maquette'!B30 -> Methodes philosophiques | B30: ='[1]S5 Maquette'!C30 -> UE | C30: ='[1]S5 Maquette'!F30 -> 0 | D30: 1 | E30: OUI | G30: OUI | H30: OUI | I30: OUI | K30: CCI (CC Intégral) | M30: 2 | P30: Autres | S30: La moyenne de 2de chance est calculée en divisant par deux le coefficient de la plus mauvaise note.
A31: ='[1]S5 Maquette'!B31 -> 0 | B31: ='[1]S5 Maquette'!C31 -> 0 | C31: ='[1]S5 Maquette'!F31 -> 0
A32: ='[1]S5 Maquette'!B32 -> 0 | B32: ='[1]S5 Maquette'!C32 -> 0 | C32: ='[1]S5 Maquette'!F32 -> 0
A33: ='[1]S5 Maquette'!B33 -> 0 | B33: ='[1]S5 Maquette'!C33 -> 0 | C33: ='[1]S5 Maquette'!F33 -> 0
A34: ='[1]S5 Maquette'!B34 -> 0 | B34: ='[1]S5 Maquette'!C34 -> 0 | C34: ='[1]S5 Maquette'!F34 -> 0
A35: ='[1]S5 Maquette'!B35 -> 0 | B35: ='[1]S5 Maquette'!C35 -> 0 | C35: ='[1]S5 Maquette'!F35 -> 0
A36: ='[1]S5 Maquette'!B36 -> 0 | B36: ='[1]S5 Maquette'!C36 -> 0 | C36: ='[1]S5 Maquette'!F36 -> 0
A37: ='[1]S5 Maquette'!B37 -> 0 | B37: ='[1]S5 Maquette'!C37 -> 0 | C37: ='[1]S5 Maquette'!F37 -> 0
A38: ='[1]S5 Maquette'!B38 -> 0 | B38: ='[1]S5 Maquette'!C38 -> 0 | C38: ='[1]S5 Maquette'!F38 -> 0
A39: ='[1]S5 Maquette'!B39 -> 0 | B39: ='[1]S5 Maquette'!C39 -> 0 | C39: ='[1]S5 Maquette'!F39 -> 0
A40: ='[1]S5 Maquette'!B40 -> 0 | B40: ='[1]S5 Maquette'!C40 -> 0 | C40: ='[1]S5 Maquette'!F40 -> 0
A41: ='[1]S5 Maquette'!B41 -> 0 | B41: ='[1]S5 Maquette'!C41 -> 0 | C41: ='[1]S5 Maquette'!F41 -> 0
A42: ='[1]S5 Maquette'!B42 -> 0 | B42: ='[1]S5 Maquette'!C42 -> 0 | C42: ='[1]S5 Maquette'!F42 -> 0
... A300: ='[1]S5 Maquette'!B300 -> 0 | B300: ='[1]S5 Maquette'!C300 -> 0 | C300: ='[1]S5 Maquette'!F300 -> 0

Sheet S6 Maquette
A7: Composante | B7: ='Fiche Générale'!B3 -> Portail_LLAC | C7: Diplôme | E7: ='Fiche Générale'!B4 -> 0 | G7: Code diplôme | H7: ='Fiche Générale'!B5 -> 0
C10: Parcours type | E10: ='Fiche Générale'!B9 -> Philosophie
A13: Année | B13: ='S5 Maquette'!B13:B14 -> 3 ème Année de Licence | C13: Code année | E13: ='S5 Maquette'!E13:F14 -> 0 | G13: Heures Maquette | H13: =Calcul!D7 -> 216
A15: Semestre | B15: Semestre 6 | C15: Code semestre | G15: Heures Valorisées | H15: =Calcul!D20 -> 216
A18: Niveau | B18: Libellé ELP | C18: Nature ELP | D18: ECTS | E18: Type | F18: Statut | G18: Code Apogée | H18: CNU | I18: Heure CM | J18: Heure TD | K18: Heure TP | L18: Langues | M18: Mutualisation | N18: Formation Porteuse | O18: Observations / Remarques ex: Intervention à titre gracieux / Capacité d'accueil max
A19: 0 | B19: UE Competences transversales 6 | C19: UE | D19: 6
A20: 0.1 | B20: Competences numeriques 3 | C20: ECUE
A21: 0.2 | B21: Competences informationnelles 3 | C21: ECUE
A22: 0.3 | B22: Langue vivante-6 | C22: BLOC
B23: Min 1 Max 1 | C23: OPTION
A24: 0.3.1 | B24: Anglais 6 | C24: ECUE
A25: 0.3.2 | B25: Espagnol 6 | C25: ECUE
A26: 0.3.3 | B26: Italien 6 | C26: ECUE
A27: 1 | B27: Histoire de la Philosophie : Philosophie antique ou médiévale 6 | C27: UE | D27: 6 | I27: 36 | M27: Porteuse | O27: Capacités d'encadrement : EC = 1728h ; PRAG = 768h ; Décharges = 262h. Total : 2234 heures
A28: 2 | B28: Histoire de la Philosophie : Philosophie moderne ou contemporaine 6 | C28: UE | D28: 6 | I28: 36 | M28: Porteuse | O28: Coût licence : 1246 HETD ; coût master : 570 HETD ; coût cours philo INSPE : 384 HETD. Total = 2200 HETD
A29: 3 | B29: Philosophie générale 13 | C29: UE | D29: 6 | I29: 36 | M29: Porteuse
A30: 4 | B30: Philosophie générale et méthodologie | C30: UE | D30: 6 | I30: 36 | M30: Porteuse

Sheet S6 MCC
A7: Composante | B7: ='Fiche Générale'!B3 -> Portail_LLAC | C7: Diplôme | E7: ='Fiche Générale'!B4 -> 0 | G7: Code diplôme | H7: ='Fiche Générale'!B5 -> 0
C10: Parcours type | E10: ='Fiche Générale'!B9 -> Philosophie
M12: 1ère session | P12: Seconde Chance
A13: Année | B13: ='S6 Maquette'!B13:B14 -> 3 ème Année de Licence | D13: Code Année | E13: ='S6 Maquette'!E13:F14 -> 0
M14: Contrôle continu | N14: Contrôle Terminal
A15: Semestre | B15: ='S6 Maquette'!B15:B16 -> Semestre 6 | D15: Code Semestre | E15: ='S6 Maquette'!E15:F16 -> 0
A18: Libellé | B18: Nature | C18: Statut | D18: Coefficient | E18: Notes attendues | F18: Résultat attendu: (ACQ/AJ) | G18: Conservation note | H18: Capitalisable | I18: Compensable | J18: Seuil de compensation /20 | K18: Type de contrôle | L18: Si CC&CT coef du CT | M18: Nbre d'évalution minimum | N18: Nature | O18: Durée | P18: Format d'évaluation | Q18: Nature | R18: Durée | S18: Modalités de mise en œuvre | T18: Commentaires
A19: ='S6 Maquette'!B19 -> UE Competences transversales 6 | B19: ='S6 Maquette'!C19 -> UE | C19: ='S6 Maquette'!F19 -> 0
A20: ='S6 Maquette'!B20 -> Competences numeriques 3 | B20: ='S6 Maquette'!C20 -> ECUE | C20: ='S6 Maquette'!F20 -> 0
A21: ='S6 Maquette'!B21 -> Competences informationnelles 3 | B21: ='S6 Maquette'!C21 -> ECUE | C21: ='S6 Maquette'!F21 -> 0
A22: ='S6 Maquette'!B22 -> Langue vivante-6 | B22: ='S6 Maquette'!C22 -> BLOC | C22: ='S6 Maquette'!F22 -> 0
A23: ='S6 Maquette'!B23 -> Min 1 Max 1 | B23: ='S6 Maquette'!C23 -> OPTION
A24: ='S6 Maquette'!B24 -> Anglais 6 | B24: ='S6 Maquette'!C24 -> ECUE
A25: ='S6 Maquette'!B25 -> Espagnol 6 | B25: ='S6 Maquette'!C25 -> ECUE | C25: ='S6 Maquette'!F25 -> 0
A26: ='S6 Maquette'!B26 -> Italien 6 | B26: ='S6 Maquette'!C26 -> ECUE
A27: ='S6 Maquette'!B27 -> Histoire de la Philosophie : Philosophie antique ou médiévale 6 | B27: ='S6 Maquette'!C27 -> UE | C27: ='S6 Maquette'!F27 -> 0 | D27: 1 | E27: OUI | G27: OUI | H27: OUI | I27: OUI | K27: CCI (CC Intégral) | M27: 2 | P27: Autres | S27: seconde chance : mettre un coef 0,5 à la pire des notes.
A28: ='S6 Maquette'!B28 -> Histoire de la Philosophie : Philosophie moderne ou contemporaine 6 | B28: ='S6 Maquette'!C28 -> UE | C28: ='S6 Maquette'!F28 -> 0 | D28: 1 | E28: OUI | G28: OUI | H28: OUI | I28: OUI | K28: CCI (CC Intégral) | M28: 2 | P28: Autres | S28: seconde chance : mettre un coef 0,5 à la pire des notes.
A29: ='S6 Maquette'!B29 -> Philosophie générale 13 | B29: ='S6 Maquette'!C29 -> UE | C29: ='S6 Maquette'!F29 -> 0 | D29: 1 | E29: OUI | G29: OUI | H29: OUI | I29: OUI | K29: CCI (CC Intégral) | M29: 2 | P29: Autres | S29: seconde chance : mettre un coef 0,5 à la pire des notes.
A30: ='S6 Maquette'!B30 -> Philosophie générale et méthodologie | B30: ='S6 Maquette'!C30 -> UE | C30: ='S6 Maquette'!F30 -> 0 | D30: 1 | E30: OUI | G30: OUI | H30: OUI | I30: OUI | K30: CCI (CC Intégral) | M30: 2 | P30: Autres | S30: seconde chance : mettre un coef 0,5 à la pire des notes.
A31: ='S6 Maquette'!B31 -> 0 | B31: ='S6 Maquette'!C31 -> 0 | C31: ='S6 Maquette'!F31 -> 0
A32: ='S6 Maquette'!B32 -> 0 | B32: ='S6 Maquette'!C32 -> 0 | C32: ='S6 Maquette'!F32 -> 0
A33: ='S6 Maquette'!B33 -> 0 | B33: ='S6 Maquette'!C33 -> 0 | C33: ='S6 Maquette'!F33 -> 0
A34: ='S6 Maquette'!B34 -> 0 | B34: ='S6 Maquette'!C34 -> 0 | C34: ='S6 Maquette'!F34 -> 0
A35: ='S6 Maquette'!B35 -> 0 | B35: ='S6 Maquette'!C35 -> 0 | C35: ='S6 Maquette'!F35 -> 0
A36: ='S6 Maquette'!B36 -> 0 | B36: ='S6 Maquette'!C36 -> 0 | C36: ='S6 Maquette'!F36 -> 0
A37: ='S6 Maquette'!B37 -> 0 | B37: ='S6 Maquette'!C37 -> 0 | C37: ='S6 Maquette'!F37 -> 0
A38: ='S6 Maquette'!B38 -> 0 | B38: ='S6 Maquette'!C38 -> 0 | C38: ='S6 Maquette'!F38 -> 0
A39: ='S6 Maquette'!B39 -> 0 | B39: ='S6 Maquette'!C39 -> 0 | C39: ='S6 Maquette'!F39 -> 0
A40: ='S6 Maquette'!B40 -> 0 | B40: ='S6 Maquette'!C40 -> 0 | C40: ='S6 Maquette'!F40 -> 0
A41: ='S6 Maquette'!B41 -> 0 | B41: ='S6 Maquette'!C41 -> 0 | C41: ='S6 Maquette'!F41 -> 0
A42: ='S6 Maquette'!B42 -> 0 | B42: ='S6 Maquette'!C42 -> 0 | C42: ='S6 Maquette'!F42 -> 0
... A300: ='S6 Maquette'!B300 -> 0 | B300: ='S6 Maquette'!C300 -> 0 | C300: ='S6 Maquette'!F300 -> 0

Sheet S6 MCC_DA
A7: Composante | B7: ='[1]Fiche Générale'!B3 -> Portail_LLAC | C7: Diplôme | E7: ='[1]Fiche Générale'!B4 -> 0 | G7: Code diplôme | H7: ='[1]Fiche Générale'!B5 -> 0
C10: Parcours type | E10: ='[1]Fiche Générale'!B9 -> Philosophie
M12: 1ère session pour les dispensés d'assiduité | P12: Seconde Chance pour les dispensés d'assiduité
A13: Année | B13: ='[1]S6 Maquette'!B13:B14 -> 3 ème Année de Licence | D13: Code Année | E13: ='[1]S6 Maquette'!E13:F14 -> 0
M14: Contrôle continu | N14: Contrôle Terminal
A15: Semestre | B15: ='[1]S6 Maquette'!B15:B16 -> Semestre 6 | D15: Code Semestre | E15: ='[1]S6 Maquette'!E15:F16 -> 0
A18: Libellé | B18: Nature | C18: Statut | D18: Coefficient | E18: Notes attendues | F18: Résultat attendu: (ACQ/AJ) | G18: Conservation note | H18: Capitalisable | I18: Compensable | J18: Seuil de compensation /20 | K18: Type de contrôle | L18: Si CC&CT coef du CT | M18: Nbre d'évalution minimum | N18: Nature | O18: Durée | P18: Format d'évaluation | Q18: Nature | R18: Durée | S18: Modalités de mise en œuvre | T18: Commentaires
A19: ='[1]S6 Maquette'!B19 -> UE Competences transversales 6 | B19: ='[1]S6 Maquette'!C19 -> UE | C19: ='[1]S6 Maquette'!F19 -> 0
A20: ='[1]S6 Maquette'!B20 -> Competences numeriques 3 | B20: ='[1]S6 Maquette'!C20 -> ECUE | C20: ='[1]S6 Maquette'!F20 -> 0
A21: ='[1]S6 Maquette'!B21 -> Competences informationnelles 3 | B21: ='[1]S6 Maquette'!C21 -> ECUE | C21: ='[1]S6 Maquette'!F21 -> 0
A22: ='[1]S6 Maquette'!B22 -> Langue vivante-6 | B22: ='[1]S6 Maquette'!C22 -> BLOC | C22: ='[1]S6 Maquette'!F22 -> 0
A23: ='[1]S6 Maquette'!B23 -> Min 1 Max 1 | B23: ='[1]S6 Maquette'!C23 -> OPTION
A24: ='[1]S6 Maquette'!B24 -> Anglais 6 | B24: ='[1]S6 Maquette'!C24 -> ECUE
A25: ='[1]S6 Maquette'!B25 -> Espagnol 6 | B25: ='[1]S6 Maquette'!C25 -> ECUE | C25: ='[1]S6 Maquette'!F25 -> 0
A26: ='[1]S6 Maquette'!B26 -> Italien 6 | B26: ='[1]S6 Maquette'!C26 -> ECUE
A27: ='[1]S6 Maquette'!B27 -> Histoire de la Philosophie : Philosophie antique ou médiévale 6 | B27: ='[1]S6 Maquette'!C27 -> UE | C27: ='[1]S6 Maquette'!F27 -> 0 | D27: 1 | E27: OUI | G27: OUI | H27: OUI | I27: OUI | K27: CCI (CC Intégral) | M27: 2 | P27: Autres | S27: La moyenne de 2de chance est calculée en divisant par deux le coefficient de la plus mauvaise note.
A28: ='[1]S6 Maquette'!B28 -> Histoire de la Philosophie : Philosophie moderne ou contemporaine 6 | B28: ='[1]S6 Maquette'!C28 -> UE | C28: ='[1]S6 Maquette'!F28 -> 0 | D28: 1 | E28: OUI | G28: OUI | H28: OUI | I28: OUI | K28: CCI (CC Intégral) | M28: 2 | P28: Autres | S28: La moyenne de 2de chance est calculée en divisant par deux le coefficient de la plus mauvaise note.
A29: ='[1]S6 Maquette'!B29 -> Philosophie générale 13 | B29: ='[1]S6 Maquette'!C29 -> UE | C29: ='[1]S6 Maquette'!F29 -> 0 | D29: 1 | E29: OUI | G29: OUI | H29: OUI | I29: OUI | K29: CCI (CC Intégral) | M29: 2 | P29: Autres | S29: La moyenne de 2de chance est calculée en divisant par deux le coefficient de la plus mauvaise note.
A30: ='[1]S6 Maquette'!B30 -> Philosophie générale et méthodologie | B30: ='[1]S6 Maquette'!C30 -> UE | C30: ='[1]S6 Maquette'!F30 -> 0 | D30: 1 | E30: OUI | G30: OUI | H30: OUI | I30: OUI | K30: CCI (CC Intégral) | M30: 2 | P30: Autres | S30: La moyenne de 2de chance est calculée en divisant par deux le coefficient de la plus mauvaise note.
A31: ='[1]S6 Maquette'!B31 -> 0 | B31: ='[1]S6 Maquette'!C31 -> 0 | C31: ='[1]S6 Maquette'!F31 -> 0
A32: ='[1]S6 Maquette'!B32 -> 0 | B32: ='[1]S6 Maquette'!C32 -> 0 | C32: ='[1]S6 Maquette'!F32 -> 0
A33: ='[1]S6 Maquette'!B33 -> 0 | B33: ='[1]S6 Maquette'!C33 -> 0 | C33: ='[1]S6 Maquette'!F33 -> 0
A34: ='[1]S6 Maquette'!B34 -> 0 | B34: ='[1]S6 Maquette'!C34 -> 0 | C34: ='[1]S6 Maquette'!F34 -> 0
A35: ='[1]S6 Maquette'!B35 -> 0 | B35: ='[1]S6 Maquette'!C35 -> 0 | C35: ='[1]S6 Maquette'!F35 -> 0
A36: ='[1]S6 Maquette'!B36 -> 0 | B36: ='[1]S6 Maquette'!C36 -> 0 | C36: ='[1]S6 Maquette'!F36 -> 0
A37: ='[1]S6 Maquette'!B37 -> 0 | B37: ='[1]S6 Maquette'!C37 -> 0 | C37: ='[1]S6 Maquette'!F37 -> 0
A38: ='[1]S6 Maquette'!B38 -> 0 | B38: ='[1]S6 Maquette'!C38 -> 0 | C38: ='[1]S6 Maquette'!F38 -> 0
A39: ='[1]S6 Maquette'!B39 -> 0 | B39: ='[1]S6 Maquette'!C39 -> 0 | C39: ='[1]S6 Maquette'!F39 -> 0
A40: ='[1]S6 Maquette'!B40 -> 0 | B40: ='[1]S6 Maquette'!C40 -> 0 | C40: ='[1]S6 Maquette'!F40 -> 0
A41: ='[1]S6 Maquette'!B41 -> 0 | B41: ='[1]S6 Maquette'!C41 -> 0 | C41: ='[1]S6 Maquette'!F41 -> 0
A42: ='[1]S6 Maquette'!B42 -> 0 | B42: ='[1]S6 Maquette'!C42 -> 0 | C42: ='[1]S6 Maquette'!F42 -> 0
... A300: ='[1]S6 Maquette'!B300 -> 0 | B300: ='[1]S6 Maquette'!C300 -> 0 | C300: ='[1]S6 Maquette'!F300 -> 0
